{"text_format":"1","workbook":"xlsx","n_sheets":10,"sheets":["Introduction","Input Sheet","Evaluation Summary Form","CALCULATION SHEET","log","WEIGHTS","PROJECT BENCHMARKS","COUNTRY BENCHMARK","OUTLIERS","LISTS"],"not_rendered":{"charts":7,"images":3,"macros":1,"external_links":0,"defined_names":5,"comments":4,"pivot_tables":0},"unopened":[],"bounds":{"document_bytes":16777216,"sheet_cells":100000,"rows_first":2000,"rows_last":500,"rows_between":2000,"halvings":0,"cell_chars":16384,"cell_head_chars":4096},"cells_cut":0,"cells_raw":0,"read":"whole","date_system":"1900"}

{"sheet":"Introduction","index":0,"n_rows":36,"n_cols":7,"rows_kept":36,"cut":false,"hidden":false,"merged":[[35,1,35,10],[31,1,31,10],[29,1,29,10],[11,1,11,10],[12,1,12,10],[14,1,14,10],[15,1,15,10],[30,1,30,10]]}
[]
["ICS"]
["Version 2.0"]
[]
["Update"]
["2020-04-16"]
[]
[null,"CONTACTS"]
[null,"Valerio Micale","valerio.micale@cpiclimatefinance.org"]
[]
[null,"INTRODUCTION"]
[null,"1. OBJECTIVE: \n\nThe objective of the Investment Criteria Scorecard (ICS) tool is to support the GCF Secretariat in the assessment of funding proposals against the GCF’s investment criteria, thus informing the selection of the strongest projects and programmes. "]
[null,"2. GENERAL WORKFLOW: \n\nThe workflow of the ICS tool is structured as follows:\n\n1. The User assesses individual indicators within each sub-criterion;\n2. The average of indicators forms the sub-criterion score;\n3. The weighting system then determines the criterion score under the selected project/programme circumstance (see below). "]
[]
[null,"3. INSTRUCTIONS FOR ICS TOOL USERS:\n\n1. Complete the \"Input Sheet\" tab. The sheet comprises a set of quantitative and qualitative questions that can be answered based on information available in the Funding Proposal (FP) submitted by the Accredited Entity (AE):\n\nQuantitative questions require the user to insert a specific value included in the Funding Proposal.\n\nQualitative questions work as YES/NO checklists to verify the availability of evidence to back up the proposal's impact statement, and the completeness and quality of information."]
[null,"2. Review results. Once the assessment is complete, the results are automatically calculated and a score displayed for each individual GCF criterion in the \"Evaluation Summary Form\" tab. \n\n3. Complete final assessment of the Funding Proposal against the six GCF criteria,  in the \"Evaluation Summary Form\" tab. The section allows end users to adjust values if needed."]
[]
[null,"LEGEND"]
[null,"1. COLOR CODES:"]
[null,"Direct input"]
[null,"Drop-down input"]
[]
[null,"2. SCORING CONVERSION"]
[null,"Quantitative score",1,2,3,4,5]
[null,"Qualitative score","Low","Medium-Low","Medium","Medium-high","High"]
[]
[]
[null,"LIST OF RESOURCES FOR THE ICS TOOL"]
[null,"For more information on the ICS tool, please refer to the following documents (in order of relevance):"]
[null,"1. User Manual - ICS Guidance - For an introductory, summary overview of the tool, and a visual description of how to perform the assessment. Recommended for the users of the  ICS tool."]
[null,"2. ICS Documentation - Investment Criteria Scorecard and Indicators  - Provides a description of the approach used for the ICS including a detailed explanation of how the ICS tool works, an overview of the approach used to define the weights at the level of sub-criterion and the benchmarks used for quantitative assessment, and an in depth description of the calculation methodology and process used for each individual indicator, as well as recommendations for the maintenance and further improvement of the tool."]
[null,"3. ICS Blueprint – Development of an ICS for the Green Climate Fund  - provides an overview of GCF requirements initially identified for the ICS and best practices from comparable initiatives "]
[]
[]
[null,"DISCLAIMER"]
[null,"All information contained herein – particularly data used for the benchmarks in quantitative calculations - is obtained by CPI and Acclimatise from (or based on) sources believed by to be accurate and reliable, and provided “as is” without warranty of any kind.\n\nNeither CPI or Acclimatise accept any liability to any person or entity for (a) any loss or damage in whole or in part caused by, resulting from, or relating to, any error (negligent or otherwise) or other circumstance or contingency within or outside the control of CPI and Acclimatise or any of its directors, officers, employees or agents in connection with the procurement, collection, compilation, analysis, interpretation, communication, publication or delivery of any such information, or (b) any direct, indirect, special, consequential, compensatory or incidental damages whatsoever (including without limitation, lost profits). The scores, benchmarks, results from the assessment via qualitative check list, constituting part of the information contained herein are, and must be construed solely as, statements of opinion and not statements of fact or recommendations. \n\nThe outcomes of the scores derived from the use of the ICS - as they depend on the input choices of the end-users – remain those of the tool’s end user and do not reflect the views and choices of CPI or Acclimatise."]

{"sheet":"Input Sheet","index":1,"n_rows":461,"n_cols":19,"rows_kept":461,"cut":false,"hidden":false,"merged":[[454,1,454,4],[456,1,456,4],[421,1,421,4],[422,1,422,4],[431,1,431,4],[433,1,433,4],[453,1,453,4],[112,1,112,4],[124,1,124,4],[414,1,414,4],[99,1,99,4],[344,1,344,4],[325,1,325,4],[332,1,332,4],[345,1,345,4],[352,1,352,4],[377,1,377,4],[285,1,285,4],[288,1,288,4],[385,1,385,4],[386,1,386,4],[324,1,324,4],[232,1,232,4],[154,1,154,4],[155,1,155,4],[197,1,197,4],[198,1,198,4],[133,1,133,4],[144,1,144,4],[145,1,145,4],[136,1,136,4],[137,1,137,4],[418,1,418,4],[233,1,233,4],[276,1,277,4],[306,1,307,4],[267,1,267,4],[268,1,268,4],[309,1,309,4],[315,1,315,4],[316,1,316,4],[413,1,413,4],[308,1,308,4],[278,1,278,4],[417,1,417,4],[383,1,384,4],[281,1,281,4],[392,1,392,4],[399,1,399,4],[0,1,0,4],[6,1,6,4],[4,1,5,4],[10,1,10,4],[24,1,24,4],[111,1,111,4],[68,1,68,4],[83,1,83,4],[66,1,67,4],[96,1,97,4],[289,1,289,4],[152,1,153,4],[279,1,279,4],[284,1,284,4],[125,1,125,4],[0,5,0,17],[1,5,1,17],[11,1,11,4],[20,1,20,4],[12,5,19,5],[24,16,24,17],[98,1,98,4],[2,12,2,13],[24,6,24,7],[2,6,2,7],[2,8,2,10],[24,9,24,10],[24,12,24,13],[21,5,22,5],[69,1,69,4],[84,1,84,4],[2,16,2,17]]}
[null,"Input Sheet",null,null,null,"Data entry control"]
[]
["Type","Item","Instructions","Drop-down input","Direct input","Errors","Country emissions (tCO2/yr)",null,"Country population",null,null,null,{"$f":"IF(COUNT(P26:P65)=COUNT(E26:E65),\"National IHDI\",\"National HDI\")","v":"National IHDI"},null,null,null,"ND-GAIN vulnerability index"]
[]
[null,"RELEVANT FOR MULTIPLE INDICATORS"]
[]
["All","Project financing"]
[null,"GCF financing (USD)","Insert GCF financing in USD"]
[null,"Co-financing (USD)","Insert co-financing in USD"]
[]
["All","Project type"]
[null,"Result Area"]
[null,"1. Energy generation / access","Insert share of result-area component in project",null,null,{"$f":"IF(COUNT(E13:E20)=0,\"\",IF(E13+E14+E15+E16+E17+E18+E19+E20=1,\"\",\"Error: amend share\"))","v":""}]
[null,"2. Transport","Insert share of result-area component in project"]
[null,"3. Buildings, cities, industries and appliances","Insert share of result-area component in project"]
[null,"4. Forests and Land Use","Insert share of result-area component in project"]
[null,"5. Livelihoods of  vulnerable people & communities","Insert share of result-area component in project"]
[null,"6. Health and well-being, and food & water security","Insert share of result-area component in project"]
[null,"7. Infrastructure & built environment","Insert share of result-area component in project"]
[null,"8. Ecosystem & ecosystem services","Insert share of result-area component in project"]
[null,"Sector"]
[null,"Private","Insert share of private component in project = (private)/(private+public)",null,null,{"$f":"IF(COUNT(E22:E23)=0,\"\",IF(E22+E23=1,\"\",\"Error: amend share\"))","v":""}]
[null,"Public","Insert share of public component in project = (public)/(private+public)"]
[]
["All","Target countries (pls select countries in subsequent rows)",null,null,null,{"$f":"IF(COUNTA($D$26:$E$65)=0,\"\",IF(AND(SUM($E$26:$E$65)=1,COUNT($E$26:$E$65)=COUNTA($D$26:$D$65),COUNTIF($F$26:$F$65,\"-> redundant country entry\")=0),\"\",\"Error: amend share or countries\"))","v":""},{"$f":"IF(COUNTIF(H26:H65,\"n/a\")=0,\"\",\"Error: find proxy data\")","v":""},null,null,{"$f":"IF(COUNTIF(K26:K65,\"n/a\")=0,\"\",\"Error: find proxy data\")","v":""},null,null,{"$f":"IF(COUNTIF(N26:N65,\"n/a\")=0,\"\",\"Error: find proxy data\")","v":""},null,null,null,{"$f":"IF(COUNTIF(R26:R65,\"n/a\")=0,\"\",\"Error: find proxy data\")","v":""}]
[null,"Country 1","Insert country name and share (or equal shares when data is not available)",null,null,{"$f":"IF(D26=\"OTHER\",\"\",IF(COUNTIF($D$26:$D$65,D26)>1,\"-> redundant country entry\",\"\"))","v":""},null,{"$f":"IF(AND(I26=\"n/a\",G26>0),G26,I26)","v":""},{"$f":"IF(COUNTA(D26:E26)=2,IFERROR(INDEX('COUNTRY BENCHMARK'!B:B,MATCH($D26,'COUNTRY BENCHMARK'!A:A,0)),\"\"),\"\")","v":""},null,{"$f":"IF(AND(L26=\"n/a\",J26>0),J26,L26)","v":""},{"$f":"IF(COUNTA(D26:E26)=2,IFERROR(INDEX('COUNTRY BENCHMARK'!C:C,MATCH($D26,'COUNTRY BENCHMARK'!A:A,0)),\"\"),\"\")","v":""},null,{"$f":"IF(AND(O26=\"n/a\",M26>0),M26,O26)","v":""},{"$f":"IF(COUNTA(D26:E26)=2,IF($M$3=\"national IHDI\",IFERROR(INDEX('COUNTRY BENCHMARK'!D:D,MATCH($D26,'COUNTRY BENCHMARK'!A:A,0)),\"\"),IFERROR(INDEX('COUNTRY BENCHMARK'!E:E,MATCH($D26,'COUNTRY BENCHMARK'!A:A,0)),\"\")),\"\")","v":""},{"$f":"IFERROR(INDEX('COUNTRY BENCHMARK'!D:D,MATCH($D26,'COUNTRY BENCHMARK'!A:A,0)),\"\")","v":""},null,{"$f":"IF(AND(S26=\"n/a\",Q26>0),Q26,S26)","v":""},{"$f":"IF(COUNTA(D26:E26)=2,IFERROR(INDEX('COUNTRY BENCHMARK'!F:F,MATCH($D26,'COUNTRY BENCHMARK'!A:A,0)),\"\"),\"\")","v":""}]
[null,"Country 2","\"",null,null,{"$f":"IF(D27=\"OTHER\",\"\",IF(COUNTIF($D$26:$D$65,D27)>1,\"-> redundant country entry\",\"\"))","v":""},null,"",{"$f":"IF(COUNTA(D27:E27)=2,IFERROR(INDEX('COUNTRY BENCHMARK'!B:B,MATCH($D27,'COUNTRY BENCHMARK'!A:A,0)),\"\"),\"\")","v":""},null,"",{"$f":"IF(COUNTA(D27:E27)=2,IFERROR(INDEX('COUNTRY BENCHMARK'!C:C,MATCH($D27,'COUNTRY BENCHMARK'!A:A,0)),\"\"),\"\")","v":""},null,"",{"$f":"IF(COUNTA(D27:E27)=2,IF($M$3=\"national IHDI\",IFERROR(INDEX('COUNTRY BENCHMARK'!D:D,MATCH($D27,'COUNTRY BENCHMARK'!A:A,0)),\"\"),IFERROR(INDEX('COUNTRY BENCHMARK'!E:E,MATCH($D27,'COUNTRY BENCHMARK'!A:A,0)),\"\")),\"\")","v":""},{"$f":"IFERROR(INDEX('COUNTRY BENCHMARK'!D:D,MATCH($D27,'COUNTRY BENCHMARK'!A:A,0)),\"\")","v":""},null,{"$f":"IF(AND(S27=\"n/a\",Q27>0),Q27,S27)","v":""},{"$f":"IF(COUNTA(D27:E27)=2,IFERROR(INDEX('COUNTRY BENCHMARK'!F:F,MATCH($D27,'COUNTRY BENCHMARK'!A:A,0)),\"\"),\"\")","v":""}]
[null,"Country 3","\"",null,null,"",null,"",{"$f":"IF(COUNTA(D28:E28)=2,IFERROR(INDEX('COUNTRY BENCHMARK'!B:B,MATCH($D28,'COUNTRY BENCHMARK'!A:A,0)),\"\"),\"\")","v":""},null,"",{"$f":"IF(COUNTA(D28:E28)=2,IFERROR(INDEX('COUNTRY BENCHMARK'!C:C,MATCH($D28,'COUNTRY BENCHMARK'!A:A,0)),\"\"),\"\")","v":""},null,"",{"$f":"IF(COUNTA(D28:E28)=2,IF($M$3=\"national IHDI\",IFERROR(INDEX('COUNTRY BENCHMARK'!D:D,MATCH($D28,'COUNTRY BENCHMARK'!A:A,0)),\"\"),IFERROR(INDEX('COUNTRY BENCHMARK'!E:E,MATCH($D28,'COUNTRY BENCHMARK'!A:A,0)),\"\")),\"\")","v":""},{"$f":"IFERROR(INDEX('COUNTRY BENCHMARK'!D:D,MATCH($D28,'COUNTRY BENCHMARK'!A:A,0)),\"\")","v":""},null,"",{"$f":"IF(COUNTA(D28:E28)=2,IFERROR(INDEX('COUNTRY BENCHMARK'!F:F,MATCH($D28,'COUNTRY BENCHMARK'!A:A,0)),\"\"),\"\")","v":""}]
[null,"Country 4","\"",null,null,"",null,"",{"$f":"IF(COUNTA(D29:E29)=2,IFERROR(INDEX('COUNTRY BENCHMARK'!B:B,MATCH($D29,'COUNTRY BENCHMARK'!A:A,0)),\"\"),\"\")","v":""},null,"",{"$f":"IF(COUNTA(D29:E29)=2,IFERROR(INDEX('COUNTRY BENCHMARK'!C:C,MATCH($D29,'COUNTRY BENCHMARK'!A:A,0)),\"\"),\"\")","v":""},null,"",{"$f":"IF(COUNTA(D29:E29)=2,IF($M$3=\"national IHDI\",IFERROR(INDEX('COUNTRY BENCHMARK'!D:D,MATCH($D29,'COUNTRY BENCHMARK'!A:A,0)),\"\"),IFERROR(INDEX('COUNTRY BENCHMARK'!E:E,MATCH($D29,'COUNTRY BENCHMARK'!A:A,0)),\"\")),\"\")","v":""},{"$f":"IFERROR(INDEX('COUNTRY BENCHMARK'!D:D,MATCH($D29,'COUNTRY BENCHMARK'!A:A,0)),\"\")","v":""},null,"",{"$f":"IF(COUNTA(D29:E29)=2,IFERROR(INDEX('COUNTRY BENCHMARK'!F:F,MATCH($D29,'COUNTRY BENCHMARK'!A:A,0)),\"\"),\"\")","v":""}]
[null,"Country 5","\"",null,null,"",null,"",{"$f":"IF(COUNTA(D30:E30)=2,IFERROR(INDEX('COUNTRY BENCHMARK'!B:B,MATCH($D30,'COUNTRY BENCHMARK'!A:A,0)),\"\"),\"\")","v":""},null,"",{"$f":"IF(COUNTA(D30:E30)=2,IFERROR(INDEX('COUNTRY BENCHMARK'!C:C,MATCH($D30,'COUNTRY BENCHMARK'!A:A,0)),\"\"),\"\")","v":""},null,"",{"$f":"IF(COUNTA(D30:E30)=2,IF($M$3=\"national IHDI\",IFERROR(INDEX('COUNTRY BENCHMARK'!D:D,MATCH($D30,'COUNTRY BENCHMARK'!A:A,0)),\"\"),IFERROR(INDEX('COUNTRY BENCHMARK'!E:E,MATCH($D30,'COUNTRY BENCHMARK'!A:A,0)),\"\")),\"\")","v":""},{"$f":"IFERROR(INDEX('COUNTRY BENCHMARK'!D:D,MATCH($D30,'COUNTRY BENCHMARK'!A:A,0)),\"\")","v":""},null,"",{"$f":"IF(COUNTA(D30:E30)=2,IFERROR(INDEX('COUNTRY BENCHMARK'!F:F,MATCH($D30,'COUNTRY BENCHMARK'!A:A,0)),\"\"),\"\")","v":""}]
[null,"Country 6","\"",null,null,"",null,"",{"$f":"IF(COUNTA(D31:E31)=2,IFERROR(INDEX('COUNTRY BENCHMARK'!B:B,MATCH($D31,'COUNTRY BENCHMARK'!A:A,0)),\"\"),\"\")","v":""},null,"",{"$f":"IF(COUNTA(D31:E31)=2,IFERROR(INDEX('COUNTRY BENCHMARK'!C:C,MATCH($D31,'COUNTRY BENCHMARK'!A:A,0)),\"\"),\"\")","v":""},null,"",{"$f":"IF(COUNTA(D31:E31)=2,IF($M$3=\"national IHDI\",IFERROR(INDEX('COUNTRY BENCHMARK'!D:D,MATCH($D31,'COUNTRY BENCHMARK'!A:A,0)),\"\"),IFERROR(INDEX('COUNTRY BENCHMARK'!E:E,MATCH($D31,'COUNTRY BENCHMARK'!A:A,0)),\"\")),\"\")","v":""},{"$f":"IFERROR(INDEX('COUNTRY BENCHMARK'!D:D,MATCH($D31,'COUNTRY BENCHMARK'!A:A,0)),\"\")","v":""},null,"",{"$f":"IF(COUNTA(D31:E31)=2,IFERROR(INDEX('COUNTRY BENCHMARK'!F:F,MATCH($D31,'COUNTRY BENCHMARK'!A:A,0)),\"\"),\"\")","v":""}]
[null,"Country 7","\"",null,null,"",null,"",{"$f":"IF(COUNTA(D32:E32)=2,IFERROR(INDEX('COUNTRY BENCHMARK'!B:B,MATCH($D32,'COUNTRY BENCHMARK'!A:A,0)),\"\"),\"\")","v":""},null,"",{"$f":"IF(COUNTA(D32:E32)=2,IFERROR(INDEX('COUNTRY BENCHMARK'!C:C,MATCH($D32,'COUNTRY BENCHMARK'!A:A,0)),\"\"),\"\")","v":""},null,"",{"$f":"IF(COUNTA(D32:E32)=2,IF($M$3=\"national IHDI\",IFERROR(INDEX('COUNTRY BENCHMARK'!D:D,MATCH($D32,'COUNTRY BENCHMARK'!A:A,0)),\"\"),IFERROR(INDEX('COUNTRY BENCHMARK'!E:E,MATCH($D32,'COUNTRY BENCHMARK'!A:A,0)),\"\")),\"\")","v":""},{"$f":"IFERROR(INDEX('COUNTRY BENCHMARK'!D:D,MATCH($D32,'COUNTRY BENCHMARK'!A:A,0)),\"\")","v":""},null,"",{"$f":"IF(COUNTA(D32:E32)=2,IFERROR(INDEX('COUNTRY BENCHMARK'!F:F,MATCH($D32,'COUNTRY BENCHMARK'!A:A,0)),\"\"),\"\")","v":""}]
[null,"Country 8","\"",null,null,"",null,"",{"$f":"IF(COUNTA(D33:E33)=2,IFERROR(INDEX('COUNTRY BENCHMARK'!B:B,MATCH($D33,'COUNTRY BENCHMARK'!A:A,0)),\"\"),\"\")","v":""},null,"",{"$f":"IF(COUNTA(D33:E33)=2,IFERROR(INDEX('COUNTRY BENCHMARK'!C:C,MATCH($D33,'COUNTRY BENCHMARK'!A:A,0)),\"\"),\"\")","v":""},null,"",{"$f":"IF(COUNTA(D33:E33)=2,IF($M$3=\"national IHDI\",IFERROR(INDEX('COUNTRY BENCHMARK'!D:D,MATCH($D33,'COUNTRY BENCHMARK'!A:A,0)),\"\"),IFERROR(INDEX('COUNTRY BENCHMARK'!E:E,MATCH($D33,'COUNTRY BENCHMARK'!A:A,0)),\"\")),\"\")","v":""},{"$f":"IFERROR(INDEX('COUNTRY BENCHMARK'!D:D,MATCH($D33,'COUNTRY BENCHMARK'!A:A,0)),\"\")","v":""},null,"",{"$f":"IF(COUNTA(D33:E33)=2,IFERROR(INDEX('COUNTRY BENCHMARK'!F:F,MATCH($D33,'COUNTRY BENCHMARK'!A:A,0)),\"\"),\"\")","v":""}]
[null,"Country 9","\"",null,null,"",null,"",{"$f":"IF(COUNTA(D34:E34)=2,IFERROR(INDEX('COUNTRY BENCHMARK'!B:B,MATCH($D34,'COUNTRY BENCHMARK'!A:A,0)),\"\"),\"\")","v":""},null,"",{"$f":"IF(COUNTA(D34:E34)=2,IFERROR(INDEX('COUNTRY BENCHMARK'!C:C,MATCH($D34,'COUNTRY BENCHMARK'!A:A,0)),\"\"),\"\")","v":""},null,"",{"$f":"IF(COUNTA(D34:E34)=2,IF($M$3=\"national IHDI\",IFERROR(INDEX('COUNTRY BENCHMARK'!D:D,MATCH($D34,'COUNTRY BENCHMARK'!A:A,0)),\"\"),IFERROR(INDEX('COUNTRY BENCHMARK'!E:E,MATCH($D34,'COUNTRY BENCHMARK'!A:A,0)),\"\")),\"\")","v":""},{"$f":"IFERROR(INDEX('COUNTRY BENCHMARK'!D:D,MATCH($D34,'COUNTRY BENCHMARK'!A:A,0)),\"\")","v":""},null,"",{"$f":"IF(COUNTA(D34:E34)=2,IFERROR(INDEX('COUNTRY BENCHMARK'!F:F,MATCH($D34,'COUNTRY BENCHMARK'!A:A,0)),\"\"),\"\")","v":""}]
[null,"Country 10","\"",null,null,"",null,"",{"$f":"IF(COUNTA(D35:E35)=2,IFERROR(INDEX('COUNTRY BENCHMARK'!B:B,MATCH($D35,'COUNTRY BENCHMARK'!A:A,0)),\"\"),\"\")","v":""},null,"",{"$f":"IF(COUNTA(D35:E35)=2,IFERROR(INDEX('COUNTRY BENCHMARK'!C:C,MATCH($D35,'COUNTRY BENCHMARK'!A:A,0)),\"\"),\"\")","v":""},null,"",{"$f":"IF(COUNTA(D35:E35)=2,IF($M$3=\"national IHDI\",IFERROR(INDEX('COUNTRY BENCHMARK'!D:D,MATCH($D35,'COUNTRY BENCHMARK'!A:A,0)),\"\"),IFERROR(INDEX('COUNTRY BENCHMARK'!E:E,MATCH($D35,'COUNTRY BENCHMARK'!A:A,0)),\"\")),\"\")","v":""},{"$f":"IFERROR(INDEX('COUNTRY BENCHMARK'!D:D,MATCH($D35,'COUNTRY BENCHMARK'!A:A,0)),\"\")","v":""},null,"",{"$f":"IF(COUNTA(D35:E35)=2,IFERROR(INDEX('COUNTRY BENCHMARK'!F:F,MATCH($D35,'COUNTRY BENCHMARK'!A:A,0)),\"\"),\"\")","v":""}]
[null,"Country 11","\"",null,null,"",null,"",{"$f":"IF(COUNTA(D36:E36)=2,IFERROR(INDEX('COUNTRY BENCHMARK'!B:B,MATCH($D36,'COUNTRY BENCHMARK'!A:A,0)),\"\"),\"\")","v":""},null,"",{"$f":"IF(COUNTA(D36:E36)=2,IFERROR(INDEX('COUNTRY BENCHMARK'!C:C,MATCH($D36,'COUNTRY BENCHMARK'!A:A,0)),\"\"),\"\")","v":""},null,"",{"$f":"IF(COUNTA(D36:E36)=2,IF($M$3=\"national IHDI\",IFERROR(INDEX('COUNTRY BENCHMARK'!D:D,MATCH($D36,'COUNTRY BENCHMARK'!A:A,0)),\"\"),IFERROR(INDEX('COUNTRY BENCHMARK'!E:E,MATCH($D36,'COUNTRY BENCHMARK'!A:A,0)),\"\")),\"\")","v":""},{"$f":"IFERROR(INDEX('COUNTRY BENCHMARK'!D:D,MATCH($D36,'COUNTRY BENCHMARK'!A:A,0)),\"\")","v":""},null,"",{"$f":"IF(COUNTA(D36:E36)=2,IFERROR(INDEX('COUNTRY BENCHMARK'!F:F,MATCH($D36,'COUNTRY BENCHMARK'!A:A,0)),\"\"),\"\")","v":""}]
[null,"Country 12","\"",null,null,"",null,"",{"$f":"IF(COUNTA(D37:E37)=2,IFERROR(INDEX('COUNTRY BENCHMARK'!B:B,MATCH($D37,'COUNTRY BENCHMARK'!A:A,0)),\"\"),\"\")","v":""},null,"",{"$f":"IF(COUNTA(D37:E37)=2,IFERROR(INDEX('COUNTRY BENCHMARK'!C:C,MATCH($D37,'COUNTRY BENCHMARK'!A:A,0)),\"\"),\"\")","v":""},null,"",{"$f":"IF(COUNTA(D37:E37)=2,IF($M$3=\"national IHDI\",IFERROR(INDEX('COUNTRY BENCHMARK'!D:D,MATCH($D37,'COUNTRY BENCHMARK'!A:A,0)),\"\"),IFERROR(INDEX('COUNTRY BENCHMARK'!E:E,MATCH($D37,'COUNTRY BENCHMARK'!A:A,0)),\"\")),\"\")","v":""},{"$f":"IFERROR(INDEX('COUNTRY BENCHMARK'!D:D,MATCH($D37,'COUNTRY BENCHMARK'!A:A,0)),\"\")","v":""},null,"",{"$f":"IF(COUNTA(D37:E37)=2,IFERROR(INDEX('COUNTRY BENCHMARK'!F:F,MATCH($D37,'COUNTRY BENCHMARK'!A:A,0)),\"\"),\"\")","v":""}]
[null,"Country 13","\"",null,null,"",null,"",{"$f":"IF(COUNTA(D38:E38)=2,IFERROR(INDEX('COUNTRY BENCHMARK'!B:B,MATCH($D38,'COUNTRY BENCHMARK'!A:A,0)),\"\"),\"\")","v":""},null,"",{"$f":"IF(COUNTA(D38:E38)=2,IFERROR(INDEX('COUNTRY BENCHMARK'!C:C,MATCH($D38,'COUNTRY BENCHMARK'!A:A,0)),\"\"),\"\")","v":""},null,"",{"$f":"IF(COUNTA(D38:E38)=2,IF($M$3=\"national IHDI\",IFERROR(INDEX('COUNTRY BENCHMARK'!D:D,MATCH($D38,'COUNTRY BENCHMARK'!A:A,0)),\"\"),IFERROR(INDEX('COUNTRY BENCHMARK'!E:E,MATCH($D38,'COUNTRY BENCHMARK'!A:A,0)),\"\")),\"\")","v":""},{"$f":"IFERROR(INDEX('COUNTRY BENCHMARK'!D:D,MATCH($D38,'COUNTRY BENCHMARK'!A:A,0)),\"\")","v":""},null,"",{"$f":"IF(COUNTA(D38:E38)=2,IFERROR(INDEX('COUNTRY BENCHMARK'!F:F,MATCH($D38,'COUNTRY BENCHMARK'!A:A,0)),\"\"),\"\")","v":""}]
[null,"Country 14","\"",null,null,"",null,"",{"$f":"IF(COUNTA(D39:E39)=2,IFERROR(INDEX('COUNTRY BENCHMARK'!B:B,MATCH($D39,'COUNTRY BENCHMARK'!A:A,0)),\"\"),\"\")","v":""},null,"",{"$f":"IF(COUNTA(D39:E39)=2,IFERROR(INDEX('COUNTRY BENCHMARK'!C:C,MATCH($D39,'COUNTRY BENCHMARK'!A:A,0)),\"\"),\"\")","v":""},null,"",{"$f":"IF(COUNTA(D39:E39)=2,IF($M$3=\"national IHDI\",IFERROR(INDEX('COUNTRY BENCHMARK'!D:D,MATCH($D39,'COUNTRY BENCHMARK'!A:A,0)),\"\"),IFERROR(INDEX('COUNTRY BENCHMARK'!E:E,MATCH($D39,'COUNTRY BENCHMARK'!A:A,0)),\"\")),\"\")","v":""},{"$f":"IFERROR(INDEX('COUNTRY BENCHMARK'!D:D,MATCH($D39,'COUNTRY BENCHMARK'!A:A,0)),\"\")","v":""},null,"",{"$f":"IF(COUNTA(D39:E39)=2,IFERROR(INDEX('COUNTRY BENCHMARK'!F:F,MATCH($D39,'COUNTRY BENCHMARK'!A:A,0)),\"\"),\"\")","v":""}]
[null,"Country 15","\"",null,null,"",null,"",{"$f":"IF(COUNTA(D40:E40)=2,IFERROR(INDEX('COUNTRY BENCHMARK'!B:B,MATCH($D40,'COUNTRY BENCHMARK'!A:A,0)),\"\"),\"\")","v":""},null,"",{"$f":"IF(COUNTA(D40:E40)=2,IFERROR(INDEX('COUNTRY BENCHMARK'!C:C,MATCH($D40,'COUNTRY BENCHMARK'!A:A,0)),\"\"),\"\")","v":""},null,"",{"$f":"IF(COUNTA(D40:E40)=2,IF($M$3=\"national IHDI\",IFERROR(INDEX('COUNTRY BENCHMARK'!D:D,MATCH($D40,'COUNTRY BENCHMARK'!A:A,0)),\"\"),IFERROR(INDEX('COUNTRY BENCHMARK'!E:E,MATCH($D40,'COUNTRY BENCHMARK'!A:A,0)),\"\")),\"\")","v":""},{"$f":"IFERROR(INDEX('COUNTRY BENCHMARK'!D:D,MATCH($D40,'COUNTRY BENCHMARK'!A:A,0)),\"\")","v":""},null,"",{"$f":"IF(COUNTA(D40:E40)=2,IFERROR(INDEX('COUNTRY BENCHMARK'!F:F,MATCH($D40,'COUNTRY BENCHMARK'!A:A,0)),\"\"),\"\")","v":""}]
[null,"Country 16","\"",null,null,"",null,"",{"$f":"IF(COUNTA(D41:E41)=2,IFERROR(INDEX('COUNTRY BENCHMARK'!B:B,MATCH($D41,'COUNTRY BENCHMARK'!A:A,0)),\"\"),\"\")","v":""},null,"",{"$f":"IF(COUNTA(D41:E41)=2,IFERROR(INDEX('COUNTRY BENCHMARK'!C:C,MATCH($D41,'COUNTRY BENCHMARK'!A:A,0)),\"\"),\"\")","v":""},null,"",{"$f":"IF(COUNTA(D41:E41)=2,IF($M$3=\"national IHDI\",IFERROR(INDEX('COUNTRY BENCHMARK'!D:D,MATCH($D41,'COUNTRY BENCHMARK'!A:A,0)),\"\"),IFERROR(INDEX('COUNTRY BENCHMARK'!E:E,MATCH($D41,'COUNTRY BENCHMARK'!A:A,0)),\"\")),\"\")","v":""},{"$f":"IFERROR(INDEX('COUNTRY BENCHMARK'!D:D,MATCH($D41,'COUNTRY BENCHMARK'!A:A,0)),\"\")","v":""},null,"",{"$f":"IF(COUNTA(D41:E41)=2,IFERROR(INDEX('COUNTRY BENCHMARK'!F:F,MATCH($D41,'COUNTRY BENCHMARK'!A:A,0)),\"\"),\"\")","v":""}]
[null,"Country 17","\"",null,null,"",null,"",{"$f":"IF(COUNTA(D42:E42)=2,IFERROR(INDEX('COUNTRY BENCHMARK'!B:B,MATCH($D42,'COUNTRY BENCHMARK'!A:A,0)),\"\"),\"\")","v":""},null,"",{"$f":"IF(COUNTA(D42:E42)=2,IFERROR(INDEX('COUNTRY BENCHMARK'!C:C,MATCH($D42,'COUNTRY BENCHMARK'!A:A,0)),\"\"),\"\")","v":""},null,"",{"$f":"IF(COUNTA(D42:E42)=2,IF($M$3=\"national IHDI\",IFERROR(INDEX('COUNTRY BENCHMARK'!D:D,MATCH($D42,'COUNTRY BENCHMARK'!A:A,0)),\"\"),IFERROR(INDEX('COUNTRY BENCHMARK'!E:E,MATCH($D42,'COUNTRY BENCHMARK'!A:A,0)),\"\")),\"\")","v":""},{"$f":"IFERROR(INDEX('COUNTRY BENCHMARK'!D:D,MATCH($D42,'COUNTRY BENCHMARK'!A:A,0)),\"\")","v":""},null,"",{"$f":"IF(COUNTA(D42:E42)=2,IFERROR(INDEX('COUNTRY BENCHMARK'!F:F,MATCH($D42,'COUNTRY BENCHMARK'!A:A,0)),\"\"),\"\")","v":""}]
[null,"Country 18","\"",null,null,"",null,"",{"$f":"IF(COUNTA(D43:E43)=2,IFERROR(INDEX('COUNTRY BENCHMARK'!B:B,MATCH($D43,'COUNTRY BENCHMARK'!A:A,0)),\"\"),\"\")","v":""},null,"",{"$f":"IF(COUNTA(D43:E43)=2,IFERROR(INDEX('COUNTRY BENCHMARK'!C:C,MATCH($D43,'COUNTRY BENCHMARK'!A:A,0)),\"\"),\"\")","v":""},null,"",{"$f":"IF(COUNTA(D43:E43)=2,IF($M$3=\"national IHDI\",IFERROR(INDEX('COUNTRY BENCHMARK'!D:D,MATCH($D43,'COUNTRY BENCHMARK'!A:A,0)),\"\"),IFERROR(INDEX('COUNTRY BENCHMARK'!E:E,MATCH($D43,'COUNTRY BENCHMARK'!A:A,0)),\"\")),\"\")","v":""},{"$f":"IFERROR(INDEX('COUNTRY BENCHMARK'!D:D,MATCH($D43,'COUNTRY BENCHMARK'!A:A,0)),\"\")","v":""},null,"",{"$f":"IF(COUNTA(D43:E43)=2,IFERROR(INDEX('COUNTRY BENCHMARK'!F:F,MATCH($D43,'COUNTRY BENCHMARK'!A:A,0)),\"\"),\"\")","v":""}]
[null,"Country 19","\"",null,null,"",null,"",{"$f":"IF(COUNTA(D44:E44)=2,IFERROR(INDEX('COUNTRY BENCHMARK'!B:B,MATCH($D44,'COUNTRY BENCHMARK'!A:A,0)),\"\"),\"\")","v":""},null,"",{"$f":"IF(COUNTA(D44:E44)=2,IFERROR(INDEX('COUNTRY BENCHMARK'!C:C,MATCH($D44,'COUNTRY BENCHMARK'!A:A,0)),\"\"),\"\")","v":""},null,"",{"$f":"IF(COUNTA(D44:E44)=2,IF($M$3=\"national IHDI\",IFERROR(INDEX('COUNTRY BENCHMARK'!D:D,MATCH($D44,'COUNTRY BENCHMARK'!A:A,0)),\"\"),IFERROR(INDEX('COUNTRY BENCHMARK'!E:E,MATCH($D44,'COUNTRY BENCHMARK'!A:A,0)),\"\")),\"\")","v":""},{"$f":"IFERROR(INDEX('COUNTRY BENCHMARK'!D:D,MATCH($D44,'COUNTRY BENCHMARK'!A:A,0)),\"\")","v":""},null,"",{"$f":"IF(COUNTA(D44:E44)=2,IFERROR(INDEX('COUNTRY BENCHMARK'!F:F,MATCH($D44,'COUNTRY BENCHMARK'!A:A,0)),\"\"),\"\")","v":""}]
[null,"Country 20","\"",null,null,"",null,"",{"$f":"IF(COUNTA(D45:E45)=2,IFERROR(INDEX('COUNTRY BENCHMARK'!B:B,MATCH($D45,'COUNTRY BENCHMARK'!A:A,0)),\"\"),\"\")","v":""},null,"",{"$f":"IF(COUNTA(D45:E45)=2,IFERROR(INDEX('COUNTRY BENCHMARK'!C:C,MATCH($D45,'COUNTRY BENCHMARK'!A:A,0)),\"\"),\"\")","v":""},null,"",{"$f":"IF(COUNTA(D45:E45)=2,IF($M$3=\"national IHDI\",IFERROR(INDEX('COUNTRY BENCHMARK'!D:D,MATCH($D45,'COUNTRY BENCHMARK'!A:A,0)),\"\"),IFERROR(INDEX('COUNTRY BENCHMARK'!E:E,MATCH($D45,'COUNTRY BENCHMARK'!A:A,0)),\"\")),\"\")","v":""},{"$f":"IFERROR(INDEX('COUNTRY BENCHMARK'!D:D,MATCH($D45,'COUNTRY BENCHMARK'!A:A,0)),\"\")","v":""},null,"",{"$f":"IF(COUNTA(D45:E45)=2,IFERROR(INDEX('COUNTRY BENCHMARK'!F:F,MATCH($D45,'COUNTRY BENCHMARK'!A:A,0)),\"\"),\"\")","v":""}]
[null,"Country 21","\"",null,null,"",null,"",{"$f":"IF(COUNTA(D46:E46)=2,IFERROR(INDEX('COUNTRY BENCHMARK'!B:B,MATCH($D46,'COUNTRY BENCHMARK'!A:A,0)),\"\"),\"\")","v":""},null,"",{"$f":"IF(COUNTA(D46:E46)=2,IFERROR(INDEX('COUNTRY BENCHMARK'!C:C,MATCH($D46,'COUNTRY BENCHMARK'!A:A,0)),\"\"),\"\")","v":""},null,"",{"$f":"IF(COUNTA(D46:E46)=2,IF($M$3=\"national IHDI\",IFERROR(INDEX('COUNTRY BENCHMARK'!D:D,MATCH($D46,'COUNTRY BENCHMARK'!A:A,0)),\"\"),IFERROR(INDEX('COUNTRY BENCHMARK'!E:E,MATCH($D46,'COUNTRY BENCHMARK'!A:A,0)),\"\")),\"\")","v":""},{"$f":"IFERROR(INDEX('COUNTRY BENCHMARK'!D:D,MATCH($D46,'COUNTRY BENCHMARK'!A:A,0)),\"\")","v":""},null,"",{"$f":"IF(COUNTA(D46:E46)=2,IFERROR(INDEX('COUNTRY BENCHMARK'!F:F,MATCH($D46,'COUNTRY BENCHMARK'!A:A,0)),\"\"),\"\")","v":""}]
[null,"Country 22","\"",null,null,"",null,"",{"$f":"IF(COUNTA(D47:E47)=2,IFERROR(INDEX('COUNTRY BENCHMARK'!B:B,MATCH($D47,'COUNTRY BENCHMARK'!A:A,0)),\"\"),\"\")","v":""},null,"",{"$f":"IF(COUNTA(D47:E47)=2,IFERROR(INDEX('COUNTRY BENCHMARK'!C:C,MATCH($D47,'COUNTRY BENCHMARK'!A:A,0)),\"\"),\"\")","v":""},null,"",{"$f":"IF(COUNTA(D47:E47)=2,IF($M$3=\"national IHDI\",IFERROR(INDEX('COUNTRY BENCHMARK'!D:D,MATCH($D47,'COUNTRY BENCHMARK'!A:A,0)),\"\"),IFERROR(INDEX('COUNTRY BENCHMARK'!E:E,MATCH($D47,'COUNTRY BENCHMARK'!A:A,0)),\"\")),\"\")","v":""},{"$f":"IFERROR(INDEX('COUNTRY BENCHMARK'!D:D,MATCH($D47,'COUNTRY BENCHMARK'!A:A,0)),\"\")","v":""},null,"",{"$f":"IF(COUNTA(D47:E47)=2,IFERROR(INDEX('COUNTRY BENCHMARK'!F:F,MATCH($D47,'COUNTRY BENCHMARK'!A:A,0)),\"\"),\"\")","v":""}]
[null,"Country 23","\"",null,null,"",null,"",{"$f":"IF(COUNTA(D48:E48)=2,IFERROR(INDEX('COUNTRY BENCHMARK'!B:B,MATCH($D48,'COUNTRY BENCHMARK'!A:A,0)),\"\"),\"\")","v":""},null,"",{"$f":"IF(COUNTA(D48:E48)=2,IFERROR(INDEX('COUNTRY BENCHMARK'!C:C,MATCH($D48,'COUNTRY BENCHMARK'!A:A,0)),\"\"),\"\")","v":""},null,"",{"$f":"IF(COUNTA(D48:E48)=2,IF($M$3=\"national IHDI\",IFERROR(INDEX('COUNTRY BENCHMARK'!D:D,MATCH($D48,'COUNTRY BENCHMARK'!A:A,0)),\"\"),IFERROR(INDEX('COUNTRY BENCHMARK'!E:E,MATCH($D48,'COUNTRY BENCHMARK'!A:A,0)),\"\")),\"\")","v":""},{"$f":"IFERROR(INDEX('COUNTRY BENCHMARK'!D:D,MATCH($D48,'COUNTRY BENCHMARK'!A:A,0)),\"\")","v":""},null,"",{"$f":"IF(COUNTA(D48:E48)=2,IFERROR(INDEX('COUNTRY BENCHMARK'!F:F,MATCH($D48,'COUNTRY BENCHMARK'!A:A,0)),\"\"),\"\")","v":""}]
[null,"Country 24","\"",null,null,"",null,"",{"$f":"IF(COUNTA(D49:E49)=2,IFERROR(INDEX('COUNTRY BENCHMARK'!B:B,MATCH($D49,'COUNTRY BENCHMARK'!A:A,0)),\"\"),\"\")","v":""},null,"",{"$f":"IF(COUNTA(D49:E49)=2,IFERROR(INDEX('COUNTRY BENCHMARK'!C:C,MATCH($D49,'COUNTRY BENCHMARK'!A:A,0)),\"\"),\"\")","v":""},null,"",{"$f":"IF(COUNTA(D49:E49)=2,IF($M$3=\"national IHDI\",IFERROR(INDEX('COUNTRY BENCHMARK'!D:D,MATCH($D49,'COUNTRY BENCHMARK'!A:A,0)),\"\"),IFERROR(INDEX('COUNTRY BENCHMARK'!E:E,MATCH($D49,'COUNTRY BENCHMARK'!A:A,0)),\"\")),\"\")","v":""},{"$f":"IFERROR(INDEX('COUNTRY BENCHMARK'!D:D,MATCH($D49,'COUNTRY BENCHMARK'!A:A,0)),\"\")","v":""},null,"",{"$f":"IF(COUNTA(D49:E49)=2,IFERROR(INDEX('COUNTRY BENCHMARK'!F:F,MATCH($D49,'COUNTRY BENCHMARK'!A:A,0)),\"\"),\"\")","v":""}]
[null,"Country 25","\"",null,null,"",null,"",{"$f":"IF(COUNTA(D50:E50)=2,IFERROR(INDEX('COUNTRY BENCHMARK'!B:B,MATCH($D50,'COUNTRY BENCHMARK'!A:A,0)),\"\"),\"\")","v":""},null,"",{"$f":"IF(COUNTA(D50:E50)=2,IFERROR(INDEX('COUNTRY BENCHMARK'!C:C,MATCH($D50,'COUNTRY BENCHMARK'!A:A,0)),\"\"),\"\")","v":""},null,"",{"$f":"IF(COUNTA(D50:E50)=2,IF($M$3=\"national IHDI\",IFERROR(INDEX('COUNTRY BENCHMARK'!D:D,MATCH($D50,'COUNTRY BENCHMARK'!A:A,0)),\"\"),IFERROR(INDEX('COUNTRY BENCHMARK'!E:E,MATCH($D50,'COUNTRY BENCHMARK'!A:A,0)),\"\")),\"\")","v":""},{"$f":"IFERROR(INDEX('COUNTRY BENCHMARK'!D:D,MATCH($D50,'COUNTRY BENCHMARK'!A:A,0)),\"\")","v":""},null,"",{"$f":"IF(COUNTA(D50:E50)=2,IFERROR(INDEX('COUNTRY BENCHMARK'!F:F,MATCH($D50,'COUNTRY BENCHMARK'!A:A,0)),\"\"),\"\")","v":""}]
[null,"Country 26","\"",null,null,"",null,"",{"$f":"IF(COUNTA(D51:E51)=2,IFERROR(INDEX('COUNTRY BENCHMARK'!B:B,MATCH($D51,'COUNTRY BENCHMARK'!A:A,0)),\"\"),\"\")","v":""},null,"",{"$f":"IF(COUNTA(D51:E51)=2,IFERROR(INDEX('COUNTRY BENCHMARK'!C:C,MATCH($D51,'COUNTRY BENCHMARK'!A:A,0)),\"\"),\"\")","v":""},null,"",{"$f":"IF(COUNTA(D51:E51)=2,IF($M$3=\"national IHDI\",IFERROR(INDEX('COUNTRY BENCHMARK'!D:D,MATCH($D51,'COUNTRY BENCHMARK'!A:A,0)),\"\"),IFERROR(INDEX('COUNTRY BENCHMARK'!E:E,MATCH($D51,'COUNTRY BENCHMARK'!A:A,0)),\"\")),\"\")","v":""},{"$f":"IFERROR(INDEX('COUNTRY BENCHMARK'!D:D,MATCH($D51,'COUNTRY BENCHMARK'!A:A,0)),\"\")","v":""},null,"",{"$f":"IF(COUNTA(D51:E51)=2,IFERROR(INDEX('COUNTRY BENCHMARK'!F:F,MATCH($D51,'COUNTRY BENCHMARK'!A:A,0)),\"\"),\"\")","v":""}]
[null,"Country 27","\"",null,null,"",null,"",{"$f":"IF(COUNTA(D52:E52)=2,IFERROR(INDEX('COUNTRY BENCHMARK'!B:B,MATCH($D52,'COUNTRY BENCHMARK'!A:A,0)),\"\"),\"\")","v":""},null,"",{"$f":"IF(COUNTA(D52:E52)=2,IFERROR(INDEX('COUNTRY BENCHMARK'!C:C,MATCH($D52,'COUNTRY BENCHMARK'!A:A,0)),\"\"),\"\")","v":""},null,"",{"$f":"IF(COUNTA(D52:E52)=2,IF($M$3=\"national IHDI\",IFERROR(INDEX('COUNTRY BENCHMARK'!D:D,MATCH($D52,'COUNTRY BENCHMARK'!A:A,0)),\"\"),IFERROR(INDEX('COUNTRY BENCHMARK'!E:E,MATCH($D52,'COUNTRY BENCHMARK'!A:A,0)),\"\")),\"\")","v":""},{"$f":"IFERROR(INDEX('COUNTRY BENCHMARK'!D:D,MATCH($D52,'COUNTRY BENCHMARK'!A:A,0)),\"\")","v":""},null,"",{"$f":"IF(COUNTA(D52:E52)=2,IFERROR(INDEX('COUNTRY BENCHMARK'!F:F,MATCH($D52,'COUNTRY BENCHMARK'!A:A,0)),\"\"),\"\")","v":""}]
[null,"Country 28","\"",null,null,"",null,"",{"$f":"IF(COUNTA(D53:E53)=2,IFERROR(INDEX('COUNTRY BENCHMARK'!B:B,MATCH($D53,'COUNTRY BENCHMARK'!A:A,0)),\"\"),\"\")","v":""},null,"",{"$f":"IF(COUNTA(D53:E53)=2,IFERROR(INDEX('COUNTRY BENCHMARK'!C:C,MATCH($D53,'COUNTRY BENCHMARK'!A:A,0)),\"\"),\"\")","v":""},null,"",{"$f":"IF(COUNTA(D53:E53)=2,IF($M$3=\"national IHDI\",IFERROR(INDEX('COUNTRY BENCHMARK'!D:D,MATCH($D53,'COUNTRY BENCHMARK'!A:A,0)),\"\"),IFERROR(INDEX('COUNTRY BENCHMARK'!E:E,MATCH($D53,'COUNTRY BENCHMARK'!A:A,0)),\"\")),\"\")","v":""},{"$f":"IFERROR(INDEX('COUNTRY BENCHMARK'!D:D,MATCH($D53,'COUNTRY BENCHMARK'!A:A,0)),\"\")","v":""},null,"",{"$f":"IF(COUNTA(D53:E53)=2,IFERROR(INDEX('COUNTRY BENCHMARK'!F:F,MATCH($D53,'COUNTRY BENCHMARK'!A:A,0)),\"\"),\"\")","v":""}]
[null,"Country 29","\"",null,null,"",null,"",{"$f":"IF(COUNTA(D54:E54)=2,IFERROR(INDEX('COUNTRY BENCHMARK'!B:B,MATCH($D54,'COUNTRY BENCHMARK'!A:A,0)),\"\"),\"\")","v":""},null,"",{"$f":"IF(COUNTA(D54:E54)=2,IFERROR(INDEX('COUNTRY BENCHMARK'!C:C,MATCH($D54,'COUNTRY BENCHMARK'!A:A,0)),\"\"),\"\")","v":""},null,"",{"$f":"IF(COUNTA(D54:E54)=2,IF($M$3=\"national IHDI\",IFERROR(INDEX('COUNTRY BENCHMARK'!D:D,MATCH($D54,'COUNTRY BENCHMARK'!A:A,0)),\"\"),IFERROR(INDEX('COUNTRY BENCHMARK'!E:E,MATCH($D54,'COUNTRY BENCHMARK'!A:A,0)),\"\")),\"\")","v":""},{"$f":"IFERROR(INDEX('COUNTRY BENCHMARK'!D:D,MATCH($D54,'COUNTRY BENCHMARK'!A:A,0)),\"\")","v":""},null,"",{"$f":"IF(COUNTA(D54:E54)=2,IFERROR(INDEX('COUNTRY BENCHMARK'!F:F,MATCH($D54,'COUNTRY BENCHMARK'!A:A,0)),\"\"),\"\")","v":""}]
[null,"Country 30","\"",null,null,"",null,"",{"$f":"IF(COUNTA(D55:E55)=2,IFERROR(INDEX('COUNTRY BENCHMARK'!B:B,MATCH($D55,'COUNTRY BENCHMARK'!A:A,0)),\"\"),\"\")","v":""},null,"",{"$f":"IF(COUNTA(D55:E55)=2,IFERROR(INDEX('COUNTRY BENCHMARK'!C:C,MATCH($D55,'COUNTRY BENCHMARK'!A:A,0)),\"\"),\"\")","v":""},null,"",{"$f":"IF(COUNTA(D55:E55)=2,IF($M$3=\"national IHDI\",IFERROR(INDEX('COUNTRY BENCHMARK'!D:D,MATCH($D55,'COUNTRY BENCHMARK'!A:A,0)),\"\"),IFERROR(INDEX('COUNTRY BENCHMARK'!E:E,MATCH($D55,'COUNTRY BENCHMARK'!A:A,0)),\"\")),\"\")","v":""},{"$f":"IFERROR(INDEX('COUNTRY BENCHMARK'!D:D,MATCH($D55,'COUNTRY BENCHMARK'!A:A,0)),\"\")","v":""},null,"",{"$f":"IF(COUNTA(D55:E55)=2,IFERROR(INDEX('COUNTRY BENCHMARK'!F:F,MATCH($D55,'COUNTRY BENCHMARK'!A:A,0)),\"\"),\"\")","v":""}]
[null,"Country 31","\"",null,null,"",null,"",{"$f":"IF(COUNTA(D56:E56)=2,IFERROR(INDEX('COUNTRY BENCHMARK'!B:B,MATCH($D56,'COUNTRY BENCHMARK'!A:A,0)),\"\"),\"\")","v":""},null,"",{"$f":"IF(COUNTA(D56:E56)=2,IFERROR(INDEX('COUNTRY BENCHMARK'!C:C,MATCH($D56,'COUNTRY BENCHMARK'!A:A,0)),\"\"),\"\")","v":""},null,"",{"$f":"IF(COUNTA(D56:E56)=2,IF($M$3=\"national IHDI\",IFERROR(INDEX('COUNTRY BENCHMARK'!D:D,MATCH($D56,'COUNTRY BENCHMARK'!A:A,0)),\"\"),IFERROR(INDEX('COUNTRY BENCHMARK'!E:E,MATCH($D56,'COUNTRY BENCHMARK'!A:A,0)),\"\")),\"\")","v":""},{"$f":"IFERROR(INDEX('COUNTRY BENCHMARK'!D:D,MATCH($D56,'COUNTRY BENCHMARK'!A:A,0)),\"\")","v":""},null,"",{"$f":"IF(COUNTA(D56:E56)=2,IFERROR(INDEX('COUNTRY BENCHMARK'!F:F,MATCH($D56,'COUNTRY BENCHMARK'!A:A,0)),\"\"),\"\")","v":""}]
[null,"Country 32","\"",null,null,"",null,"",{"$f":"IF(COUNTA(D57:E57)=2,IFERROR(INDEX('COUNTRY BENCHMARK'!B:B,MATCH($D57,'COUNTRY BENCHMARK'!A:A,0)),\"\"),\"\")","v":""},null,"",{"$f":"IF(COUNTA(D57:E57)=2,IFERROR(INDEX('COUNTRY BENCHMARK'!C:C,MATCH($D57,'COUNTRY BENCHMARK'!A:A,0)),\"\"),\"\")","v":""},null,"",{"$f":"IF(COUNTA(D57:E57)=2,IF($M$3=\"national IHDI\",IFERROR(INDEX('COUNTRY BENCHMARK'!D:D,MATCH($D57,'COUNTRY BENCHMARK'!A:A,0)),\"\"),IFERROR(INDEX('COUNTRY BENCHMARK'!E:E,MATCH($D57,'COUNTRY BENCHMARK'!A:A,0)),\"\")),\"\")","v":""},{"$f":"IFERROR(INDEX('COUNTRY BENCHMARK'!D:D,MATCH($D57,'COUNTRY BENCHMARK'!A:A,0)),\"\")","v":""},null,"",{"$f":"IF(COUNTA(D57:E57)=2,IFERROR(INDEX('COUNTRY BENCHMARK'!F:F,MATCH($D57,'COUNTRY BENCHMARK'!A:A,0)),\"\"),\"\")","v":""}]
[null,"Country 33","\"",null,null,"",null,"",{"$f":"IF(COUNTA(D58:E58)=2,IFERROR(INDEX('COUNTRY BENCHMARK'!B:B,MATCH($D58,'COUNTRY BENCHMARK'!A:A,0)),\"\"),\"\")","v":""},null,"",{"$f":"IF(COUNTA(D58:E58)=2,IFERROR(INDEX('COUNTRY BENCHMARK'!C:C,MATCH($D58,'COUNTRY BENCHMARK'!A:A,0)),\"\"),\"\")","v":""},null,"",{"$f":"IF(COUNTA(D58:E58)=2,IF($M$3=\"national IHDI\",IFERROR(INDEX('COUNTRY BENCHMARK'!D:D,MATCH($D58,'COUNTRY BENCHMARK'!A:A,0)),\"\"),IFERROR(INDEX('COUNTRY BENCHMARK'!E:E,MATCH($D58,'COUNTRY BENCHMARK'!A:A,0)),\"\")),\"\")","v":""},{"$f":"IFERROR(INDEX('COUNTRY BENCHMARK'!D:D,MATCH($D58,'COUNTRY BENCHMARK'!A:A,0)),\"\")","v":""},null,"",{"$f":"IF(COUNTA(D58:E58)=2,IFERROR(INDEX('COUNTRY BENCHMARK'!F:F,MATCH($D58,'COUNTRY BENCHMARK'!A:A,0)),\"\"),\"\")","v":""}]
[null,"Country 34","\"",null,null,"",null,"",{"$f":"IF(COUNTA(D59:E59)=2,IFERROR(INDEX('COUNTRY BENCHMARK'!B:B,MATCH($D59,'COUNTRY BENCHMARK'!A:A,0)),\"\"),\"\")","v":""},null,"",{"$f":"IF(COUNTA(D59:E59)=2,IFERROR(INDEX('COUNTRY BENCHMARK'!C:C,MATCH($D59,'COUNTRY BENCHMARK'!A:A,0)),\"\"),\"\")","v":""},null,"",{"$f":"IF(COUNTA(D59:E59)=2,IF($M$3=\"national IHDI\",IFERROR(INDEX('COUNTRY BENCHMARK'!D:D,MATCH($D59,'COUNTRY BENCHMARK'!A:A,0)),\"\"),IFERROR(INDEX('COUNTRY BENCHMARK'!E:E,MATCH($D59,'COUNTRY BENCHMARK'!A:A,0)),\"\")),\"\")","v":""},{"$f":"IFERROR(INDEX('COUNTRY BENCHMARK'!D:D,MATCH($D59,'COUNTRY BENCHMARK'!A:A,0)),\"\")","v":""},null,"",{"$f":"IF(COUNTA(D59:E59)=2,IFERROR(INDEX('COUNTRY BENCHMARK'!F:F,MATCH($D59,'COUNTRY BENCHMARK'!A:A,0)),\"\"),\"\")","v":""}]
[null,"Country 35","\"",null,null,"",null,"",{"$f":"IF(COUNTA(D60:E60)=2,IFERROR(INDEX('COUNTRY BENCHMARK'!B:B,MATCH($D60,'COUNTRY BENCHMARK'!A:A,0)),\"\"),\"\")","v":""},null,"",{"$f":"IF(COUNTA(D60:E60)=2,IFERROR(INDEX('COUNTRY BENCHMARK'!C:C,MATCH($D60,'COUNTRY BENCHMARK'!A:A,0)),\"\"),\"\")","v":""},null,"",{"$f":"IF(COUNTA(D60:E60)=2,IF($M$3=\"national IHDI\",IFERROR(INDEX('COUNTRY BENCHMARK'!D:D,MATCH($D60,'COUNTRY BENCHMARK'!A:A,0)),\"\"),IFERROR(INDEX('COUNTRY BENCHMARK'!E:E,MATCH($D60,'COUNTRY BENCHMARK'!A:A,0)),\"\")),\"\")","v":""},{"$f":"IFERROR(INDEX('COUNTRY BENCHMARK'!D:D,MATCH($D60,'COUNTRY BENCHMARK'!A:A,0)),\"\")","v":""},null,"",{"$f":"IF(COUNTA(D60:E60)=2,IFERROR(INDEX('COUNTRY BENCHMARK'!F:F,MATCH($D60,'COUNTRY BENCHMARK'!A:A,0)),\"\"),\"\")","v":""}]
[null,"Country 36","\"",null,null,"",null,"",{"$f":"IF(COUNTA(D61:E61)=2,IFERROR(INDEX('COUNTRY BENCHMARK'!B:B,MATCH($D61,'COUNTRY BENCHMARK'!A:A,0)),\"\"),\"\")","v":""},null,"",{"$f":"IF(COUNTA(D61:E61)=2,IFERROR(INDEX('COUNTRY BENCHMARK'!C:C,MATCH($D61,'COUNTRY BENCHMARK'!A:A,0)),\"\"),\"\")","v":""},null,"",{"$f":"IF(COUNTA(D61:E61)=2,IF($M$3=\"national IHDI\",IFERROR(INDEX('COUNTRY BENCHMARK'!D:D,MATCH($D61,'COUNTRY BENCHMARK'!A:A,0)),\"\"),IFERROR(INDEX('COUNTRY BENCHMARK'!E:E,MATCH($D61,'COUNTRY BENCHMARK'!A:A,0)),\"\")),\"\")","v":""},{"$f":"IFERROR(INDEX('COUNTRY BENCHMARK'!D:D,MATCH($D61,'COUNTRY BENCHMARK'!A:A,0)),\"\")","v":""},null,"",{"$f":"IF(COUNTA(D61:E61)=2,IFERROR(INDEX('COUNTRY BENCHMARK'!F:F,MATCH($D61,'COUNTRY BENCHMARK'!A:A,0)),\"\"),\"\")","v":""}]
[null,"Country 37","\"",null,null,"",null,"",{"$f":"IF(COUNTA(D62:E62)=2,IFERROR(INDEX('COUNTRY BENCHMARK'!B:B,MATCH($D62,'COUNTRY BENCHMARK'!A:A,0)),\"\"),\"\")","v":""},null,"",{"$f":"IF(COUNTA(D62:E62)=2,IFERROR(INDEX('COUNTRY BENCHMARK'!C:C,MATCH($D62,'COUNTRY BENCHMARK'!A:A,0)),\"\"),\"\")","v":""},null,"",{"$f":"IF(COUNTA(D62:E62)=2,IF($M$3=\"national IHDI\",IFERROR(INDEX('COUNTRY BENCHMARK'!D:D,MATCH($D62,'COUNTRY BENCHMARK'!A:A,0)),\"\"),IFERROR(INDEX('COUNTRY BENCHMARK'!E:E,MATCH($D62,'COUNTRY BENCHMARK'!A:A,0)),\"\")),\"\")","v":""},{"$f":"IFERROR(INDEX('COUNTRY BENCHMARK'!D:D,MATCH($D62,'COUNTRY BENCHMARK'!A:A,0)),\"\")","v":""},null,"",{"$f":"IF(COUNTA(D62:E62)=2,IFERROR(INDEX('COUNTRY BENCHMARK'!F:F,MATCH($D62,'COUNTRY BENCHMARK'!A:A,0)),\"\"),\"\")","v":""}]
[null,"Country 38","\"",null,null,"",null,"",{"$f":"IF(COUNTA(D63:E63)=2,IFERROR(INDEX('COUNTRY BENCHMARK'!B:B,MATCH($D63,'COUNTRY BENCHMARK'!A:A,0)),\"\"),\"\")","v":""},null,"",{"$f":"IF(COUNTA(D63:E63)=2,IFERROR(INDEX('COUNTRY BENCHMARK'!C:C,MATCH($D63,'COUNTRY BENCHMARK'!A:A,0)),\"\"),\"\")","v":""},null,"",{"$f":"IF(COUNTA(D63:E63)=2,IF($M$3=\"national IHDI\",IFERROR(INDEX('COUNTRY BENCHMARK'!D:D,MATCH($D63,'COUNTRY BENCHMARK'!A:A,0)),\"\"),IFERROR(INDEX('COUNTRY BENCHMARK'!E:E,MATCH($D63,'COUNTRY BENCHMARK'!A:A,0)),\"\")),\"\")","v":""},{"$f":"IFERROR(INDEX('COUNTRY BENCHMARK'!D:D,MATCH($D63,'COUNTRY BENCHMARK'!A:A,0)),\"\")","v":""},null,"",{"$f":"IF(COUNTA(D63:E63)=2,IFERROR(INDEX('COUNTRY BENCHMARK'!F:F,MATCH($D63,'COUNTRY BENCHMARK'!A:A,0)),\"\"),\"\")","v":""}]
[null,"Country 39","\"",null,null,"",null,"",{"$f":"IF(COUNTA(D64:E64)=2,IFERROR(INDEX('COUNTRY BENCHMARK'!B:B,MATCH($D64,'COUNTRY BENCHMARK'!A:A,0)),\"\"),\"\")","v":""},null,"",{"$f":"IF(COUNTA(D64:E64)=2,IFERROR(INDEX('COUNTRY BENCHMARK'!C:C,MATCH($D64,'COUNTRY BENCHMARK'!A:A,0)),\"\"),\"\")","v":""},null,"",{"$f":"IF(COUNTA(D64:E64)=2,IF($M$3=\"national IHDI\",IFERROR(INDEX('COUNTRY BENCHMARK'!D:D,MATCH($D64,'COUNTRY BENCHMARK'!A:A,0)),\"\"),IFERROR(INDEX('COUNTRY BENCHMARK'!E:E,MATCH($D64,'COUNTRY BENCHMARK'!A:A,0)),\"\")),\"\")","v":""},{"$f":"IFERROR(INDEX('COUNTRY BENCHMARK'!D:D,MATCH($D64,'COUNTRY BENCHMARK'!A:A,0)),\"\")","v":""},null,"",{"$f":"IF(COUNTA(D64:E64)=2,IFERROR(INDEX('COUNTRY BENCHMARK'!F:F,MATCH($D64,'COUNTRY BENCHMARK'!A:A,0)),\"\"),\"\")","v":""}]
[null,"Country 40","\"",null,null,"",null,"",{"$f":"IF(COUNTA(D65:E65)=2,IFERROR(INDEX('COUNTRY BENCHMARK'!B:B,MATCH($D65,'COUNTRY BENCHMARK'!A:A,0)),\"\"),\"\")","v":""},null,"",{"$f":"IF(COUNTA(D65:E65)=2,IFERROR(INDEX('COUNTRY BENCHMARK'!C:C,MATCH($D65,'COUNTRY BENCHMARK'!A:A,0)),\"\"),\"\")","v":""},null,"",{"$f":"IF(COUNTA(D65:E65)=2,IF($M$3=\"national IHDI\",IFERROR(INDEX('COUNTRY BENCHMARK'!D:D,MATCH($D65,'COUNTRY BENCHMARK'!A:A,0)),\"\"),IFERROR(INDEX('COUNTRY BENCHMARK'!E:E,MATCH($D65,'COUNTRY BENCHMARK'!A:A,0)),\"\")),\"\")","v":""},{"$f":"IFERROR(INDEX('COUNTRY BENCHMARK'!D:D,MATCH($D65,'COUNTRY BENCHMARK'!A:A,0)),\"\")","v":""},null,"",{"$f":"IF(COUNTA(D65:E65)=2,IFERROR(INDEX('COUNTRY BENCHMARK'!F:F,MATCH($D65,'COUNTRY BENCHMARK'!A:A,0)),\"\"),\"\")","v":""}]
[]
[null,"IMPACT POTENTIAL"]
[]
["Mitigation","I - Contribution to the shift to low-emission sustainable development pathways"]
[null,"Mitigation impact"]
[null,"Total emissions reductions","Insert total tCO2e expected to be reduced or avoided by project activities"]
[null,"Annual emissions reductions","Insert annual tCO2e expected to be reduced or avoided by project activities"]
[null,"Question 1","Is a robust estimate of baseline emissions (i.e. the avoided emissions, or counterfactual emissions trajectory that would be expected to occur in the absence of the project) provided? "]
[null,"Question 1.1","Estimate of baseline emissions / avoided emissions is provided"]
[null,"Question 1.2","Estimate is based on best practices, protocols or methodologies (e.g. IPCC, CDM)"]
[null,"Question 1.3","Evidence/literature is provided which backs up a realistic and credible baseline scenario involving similar output/services (e.g. cement, electricity) in quality/properties, and application areas, which are currently implemented or expected to be introduced"]
[null,"Question 2","Is a robust estimate of the amount CO2e emitted by the project provided (this includes emissions generated and induced by the project e.g. emissions from the use of efficient electric equipment, emissions from construction of power plant, emissions from operations, emissions generated elsewhere due to leakage)? "]
[null,"Question 2.1","Estimate of the amount of CO2e emitted by the project, or a rationale for the exclusion of this assessment is provided"]
[null,"Question 2.2","…the above follows the guidelines of reliable best practices, protocols or methodologies (e.g. IPCC, CDM)"]
[null,"Question 2.3","Rebound effect is estimated, or a rationale for its exclusion is provided"]
[null,"Question 2.4","Carbon leakage is estimated, or a rationale for its exclusion is provided"]
[null,"Question 3","Does the FP include a monitoring plan to measure and demonstrate achieved emissions reductions ex-post?"]
[]
["Adaptation","II - Contribution to increased climate-resilient sustainable development for most vulnerable people and communities"]
[null,"Adaptation impact"]
[null,"Total number of beneficiaries","Insert expected total number of beneficiaries"]
[null,"Question 1","Does the proposed project or program clearly set out its climate-change vulnerability context (i.e. the specific risks and vulnerabilities under current and future conditions of climate change that the project or program aims to address)?"]
[null,"Question 1.1","Climate vulnerability context considers observed historic climate trends and  expected future climate change"]
[null,"Question 1.2","Climate vulnerability context uses geographic and temporal scales which are appropriate for the project considering both slow-onset climate-related hazards  and rapid-onset climate-related hazards "]
[null,"Question 1.3","Impact of climate hazards to the target geography is demonstrated / quantified (in terms of loss of lives, or value of physical assets livelihoods, value of social and cultural assets)"]
[null,"Question 2","Does the proposed project or program articulate a clear causality link between specific activities and its objective of reducing vulnerability to climate change? "]
[null,"Question 2.1","The proposed project or program makes an explicit statement of its intent to reduce climate vulnerability "]
[null,"Question 2.2","The proposed project provides a clear description of the causality link between specific activities and adjustments needed to reduce climate vulnerability for targeted beneficiaries"]
[null,"Question 2.3","These links are demonstrated / quantified using reliable data and evidence"]
[null,"Question 3","Does the FP include a monitoring plan to measure and demonstrate achieved adaptation targets ex-post?"]
[]
[null,"PARADIGM SHIFT"]
[]
["All","I - Innovation"]
[null,"Innovation checklist"]
[null,"Question 1","Based on the evidence provided in the FP, and/or at the best of your knowledge, does the proposed project/program introduce a technical innovation (new unproven technologies, new processes, new modal shifts) that did not previously exist in the region/market of reference? Does the proposed technical innovation address impact needs (mitigation or if applicable adaptation) that can’t be met, or are less effectively met, by alternative available options in the target region/market?"]
[null,"Question 1.1","The technical innovation claimed  / supported by the FP has been observed at scale, namely been implemented, adopted or made available at market rates to potential users in the target region/market"]
[null,"Question 1.2","The technical innovation claimed  / supported by the FP has been piloted or tested in the target region/market (or at least one pilot exists)"]
[null,"Question 1.3",{"$f":"IF(OR(D102=\"YES\",D103=\"YES\"),\"For HOW LONG has the technical innovation claimed  / supported by the FP been \"&IF(D102=\"YES\",\"OBSERVED at SCALE in the target region/market?\",\"PILOTED or TESTED in the target region/market?\"),\"Not Applicable\")","v":"Not Applicable"}]
[null,"Question 1.4","The technical innovation claimed / supported by the FP addresses impact needs (mitigation or if applicable adaptation) that can be addressed by alternative available options in the target region/market"]
[null,"Question 2","Based on the evidence provided in the FP, and/or at the best of your knowledge, does the proposed project/program introduce a business innovation (new business models, financial instruments, organizational processes) that did not previously exist in the market/region of reference? Does the proposed business innovation address barriers that can’t be met, or are less effectively met, by alternative available options at similar costs in the target region?"]
[null,"Question 2.1","The business innovation claimed  / supported by the FP has been observed at scale, namely been implemented, adopted or made available at market rates to potential users in the target region/market"]
[null,"Question 2.2","The business innovation claimed / supported by the FP has been piloted or tested in the target region/market (or at least one pilot exists, including pilots run by other entities)"]
[null,"Question 2.3",{"$f":"IF(OR(D107=\"YES\",D108=\"YES\"),\"For HOW LONG has the business innovation claimed / supported by the FP been \"&IF(D107=\"YES\",\"OBSERVED at SCALE in the target region/market?\",\"PILOTED or TESTED in the target region/market?\"),\"Not Applicable\")","v":"Not Applicable"}]
[null,"Question 2.4","The business innovation claimed / supported by the FP addresses barriers that can be addressed by alternative available options in the target region/market","Data entry to be covered subsequently under \"needs of the recipient\""]
[]
["All","II - Potential for expanding the scale and impact of the proposed programme or project (scalability)"]
[null,"Scalability score"]
[null,"Question 1","Does the proposed project or program explicitly identify target sectors for scaling up? "]
[null,"Question 2","Does the proposed project or program provide evidence of the existence of market demand for sectors targeted for scaling up from existing studies / surveys / literature? "]
[null,"Question 3","Does the proposed project provide an estimate of the size of the target market to be scaled up (in size of investment or size of activity)?"]
[null,"Question 3.1","The proposed project or program provides an estimate of the target market at scale (in size of investment or size of activity) and a timeframe for it (e.g. short, medium and long-term)"]
[null,"Question 3.2","Estimate provided includes a rationale demonstrating the significance of such scale in the context of reference (sector/investor)"]
[null,"Question 3.3","Estimates of both scale and its significance are both backed by evidence (existing studies, data, literature)"]
[null,"Question 4","Does the proposed project or program clearly set out the short, medium and long-term changes, during or after project implementation, to expand its scope and impact without increasing its costs? "]
[null,"Question 4.1","The proposed project or program sets out changes necessary to expand its scope and impact"]
[null,"Question 4.2","The proposed project provides details on short, medium and long-term milestones  to achieve that "]
[null,"Question 4.3","The proposed project provides evidence of being able to do so without increasing its costs."]
[]
["All","III - Contribution to the creation or strengthening of knowledge, collective learning processes, or institutions"]
[null,"Creation and diffusion of knowledge"]
[null,"Question 1","Does the proposed project or program  provide evidence of improving/advancing the general technical understanding  in a field relevant to the proposed intervention? "]
[null,"Question 2","Does the proposed project or program include mechanisms to strengthen cooperation between partner organizations responsible for implementing the activities of the proposed project or program?"]
[null,"Question 3","Does the proposed project or program clearly set out learning exchanges or institutional knowledge  sharing activities between organizations partnering in the project and beyond? "]
[null,"Question 3.1","The proposed project or program provides a description of the learning exchanges between partner organizations and other entities"]
[null,"Question 3.2","Roles and responsibilities and implementation modalities are clearly defined"]
[null,"Question 4","Does the proposed project or program include details for a plan for the monitoring and evaluation of knowledge creation/spreading? "]
[]
["All","IV - Sustainability of outcomes and results beyond completion of the intervention"]
[null,"Data entry to be covered by subcriterion 30/31 \"Financial viability in the long run\""]
[]
["All","V - Market development and transformation"]
[null,"Market creation at national, local or sectoral level."]
[null,"Question 1","Does the project or program provide evidence that skills are introduced in the job market at national, local, or sectoral levels? (e.g. with the creation of long-term training facilities, universities, etc.). "]
[null,"Question 2","Does the project or program provide evidence of the creation at national, local or sectoral level of new business activities (e.g. companies, funds, equipment suppliers, suppliers, insurers, service providers, engineering companies) previously not existing in the market? "]
[null,"Question 2.1","The proposed project or program provides evidence that the market is transformed  by expanding capacity and knowledge within existing businesses at the local, national, or sectoral level to carry out new business activities"]
[null,"Question 2.2","The proposed project or program provide evidence that additional (net) jobs are created as result of these activities."]
[null,"Question 2.4","The proposed project or program provide evidence that market is transformed with the creation of new businesses at the local, national, or sectoral level"]
[]
["All","VI - Potential for strengthened regulatory frameworks and policies to drive investment in low-emission technologies and activities, promote additional low-emission policies, improve climate planning/development"]
[null,"Contribution to mainstream and systematically promote climate change within regulatory framework and policies."]
[null,"Question 1","Does the project or program clearly describe (e.g. by defining milestones) how it will actively encourage (i.e. through awareness-raising, lobbying, campaigning, facilitating stakeholder dialogue, capacity building) regulatory entities (national and local government entities, regulatory agencies) to consider climate change, and low-carbon/climate resilient development as a priority (i.e. by achieving senior level commitment, setting targets on the issue, updating their risk management frameworks) in the strategies, policies and frameworks they are responsible for)? ","YES"]
[null,"Question 2","Does the project or program clearly describe (e.g. by defining milestones) how it will contribute (i.e. providing information on/support to identify the climate adaptation and/or mitigation measures to implement) to the enactment of legally binding provisions (i.e. financial/fiscal incentives, drafting of codes) that systemically promote investment in low-emission and/or climate-resilient development (e.g. through the integration of climate change considerations into relevant budgetary frameworks at national, subnational and sectoral levels)? "]
[null,"Question 3","Does the project or program clearly describe (e.g. by defining milestones) how it will contribute (i.e. providing information on/support to identify the climate adaptation and/or mitigation measures to implement) to increased transparency in the reporting of climate action progress (e.g. including tracking of policies or financing towards clean energy, energy efficiency, climate resilience or other climate-related activities and investments) ?"]
[null,"Question 4","Does the project actively encourage regulatory changes that would enable and facilitate the survival of the proposed activities in the long-term OR the scale up and/or replication of the proposed activities?"]
[null,"Question 5","Does the project or program clearly describe how the implementation of the legally binding provisions (climate action) will be monitored and evaluated (M&E) (transparency of the M&E process, reporting frequency)? "]
[]
[null,"SUSTAINABLE DEVELOPMENT POTENTIAL"]
[]
["All","I - Expected positive environmental impacts, including in other result areas of the Fund, and/or in line with the priorities set at the national, local or sectoral level, as appropriate"]
[null,"Extent of environmental co-benefits"]
[null,"Question 1","Does the proposed project or program provide net improvement in the quality of air (e.g. reduced air pollution), compared to the likely situation without the project?"]
[null,"Question 1.1","The dimension is relevant for/applicable to the project or program as per GCF assessment"]
[null,"Question 1.2",{"$f":"IF(D158=\"NO\",\"Not Applicable\",\"Based on information in the FP, or as per GCF assessment, the project produces NEGATIVE IMPACTS in relation to the dimension examined\")","v":"Based on information in the FP, or as per GCF assessment, the project produces NEGATIVE IMPACTS in relation to the dimension examined"}]
[null,"Question 1.3",{"$f":"IF(D158=\"NO\",\"Not Applicable\",\"Based on information in the FP, evidence/documentation is provided that a PLAN is in place to entirely offset such negative impacts\")","v":"Based on information in the FP, evidence/documentation is provided that a PLAN is in place to entirely offset such negative impacts"}]
[null,"Question 1.4",{"$f":"IF(D158=\"NO\",\"Not Applicable\",\"The proposed project or program provides a DESCRIPTION of long-term NET POSITIVE impacts in the dimension examined\")","v":"The proposed project or program provides a DESCRIPTION of long-term NET POSITIVE impacts in the dimension examined"}]
[null,"Question 1.5",{"$f":"IF(D158=\"NO\",\"Not Applicable\",\"Based on information in the FP, or as per GCF assessment, net positive impacts can be considered SIGNIFICANT and ALIGNED with priorities at the national, local or sectoral level\")","v":"Based on information in the FP, or as per GCF assessment, net positive impacts can be considered SIGNIFICANT and ALIGNED with priorities at the national, local or sectoral level"}]
[null,"Question 1.6",{"$f":"IF(D158=\"NO\",\"Not Applicable\",\"Potential net positive impacts are ESTIMATED using peer-reviewed METHODOLOGIES as a frame of reference and the COUNTERFACTUAL / BASELINE is supported by EVIDENCE / DOCUMENTATION\")","v":"Potential net positive impacts are ESTIMATED using peer-reviewed METHODOLOGIES as a frame of reference and the COUNTERFACTUAL / BASELINE is supported by EVIDENCE / DOCUMENTATION"}]
[null,"Question 1.7",{"$f":"IF(D158=\"NO\",\"Not Applicable\",\"The FP includes a MONITORING PLAN to measure and demonstrate net positive impacts ex-post\")","v":"The FP includes a MONITORING PLAN to measure and demonstrate net positive impacts ex-post"}]
[null,"Question 2","Does the proposed project or program provide net improvement in the quality of water (e.g. reduced water pollution/contamination), compared to the likely situation without the project?  "]
[null,"Question 2.1","The dimension is relevant for/applicable to the project or program as per GCF assessment"]
[null,"Question 2.2",{"$f":"IF(D166=\"NO\",\"Not Applicable\",\"Based on information in the FP, or as per GCF assessment, the project produces NEGATIVE IMPACTS in relation to the dimension examined\")","v":"Based on information in the FP, or as per GCF assessment, the project produces NEGATIVE IMPACTS in relation to the dimension examined"}]
[null,"Question 2.3",{"$f":"IF(D166=\"NO\",\"Not Applicable\",\"Based on information in the FP, evidence/documentation is provided that a PLAN is in place to entirely offset such negative impacts\")","v":"Based on information in the FP, evidence/documentation is provided that a PLAN is in place to entirely offset such negative impacts"}]
[null,"Question 2.4",{"$f":"IF(D166=\"NO\",\"Not Applicable\",\"The proposed project or program provides a DESCRIPTION of long-term NET POSITIVE impacts in the dimension examined\")","v":"The proposed project or program provides a DESCRIPTION of long-term NET POSITIVE impacts in the dimension examined"}]
[null,"Question 2.5",{"$f":"IF(D166=\"NO\",\"Not Applicable\",\"Based on information in the FP, or as per GCF assessment, net positive impacts can be considered SIGNIFICANT and ALIGNED with priorities at the national, local or sectoral level\")","v":"Based on information in the FP, or as per GCF assessment, net positive impacts can be considered SIGNIFICANT and ALIGNED with priorities at the national, local or sectoral level"}]
[null,"Question 2.6",{"$f":"IF(D166=\"NO\",\"Not Applicable\",\"Potential net positive impacts are ESTIMATED using peer-reviewed METHODOLOGIES as a frame of reference and the COUNTERFACTUAL / BASELINE is supported by EVIDENCE / DOCUMENTATION\")","v":"Potential net positive impacts are ESTIMATED using peer-reviewed METHODOLOGIES as a frame of reference and the COUNTERFACTUAL / BASELINE is supported by EVIDENCE / DOCUMENTATION"}]
[null,"Question 2.7",{"$f":"IF(D166=\"NO\",\"Not Applicable\",\"The FP includes a MONITORING PLAN to measure and demonstrate net positive impacts ex-post\")","v":"The FP includes a MONITORING PLAN to measure and demonstrate net positive impacts ex-post"}]
[null,"Question 3","Does the proposed project or program provide net improvement in the quality of land (e.g. reduced land pollution), compared to the likely situation without the project?"]
[null,"Question 3.1","The dimension is relevant for/applicable to the project or program as per GCF assessment"]
[null,"Question 3.2",{"$f":"IF(D174=\"NO\",\"Not Applicable\",\"Based on information in the FP, or as per GCF assessment, the project produces NEGATIVE IMPACTS in relation to the dimension examined\")","v":"Based on information in the FP, or as per GCF assessment, the project produces NEGATIVE IMPACTS in relation to the dimension examined"}]
[null,"Question 3.3",{"$f":"IF(D174=\"NO\",\"Not Applicable\",\"Based on information in the FP, evidence/documentation is provided that a PLAN is in place to entirely offset such negative impacts\")","v":"Based on information in the FP, evidence/documentation is provided that a PLAN is in place to entirely offset such negative impacts"}]
[null,"Question 3.4",{"$f":"IF(D174=\"NO\",\"Not Applicable\",\"The proposed project or program provides a DESCRIPTION of long-term NET POSITIVE impacts in the dimension examined\")","v":"The proposed project or program provides a DESCRIPTION of long-term NET POSITIVE impacts in the dimension examined"}]
[null,"Question 3.5",{"$f":"IF(D174=\"NO\",\"Not Applicable\",\"Based on information in the FP, or as per GCF assessment, net positive impacts can be considered SIGNIFICANT and ALIGNED with priorities at the national, local or sectoral level\")","v":"Based on information in the FP, or as per GCF assessment, net positive impacts can be considered SIGNIFICANT and ALIGNED with priorities at the national, local or sectoral level"}]
[null,"Question 3.6",{"$f":"IF(D174=\"NO\",\"Not Applicable\",\"Potential net positive impacts are ESTIMATED using peer-reviewed METHODOLOGIES as a frame of reference and the COUNTERFACTUAL / BASELINE is supported by EVIDENCE / DOCUMENTATION\")","v":"Potential net positive impacts are ESTIMATED using peer-reviewed METHODOLOGIES as a frame of reference and the COUNTERFACTUAL / BASELINE is supported by EVIDENCE / DOCUMENTATION"}]
[null,"Question 3.7",{"$f":"IF(D174=\"NO\",\"Not Applicable\",\"The FP includes a MONITORING PLAN to measure and demonstrate net positive impacts ex-post\")","v":"The FP includes a MONITORING PLAN to measure and demonstrate net positive impacts ex-post"}]
[null,"Question 4","Does the proposed project or program provide net improvement in the efficient and sustainable use of living natural resources and/or ecosystem services, compared to the likely situation without the project?"]
[null,"Question 4.1","The dimension is relevant for/applicable to the project or program as per GCF assessment"]
[null,"Question 4.2",{"$f":"IF(D182=\"NO\",\"Not Applicable\",\"Based on information in the FP, or as per GCF assessment, the project produces NEGATIVE IMPACTS in relation to the dimension examined\")","v":"Based on information in the FP, or as per GCF assessment, the project produces NEGATIVE IMPACTS in relation to the dimension examined"}]
[null,"Question 4.3",{"$f":"IF(D182=\"NO\",\"Not Applicable\",\"Based on information in the FP, evidence/documentation is provided that a PLAN is in place to entirely offset such negative impacts\")","v":"Based on information in the FP, evidence/documentation is provided that a PLAN is in place to entirely offset such negative impacts"}]
[null,"Question 4.4",{"$f":"IF(D182=\"NO\",\"Not Applicable\",\"The proposed project or program provides a DESCRIPTION of long-term NET POSITIVE impacts in the dimension examined\")","v":"The proposed project or program provides a DESCRIPTION of long-term NET POSITIVE impacts in the dimension examined"}]
[null,"Question 4.5",{"$f":"IF(D182=\"NO\",\"Not Applicable\",\"Based on information in the FP, or as per GCF assessment, net positive impacts can be considered SIGNIFICANT and ALIGNED with priorities at the national, local or sectoral level\")","v":"Based on information in the FP, or as per GCF assessment, net positive impacts can be considered SIGNIFICANT and ALIGNED with priorities at the national, local or sectoral level"}]
[null,"Question 4.6",{"$f":"IF(D182=\"NO\",\"Not Applicable\",\"Potential net positive impacts are ESTIMATED using peer-reviewed METHODOLOGIES as a frame of reference and the COUNTERFACTUAL / BASELINE is supported by EVIDENCE / DOCUMENTATION\")","v":"Potential net positive impacts are ESTIMATED using peer-reviewed METHODOLOGIES as a frame of reference and the COUNTERFACTUAL / BASELINE is supported by EVIDENCE / DOCUMENTATION"}]
[null,"Question 4.7",{"$f":"IF(D182=\"NO\",\"Not Applicable\",\"The FP includes a MONITORING PLAN to measure and demonstrate net positive impacts ex-post\")","v":"The FP includes a MONITORING PLAN to measure and demonstrate net positive impacts ex-post"}]
[null,"Question 5","Does the proposed project or program provide net improvement in biodiversity, compared to the likely situation without the project? "]
[null,"Question 5.1","The dimension is relevant for/applicable to the project or program as per GCF assessment"]
[null,"Question 5.2",{"$f":"IF(D190=\"NO\",\"Not Applicable\",\"Based on information in the FP, or as per GCF assessment, the project produces NEGATIVE IMPACTS in relation to the dimension examined\")","v":"Based on information in the FP, or as per GCF assessment, the project produces NEGATIVE IMPACTS in relation to the dimension examined"}]
[null,"Question 5.3",{"$f":"IF(D190=\"NO\",\"Not Applicable\",\"Based on information in the FP, evidence/documentation is provided that a PLAN is in place to entirely offset such negative impacts\")","v":"Based on information in the FP, evidence/documentation is provided that a PLAN is in place to entirely offset such negative impacts"}]
[null,"Question 5.4",{"$f":"IF(D190=\"NO\",\"Not Applicable\",\"The proposed project or program provides a DESCRIPTION of long-term NET POSITIVE impacts in the dimension examined\")","v":"The proposed project or program provides a DESCRIPTION of long-term NET POSITIVE impacts in the dimension examined"}]
[null,"Question 5.5",{"$f":"IF(D190=\"NO\",\"Not Applicable\",\"Based on information in the FP, or as per GCF assessment, net positive impacts can be considered SIGNIFICANT and ALIGNED with priorities at the national, local or sectoral level\")","v":"Based on information in the FP, or as per GCF assessment, net positive impacts can be considered SIGNIFICANT and ALIGNED with priorities at the national, local or sectoral level"}]
[null,"Question 5.6",{"$f":"IF(D190=\"NO\",\"Not Applicable\",\"Potential net positive impacts are ESTIMATED using peer-reviewed METHODOLOGIES as a frame of reference and the COUNTERFACTUAL / BASELINE is supported by EVIDENCE / DOCUMENTATION\")","v":"Potential net positive impacts are ESTIMATED using peer-reviewed METHODOLOGIES as a frame of reference and the COUNTERFACTUAL / BASELINE is supported by EVIDENCE / DOCUMENTATION"}]
[null,"Question 5.7",{"$f":"IF(D190=\"NO\",\"Not Applicable\",\"The FP includes a MONITORING PLAN to measure and demonstrate net positive impacts ex-post\")","v":"The FP includes a MONITORING PLAN to measure and demonstrate net positive impacts ex-post"}]
[]
["All","II - Expected positive social and health impacts, including in other result areas of the Fund, and/or in line with the priorities set at the national, local or sectoral level, as appropriate"]
[null,"Extent of social and health co-benefits"]
[null,"Question 1","Does the proposed project or program provide a net positive impact on health, safety and security (including disease prevention, reducing accidents, reducing crime, preserving food, reducing health damaging indoor air pollution, enhancing health services, improving sanitation and waste management and other health and safety improvement), compared to the likely situation without the project?"]
[null,"Question 1.1","The dimension is relevant for/applicable to the project or program as per GCF assessment"]
[null,"Question 1.2",{"$f":"IF(D201=\"NO\",\"Not Applicable\",\"Based on information in the FP, or as per GCF assessment, the project produces NEGATIVE IMPACTS in relation to the dimension examined\")","v":"Based on information in the FP, or as per GCF assessment, the project produces NEGATIVE IMPACTS in relation to the dimension examined"}]
[null,"Question 1.3",{"$f":"IF(D201=\"NO\",\"Not Applicable\",\"Based on information in the FP, evidence/documentation is provided that a PLAN is in place to entirely offset such negative impacts\")","v":"Based on information in the FP, evidence/documentation is provided that a PLAN is in place to entirely offset such negative impacts"}]
[null,"Question 1.4",{"$f":"IF(D201=\"NO\",\"Not Applicable\",\"The proposed project or program provides a DESCRIPTION of long-term NET POSITIVE impacts in the dimension examined\")","v":"The proposed project or program provides a DESCRIPTION of long-term NET POSITIVE impacts in the dimension examined"}]
[null,"Question 1.5",{"$f":"IF(D201=\"NO\",\"Not Applicable\",\"Based on information in the FP, or as per GCF assessment, net positive impacts can be considered SIGNIFICANT and ALIGNED with priorities at the national, local or sectoral level\")","v":"Based on information in the FP, or as per GCF assessment, net positive impacts can be considered SIGNIFICANT and ALIGNED with priorities at the national, local or sectoral level"}]
[null,"Question 1.6",{"$f":"IF(D201=\"NO\",\"Not Applicable\",\"Potential net positive impacts are ESTIMATED using peer-reviewed METHODOLOGIES as a frame of reference and the COUNTERFACTUAL / BASELINE is supported by EVIDENCE / DOCUMENTATION\")","v":"Potential net positive impacts are ESTIMATED using peer-reviewed METHODOLOGIES as a frame of reference and the COUNTERFACTUAL / BASELINE is supported by EVIDENCE / DOCUMENTATION"}]
[null,"Question 1.7",{"$f":"IF(D201=\"NO\",\"Not Applicable\",\"The FP includes a MONITORING PLAN to measure and demonstrate net positive impacts ex-post\")","v":"The FP includes a MONITORING PLAN to measure and demonstrate net positive impacts ex-post"}]
[null,"Question 2","Does the proposed project or program provide net positive impacts on communities facing land acquisition and involuntary resettlement (including avoiding expropriation or negotiated resettlement, improving land rights and land use rights, improving access to traditional natural resources and communal property, appropriate compensation, concerted resettlement plan), compared to the likely situation without the project?"]
[null,"Question 2.1","The dimension is relevant for/applicable to the project or program as per GCF assessment"]
[null,"Question 2.2",{"$f":"IF(D209=\"NO\",\"Not Applicable\",\"Based on information in the FP, or as per GCF assessment, the project produces NEGATIVE IMPACTS in relation to the dimension examined\")","v":"Based on information in the FP, or as per GCF assessment, the project produces NEGATIVE IMPACTS in relation to the dimension examined"}]
[null,"Question 2.3",{"$f":"IF(D209=\"NO\",\"Not Applicable\",\"Based on information in the FP, evidence/documentation is provided that a PLAN is in place to entirely offset such negative impacts\")","v":"Based on information in the FP, evidence/documentation is provided that a PLAN is in place to entirely offset such negative impacts"}]
[null,"Question 2.4",{"$f":"IF(D209=\"NO\",\"Not Applicable\",\"The proposed project or program provides a DESCRIPTION of long-term NET POSITIVE impacts in the dimension examined\")","v":"The proposed project or program provides a DESCRIPTION of long-term NET POSITIVE impacts in the dimension examined"}]
[null,"Question 2.5",{"$f":"IF(D209=\"NO\",\"Not Applicable\",\"Based on information in the FP, or as per GCF assessment, net positive impacts can be considered SIGNIFICANT and ALIGNED with priorities at the national, local or sectoral level\")","v":"Based on information in the FP, or as per GCF assessment, net positive impacts can be considered SIGNIFICANT and ALIGNED with priorities at the national, local or sectoral level"}]
[null,"Question 2.6",{"$f":"IF(D209=\"NO\",\"Not Applicable\",\"Potential net positive impacts are ESTIMATED using peer-reviewed METHODOLOGIES as a frame of reference and the COUNTERFACTUAL / BASELINE is supported by EVIDENCE / DOCUMENTATION\")","v":"Potential net positive impacts are ESTIMATED using peer-reviewed METHODOLOGIES as a frame of reference and the COUNTERFACTUAL / BASELINE is supported by EVIDENCE / DOCUMENTATION"}]
[null,"Question 2.7",{"$f":"IF(D209=\"NO\",\"Not Applicable\",\"The FP includes a MONITORING PLAN to measure and demonstrate net positive impacts ex-post\")","v":"The FP includes a MONITORING PLAN to measure and demonstrate net positive impacts ex-post"}]
[null,"Question 3","Does the proposed project or program provide net positive impacts on indigenous peoples, or improved conservation of and/or access to cultural heritage (including preservation of lands occupied by indigenous groups /cultural sites and the protection of national/regional cultural/knowledge-related practice), compared to the likely situation without the project?"]
[null,"Question 3.1","The dimension is relevant for/applicable to the project or program as per GCF assessment"]
[null,"Question 3.2",{"$f":"IF(D217=\"NO\",\"Not Applicable\",\"Based on information in the FP, or as per GCF assessment, the project produces NEGATIVE IMPACTS in relation to the dimension examined\")","v":"Based on information in the FP, or as per GCF assessment, the project produces NEGATIVE IMPACTS in relation to the dimension examined"}]
[null,"Question 3.3",{"$f":"IF(D217=\"NO\",\"Not Applicable\",\"Based on information in the FP, evidence/documentation is provided that a PLAN is in place to entirely offset such negative impacts\")","v":"Based on information in the FP, evidence/documentation is provided that a PLAN is in place to entirely offset such negative impacts"}]
[null,"Question 3.4",{"$f":"IF(D217=\"NO\",\"Not Applicable\",\"The proposed project or program provides a DESCRIPTION of long-term NET POSITIVE impacts in the dimension examined\")","v":"The proposed project or program provides a DESCRIPTION of long-term NET POSITIVE impacts in the dimension examined"}]
[null,"Question 3.5",{"$f":"IF(D217=\"NO\",\"Not Applicable\",\"Based on information in the FP, or as per GCF assessment, net positive impacts can be considered SIGNIFICANT and ALIGNED with priorities at the national, local or sectoral level\")","v":"Based on information in the FP, or as per GCF assessment, net positive impacts can be considered SIGNIFICANT and ALIGNED with priorities at the national, local or sectoral level"}]
[null,"Question 3.6",{"$f":"IF(D217=\"NO\",\"Not Applicable\",\"Potential net positive impacts are ESTIMATED using peer-reviewed METHODOLOGIES as a frame of reference and the COUNTERFACTUAL / BASELINE is supported by EVIDENCE / DOCUMENTATION\")","v":"Potential net positive impacts are ESTIMATED using peer-reviewed METHODOLOGIES as a frame of reference and the COUNTERFACTUAL / BASELINE is supported by EVIDENCE / DOCUMENTATION"}]
[null,"Question 3.7",{"$f":"IF(D217=\"NO\",\"Not Applicable\",\"The FP includes a MONITORING PLAN to measure and demonstrate net positive impacts ex-post\")","v":"The FP includes a MONITORING PLAN to measure and demonstrate net positive impacts ex-post"}]
[null,"Question 4","Does the proposed project or program provide net improved access to education (enhanced educational services, and other educational benefits), compared to the likely situation without the project?"]
[null,"Question 4.1","The dimension is relevant for/applicable to the project or program as per GCF assessment"]
[null,"Question 4.2",{"$f":"IF(D225=\"NO\",\"Not Applicable\",\"Based on information in the FP, or as per GCF assessment, the project produces NEGATIVE IMPACTS in relation to the dimension examined\")","v":"Based on information in the FP, or as per GCF assessment, the project produces NEGATIVE IMPACTS in relation to the dimension examined"}]
[null,"Question 4.3",{"$f":"IF(D225=\"NO\",\"Not Applicable\",\"Based on information in the FP, evidence/documentation is provided that a PLAN is in place to entirely offset such negative impacts\")","v":"Based on information in the FP, evidence/documentation is provided that a PLAN is in place to entirely offset such negative impacts"}]
[null,"Question 4.4",{"$f":"IF(D225=\"NO\",\"Not Applicable\",\"The proposed project or program provides a DESCRIPTION of long-term NET POSITIVE impacts in the dimension examined\")","v":"The proposed project or program provides a DESCRIPTION of long-term NET POSITIVE impacts in the dimension examined"}]
[null,"Question 4.5",{"$f":"IF(D225=\"NO\",\"Not Applicable\",\"Based on information in the FP, or as per GCF assessment, net positive impacts can be considered SIGNIFICANT and ALIGNED with priorities at the national, local or sectoral level\")","v":"Based on information in the FP, or as per GCF assessment, net positive impacts can be considered SIGNIFICANT and ALIGNED with priorities at the national, local or sectoral level"}]
[null,"Question 4.6",{"$f":"IF(D225=\"NO\",\"Not Applicable\",\"Potential net positive impacts are ESTIMATED using peer-reviewed METHODOLOGIES as a frame of reference and the COUNTERFACTUAL / BASELINE is supported by EVIDENCE / DOCUMENTATION\")","v":"Potential net positive impacts are ESTIMATED using peer-reviewed METHODOLOGIES as a frame of reference and the COUNTERFACTUAL / BASELINE is supported by EVIDENCE / DOCUMENTATION"}]
[null,"Question 4.7",{"$f":"IF(D225=\"NO\",\"Not Applicable\",\"The FP includes a MONITORING PLAN to measure and demonstrate net positive impacts ex-post\")","v":"The FP includes a MONITORING PLAN to measure and demonstrate net positive impacts ex-post"}]
[]
["All","III - Expected positive economic impacts, including in other result areas of the Fund, and/or in line with the priorities set at the national, local or sectoral level, as appropriate"]
[null,"Extent of economic co-benefits"]
[null,"Question 1","Does the proposed project or program create net income improvement for the target geographies (e.g. through job creation, profit generation, avoided costs), compared to the likely situation without the project? "]
[null,"Question 1.1","The dimension is relevant for/applicable to the project or program as per GCF assessment"]
[null,"Question 1.2",{"$f":"IF(D236=\"NO\",\"Not Applicable\",\"Based on information in the FP, or as per GCF assessment, the project produces NEGATIVE IMPACTS in relation to the dimension examined\")","v":"Based on information in the FP, or as per GCF assessment, the project produces NEGATIVE IMPACTS in relation to the dimension examined"}]
[null,"Question 1.3",{"$f":"IF(D236=\"NO\",\"Not Applicable\",\"Based on information in the FP, evidence/documentation is provided that a PLAN is in place to entirely offset such negative impacts\")","v":"Based on information in the FP, evidence/documentation is provided that a PLAN is in place to entirely offset such negative impacts"}]
[null,"Question 1.4",{"$f":"IF(D236=\"NO\",\"Not Applicable\",\"The proposed project or program provides a DESCRIPTION of long-term NET POSITIVE impacts in the dimension examined\")","v":"The proposed project or program provides a DESCRIPTION of long-term NET POSITIVE impacts in the dimension examined"}]
[null,"Question 1.5",{"$f":"IF(D236=\"NO\",\"Not Applicable\",\"Based on information in the FP, or as per GCF assessment, net positive impacts can be considered SIGNIFICANT and ALIGNED with priorities at the national, local or sectoral level\")","v":"Based on information in the FP, or as per GCF assessment, net positive impacts can be considered SIGNIFICANT and ALIGNED with priorities at the national, local or sectoral level"}]
[null,"Question 1.6",{"$f":"IF(D236=\"NO\",\"Not Applicable\",\"Potential net positive impacts are ESTIMATED using peer-reviewed METHODOLOGIES as a frame of reference and the COUNTERFACTUAL / BASELINE is supported by EVIDENCE / DOCUMENTATION\")","v":"Potential net positive impacts are ESTIMATED using peer-reviewed METHODOLOGIES as a frame of reference and the COUNTERFACTUAL / BASELINE is supported by EVIDENCE / DOCUMENTATION"}]
[null,"Question 1.7",{"$f":"IF(D236=\"NO\",\"Not Applicable\",\"The FP includes a MONITORING PLAN to measure and demonstrate net positive impacts ex-post\")","v":"The FP includes a MONITORING PLAN to measure and demonstrate net positive impacts ex-post"}]
[null,"Question 2","Does the proposed project or program contribute to poverty alleviation (e.g. decrease in the number of people below the poverty treshold for target countries), compared to the likely situation without the project? "]
[null,"Question 2.1","The dimension is relevant for/applicable to the project or program as per GCF assessment"]
[null,"Question 2.2",{"$f":"IF(D244=\"NO\",\"Not Applicable\",\"Based on information in the FP, or as per GCF assessment, the project produces NEGATIVE IMPACTS in relation to the dimension examined\")","v":"Based on information in the FP, or as per GCF assessment, the project produces NEGATIVE IMPACTS in relation to the dimension examined"}]
[null,"Question 2.3",{"$f":"IF(D244=\"NO\",\"Not Applicable\",\"Based on information in the FP, evidence/documentation is provided that a PLAN is in place to entirely offset such negative impacts\")","v":"Based on information in the FP, evidence/documentation is provided that a PLAN is in place to entirely offset such negative impacts"}]
[null,"Question 2.4",{"$f":"IF(D244=\"NO\",\"Not Applicable\",\"The proposed project or program provides a DESCRIPTION of long-term NET POSITIVE impacts in the dimension examined\")","v":"The proposed project or program provides a DESCRIPTION of long-term NET POSITIVE impacts in the dimension examined"}]
[null,"Question 2.5",{"$f":"IF(D244=\"NO\",\"Not Applicable\",\"Based on information in the FP, or as per GCF assessment, net positive impacts can be considered SIGNIFICANT and ALIGNED with priorities at the national, local or sectoral level\")","v":"Based on information in the FP, or as per GCF assessment, net positive impacts can be considered SIGNIFICANT and ALIGNED with priorities at the national, local or sectoral level"}]
[null,"Question 2.6",{"$f":"IF(D244=\"NO\",\"Not Applicable\",\"Potential net positive impacts are ESTIMATED using peer-reviewed METHODOLOGIES as a frame of reference and the COUNTERFACTUAL / BASELINE is supported by EVIDENCE / DOCUMENTATION\")","v":"Potential net positive impacts are ESTIMATED using peer-reviewed METHODOLOGIES as a frame of reference and the COUNTERFACTUAL / BASELINE is supported by EVIDENCE / DOCUMENTATION"}]
[null,"Question 2.7",{"$f":"IF(D244=\"NO\",\"Not Applicable\",\"The FP includes a MONITORING PLAN to measure and demonstrate net positive impacts ex-post\")","v":"The FP includes a MONITORING PLAN to measure and demonstrate net positive impacts ex-post"}]
[null,"Question 3","Does the proposed project or program increase availability of physical infrastructure for a wider use than strictly serving the project purposes (e.g. expansion of road network), compared to the likely situation without the project? "]
[null,"Question 3.1","The dimension is relevant for/applicable to the project or program as per GCF assessment"]
[null,"Question 3.2",{"$f":"IF(D252=\"NO\",\"Not Applicable\",\"Based on information in the FP, or as per GCF assessment, the project produces NEGATIVE IMPACTS in relation to the dimension examined\")","v":"Based on information in the FP, or as per GCF assessment, the project produces NEGATIVE IMPACTS in relation to the dimension examined"}]
[null,"Question 3.3",{"$f":"IF(D252=\"NO\",\"Not Applicable\",\"Based on information in the FP, evidence/documentation is provided that a PLAN is in place to entirely offset such negative impacts\")","v":"Based on information in the FP, evidence/documentation is provided that a PLAN is in place to entirely offset such negative impacts"}]
[null,"Question 3.4",{"$f":"IF(D252=\"NO\",\"Not Applicable\",\"The proposed project or program provides a DESCRIPTION of long-term NET POSITIVE impacts in the dimension examined\")","v":"The proposed project or program provides a DESCRIPTION of long-term NET POSITIVE impacts in the dimension examined"}]
[null,"Question 3.5",{"$f":"IF(D252=\"NO\",\"Not Applicable\",\"Based on information in the FP, or as per GCF assessment, net positive impacts can be considered SIGNIFICANT and ALIGNED with priorities at the national, local or sectoral level\")","v":"Based on information in the FP, or as per GCF assessment, net positive impacts can be considered SIGNIFICANT and ALIGNED with priorities at the national, local or sectoral level"}]
[null,"Question 3.6",{"$f":"IF(D252=\"NO\",\"Not Applicable\",\"Potential net positive impacts are ESTIMATED using peer-reviewed METHODOLOGIES as a frame of reference and the COUNTERFACTUAL / BASELINE is supported by EVIDENCE / DOCUMENTATION\")","v":"Potential net positive impacts are ESTIMATED using peer-reviewed METHODOLOGIES as a frame of reference and the COUNTERFACTUAL / BASELINE is supported by EVIDENCE / DOCUMENTATION"}]
[null,"Question 3.7",{"$f":"IF(D252=\"NO\",\"Not Applicable\",\"The FP includes a MONITORING PLAN to measure and demonstrate net positive impacts ex-post\")","v":"The FP includes a MONITORING PLAN to measure and demonstrate net positive impacts ex-post"}]
[null,"Question 4","Does the proposed project or program determine a net increase in productivity and competitive capacity for the beneficiaries (e.g. through improved resources use, access to services which increase local competitive advantage), compared to the likely situation without the project?"]
[null,"Question 4.1","The dimension is relevant for/applicable to the project or program as per GCF assessment"]
[null,"Question 4.2",{"$f":"IF(D260=\"NO\",\"Not Applicable\",\"Based on information in the FP, or as per GCF assessment, the project produces NEGATIVE IMPACTS in relation to the dimension examined\")","v":"Based on information in the FP, or as per GCF assessment, the project produces NEGATIVE IMPACTS in relation to the dimension examined"}]
[null,"Question 4.3",{"$f":"IF(D260=\"NO\",\"Not Applicable\",\"Based on information in the FP, evidence/documentation is provided that a PLAN is in place to entirely offset such negative impacts\")","v":"Based on information in the FP, evidence/documentation is provided that a PLAN is in place to entirely offset such negative impacts"}]
[null,"Question 4.4",{"$f":"IF(D260=\"NO\",\"Not Applicable\",\"The proposed project or program provides a DESCRIPTION of long-term NET POSITIVE impacts in the dimension examined\")","v":"The proposed project or program provides a DESCRIPTION of long-term NET POSITIVE impacts in the dimension examined"}]
[null,"Question 4.5",{"$f":"IF(D260=\"NO\",\"Not Applicable\",\"Based on information in the FP, or as per GCF assessment, net positive impacts can be considered SIGNIFICANT and ALIGNED with priorities at the national, local or sectoral level\")","v":"Based on information in the FP, or as per GCF assessment, net positive impacts can be considered SIGNIFICANT and ALIGNED with priorities at the national, local or sectoral level"}]
[null,"Question 4.6",{"$f":"IF(D260=\"NO\",\"Not Applicable\",\"Potential net positive impacts are ESTIMATED using peer-reviewed METHODOLOGIES as a frame of reference and the COUNTERFACTUAL / BASELINE is supported by EVIDENCE / DOCUMENTATION\")","v":"Potential net positive impacts are ESTIMATED using peer-reviewed METHODOLOGIES as a frame of reference and the COUNTERFACTUAL / BASELINE is supported by EVIDENCE / DOCUMENTATION"}]
[null,"Question 4.7",{"$f":"IF(D260=\"NO\",\"Not Applicable\",\"The FP includes a MONITORING PLAN to measure and demonstrate net positive impacts ex-post\")","v":"The FP includes a MONITORING PLAN to measure and demonstrate net positive impacts ex-post"}]
[]
["All","IV - Potential for reduced gender inequalities in climate change impacts and/or equal participation by gender groups in contributing to expected outcomes"]
[null,"Introduction of gender-responsive measures to promote gender equality or gender equity"]
[null,"Question 1","Does the proposed project or program include gender-responsive measures  that aim to address gender inequalities  in decision-making participation (including inclusion of women in decision-making governance structures at all levels from community to national-level)?"]
[null,"Question 2","Does the proposed project or program include gender-responsive measures that aim to address gender inequalities in access and control over natural resources?"]
[null,"Question 3","Does the proposed project or program include gender-sensitive measures that aim to improve women’s access to education and training (including job-related training, enhanced educational services, project-related knowledge dissemination and other educational benefits)?"]
[null,"Question 4","Does the proposed project or program include gender-responsive measures that aim to address gender inequalities in access to other services (including energy, healthcare)? "]
[null,"Question 5","Does the proposed project or program include gender-sensitive measures that address gender inequalities in the distribution of socioeconomic benefits for women (including new short-term jobs, new long-term jobs, new sources of income generation and other employment activities)?"]
[null,"Question 6","Does the proposed project or program include a monitoring plan to measure and demonstrate ex-post progress on gender equality? "]
[]
[null,"NEEDS OF THE RECIPIENT"]
[]
["Adaptation","I - Scale and intensity of exposure of people, and/or social or economic assets or capital, to risks derived from climate change"]
[null,"Evidence of exposure and vulnerability for the country"]
[null,"Data entry to be covered by Question 1 of the \"robustness of the adaptation impact estimate\", in the Impact section"]
[null,"Climate vulnerability and adaptation readiness"]
[null,"Data entry to be covered under the \"Target countries\" section"]
[]
["All","II - Level of social and economic development of the country and target population"]
[null,"Country-level socio-economic development"]
[null,"Data entry to be covered under the \"Target countries\" section"]
[]
["All","III - Opportunities for the Fund to overcome specific barriers to financing"]
[null,"Prioritization given barriers and opportunities"]
[null,"Question 1","To what extent is barrier 1 hampering investment towards low-carbon and climate-resilient development in the context/country targeted, and how is it addressed by the project/program intervention and Fund?"]
[null,"Barrier 1","Select barrier/risk 1. If \"other\", please describe barrier/risk in box to the right. If no barrier is identified select \"No barriers/risk identified\""]
[null,"Question 1.1",{"$f":"IF(OR(D292=\"\",D292=\"NO BARRIER/RISK IDENTIFIED\"),\"Not Applicable\",\"EVIDENCE of the EXISTENCE of selected barrier/risk (e.g. past or projected currency fluctuation) and how it will AFFECT INVESTORS IS provided\")","v":"Not Applicable"}]
[null,"Question 1.2",{"$f":"IF(OR(D292=\"\",D292=\"NO BARRIER/RISK IDENTIFIED\"),\"Not Applicable\",\"EVIDENCE about how this barrier/risk is SUCCESFULLY ADDRESSED, more effectively than existing alternative options, by the proposed project/program intervention and the Fund IS PROVIDED\")","v":"Not Applicable"}]
[null,"Question 1.3",{"$f":"IF(OR(D292=\"\",D292=\"NO BARRIER/RISK IDENTIFIED\"),\"Not Applicable\",\"ASSESSMENT of the MAGNITUDE of the impact of the risk/barrier for investors, and their mitigation by the current proposed project/program intervention and the Fund is provided (e.g. through cash flow modeling, references to literature)\")","v":"Not Applicable"}]
[null,"Question 2","To what extent is barrier 2 hampering investment towards low-carbon and climate-resilient development in the context/country targeted, and how is it addressed by the project/program intervention and Fund?"]
[null,"Barrier 2","Select barrier/risk 2. If \"other\", please describe barrier/risk in box to the right. If no barrier is identified select \"No barriers/risk identified\""]
[null,"Question 2.1",{"$f":"IF(OR(D297=\"\",D297=\"NO BARRIER/RISK IDENTIFIED\"),\"Not Applicable\",\"EVIDENCE of the EXISTENCE of selected barrier/risk (e.g. past or projected currency fluctuation) and how it will AFFECT INVESTORS IS provided\")","v":"Not Applicable"}]
[null,"Question 2.2",{"$f":"IF(OR(D297=\"\",D297=\"NO BARRIER/RISK IDENTIFIED\"),\"Not Applicable\",\"EVIDENCE about how this barrier/risk is SUCCESFULLY ADDRESSED, more effectively than existing alternative options, by the proposed project/program intervention and the Fund IS PROVIDED\")","v":"Not Applicable"}]
[null,"Question 2.3",{"$f":"IF(OR(D297=\"\",D297=\"NO BARRIER/RISK IDENTIFIED\"),\"Not Applicable\",\"ASSESSMENT of the MAGNITUDE of the impact of the risk/barrier for investors, and their mitigation by the current proposed project/program intervention and the Fund is provided (e.g. through cash flow modeling, references to literature)\")","v":"Not Applicable"}]
[null,"Question 3","To what extent is barrier 3 hampering investment towards low-carbon and climate-resilient development in the context/country targeted, and how is it addressed by the project/program intervention and Fund?"]
[null,"Barrier 3","Select barrier/risk 3. If \"other\", please describe barrier/risk in box to the right. If no barrier is identified select \"No barriers/risk identified\""]
[null,"Question 3.1",{"$f":"IF(OR(D302=\"\",D302=\"NO BARRIER/RISK IDENTIFIED\"),\"Not Applicable\",\"EVIDENCE of the EXISTENCE of selected barrier/risk (e.g. past or projected currency fluctuation) and how it will AFFECT INVESTORS IS provided\")","v":"Not Applicable"}]
[null,"Question 3.2",{"$f":"IF(OR(D302=\"\",D302=\"NO BARRIER/RISK IDENTIFIED\"),\"Not Applicable\",\"EVIDENCE about how this barrier/risk is SUCCESFULLY ADDRESSED, more effectively than existing alternative options, by the proposed project/program intervention and the Fund IS PROVIDED\")","v":"Not Applicable"}]
[null,"Question 3.3",{"$f":"IF(OR(D302=\"\",D302=\"NO BARRIER/RISK IDENTIFIED\"),\"Not Applicable\",\"ASSESSMENT of the MAGNITUDE of the impact of the risk/barrier for investors, and their mitigation by the current proposed project/program intervention and the Fund is provided (e.g. through cash flow modeling, references to literature)\")","v":"Not Applicable"}]
[]
[null,"COUNTRY OWNERSHIP"]
[]
["All","I - Objectives are in line with priorities in the country’s national climate strategy"]
[null,"Coherence with the country’s national climate priorities"]
[null,"Question 1","To what extent are the sector/activity-specific priorities from the country’s (or key target countries, if the project covers multiple geographies) national climate strategies or plans linked with the proposed project or program’s objectives? "]
[null,"Question 1.1","The proposal refers to sector/activity-specific priorities within country’s national climate strategy(ies) or plan(s) as defined in relevant strategic and policy documents (e.g. national and sectoral climate strategies or plans, NAMAs, NAPs, NDCs, TNAs, NOLs, RE frameworks, national communications)"]
[null,"Question 1.2","A clear and direct  link between (a) specific objective(s) of the proposed project or program and the referenced sector/activity-specific prioritie(s) of relevant national climate strategie(s) or plan(s) is demonstrated in the proposal (e.g. the proposal specifies HOW specific objectives are achieved by the project/program)"]
[null,"Question 1.3","These links are supported by/derived from references/data/evidence"]
[]
["All","II - Proposed activity is designed in cognizance of other country policies"]
[null,"Degree of alignment of the proposed project or program’s objectives with the country’s national development priorities"]
[null,"Question 1","Does the proposed project or program refer to one/several priorities from the country’s national (sustainable) development frameworks as defined in relevant strategic policy documents (e.g. country’s national policies, including national development policies and strategies, sustainable or green growth development policies and strategies, Vision 2020 and/or other policy frameworks)? "]
[null,"Question 2","Does the proposed project or program refer to one/several priorities from the country’s sectoral (sustainable) development frameworks as defined in relevant strategic sectoral policy documents (e.g. country’s sector-specific policies, and/or other policy frameworks)? "]
[null,"Question 3","To what extent are the referenced priorities from the country’s national or sectoral development or sustainable development frameworks linked with the proposed project or program’s objectives? "]
[null,"Question 3.1","A link between (a) specific objective(s) of the project or program and the referenced prioritie(s) of relevant national or sectoral development strategie(s) or plan(s) is mentioned in the proposal"]
[null,"Question 3.2","The proposal specifies how the project/program is linked to specific priority(ies)/aspect(s) from relevant national development strategies or plans, including via direct support by a country’s enabling policy and institutional framework.."]
[null,"Question 3.3","These links are supported by/derived from references/data/evidence"]
[]
["All","III - Experience and track record of the Accredited Entity or Executing Entities in key elements of the proposed activity"]
[null,"AE’s or EE’s experience working in the project’s/program’s country of implementation or a similar context (e.g. SIDS, LDCs, similar region or geographical area)"]
[null,"Question 1","What is the Accredited Entity's experience working in the project’s/program’s geography?"]
[null,"Question 1.1","For how long has the AE been working in the target country, or in a similar country context?  "]
[null,"Question 1.2","For how long has the AE been working with the country’s (or key target countries, if project covers multiple geographies) National Designated Authority (NDA)? "]
[null,"Question 2","What is the Executing Entity's experience working in the project’s/program’s geography?"]
[null,"Question 2.1","For how long has the EE been working in the target country, or in a similar country context?  "]
[null,"Question 2.2","For how long has the EE been working with the country’s (or key target countries, if project covers multiple geographies) National Designated Authority (NDA)? "]
[null,"AE’s or EE’s experience in implementing similar projects (similar sector, technology, type of intervention)"]
[null,"Question 1","What is the Accredited Entity's sectoral experience?"]
[null,"Question 1.1","Has the AE been implementing projects in a similar sector or results area in past projects over the last 5 years (e.g. food security, water security, health)? "]
[null,"Question 1.2","Has the AE been implementing the same type of proposed activities (e.g. capacity building, construction of infrastructure/facility, lending) over the last 5 years? "]
[null,"Question 1.3","Has the AE been managing the similar financing size/budget projects/initiatives over the last 5 years? "]
[null,"Question 1.4","Has the AE been implementing more than 5 projects in a similar financing size/budget? "]
[null,"Question 2","What is the ExecutIng Entity's sectoral experience?"]
[null,"Question 2.1","Has the EE been implementing projects in a similar sector or results area in past projects over the last 5 years (e.g. food security, water security, health)? "]
[null,"Question 2.2","Has the EE been implementing the same type of proposed activities (e.g. capacity building, construction of infrastructure/facility, lending) over the last 5 years? "]
[null,"Question 2.3","Has the EE been managing the similar financing size/budget projects/initiatives over the last 5 years? "]
[null,"Question 2.4","Has the EE been implementing more than 5 projects in a similar financing size/budget? "]
[]
["All","IV - Stakeholder consultations and engagement"]
[null,"Coverage of diverse stakeholders from non-governmental organisations in designing the project/program"]
[null,"Question 1","To what extent did the AE/EE engage a diverse group of non-governmental stakeholders during the development/design phase?"]
[null,"Question 1.1","Private companies, including suppliers or relevant technologies or solutions"]
[null,"Question 1.2","Financial sector such as commercial or retail banks, investment banks, internet banks, credit unions, savings and loans associations, mortgage companies, microfinance, insurance and re-insurance, pension funds and sovereign wealth funds"]
[null,"Question 1.3","Industry-wide and sector specific associations such as chambers of commerce or industry"]
[null,"Question 1.4","Civil Society Organizations (CSOs), including Non-Governmental Organisations (NGOs), Community-Based Organisations (CBOs), Faith-Based Organisations (FBOs), Unions"]
[null,"Question 1.5","Vulnerable groups such as women, minority groups, and other more traditionally under-represented stakeholders"]
[null,"Existence of a robust Stakeholder Engagement Plan "]
[null,"Question 1","Does the Stakeholder Engagement Plan  articulate a well-defined stakeholder engagement strategy?"]
[null,"Question 1.1","Purpose and objectives are defined"]
[null,"Question 1.2","Guiding principles are defined"]
[null,"Question 1.3","Commitments made to stakeholders and success indicators are defined"]
[null,"Question 1.4","Organizational roles and responsibilities related to stakeholder engagement activity are defined"]
[null,"Question 2","Does the Stakeholder Engagement Plan present a detailed stakeholder mapping?"]
[null,"Question 2.1","Stakeholders’ background (government, private sector, CSOs) is provided"]
[null,"Question 2.2","Stakeholder's expectations on a project (what they want) are defined"]
[null,"Question 2.3","Stakeholders' interests in a project (why they want it) are provided"]
[null,"Question 2.4","Stakeholder's potential conflict of interest / elite capture is provided"]
[null,"Question 2.5","Stakeholders’ relative influence on a project or influence in a community or organization is provided; "]
[null,"Question 2.6","Stakeholders' emotional stake in an issue or a project is provided"]
[null,"Question 2.7","Stakeholders’ financial or political positions are provided"]
[null,"Question 2.8","Stakeholder's potential contributions to a project or activity is provided"]
[null,"Question 2.9","The above information is provided in its evolution throughout the project"]
[null,"Question 3","Does the Stakeholder Engagement Plan reflect in-depth pre-project/project preparation consultation and engagement with stakeholders?"]
[null,"Question 3.1","Pre-consultations with all stakeholders that were identified through the stakeholder mapping were made during the project’s preparation phase"]
[null,"Question 3.2","More in-depth engagement with “key stakeholders” (e.g. those most likely to be affected by program/project activities) was done through at least a dialogue and negotiation processes, and/or partnerships, joint fact-finding exercises and similar processes"]
[null,"Question 3.3","The above activities are outlined in detail"]
[null,"Question 4","Does the Stakeholder Engagement Plan provide a well-articulated implementation plan?"]
[null,"Question 4.1","Internal actions (e.g. revising strategies, adjusting timeline) are included in the plan"]
[null,"Question 4.2","External actions (e.g. communication) are included in the plan"]
[null,"Question 4.3","The above activities are outlined in detail"]
[null,"Question 5","Does the Stakeholder Engagement Plan include a monitoring and evaluation (M&E) process? "]
[null,"Level of engagement of the National Designated Authority (NDA)"]
[null,"Question 1","To what extent did the AE/EE engage the National Designated Authority (NDA) during development/design phase of the proposed project/program"]
[null,"Question 1.1","There is evidence that the NDA(s) attended or supported stakeholder consultation meetings and workshops"]
[null,"Question 1.2","There is evidence that the NDA(s) provided strategic inputs and guidance to the AE and/or EE"]
[null,"Question 1.3","There is evidence that the proposed project/program is derived from/aligned with the priorities identified in the country work program (if existing) developed by the NDA(s) in consultation with key national stakeholders "]
[]
[null,"EFFICIENCY AND EFFECTIVENESS"]
[]
["All","I - Financial adequacy and appropriateness of concessionality"]
[null,"Adequacy of concessionality to instrument type"]
[null,"Question 1","Are grants requested from the GCF in the project? If no, skip sub-questions (1.1 to 1.3.1) and proceed to Question 2."]
[null,"Question 1.1",{"$f":"IF(D388=\"NO\",\"Not Applicable\",\"Does the proponent provide evidence that there is NO REVENUE POTENTIAL from the project?\")","v":"Does the proponent provide evidence that there is NO REVENUE POTENTIAL from the project?"}]
[null,"Question 1.2",{"$f":"IF(D388=\"NO\",\"Not Applicable\",\"Does the proponent provide evidence that – if the grant component had to be replaced by other instruments (e.g. debt) – the PROJECT REVENUE would NOT be ABLE to cover its PAYMENT?\")","v":"Does the proponent provide evidence that – if the grant component had to be replaced by other instruments (e.g. debt) – the PROJECT REVENUE would NOT be ABLE to cover its PAYMENT?"}]
[null,"Question 1.3",{"$f":"IF(D388=\"NO\",\"Not Applicable\",\"Are GCF grants accompanied by OTHER GRANT sources?\")","v":"Are GCF grants accompanied by OTHER GRANT sources?"}]
[null,"Question 1.3.1",{"$f":"IF(OR(D391=\"NO\",D388=\"NO\"),\"Not Applicable\",\"If yes, does the proponent clearly describe WHY the GCF grant is NEEDED in addition to other concessional sources?\")","v":"If yes, does the proponent clearly describe WHY the GCF grant is NEEDED in addition to other concessional sources?"}]
[]
[null,"Question 2","Are loans requested from the GCF in the project?  If no, skip sub-questions (2.1 to 2.3.1) and proceed to Question 3."]
[null,"Question 2.1",{"$f":"IF(D394=\"NO\",\"Not Applicable\",\"Does the proponent provide evidence that the PRICING BENEFIT of GCF’s concessional loan is PASSED ON to end beneficiaries? OR, does the proponent provide evidence that the pricing benefit is NECESSARY for the proponent to achieve acceptable returns?\")","v":"Does the proponent provide evidence that the PRICING BENEFIT of GCF’s concessional loan is PASSED ON to end beneficiaries? OR, does the proponent provide evidence that the pricing benefit is NECESSARY for the proponent to achieve acceptable returns?"}]
[null,"Question 2.2",{"$f":"IF(D394=\"NO\",\"Not Applicable\",\"Is the GCF loan requested SUBORDINATED?\")","v":"Is the GCF loan requested SUBORDINATED?"}]
[null,"Question 2.2.1",{"$f":"IF(D394=\"NO\",\"Not Applicable\",\"If yes, does the proponent provide evidence that the CUSHION provided to senior lenders is ADEQUATE to their risk appetite?\")","v":"If yes, does the proponent provide evidence that the CUSHION provided to senior lenders is ADEQUATE to their risk appetite?"}]
[null,"Question 2.3",{"$f":"IF(D394=\"NO\",\"Not Applicable\",\"Is the GCF loan accompanied by OTHER CONCESSIONAL DEBT sources?\")","v":"Is the GCF loan accompanied by OTHER CONCESSIONAL DEBT sources?"}]
[null,"Question 2.3.1",{"$f":"IF(OR(D394=\"NO\",D398=\"NO\"),\"Not Applicable\",\"If yes, does the proponent clearly describe WHY the GCF loan is NEEDED in addition to other concessional sources?\")","v":"If yes, does the proponent clearly describe WHY the GCF loan is NEEDED in addition to other concessional sources?"}]
[]
[null,"Question 3","Is equity requested from the GCF in the project?  If no, skip sub-questions (3.1 to 3.3.1) and proceed to Question 4."]
[null,"Question 3.1",{"$f":"IF(D401=\"NO\",\"Not Applicable\",\"Does the proponent provide evidence that the PRICING BENEFIT of GCF’s concessional equity is PASSED ON to end beneficiaries? OR, does the proponent provide evidence that the pricing benefit is NECESSARY for the proponent to achieve acceptable returns?\")","v":"Does the proponent provide evidence that the PRICING BENEFIT of GCF’s concessional equity is PASSED ON to end beneficiaries? OR, does the proponent provide evidence that the pricing benefit is NECESSARY for the proponent to achieve acceptable returns?"}]
[null,"Question 3.2",{"$f":"IF(D401=\"NO\",\"Not Applicable\",\"Is the GCF equity requested SUBORDINATED?\")","v":"Is the GCF equity requested SUBORDINATED?"}]
[null,"Question 3.2.1",{"$f":"IF(OR(D403=\"NO\",D401=\"NO\"),\"Not Applicable\",\"If yes, does the proponent provide evidence that the CUSHION provided to senior equity providers, or lenders, is ADEQUATE to their risk appetite?\")","v":"If yes, does the proponent provide evidence that the CUSHION provided to senior equity providers, or lenders, is ADEQUATE to their risk appetite?"}]
[null,"Question 3.3",{"$f":"IF(D401=\"NO\",\"Not Applicable\",\"Is the GCF equity accompanied by OTHER CONCESSIONAL EQUITY sources?\")","v":"Is the GCF equity accompanied by OTHER CONCESSIONAL EQUITY sources?"}]
[null,"Question 3.3.1",{"$f":"IF(OR(D405=\"NO\",D401=\"NO\"),\"Not Applicable\",\"If yes, does the proponent clearly describe WHY the GCF equity is NEEDED in addition to other concessional  sources?\")","v":"If yes, does the proponent clearly describe WHY the GCF equity is NEEDED in addition to other concessional  sources?"}]
[]
[null,"Question 4","Are guarantees requested from the GCF in the project?  "]
[null,"Question 4.1",{"$f":"IF(D408=\"NO\",\"Not Applicable\",\"Does the proponent provide evidence that the guarantee causes a REDUCTION in the BORROWING COST of end beneficiaries, or Is critical in ENABLING ACCESS to financing?\")","v":"Does the proponent provide evidence that the guarantee causes a REDUCTION in the BORROWING COST of end beneficiaries, or Is critical in ENABLING ACCESS to financing?"}]
[null,"Question 4.2",{"$f":"IF(D408=\"NO\",\"Not Applicable\",\"Does the proponent provide evidence that the guarantee cover (% of loan guaranteed / first loss cover) is ADEQUATE to their risk appetite?\")","v":"Does the proponent provide evidence that the guarantee cover (% of loan guaranteed / first loss cover) is ADEQUATE to their risk appetite?"}]
[null,"Question 4.3",{"$f":"IF(D408=\"NO\",\"Not Applicable\",\"Is the GCF guarantee accompanied by OTHER GUARANTEE sources?\")","v":"Is the GCF guarantee accompanied by OTHER GUARANTEE sources?"}]
[null,"Question 4.3.1",{"$f":"IF(OR(D411=\"NO\",D408=\"NO\"),\"Not Applicable\",\"If yes, does the proponent clearly describe WHY the GCF guarantee is NEEDED in addition to other concessional sources?\")","v":"If yes, does the proponent clearly describe WHY the GCF guarantee is NEEDED in addition to other concessional sources?"}]
[]
["Mitigation","II - Cost-effectiveness"]
[null,"Cost-effectiveness of CO2 emissions abatement"]
[null,"Data entry to be covered under \"Project financing\" and \"Mitigation impact\" potential sections above"]
[]
["Mitigation","III - Potential to catalyze and/or leverage investment"]
[null,"Co-financing ratio"]
[null,"Data entry to be covered under \"Project financing\" section above"]
[]
["All","IV - Financial viability in the long run"]
[null,"Existence of strategy for phasing out GCF's support"]
[null,"Question 1","Does the proposal include a strategy to identify sources of financing and continue its activities in the long-run? "]
[null,"Question 1.1","The FP outlines a strategy to phase out GCF support by ensuring continuous concessional financing support in the long term (e.g. Government funding, or other public entities)"]
[null,"Question 1.2","The FP outlines a strategy  to phase out GCF support and operate on a commercial basis (including an exit strategy, etc.)"]
[null,"Question 2","Does the proposal provide evidence of the commitment by a specific source of capital replacing GCF’s capital?"]
[null,"Question 2.1","Evidence of commitment is provided for the partial or short-term replacement of GCF’s capital."]
[null,"Question 2.2","Evidence of commitment is provided for the full and long-term replacement of GCF’s capital."]
[null,"Question 2.3","Evidence is provided - in the form of supportive research and analytical documents, including projected cash flows - that  the above commitment guarantees the viability of the project in the long term."]
[null,"Question 3","The FP targets adaptation implemented in  least developed countries (LDCs) and/or small island developing states (SIDS)."]
[null,"Strength of the accredited entity and executing entity"]
[null,"Data entry to be covered by subcriterion 24/31 \"Experience and track record of the Accredited Entity or Executing Entities in key elements of the proposed activity\""]
[null,"Effectiveness in mitigating risks and challenges to the project implementation in the long-run "]
[null,"Question 1","To what extent is risk/challenge 1 a threat to the success of the project/program?"]
[null,"Risk/Challenge 1","Select risk/challenge 1. If \"other\", please describe risk/challenge in box to the right. If no barrier is identified select \"No risk/challenge identified\""]
[null,"Question 1.1",{"$f":"IF(OR(D436=\"\",D436=\"NO RISK/CHALLENGE IDENTIFIED\"),\"Not Applicable\",\"At the best of knowledge, or per evidence provided, what is the LIKELIHOOD of OCCURRENCE of selected risk/challenge?\")","v":"Not Applicable"}]
[null,"Question 1.2",{"$f":"IF(OR(D436=\"\",D436=\"NO RISK/CHALLENGE IDENTIFIED\"),\"Not Applicable\",\"At the best of knowledge, or per evidence provided, what is the POTENTIAL IMPACT of selected risk/challenge?\")","v":"Not Applicable"}]
[null,"Question 1.3",{"$f":"IF(OR(D436=\"\",D436=\"NO RISK/CHALLENGE IDENTIFIED\"),\"Not Applicable\",\"Does the project have STRATEGIES in place to MITIGATE/MANAGE the key risks/challenges identified above? \")","v":"Not Applicable"}]
[null,"Question 1.4",{"$f":"IF(OR(D436=\"\",D436=\"NO RISK/CHALLENGE IDENTIFIED\"),\"Not Applicable\",\"Have PROVIDERS OF SERVICES / INTERNAL RESOURCES (e.g. insurers, guarantors) required to MITIGATE/MANAGE the risk/challenge related been IDENTIFIED and/or SECURED? \")","v":"Not Applicable"}]
[null,"Question 2","To what extent is risk/challenge 2 a threat to the success of the project/program?"]
[null,"Risk/Challenge 2","Select risk/challenge 2. If \"other\", please describe risk/challenge in box to the right. If no barrier is identified select \"No risk/challenge identified\""]
[null,"Question 2.1",{"$f":"IF(OR(D442=\"\",D442=\"NO RISK/CHALLENGE IDENTIFIED\"),\"Not Applicable\",\"At the best of knowledge, or per evidence provided, what is the LIKELIHOOD of OCCURRENCE of selected risk/challenge?\")","v":"Not Applicable"}]
[null,"Question 2.2",{"$f":"IF(OR(D442=\"\",D442=\"NO RISK/CHALLENGE IDENTIFIED\"),\"Not Applicable\",\"At the best of knowledge, or per evidence provided, what is the POTENTIAL IMPACT of selected risk/challenge?\")","v":"Not Applicable"}]
[null,"Question 2.3",{"$f":"IF(OR(D442=\"\",D442=\"NO RISK/CHALLENGE IDENTIFIED\"),\"Not Applicable\",\"Does the project have STRATEGIES in place to MITIGATE/MANAGE the key risks/challenges identified above? \")","v":"Not Applicable"}]
[null,"Question 2.4",{"$f":"IF(OR(D442=\"\",D442=\"NO RISK/CHALLENGE IDENTIFIED\"),\"Not Applicable\",\"Have PROVIDERS OF SERVICES / INTERNAL RESOURCES (e.g. insurers, guarantors) required to MITIGATE/MANAGE the risk/challenge related been IDENTIFIED and/or SECURED? \")","v":"Not Applicable"}]
[null,"Question 3","To what extent is risk/challenge 3 a threat to the success of the project/program?"]
[null,"Risk/Challenge 3","Select risk/challenge 3. If \"other\", please describe risk/challenge in box to the right. If no barrier is identified select \"No risk/challenge identified\""]
[null,"Question 3.1",{"$f":"IF(OR(D448=\"\",D448=\"NO RISK/CHALLENGE IDENTIFIED\"),\"Not Applicable\",\"At the best of knowledge, or per evidence provided, what is the LIKELIHOOD of OCCURRENCE of selected risk/challenge?\")","v":"Not Applicable"}]
[null,"Question 3.2",{"$f":"IF(OR(D448=\"\",D448=\"NO RISK/CHALLENGE IDENTIFIED\"),\"Not Applicable\",\"At the best of knowledge, or per evidence provided, what is the POTENTIAL IMPACT of selected risk/challenge?\")","v":"Not Applicable"}]
[null,"Question 3.3",{"$f":"IF(OR(D448=\"\",D448=\"NO RISK/CHALLENGE IDENTIFIED\"),\"Not Applicable\",\"Does the project have STRATEGIES in place to MITIGATE/MANAGE the key risks/challenges identified above? \")","v":"Not Applicable"}]
[null,"Question 3.4",{"$f":"IF(OR(D448=\"\",D448=\"NO RISK/CHALLENGE IDENTIFIED\"),\"Not Applicable\",\"Have PROVIDERS OF SERVICES / INTERNAL RESOURCES (e.g. insurers, guarantors) required to MITIGATE/MANAGE the risk/challenge related been IDENTIFIED and/or SECURED? \")","v":"Not Applicable"}]
[]
["All","V - Application of best practices and degree of innovation"]
[null,"Innovation checklist"]
[null,"Data entry to be covered by subcriterion 3/31 \"Innovation checklist\""]
[null,"Tranfer of best available technologies"]
[null,"Question 1","Does the FP describe and provide evidence from resources/literature about how best practices and/or best available technologies were identified and reviewed, including international ones, and those of indigenous peoples and local communities? "]
[null,"Question 2","Does the FP describe and provide evidence of how best practices and/or best available technologies were integrated during proposal development and will be used during project implementation, or how the proposal deviates from/improves them, including international ones, and those of indigenous peoples and local communities? "]
[null,"Question 3","Are best available technologies and practices accessed through imports from outside the region of application of the project (e.g. of technical components, pieces of equipment, expertise),  and/or through the valorization of contributions by indigenous peoples and local communities?"]
[null,"Question 4","Does the FP include the description of a causal path ensuring the continuous/long-term adoption of best available technologies and practices within the target geography and sector (e.g. training activities, and resources and time allocated for that,  encouraging policy changes incentivizing their adoption )? "]

{"sheet":"Evaluation Summary Form","index":2,"n_rows":37,"n_cols":8,"rows_kept":37,"cut":false,"hidden":false,"merged":[[0,1,0,7],[22,1,22,2],[26,1,26,2],[31,1,31,2],[5,1,5,2],[6,1,6,2],[9,1,9,2],[17,1,17,2]]}
[null,"Evaluation summary"]
[]
[null,"Project name","Project code","Accredited entity"]
[]
[]
[null,"Sub-criterion",null,"Output ICS\n1 (low) to 5 (high)","Adjustment","Reason for adjustment","Final score \n(numeric / rounded)","Final score \n(qualitative)"]
[null,"IMPACT POTENTIAL",null,{"$f":"SUM(D8:D9)","v":0},"insert adjustment",null,{"$f":"MAX(1,MIN(ROUND(IFERROR(D7+E7,D7),0),5))","v":1},{"$f":"IF(G7=1,\"Low\",IF(G7=2,\"Medium-low\",IF(G7=3,\"Medium\",IF(G7=4,\"Medium-high\",IF(G7=5,\"High\",\"\")))))","v":"Low"}]
[null,{"$f":"\"- Contribution to the shift to low-emission sustainable development pathways\"","v":"- Contribution to the shift to low-emission sustainable development pathways"},{"$f":"\"- Mitigation impact\"","v":"- Mitigation impact"},{"$f":"IFERROR('CALCULATION SHEET'!H5*WEIGHTS!D16,0)","v":0}]
[null,{"$f":"\"- Contribution to increased climate-resilient sustainable development for most vulnerable people and communities\"","v":"- Contribution to increased climate-resilient sustainable development for most vulnerable people and communities"},{"$f":"\"- Expected number of beneficiaries\"","v":"- Expected number of beneficiaries"},{"$f":"IFERROR('CALCULATION SHEET'!H24*WEIGHTS!D17,0)","v":0}]
[null,"PARADIGM SHIFT",null,{"$f":"SUM(D11:D17)","v":0},"insert adjustment",null,{"$f":"MAX(1,MIN(ROUND(IFERROR(D10+E10,D10),0),5))","v":1},{"$f":"IF(G10=1,\"Low\",IF(G10=2,\"Medium-low\",IF(G10=3,\"Medium\",IF(G10=4,\"Medium-high\",IF(G10=5,\"High\",\"\")))))","v":"Low"}]
[null,{"$f":"\"- Innovation\"","v":"- Innovation"},{"$f":"\"- Innovation checklist\"","v":"- Innovation checklist"},{"$f":"IFERROR('CALCULATION SHEET'!H47*WEIGHTS!D18,0)","v":0}]
[null,{"$f":"\"- Potential for expanding the scale and impact of the proposed programme or project (scalability - mitigation)\"","v":"- Potential for expanding the scale and impact of the proposed programme or project (scalability - mitigation)"},{"$f":"\"- Scalability score (mitigation)\"","v":"- Scalability score (mitigation)"},{"$f":"IFERROR('CALCULATION SHEET'!H59*WEIGHTS!D20,0)","v":0}]
[null,{"$f":"\"- Contribution to the creation or strengthening of knowledge, collective learning\"","v":"- Contribution to the creation or strengthening of knowledge, collective learning"},{"$f":"\"- Creation and diffusion of knowledge\"","v":"- Creation and diffusion of knowledge"},{"$f":"IFERROR('CALCULATION SHEET'!H73*WEIGHTS!D22,0)","v":0}]
[null,{"$f":"\"-Sustainability of outcomes and results beyond completion of the intervention\"","v":"-Sustainability of outcomes and results beyond completion of the intervention"},{"$f":"\"- Financial sustainability in the long-term\"","v":"- Financial sustainability in the long-term"},{"$f":"IFERROR('CALCULATION SHEET'!H84*WEIGHTS!D23,0)","v":0}]
[null,{"$f":"\"- Market development and transformation\"","v":"- Market development and transformation"},{"$f":"\"- Market creation at national, local or sectoral level.\"","v":"- Market creation at national, local or sectoral level."},{"$f":"IFERROR('CALCULATION SHEET'!H88*WEIGHTS!D24,0)","v":0}]
[null,{"$f":"\"-Potential for strengthened regulatory frameworks and policies to drive investment in low-emission technologies and activities, promote development of additional low-emission policies, and/or improve climate-responsive planning and development\"","v":"-Potential for strengthened regulatory frameworks and policies to drive investment in low-emission technologies and activities, promote development of additional low-emission policies, and/or improve climate-responsive planning and development"},{"$f":"\"-Contribution to mainstream and systematically promote climate change within regulatory framework and policies\"","v":"-Contribution to mainstream and systematically promote climate change within regulatory framework and policies"},{"$f":"IFERROR('CALCULATION SHEET'!H96*WEIGHTS!D25,0)","v":0}]
[null,{"$f":"\"- Potential for expanding the scale and impact of the proposed programme or project (scalability - adaptation)\"","v":"- Potential for expanding the scale and impact of the proposed programme or project (scalability - adaptation)"},{"$f":"\"- Scalability score (adaptation)\"","v":"- Scalability score (adaptation)"},{"$f":"IFERROR('CALCULATION SHEET'!H59*WEIGHTS!D26,0)","v":0}]
[null,"SUSTAINABLE DEVELOPMENT POTENTIAL",null,{"$f":"SUM(D19:D22)","v":0},"insert adjustment",null,{"$f":"MAX(1,MIN(ROUND(IFERROR(D18+E18,D18),0),5))","v":1},{"$f":"IF(G18=1,\"Low\",IF(G18=2,\"Medium-low\",IF(G18=3,\"Medium\",IF(G18=4,\"Medium-high\",IF(G18=5,\"High\",\"\")))))","v":"Low"}]
[null,{"$f":"\"- Expected positive environmental impacts, including in other result areas of the Fund, and/or in line with the priorities set at the national, local or sectoral level\"","v":"- Expected positive environmental impacts, including in other result areas of the Fund, and/or in line with the priorities set at the national, local or sectoral level"},{"$f":"\"- Extent of environmental co-benefits\"","v":"- Extent of environmental co-benefits"},{"$f":"IFERROR('CALCULATION SHEET'!H111*WEIGHTS!D28,0)","v":0}]
[null,{"$f":"\"- Expected positive social and health impacts, including in other result areas of the Fund, and/or in line with the priorities set at the national, local or sectoral level\"","v":"- Expected positive social and health impacts, including in other result areas of the Fund, and/or in line with the priorities set at the national, local or sectoral level"},{"$f":"\"- Extent of social and health co-benefits\"","v":"- Extent of social and health co-benefits"},{"$f":"IFERROR('CALCULATION SHEET'!H153*WEIGHTS!D29,0)","v":0}]
[null,{"$f":"\"- Expected positive economic impacts, including in other result areas of the Fund, and/or in line with the priorities set at the national, local or sectoral level\"","v":"- Expected positive economic impacts, including in other result areas of the Fund, and/or in line with the priorities set at the national, local or sectoral level"},{"$f":"\"- Extent of economic co-benefits\"","v":"- Extent of economic co-benefits"},{"$f":"IFERROR('CALCULATION SHEET'!H187*WEIGHTS!D30,0)","v":0}]
[null,{"$f":"\"- Potential for reduced gender inequalities in climate change impacts and/or equal participation by gender groups in contributing to expected outcomes\"","v":"- Potential for reduced gender inequalities in climate change impacts and/or equal participation by gender groups in contributing to expected outcomes"},{"$f":"\"- Introduction of gender-sensitive measures to promote gender equality or gender equity\"","v":"- Introduction of gender-sensitive measures to promote gender equality or gender equity"},{"$f":"IFERROR('CALCULATION SHEET'!H221*WEIGHTS!D31,0)","v":0}]
[null,"NEEDS OF THE RECIPIENT",null,{"$f":"SUM(D24:D26)","v":0},"insert adjustment",null,{"$f":"MAX(1,MIN(ROUND(IFERROR(D23+E23,D23),0),5))","v":1},{"$f":"IF(G23=1,\"Low\",IF(G23=2,\"Medium-low\",IF(G23=3,\"Medium\",IF(G23=4,\"Medium-high\",IF(G23=5,\"High\",\"\")))))","v":"Low"}]
[null,{"$f":"\"- Scale and intensity of exposure of people, and/or social or economic assets or capital, to risks derived from climate change\"","v":"- Scale and intensity of exposure of people, and/or social or economic assets or capital, to risks derived from climate change"},{"$f":"\"- Evidence of exposure and vulnerability for the country\n-Climate vulnerability and adaptation readiness\"","v":"- Evidence of exposure and vulnerability for the country\n-Climate vulnerability and adaptation readiness"},{"$f":"IFERROR('CALCULATION SHEET'!H238*WEIGHTS!D32,0)","v":0}]
[null,{"$f":"\"- Level of social and economic development of the country and target population\"","v":"- Level of social and economic development of the country and target population"},{"$f":"\"- Country-level socio-economic development\"","v":"- Country-level socio-economic development"},{"$f":"IFERROR('CALCULATION SHEET'!H245*WEIGHTS!D34,0)","v":0}]
[null,{"$f":"\"- Opportunities for the Fund to overcome specific barriers to financing\"","v":"- Opportunities for the Fund to overcome specific barriers to financing"},{"$f":"\"- Prioritization given risk/barriers and opportunities\"","v":"- Prioritization given risk/barriers and opportunities"},{"$f":"IFERROR('CALCULATION SHEET'!H249*WEIGHTS!D35,0)","v":0}]
[null,"COUNTRY OWNERSHIP",null,{"$f":"SUM(D28:D31)","v":0},"insert adjustment",null,{"$f":"MAX(1,MIN(ROUND(IFERROR(D27+E27,D27),0),5))","v":1},{"$f":"IF(G27=1,\"Low\",IF(G27=2,\"Medium-low\",IF(G27=3,\"Medium\",IF(G27=4,\"Medium-high\",IF(G27=5,\"High\",\"\")))))","v":"Low"}]
[null,{"$f":"\"- Objectives are in line with priorities in the country’s national climate strategy\"","v":"- Objectives are in line with priorities in the country’s national climate strategy"},{"$f":"\"- Coherence with the country’s national climate priorities\"","v":"- Coherence with the country’s national climate priorities"},{"$f":"IFERROR('CALCULATION SHEET'!H269*WEIGHTS!D37,0)","v":0}]
[null,{"$f":"\"- Proposed activity is designed in cognizance of other country policies\"","v":"- Proposed activity is designed in cognizance of other country policies"},{"$f":"\"- Degree of alignment of the proposed project or program’s objectives with the country’s national development priorities\"","v":"- Degree of alignment of the proposed project or program’s objectives with the country’s national development priorities"},{"$f":"IFERROR('CALCULATION SHEET'!H275*WEIGHTS!D38,0)","v":0}]
[null,{"$f":"\"- Experience and track record of the Accredited Entity or executing entities in key elements of the proposed activity\"","v":"- Experience and track record of the Accredited Entity or executing entities in key elements of the proposed activity"},{"$f":"\"- AE’s experience working in the project’s/program’s target country\"&\" \n- AE’s/EE’s experience in implementing similar projects\"","v":"- AE’s experience working in the project’s/program’s target country \n- AE’s/EE’s experience in implementing similar projects"},{"$f":"IFERROR('CALCULATION SHEET'!H285*WEIGHTS!D39,0)","v":0}]
[null,{"$f":"\"- Stakeholder consultations and engagement\"","v":"- Stakeholder consultations and engagement"},{"$f":"\"- Coverage of diverse stakeholders from non-governmental organisations in designing the project/program\"&\" \n- Existence of a robust Stakeholder Engagement Plan\"&\"\n- Level of engagement of the National Designated Authority (NDA)\"","v":"- Coverage of diverse stakeholders from non-governmental organisations in designing the project/program \n- Existence of a robust Stakeholder Engagement Plan\n- Level of engagement of the National Designated Authority (NDA)"},{"$f":"IFERROR('CALCULATION SHEET'!H306*WEIGHTS!D40,0)","v":0}]
[null,"EFFICIENCY AND EFFECTIVENESS",null,{"$f":"SUM(D33:D37)","v":0},"insert adjustment",null,{"$f":"MAX(1,MIN(ROUND(IFERROR(D32+E32,D32),0),5))","v":1},{"$f":"IF(G32=1,\"Low\",IF(G32=2,\"Medium-low\",IF(G32=3,\"Medium\",IF(G32=4,\"Medium-high\",IF(G32=5,\"High\",\"\")))))","v":"Low"}]
[null,{"$f":"\"- Financial adequacy and appropriateness of concessionality\"","v":"- Financial adequacy and appropriateness of concessionality"},{"$f":"\"- Adequacy of concessionality to instrument type\"","v":"- Adequacy of concessionality to instrument type"},{"$f":"IFERROR('CALCULATION SHEET'!H347*WEIGHTS!D41,0)","v":0}]
[null,{"$f":"\"- Cost-effectiveness (mitigation only)\"","v":"- Cost-effectiveness (mitigation only)"},{"$f":"\"- Cost-effectiveness of CO2 emissions abatement\"","v":"- Cost-effectiveness of CO2 emissions abatement"},{"$f":"IFERROR('CALCULATION SHEET'!H375*WEIGHTS!D42,0)","v":0}]
[null,{"$f":"\"- Potential to catalyse and/or leverage investment (mitigation only)\"","v":"- Potential to catalyse and/or leverage investment (mitigation only)"},{"$f":"\"- Co-financing ratio\"","v":"- Co-financing ratio"},{"$f":"IFERROR('CALCULATION SHEET'!H380*WEIGHTS!D43,0)","v":0}]
[null,{"$f":"\"- Financial viability in the long-run\"","v":"- Financial viability in the long-run"},{"$f":"\"- Existence of business and strategy for phasing out GCF’s capital support\n- Strength of the executing entity\n- Effectiveness in mitigating risks and challenges to the project implementation in the long-run\"","v":"- Existence of business and strategy for phasing out GCF’s capital support\n- Strength of the executing entity\n- Effectiveness in mitigating risks and challenges to the project implementation in the long-run"},{"$f":"IFERROR('CALCULATION SHEET'!H385*WEIGHTS!D45,0)","v":0}]
[null,{"$f":"\"- Application of best practices and degree of innovation\"","v":"- Application of best practices and degree of innovation"},{"$f":"\"- Innovation checklist\n- Transfer of best available technologies and practices\"","v":"- Innovation checklist\n- Transfer of best available technologies and practices"},{"$f":"IFERROR('CALCULATION SHEET'!H418*WEIGHTS!D46,0)","v":0}]

{"sheet":"CALCULATION SHEET","index":3,"n_rows":430,"n_cols":8,"rows_kept":430,"cut":false,"hidden":true,"merged":[[266,1,266,7],[2,1,2,7],[44,1,44,7],[108,1,108,7],[344,1,344,7],[235,1,235,7]]}
[null,"Calculation Sheet [DO NOT EDIT]"]
[]
[null,"IMPACT POTENTIAL"]
[null,"Level of analysis","Indicators","Input","Output (sub-indicator)","Output (indicator)",null,"Output (sub-criterion)"]
[null,"Sub-criterion","1/31 - Contribution to the shift to low-emission sustainable development pathways",null,null,null,null,{"$f":"IFERROR(F6,1)","v":1}]
[null,"Indicator","1 - Mitigation impact",null,null,{"$f":"MIN(MAX(E7,E10),1+SUM(E17,E13,E22)*4/7)","v":{"$error":"#DIV/0!"}},null,"changed to 1"]
[null,"Sub-indicator","(Total tCO2e reduced or avoided by activities)/(Mitigation share of total financing)",null,{"$f":"IF(D8/D9<=_xlfn.PERCENTILE.EXC('PROJECT BENCHMARKS'!$F$2:$F$658,0.2),1,IF(D8/D9<=_xlfn.PERCENTILE.EXC('PROJECT BENCHMARKS'!$F$2:$F$658,0.4),2,IF(D8/D9<=_xlfn.PERCENTILE.EXC('PROJECT BENCHMARKS'!$F$2:$F$658,0.6),3,IF(D8/D9<=_xlfn.PERCENTILE.EXC('PROJECT BENCHMARKS'!$F$2:$F$658,0.8),4,5))))","v":{"$error":"#DIV/0!"}}]
[null,"Input needed","Total tCO2e reduced or avoided by activities",{"$f":"'Input Sheet'!E71","v":0}]
[null,"Input needed","Mitigation share of total project financing",{"$f":"SUM('Input Sheet'!E8:E9)*SUM('Input Sheet'!E13:E16)","v":0}]
[null,"Sub-indicator","(Annual  tCO2e reduced or avoided by activities)/(Annual tCO2e emitted by country)",null,{"$f":"IF(D11/D12<=_xlfn.PERCENTILE.EXC('PROJECT BENCHMARKS'!$J$2:$J$658,0.2),1,IF(D11/D12<=_xlfn.PERCENTILE.EXC('PROJECT BENCHMARKS'!$J$2:$J$658,0.4),2,IF(D11/D12<=_xlfn.PERCENTILE.EXC('PROJECT BENCHMARKS'!$J$2:$J$658,0.6),3,IF(D11/D12<=_xlfn.PERCENTILE.EXC('PROJECT BENCHMARKS'!$J$2:$J$658,0.8),4,5))))","v":{"$error":"#DIV/0!"}}]
[null,"Input needed","Annual  tCO2e reduced or avoided by activities",{"$f":"'Input Sheet'!E72","v":0}]
[null,"Input needed","Annual tCO2 emitted by countries selected",{"$f":"SUMPRODUCT('Input Sheet'!E26:E65,'Input Sheet'!H26:H65)","v":0}]
[null,"Sub-indicator",{"$f":"'Input Sheet'!C73","v":"Is a robust estimate of baseline emissions (i.e. the avoided emissions, or counterfactual emissions trajectory that would be expected to occur in the absence of the project) provided? "},null,{"$f":"IF(D14=\"YES\",1+IF(D15=\"YES\",1+IF(D16=\"YES\",1,0),0),0)","v":0}]
[null,"Input needed",{"$f":"'Input Sheet'!C74","v":"Estimate of baseline emissions / avoided emissions is provided"},{"$f":"'Input Sheet'!D74","v":0}]
[null,"Input needed",{"$f":"'Input Sheet'!C75","v":"Estimate is based on best practices, protocols or methodologies (e.g. IPCC, CDM)"},{"$f":"'Input Sheet'!D75","v":0}]
[null,"Input needed",{"$f":"'Input Sheet'!C76","v":"Evidence/literature is provided which backs up a realistic and credible baseline scenario involving similar output/services (e.g. cement, electricity) in quality/properties, and application areas, which are currently implemented or expected to be introduced"},{"$f":"'Input Sheet'!D76","v":0}]
[null,"Sub-indicator",{"$f":"'Input Sheet'!C77","v":"Is a robust estimate of the amount CO2e emitted by the project provided (this includes emissions generated and induced by the project e.g. emissions from the use of efficient electric equipment, emissions from construction of power plant, emissions from operations, emissions generated elsewhere due to leakage)? "},null,{"$f":"IF(D18=\"YES\",1+IF(D19=\"YES\",1+IF(COUNTIF(D20:D21,\"YES\")>0,1,0),0),0)","v":0}]
[null,"Input needed",{"$f":"'Input Sheet'!C78","v":"Estimate of the amount of CO2e emitted by the project, or a rationale for the exclusion of this assessment is provided"},{"$f":"'Input Sheet'!D78","v":0}]
[null,"Input needed",{"$f":"'Input Sheet'!C79","v":"…the above follows the guidelines of reliable best practices, protocols or methodologies (e.g. IPCC, CDM)"},{"$f":"'Input Sheet'!D79","v":0}]
[null,"Input needed",{"$f":"'Input Sheet'!C80","v":"Rebound effect is estimated, or a rationale for its exclusion is provided"},{"$f":"'Input Sheet'!D80","v":0}]
[null,"Input needed",{"$f":"'Input Sheet'!C81","v":"Carbon leakage is estimated, or a rationale for its exclusion is provided"},{"$f":"'Input Sheet'!D81","v":0}]
[null,"Sub-indicator",{"$f":"'Input Sheet'!C82","v":"Does the FP include a monitoring plan to measure and demonstrate achieved emissions reductions ex-post?"},null,{"$f":"IF(D23=\"yes\",1,0)","v":0}]
[null,"Input needed","Yes or not",{"$f":"'Input Sheet'!D82","v":0}]
[null,"Sub-criterion","2/31 - Contribution to increased climate-resilient sustainable development for most vulnerable people and communities",null,null,null,null,{"$f":"IFERROR(F25,1)","v":1}]
[null,"Indicator","1 - Expected number of beneficiaries",null,null,{"$f":"MIN(MAX(E26,E29),1+SUM(E32,E36,E40)*4/7)","v":{"$error":"#DIV/0!"}},null,"changed to 1"]
[null,"Sub-indicator","(Expected total number of beneficiaries)/(Adaptation share of total financing)",null,{"$f":"IF(D27/D28<=_xlfn.PERCENTILE.EXC('PROJECT BENCHMARKS'!$G$2:$G$658,0.2),1,IF(D27/D28<=_xlfn.PERCENTILE.EXC('PROJECT BENCHMARKS'!$G$2:$G$658,0.4),2,IF(D27/D28<=_xlfn.PERCENTILE.EXC('PROJECT BENCHMARKS'!$G$2:$G$658,0.6),3,IF(D27/D28<=_xlfn.PERCENTILE.EXC('PROJECT BENCHMARKS'!$G$2:$G$658,0.8),4,5))))","v":{"$error":"#DIV/0!"}}]
[null,"Input needed","Expected total number of beneficiaries",{"$f":"'Input Sheet'!E86","v":0}]
[null,"Input needed","Adaptation share of total project financing",{"$f":"SUM('Input Sheet'!E8:E9)*SUM('Input Sheet'!E17:E20)","v":0}]
[null,"Sub-indicator","(Expected total number of beneficiaries)/(Country's total population)",null,{"$f":"IF(D27/D31<=_xlfn.PERCENTILE.EXC('PROJECT BENCHMARKS'!$K$2:$K$658,0.2),1,IF(D27/D31<=_xlfn.PERCENTILE.EXC('PROJECT BENCHMARKS'!$K$2:$K$658,0.4),2,IF(D27/D31<=_xlfn.PERCENTILE.EXC('PROJECT BENCHMARKS'!$K$2:$K$658,0.6),3,IF(D27/D31<=_xlfn.PERCENTILE.EXC('PROJECT BENCHMARKS'!$K$2:$K$658,0.8),4,5))))","v":{"$error":"#DIV/0!"}}]
[null,"Input needed","Expected total number of beneficiaries",{"$f":"'Input Sheet'!E86","v":0}]
[null,"Input needed","Country population selected",{"$f":"SUMPRODUCT('Input Sheet'!E26:E65,'Input Sheet'!K26:K65)","v":0}]
[null,"Sub-indicator",{"$f":"'Input Sheet'!C87","v":"Does the proposed project or program clearly set out its climate-change vulnerability context (i.e. the specific risks and vulnerabilities under current and future conditions of climate change that the project or program aims to address)?"},null,{"$f":"IF(D33=\"YES\",1+IF(D34=\"YES\",1+IF(D35=\"YES\",1+IF(D36=\"YES\",1,0),0),0),0)","v":0}]
[null,"Input needed",{"$f":"'Input Sheet'!C88","v":"Climate vulnerability context considers observed historic climate trends and  expected future climate change"},{"$f":"'Input Sheet'!D88","v":0}]
[null,"Input needed",{"$f":"'Input Sheet'!C89","v":"Climate vulnerability context uses geographic and temporal scales which are appropriate for the project considering both slow-onset climate-related hazards  and rapid-onset climate-related hazards "},{"$f":"'Input Sheet'!D89","v":0}]
[null,"Input needed",{"$f":"'Input Sheet'!C90","v":"Impact of climate hazards to the target geography is demonstrated / quantified (in terms of loss of lives, or value of physical assets livelihoods, value of social and cultural assets)"},{"$f":"'Input Sheet'!D90","v":0}]
[null,"Sub-indicator",{"$f":"'Input Sheet'!C91","v":"Does the proposed project or program articulate a clear causality link between specific activities and its objective of reducing vulnerability to climate change? "},null,{"$f":"IF(D37=\"YES\",1+IF(D38=\"YES\",1+IF(D39=\"YES\",1+IF(D40=\"YES\",1,0),0),0),0)","v":0}]
[null,"Input needed",{"$f":"'Input Sheet'!C92","v":"The proposed project or program makes an explicit statement of its intent to reduce climate vulnerability "},{"$f":"'Input Sheet'!D92","v":0}]
[null,"Input needed",{"$f":"'Input Sheet'!C93","v":"The proposed project provides a clear description of the causality link between specific activities and adjustments needed to reduce climate vulnerability for targeted beneficiaries"},{"$f":"'Input Sheet'!D93","v":0}]
[null,"Input needed",{"$f":"'Input Sheet'!C94","v":"These links are demonstrated / quantified using reliable data and evidence"},{"$f":"'Input Sheet'!D94","v":0}]
[null,"Sub-indicator",{"$f":"'Input Sheet'!C95","v":"Does the FP include a monitoring plan to measure and demonstrate achieved adaptation targets ex-post?"},null,{"$f":"IF(D41=\"yes\",1,0)","v":0}]
[null,"Input needed","Yes or not",{"$f":"'Input Sheet'!D95","v":0}]
[]
[]
[]
[null,"PARADIGM SHIFT"]
[null,"Level of analysis","Indicators","Input","Output (sub-indicator)","Output (indicator)",null,"Output (sub-criterion)"]
[null,"Sub-criterion","3/31 - Innovation",null,null,null,null,{"$f":"F48","v":1}]
[null,"Indicator","1 - Innovation checklist",null,null,{"$f":"MAX(E49,E54)","v":1}]
[null,"Sub-indicator","1.  Based on the evidence provided in the FP, and/or at the best of your knowledge, does the proposed project/program introduce a technical innovation (new unproven technologies, new processes, new modal shifts) that did not previously exist in the region/market of reference? Does the proposed technical innovation address impact needs (mitigation or if applicable adaptation) that can’t be met by alternative available options in the target region/market?",null,{"$f":"MIN(IF(AND(D50=\"NO\",D51=\"NO\"),5,IF(OR(D50=\"YES\",D50=\"Do not know\",D50=0),1,IF(OR(D51=\"YES\",D51=\"Do not know\",D51=0),3,1)))+IF(OR(D50=\"YES\",AND(D50=\"NO\",D51=\"YES\")),IF(D52=\"<= 1 year\",1,0),0),IF(D53=\"NO\",5,IF(D53=\"YES but it is more efficient/effective than alternatives\",3,1)))","v":1}]
[null,"Input needed","The technical innovation claimed by the FP has been observed at scale, namely been implemented, adopted or made available at market rates to potential users in the target region/market",{"$f":"'Input Sheet'!D102","v":0}]
[null,"Input needed","The technical innovation claimed by the FP has been piloted or tested in the target region/market (or at least one pilot exists, including pilots run by other entities)",{"$f":"'Input Sheet'!D103","v":0}]
[null,"Input needed","For how long has the technical innovation claimed been piloted or tested?",{"$f":"'Input Sheet'!D104","v":0}]
[null,"Input needed","The technical innovation claimed addresses impact needs (mitigation or if applicable adaptation) that can be addressed by alternative available options in the target region/market",{"$f":"'Input Sheet'!D105","v":0}]
[null,"Sub-indicator","2. Based on the evidence provided in the FP, and/or at the best of your knowledge, does the proposed project/program introduce a business innovation (new business models, financial instruments, organizational processes) that did not previously exist in the market/region of reference? Does the proposed business innovation address barriers that can’t be met by alternative available options in the target region?",null,{"$f":"MIN(IF(AND(D55=\"NO\",D56=\"NO\"),5,IF(OR(D55=\"YES\",D55=\"Do not know\",D55=0),1,IF(OR(D56=\"YES\",D56=\"Do not know\",D56=0),3,1)))+IF(OR(D55=\"YES\",AND(D55=\"NO\",D56=\"YES\")),IF(D57=\"<= 1 year\",1,0),0),D58)","v":1}]
[null,"Input needed","The business innovation claimed by the FP has been observed at scale, namely been implemented, adopted or made available at market rates to potential users in the target region/market",{"$f":"'Input Sheet'!D107","v":0}]
[null,"Input needed","The business innovation claimed by the FP has been piloted or tested in the target region/market (or at least one pilot exists, including pilots run by other entities)",{"$f":"'Input Sheet'!D108","v":0}]
[null,"Input needed","For how long has the business innovation claimed been piloted or tested?",{"$f":"'Input Sheet'!D109","v":0}]
[null,"Input needed","The business innovation claimed addresses barriers that can be addressed by alternative available options in the target region/market",{"$f":"F250","v":1}]
[null,"Sub-criterion","5/31 - Potential for expanding the scale and impact of the proposed programme or project (scalability)",null,null,null,null,{"$f":"F60","v":1}]
[null,"Indicator","1 - Scalability score",null,null,{"$f":"1+((E61+E63+E65+E69)*4/12)","v":1}]
[null,"Sub-indicator","1. Does the proposed project or program explicitly identify target sectors for scaling up (e.g. the whole sector or all sectors of the national economy)? ",null,{"$f":"IF(D62=\"yes\",3,0)","v":0}]
[null,"Input needed","Yes or not",{"$f":"'Input Sheet'!D114","v":0}]
[null,"Sub-indicator","2. Does the proposed project or program provide evidence of the existence of market demand for sectors targeted for scaling up from existing studies / surveys / literature? ",null,{"$f":"IF(D64=\"yes\",3,0)","v":0}]
[null,"Input needed","Yes or not",{"$f":"'Input Sheet'!D115","v":0}]
[null,"Sub-indicator",{"$f":"'Input Sheet'!C116","v":"Does the proposed project provide an estimate of the size of the target market to be scaled up (in size of investment or size of activity)?"},null,{"$f":"IF(D66=\"YES\",1+IF(D67=\"YES\",1+IF(D68=\"YES\",1,0),0),0)","v":0}]
[null,"Input needed",{"$f":"'Input Sheet'!C117","v":"The proposed project or program provides an estimate of the target market at scale (in size of investment or size of activity) and a timeframe for it (e.g. short, medium and long-term)"},{"$f":"'Input Sheet'!D117","v":0}]
[null,"Input needed",{"$f":"'Input Sheet'!C118","v":"Estimate provided includes a rationale demonstrating the significance of such scale in the context of reference (sector/investor)"},{"$f":"'Input Sheet'!D118","v":0}]
[null,"Input needed",{"$f":"'Input Sheet'!C119","v":"Estimates of both scale and its significance are both backed by evidence (existing studies, data, literature)"},{"$f":"'Input Sheet'!D119","v":0}]
[null,"Sub-indicator",{"$f":"'Input Sheet'!C120","v":"Does the proposed project or program clearly set out the short, medium and long-term changes, during or after project implementation, to expand its scope and impact without increasing its costs? "},null,{"$f":"IF(D70=\"yes\",COUNTIF(D70:D72,\"yes\"),0)","v":0}]
[null,"Input needed","The proposed project or program sets out changes necessary to expand its scope and impact",{"$f":"'Input Sheet'!D121","v":0}]
[null,"Input needed","The proposed project provides details on short, medium and long-term milestones  to achieve that ",{"$f":"'Input Sheet'!D122","v":0}]
[null,"Input needed","The proposed project provides evidence of being able to do so without increasing its costs.",{"$f":"'Input Sheet'!D123","v":0}]
[null,"Sub-criterion","7/31 - Contribution to the creation or strengthening of knowledge, collective learning",null,null,null,null,{"$f":"F74","v":1}]
[null,"Indicator","1 - Creation and diffusion of knowledge",null,null,{"$f":"1+((E75+E82+E77+E79)*4/5)","v":1}]
[null,"Sub-indicator",{"$f":"'Input Sheet'!C127","v":"Does the proposed project or program  provide evidence of improving/advancing the general technical understanding  in a field relevant to the proposed intervention? "},null,{"$f":"IF(D76=\"yes\",1,0)","v":0}]
[null,"Input needed","Yes or not",{"$f":"'Input Sheet'!D127","v":0}]
[null,"Sub-indicator",{"$f":"'Input Sheet'!C128","v":"Does the proposed project or program include mechanisms to strengthen cooperation between partner organizations responsible for implementing the activities of the proposed project or program?"},null,{"$f":"IF(D78=\"yes\",1,0)","v":0}]
[null,"Input needed","Yes or not",{"$f":"'Input Sheet'!D128","v":0}]
[null,"Sub-indicator",{"$f":"'Input Sheet'!C129","v":"Does the proposed project or program clearly set out learning exchanges or institutional knowledge  sharing activities between organizations partnering in the project and beyond? "},null,{"$f":"IF(D80=\"yes\",COUNTIF(D80:D81,\"yes\"),0)","v":0}]
[null,"Input needed",{"$f":"'Input Sheet'!C130","v":"The proposed project or program provides a description of the learning exchanges between partner organizations and other entities"},{"$f":"'Input Sheet'!D130","v":0}]
[null,"Input needed",{"$f":"'Input Sheet'!C131","v":"Roles and responsibilities and implementation modalities are clearly defined"},{"$f":"'Input Sheet'!D131","v":0}]
[null,"Sub-indicator",{"$f":"'Input Sheet'!C132","v":"Does the proposed project or program include details for a plan for the monitoring and evaluation of knowledge creation/spreading? "},null,{"$f":"IF(D83=\"yes\",1,0)","v":0}]
[null,"Input needed","Yes or not",{"$f":"'Input Sheet'!D132","v":0}]
[null,"Sub-criterion","8/31 - Sustainability of outcomes and results beyond completion of the intervention",null,null,null,null,{"$f":"F85","v":1}]
[null,"Indicator","1 - Financial sustainability in the long term",null,null,{"$f":"E86","v":1}]
[null,"Sub-indicator","Proxy for financial sustainability",null,{"$f":"D87","v":1}]
[null,"Input needed",{"$f":"'Input Sheet'!B135","v":"Data entry to be covered by subcriterion 30/31 \"Financial viability in the long run\""},{"$f":"H385","v":1}]
[null,"Sub-criterion","9/31 - Market development and transformation",null,null,null,null,{"$f":"F89","v":1}]
[null,"Indicator","1 - Market creation at national, local or sectoral level.",null,null,{"$f":"1+((E90+E92))","v":1}]
[null,"Sub-indicator","1. Does the project or program provide evidence that skills are introduced in the job market at national, local, or sectoral levels? (e.g. with the creation of long-term training facilities, universities, etc.). ",null,{"$f":"IF(D91=\"yes\",1,0)","v":0}]
[null,"Input needed","Yes or not",{"$f":"'Input Sheet'!D139","v":0}]
[null,"Sub-indicator","2. Does the project or program provide evidence of the creation at national, local or sectoral level of new business activities (e.g. companies, funds, equipment suppliers, suppliers, insurers, service providers, engineering companies) previously not existing in the market?  ",null,{"$f":"IF(D93=\"yes\",IF(D94=\"no\",1,IF(D95=\"yes\",3,2)),0)","v":0}]
[null,"Input needed","The proposed project or program provides evidence that the market is transformed  by expanding capacity and knowledge within existing businesses at the local, national, or sectoral level to carry out new business activities",{"$f":"'Input Sheet'!D141","v":0}]
[null,"Input needed","The proposed project or program provide evidence that additional (net) jobs are created as result of these activities.",{"$f":"'Input Sheet'!D142","v":0}]
[null,"Input needed","The proposed project or program provide evidence that market is transformed with the creation of new businesses at the local, national, or sectoral level",{"$f":"'Input Sheet'!D143","v":0}]
[null,"Sub-criterion","10/31 - Potential for strengthened regulatory frameworks and policies to drive investment in low-emission technologies and activities, promote development of additional low-emission policies, and/or improve climate-responsive planning and development",null,null,null,null,{"$f":"F97","v":1.8}]
[null,"Indicator","1 - Contribution to mainstream and systematically promote climate change within regulatory framework and policies",null,null,{"$f":"1+((E98+E100+E102+E104+E106)*4/5)","v":1.8}]
[null,"Sub-indicator",{"$f":"'Input Sheet'!C147","v":"Does the project or program clearly describe (e.g. by defining milestones) how it will actively encourage (i.e. through awareness-raising, lobbying, campaigning, facilitating stakeholder dialogue, capacity building) regulatory entities (national and local government entities, regulatory agencies) to consider climate change, and low-carbon/climate resilient development as a priority (i.e. by achieving senior level commitment, setting targets on the issue, updating their risk management frameworks) in the strategies, policies and frameworks they are responsible for)? "},null,{"$f":"IF(D99=\"yes\",1,0)","v":1}]
[null,"Input needed","Yes or not",{"$f":"'Input Sheet'!D147","v":"YES"}]
[null,"Sub-indicator",{"$f":"'Input Sheet'!C148","v":"Does the project or program clearly describe (e.g. by defining milestones) how it will contribute (i.e. providing information on/support to identify the climate adaptation and/or mitigation measures to implement) to the enactment of legally binding provisions (i.e. financial/fiscal incentives, drafting of codes) that systemically promote investment in low-emission and/or climate-resilient development (e.g. through the integration of climate change considerations into relevant budgetary frameworks at national, subnational and sectoral levels)? "},null,{"$f":"IF(D101=\"yes\",1,0)","v":0}]
[null,"Input needed","Yes or not",{"$f":"'Input Sheet'!D148","v":0}]
[null,"Sub-indicator",{"$f":"'Input Sheet'!C149","v":"Does the project or program clearly describe (e.g. by defining milestones) how it will contribute (i.e. providing information on/support to identify the climate adaptation and/or mitigation measures to implement) to increased transparency in the reporting of climate action progress (e.g. including tracking of policies or financing towards clean energy, energy efficiency, climate resilience or other climate-related activities and investments) ?"},null,{"$f":"IF(D103=\"yes\",1,0)","v":0}]
[null,"Input needed","Yes or not",{"$f":"'Input Sheet'!D149","v":0}]
[null,"Sub-indicator",{"$f":"'Input Sheet'!C150","v":"Does the project actively encourage regulatory changes that would enable and facilitate the survival of the proposed activities in the long-term OR the scale up and/or replication of the proposed activities?"},null,{"$f":"IF(D105=\"yes\",1,0)","v":0}]
[null,"Input needed","Yes or not",{"$f":"'Input Sheet'!D150","v":0}]
[null,"Sub-indicator",{"$f":"'Input Sheet'!C151","v":"Does the project or program clearly describe how the implementation of the legally binding provisions (climate action) will be monitored and evaluated (M&E) (transparency of the M&E process, reporting frequency)? "},null,{"$f":"IF(D107=\"yes\",1,0)","v":0}]
[null,"Input needed","Yes or not",{"$f":"'Input Sheet'!D151","v":0}]
[]
[null,"SUSTAINABLE DEVELOPMENT POTENTIAL"]
[null,"Level of analysis","Indicators","Input","Output (sub-indicator)","Output (indicator)",null,"Output (sub-criterion)"]
[null,"Sub-criterion","13/31 - Expected positive environmental impacts, including in other result areas of the Fund, and/or in line with the priorities set at the national, local or sectoral level, as appropriate",null,null,null,null,{"$f":"F112","v":1}]
[null,"Indicator","1 - Extent of environmental co-benefits",null,null,{"$f":"MAX(1,IFERROR((SUM(E113,E121,E129,E137,E145)/COUNT(E113,E121,E129,E137,E145)),0))","v":1}]
[null,"Sub-indicator",{"$f":"'Input Sheet'!C157","v":"Does the proposed project or program provide net improvement in the quality of air (e.g. reduced air pollution), compared to the likely situation without the project?"},null,{"$f":"IF(D114=\"NO\",\"\",IF(OR(D115=\"NO\",AND(D115<>\"NO\",D116=\"YES\")),1+IF(D117=\"YES\",1+COUNTIF(D118:D120,\"YES\"),0),-1))","v":-1}]
[null,"Input needed",{"$f":"'Input Sheet'!C158","v":"The dimension is relevant for/applicable to the project or program as per GCF assessment"},{"$f":"'Input Sheet'!D158","v":0}]
[null,"Input needed",{"$f":"'Input Sheet'!C159","v":"Based on information in the FP, or as per GCF assessment, the project produces NEGATIVE IMPACTS in relation to the dimension examined"},{"$f":"'Input Sheet'!D159","v":0}]
[null,"Input needed",{"$f":"'Input Sheet'!C160","v":"Based on information in the FP, evidence/documentation is provided that a PLAN is in place to entirely offset such negative impacts"},{"$f":"'Input Sheet'!D160","v":0}]
[null,"Input needed",{"$f":"'Input Sheet'!C161","v":"The proposed project or program provides a DESCRIPTION of long-term NET POSITIVE impacts in the dimension examined"},{"$f":"'Input Sheet'!D161","v":0}]
[null,"Input needed",{"$f":"'Input Sheet'!C162","v":"Based on information in the FP, or as per GCF assessment, net positive impacts can be considered SIGNIFICANT and ALIGNED with priorities at the national, local or sectoral level"},{"$f":"'Input Sheet'!D162","v":0}]
[null,"Input needed",{"$f":"'Input Sheet'!C163","v":"Potential net positive impacts are ESTIMATED using peer-reviewed METHODOLOGIES as a frame of reference and the COUNTERFACTUAL / BASELINE is supported by EVIDENCE / DOCUMENTATION"},{"$f":"'Input Sheet'!D163","v":0}]
[null,"Input needed",{"$f":"'Input Sheet'!C164","v":"The FP includes a MONITORING PLAN to measure and demonstrate net positive impacts ex-post"},{"$f":"'Input Sheet'!D164","v":0}]
[null,"Input needed",{"$f":"'Input Sheet'!C165","v":"Does the proposed project or program provide net improvement in the quality of water (e.g. reduced water pollution/contamination), compared to the likely situation without the project?  "},null,{"$f":"IF(D122=\"NO\",\"\",IF(OR(D123=\"NO\",AND(D123<>\"NO\",D124=\"YES\")),1+IF(D125=\"YES\",1+COUNTIF(D126:D128,\"YES\"),0),-1))","v":-1}]
[null,"Input needed",{"$f":"'Input Sheet'!C166","v":"The dimension is relevant for/applicable to the project or program as per GCF assessment"},{"$f":"'Input Sheet'!D166","v":0}]
[null,"Input needed",{"$f":"'Input Sheet'!C167","v":"Based on information in the FP, or as per GCF assessment, the project produces NEGATIVE IMPACTS in relation to the dimension examined"},{"$f":"'Input Sheet'!D167","v":0}]
[null,"Input needed",{"$f":"'Input Sheet'!C168","v":"Based on information in the FP, evidence/documentation is provided that a PLAN is in place to entirely offset such negative impacts"},{"$f":"'Input Sheet'!D168","v":0}]
[null,"Input needed",{"$f":"'Input Sheet'!C169","v":"The proposed project or program provides a DESCRIPTION of long-term NET POSITIVE impacts in the dimension examined"},{"$f":"'Input Sheet'!D169","v":0}]
[null,"Input needed",{"$f":"'Input Sheet'!C170","v":"Based on information in the FP, or as per GCF assessment, net positive impacts can be considered SIGNIFICANT and ALIGNED with priorities at the national, local or sectoral level"},{"$f":"'Input Sheet'!D170","v":0}]
[null,"Input needed",{"$f":"'Input Sheet'!C171","v":"Potential net positive impacts are ESTIMATED using peer-reviewed METHODOLOGIES as a frame of reference and the COUNTERFACTUAL / BASELINE is supported by EVIDENCE / DOCUMENTATION"},{"$f":"'Input Sheet'!D171","v":0}]
[null,"Input needed",{"$f":"'Input Sheet'!C172","v":"The FP includes a MONITORING PLAN to measure and demonstrate net positive impacts ex-post"},{"$f":"'Input Sheet'!D172","v":0}]
[null,"Input needed",{"$f":"'Input Sheet'!C173","v":"Does the proposed project or program provide net improvement in the quality of land (e.g. reduced land pollution), compared to the likely situation without the project?"},null,{"$f":"IF(D130=\"NO\",\"\",IF(OR(D131=\"NO\",AND(D131<>\"NO\",D132=\"YES\")),1+IF(D133=\"YES\",1+COUNTIF(D134:D136,\"YES\"),0),-1))","v":-1}]
[null,"Input needed",{"$f":"'Input Sheet'!C174","v":"The dimension is relevant for/applicable to the project or program as per GCF assessment"},{"$f":"'Input Sheet'!D174","v":0}]
[null,"Input needed",{"$f":"'Input Sheet'!C175","v":"Based on information in the FP, or as per GCF assessment, the project produces NEGATIVE IMPACTS in relation to the dimension examined"},{"$f":"'Input Sheet'!D175","v":0}]
[null,"Input needed",{"$f":"'Input Sheet'!C176","v":"Based on information in the FP, evidence/documentation is provided that a PLAN is in place to entirely offset such negative impacts"},{"$f":"'Input Sheet'!D176","v":0}]
[null,"Input needed",{"$f":"'Input Sheet'!C177","v":"The proposed project or program provides a DESCRIPTION of long-term NET POSITIVE impacts in the dimension examined"},{"$f":"'Input Sheet'!D177","v":0}]
[null,"Input needed",{"$f":"'Input Sheet'!C178","v":"Based on information in the FP, or as per GCF assessment, net positive impacts can be considered SIGNIFICANT and ALIGNED with priorities at the national, local or sectoral level"},{"$f":"'Input Sheet'!D178","v":0}]
[null,"Input needed",{"$f":"'Input Sheet'!C179","v":"Potential net positive impacts are ESTIMATED using peer-reviewed METHODOLOGIES as a frame of reference and the COUNTERFACTUAL / BASELINE is supported by EVIDENCE / DOCUMENTATION"},{"$f":"'Input Sheet'!D179","v":0}]
[null,"Input needed",{"$f":"'Input Sheet'!C180","v":"The FP includes a MONITORING PLAN to measure and demonstrate net positive impacts ex-post"},{"$f":"'Input Sheet'!D180","v":0}]
[null,"Input needed",{"$f":"'Input Sheet'!C181","v":"Does the proposed project or program provide net improvement in the efficient and sustainable use of living natural resources and/or ecosystem services, compared to the likely situation without the project?"},null,{"$f":"IF(D138=\"NO\",\"\",IF(OR(D139=\"NO\",AND(D139<>\"NO\",D140=\"YES\")),1+IF(D141=\"YES\",1+COUNTIF(D142:D144,\"YES\"),0),-1))","v":-1}]
[null,"Input needed",{"$f":"'Input Sheet'!C182","v":"The dimension is relevant for/applicable to the project or program as per GCF assessment"},{"$f":"'Input Sheet'!D182","v":0}]
[null,"Input needed",{"$f":"'Input Sheet'!C183","v":"Based on information in the FP, or as per GCF assessment, the project produces NEGATIVE IMPACTS in relation to the dimension examined"},{"$f":"'Input Sheet'!D183","v":0}]
[null,"Input needed",{"$f":"'Input Sheet'!C184","v":"Based on information in the FP, evidence/documentation is provided that a PLAN is in place to entirely offset such negative impacts"},{"$f":"'Input Sheet'!D184","v":0}]
[null,"Input needed",{"$f":"'Input Sheet'!C185","v":"The proposed project or program provides a DESCRIPTION of long-term NET POSITIVE impacts in the dimension examined"},{"$f":"'Input Sheet'!D185","v":0}]
[null,"Input needed",{"$f":"'Input Sheet'!C186","v":"Based on information in the FP, or as per GCF assessment, net positive impacts can be considered SIGNIFICANT and ALIGNED with priorities at the national, local or sectoral level"},{"$f":"'Input Sheet'!D186","v":0}]
[null,"Input needed",{"$f":"'Input Sheet'!C187","v":"Potential net positive impacts are ESTIMATED using peer-reviewed METHODOLOGIES as a frame of reference and the COUNTERFACTUAL / BASELINE is supported by EVIDENCE / DOCUMENTATION"},{"$f":"'Input Sheet'!D187","v":0}]
[null,"Input needed",{"$f":"'Input Sheet'!C188","v":"The FP includes a MONITORING PLAN to measure and demonstrate net positive impacts ex-post"},{"$f":"'Input Sheet'!D188","v":0}]
[null,"Input needed",{"$f":"'Input Sheet'!C189","v":"Does the proposed project or program provide net improvement in biodiversity, compared to the likely situation without the project? "},null,{"$f":"IF(D146=\"NO\",\"\",IF(OR(D147=\"NO\",AND(D147<>\"NO\",D148=\"YES\")),1+IF(D149=\"YES\",1+COUNTIF(D150:D152,\"YES\"),0),-1))","v":-1}]
[null,"Input needed",{"$f":"'Input Sheet'!C190","v":"The dimension is relevant for/applicable to the project or program as per GCF assessment"},{"$f":"'Input Sheet'!D190","v":0}]
[null,"Input needed",{"$f":"'Input Sheet'!C191","v":"Based on information in the FP, or as per GCF assessment, the project produces NEGATIVE IMPACTS in relation to the dimension examined"},{"$f":"'Input Sheet'!D191","v":0}]
[null,"Input needed",{"$f":"'Input Sheet'!C192","v":"Based on information in the FP, evidence/documentation is provided that a PLAN is in place to entirely offset such negative impacts"},{"$f":"'Input Sheet'!D192","v":0}]
[null,"Input needed",{"$f":"'Input Sheet'!C193","v":"The proposed project or program provides a DESCRIPTION of long-term NET POSITIVE impacts in the dimension examined"},{"$f":"'Input Sheet'!D193","v":0}]
[null,"Input needed",{"$f":"'Input Sheet'!C194","v":"Based on information in the FP, or as per GCF assessment, net positive impacts can be considered SIGNIFICANT and ALIGNED with priorities at the national, local or sectoral level"},{"$f":"'Input Sheet'!D194","v":0}]
[null,"Input needed",{"$f":"'Input Sheet'!C195","v":"Potential net positive impacts are ESTIMATED using peer-reviewed METHODOLOGIES as a frame of reference and the COUNTERFACTUAL / BASELINE is supported by EVIDENCE / DOCUMENTATION"},{"$f":"'Input Sheet'!D195","v":0}]
[null,"Input needed",{"$f":"'Input Sheet'!C196","v":"The FP includes a MONITORING PLAN to measure and demonstrate net positive impacts ex-post"},{"$f":"'Input Sheet'!D196","v":0}]
[null,"Sub-criterion","14/31 - Expected positive social and health impacts, including in other result areas of the Fund, and/or in line with the priorities set at the national, local or sectoral level, as appropriate",null,null,null,null,{"$f":"F154","v":1}]
[null,"Indicator","1 - Extent of social and health co-benefits",null,null,{"$f":"MAX(1,IFERROR((SUM(E155,E163,E171,E179)/COUNT(E155,E163,E171,E179)),0))","v":1}]
[null,"Sub-indicator",{"$f":"'Input Sheet'!C200","v":"Does the proposed project or program provide a net positive impact on health, safety and security (including disease prevention, reducing accidents, reducing crime, preserving food, reducing health damaging indoor air pollution, enhancing health services, improving sanitation and waste management and other health and safety improvement), compared to the likely situation without the project?"},null,{"$f":"IF(D156=\"NO\",\"\",IF(OR(D157=\"NO\",AND(D157<>\"NO\",D158=\"YES\")),1+IF(D159=\"YES\",1+COUNTIF(D160:D162,\"YES\"),0),-1))","v":-1}]
[null,"Input needed",{"$f":"'Input Sheet'!C201","v":"The dimension is relevant for/applicable to the project or program as per GCF assessment"},{"$f":"'Input Sheet'!D201","v":0}]
[null,"Input needed",{"$f":"'Input Sheet'!C202","v":"Based on information in the FP, or as per GCF assessment, the project produces NEGATIVE IMPACTS in relation to the dimension examined"},{"$f":"'Input Sheet'!D202","v":0}]
[null,"Input needed",{"$f":"'Input Sheet'!C203","v":"Based on information in the FP, evidence/documentation is provided that a PLAN is in place to entirely offset such negative impacts"},{"$f":"'Input Sheet'!D203","v":0}]
[null,"Input needed",{"$f":"'Input Sheet'!C204","v":"The proposed project or program provides a DESCRIPTION of long-term NET POSITIVE impacts in the dimension examined"},{"$f":"'Input Sheet'!D204","v":0}]
[null,"Input needed",{"$f":"'Input Sheet'!C205","v":"Based on information in the FP, or as per GCF assessment, net positive impacts can be considered SIGNIFICANT and ALIGNED with priorities at the national, local or sectoral level"},{"$f":"'Input Sheet'!D205","v":0}]
[null,"Input needed",{"$f":"'Input Sheet'!C206","v":"Potential net positive impacts are ESTIMATED using peer-reviewed METHODOLOGIES as a frame of reference and the COUNTERFACTUAL / BASELINE is supported by EVIDENCE / DOCUMENTATION"},{"$f":"'Input Sheet'!D206","v":0}]
[null,"Input needed",{"$f":"'Input Sheet'!C207","v":"The FP includes a MONITORING PLAN to measure and demonstrate net positive impacts ex-post"},{"$f":"'Input Sheet'!D207","v":0}]
[null,"Sub-indicator",{"$f":"'Input Sheet'!C208","v":"Does the proposed project or program provide net positive impacts on communities facing land acquisition and involuntary resettlement (including avoiding expropriation or negotiated resettlement, improving land rights and land use rights, improving access to traditional natural resources and communal property, appropriate compensation, concerted resettlement plan), compared to the likely situation without the project?"},null,{"$f":"IF(D164=\"NO\",\"\",IF(OR(D165=\"NO\",AND(D165<>\"NO\",D166=\"YES\")),1+IF(D167=\"YES\",1+COUNTIF(D168:D170,\"YES\"),0),-1))","v":-1}]
[null,"Input needed",{"$f":"'Input Sheet'!C209","v":"The dimension is relevant for/applicable to the project or program as per GCF assessment"},{"$f":"'Input Sheet'!D209","v":0}]
[null,"Input needed",{"$f":"'Input Sheet'!C210","v":"Based on information in the FP, or as per GCF assessment, the project produces NEGATIVE IMPACTS in relation to the dimension examined"},{"$f":"'Input Sheet'!D210","v":0}]
[null,"Input needed",{"$f":"'Input Sheet'!C211","v":"Based on information in the FP, evidence/documentation is provided that a PLAN is in place to entirely offset such negative impacts"},{"$f":"'Input Sheet'!D211","v":0}]
[null,"Input needed",{"$f":"'Input Sheet'!C212","v":"The proposed project or program provides a DESCRIPTION of long-term NET POSITIVE impacts in the dimension examined"},{"$f":"'Input Sheet'!D212","v":0}]
[null,"Input needed",{"$f":"'Input Sheet'!C213","v":"Based on information in the FP, or as per GCF assessment, net positive impacts can be considered SIGNIFICANT and ALIGNED with priorities at the national, local or sectoral level"},{"$f":"'Input Sheet'!D213","v":0}]
[null,"Input needed",{"$f":"'Input Sheet'!C214","v":"Potential net positive impacts are ESTIMATED using peer-reviewed METHODOLOGIES as a frame of reference and the COUNTERFACTUAL / BASELINE is supported by EVIDENCE / DOCUMENTATION"},{"$f":"'Input Sheet'!D214","v":0}]
[null,"Input needed",{"$f":"'Input Sheet'!C215","v":"The FP includes a MONITORING PLAN to measure and demonstrate net positive impacts ex-post"},{"$f":"'Input Sheet'!D215","v":0}]
[null,"Sub-indicator",{"$f":"'Input Sheet'!C216","v":"Does the proposed project or program provide net positive impacts on indigenous peoples, or improved conservation of and/or access to cultural heritage (including preservation of lands occupied by indigenous groups /cultural sites and the protection of national/regional cultural/knowledge-related practice), compared to the likely situation without the project?"},null,{"$f":"IF(D172=\"NO\",\"\",IF(OR(D173=\"NO\",AND(D173<>\"NO\",D174=\"YES\")),1+IF(D175=\"YES\",1+COUNTIF(D176:D178,\"YES\"),0),-1))","v":-1}]
[null,"Input needed",{"$f":"'Input Sheet'!C217","v":"The dimension is relevant for/applicable to the project or program as per GCF assessment"},{"$f":"'Input Sheet'!D217","v":0}]
[null,"Input needed",{"$f":"'Input Sheet'!C218","v":"Based on information in the FP, or as per GCF assessment, the project produces NEGATIVE IMPACTS in relation to the dimension examined"},{"$f":"'Input Sheet'!D218","v":0}]
[null,"Input needed",{"$f":"'Input Sheet'!C219","v":"Based on information in the FP, evidence/documentation is provided that a PLAN is in place to entirely offset such negative impacts"},{"$f":"'Input Sheet'!D219","v":0}]
[null,"Input needed",{"$f":"'Input Sheet'!C220","v":"The proposed project or program provides a DESCRIPTION of long-term NET POSITIVE impacts in the dimension examined"},{"$f":"'Input Sheet'!D220","v":0}]
[null,"Input needed",{"$f":"'Input Sheet'!C221","v":"Based on information in the FP, or as per GCF assessment, net positive impacts can be considered SIGNIFICANT and ALIGNED with priorities at the national, local or sectoral level"},{"$f":"'Input Sheet'!D221","v":0}]
[null,"Input needed",{"$f":"'Input Sheet'!C222","v":"Potential net positive impacts are ESTIMATED using peer-reviewed METHODOLOGIES as a frame of reference and the COUNTERFACTUAL / BASELINE is supported by EVIDENCE / DOCUMENTATION"},{"$f":"'Input Sheet'!D222","v":0}]
[null,"Input needed",{"$f":"'Input Sheet'!C223","v":"The FP includes a MONITORING PLAN to measure and demonstrate net positive impacts ex-post"},{"$f":"'Input Sheet'!D223","v":0}]
[null,"Sub-indicator",{"$f":"'Input Sheet'!C224","v":"Does the proposed project or program provide net improved access to education (enhanced educational services, and other educational benefits), compared to the likely situation without the project?"},null,{"$f":"IF(D180=\"NO\",\"\",IF(OR(D181=\"NO\",AND(D181<>\"NO\",D182=\"YES\")),1+IF(D183=\"YES\",1+COUNTIF(D184:D186,\"YES\"),0),-1))","v":-1}]
[null,"Input needed",{"$f":"'Input Sheet'!C225","v":"The dimension is relevant for/applicable to the project or program as per GCF assessment"},{"$f":"'Input Sheet'!D225","v":0}]
[null,"Input needed",{"$f":"'Input Sheet'!C226","v":"Based on information in the FP, or as per GCF assessment, the project produces NEGATIVE IMPACTS in relation to the dimension examined"},{"$f":"'Input Sheet'!D226","v":0}]
[null,"Input needed",{"$f":"'Input Sheet'!C227","v":"Based on information in the FP, evidence/documentation is provided that a PLAN is in place to entirely offset such negative impacts"},{"$f":"'Input Sheet'!D227","v":0}]
[null,"Input needed",{"$f":"'Input Sheet'!C228","v":"The proposed project or program provides a DESCRIPTION of long-term NET POSITIVE impacts in the dimension examined"},{"$f":"'Input Sheet'!D228","v":0}]
[null,"Input needed",{"$f":"'Input Sheet'!C229","v":"Based on information in the FP, or as per GCF assessment, net positive impacts can be considered SIGNIFICANT and ALIGNED with priorities at the national, local or sectoral level"},{"$f":"'Input Sheet'!D229","v":0}]
[null,"Input needed",{"$f":"'Input Sheet'!C230","v":"Potential net positive impacts are ESTIMATED using peer-reviewed METHODOLOGIES as a frame of reference and the COUNTERFACTUAL / BASELINE is supported by EVIDENCE / DOCUMENTATION"},{"$f":"'Input Sheet'!D230","v":0}]
[null,"Input needed",{"$f":"'Input Sheet'!C231","v":"The FP includes a MONITORING PLAN to measure and demonstrate net positive impacts ex-post"},{"$f":"'Input Sheet'!D231","v":0}]
[null,"Sub-criterion","15/31 - Expected positive economic impacts, including in other result areas of the Fund, and/or in line with the priorities set at the national, local or sectoral level, as appropriate",null,null,null,null,{"$f":"F188","v":1}]
[null,"Indicator","1 - Extent of economic co-benefits",null,null,{"$f":"MAX(1,IFERROR((SUM(E189,E205,E213,E197)/COUNT(E189,E205,E213,E197)),0))","v":1}]
[null,"Sub-indicator",{"$f":"'Input Sheet'!C235","v":"Does the proposed project or program create net income improvement for the target geographies (e.g. through job creation, profit generation, avoided costs), compared to the likely situation without the project? "},null,{"$f":"IF(D190=\"NO\",\"\",IF(OR(D191=\"NO\",AND(D191<>\"NO\",D192=\"YES\")),1+IF(D193=\"YES\",1+COUNTIF(D194:D196,\"YES\"),0),-1))","v":-1}]
[null,"Input needed",{"$f":"'Input Sheet'!C236","v":"The dimension is relevant for/applicable to the project or program as per GCF assessment"},{"$f":"'Input Sheet'!D236","v":0}]
[null,"Input needed",{"$f":"'Input Sheet'!C237","v":"Based on information in the FP, or as per GCF assessment, the project produces NEGATIVE IMPACTS in relation to the dimension examined"},{"$f":"'Input Sheet'!D237","v":0}]
[null,"Input needed",{"$f":"'Input Sheet'!C238","v":"Based on information in the FP, evidence/documentation is provided that a PLAN is in place to entirely offset such negative impacts"},{"$f":"'Input Sheet'!D238","v":0}]
[null,"Input needed",{"$f":"'Input Sheet'!C239","v":"The proposed project or program provides a DESCRIPTION of long-term NET POSITIVE impacts in the dimension examined"},{"$f":"'Input Sheet'!D239","v":0}]
[null,"Input needed",{"$f":"'Input Sheet'!C240","v":"Based on information in the FP, or as per GCF assessment, net positive impacts can be considered SIGNIFICANT and ALIGNED with priorities at the national, local or sectoral level"},{"$f":"'Input Sheet'!D240","v":0}]
[null,"Input needed",{"$f":"'Input Sheet'!C241","v":"Potential net positive impacts are ESTIMATED using peer-reviewed METHODOLOGIES as a frame of reference and the COUNTERFACTUAL / BASELINE is supported by EVIDENCE / DOCUMENTATION"},{"$f":"'Input Sheet'!D241","v":0}]
[null,"Input needed",{"$f":"'Input Sheet'!C242","v":"The FP includes a MONITORING PLAN to measure and demonstrate net positive impacts ex-post"},{"$f":"'Input Sheet'!D242","v":0}]
[null,"Sub-indicator",{"$f":"'Input Sheet'!C243","v":"Does the proposed project or program contribute to poverty alleviation (e.g. decrease in the number of people below the poverty treshold for target countries), compared to the likely situation without the project? "},null,{"$f":"IF(D198=\"NO\",\"\",IF(OR(D199=\"NO\",AND(D199<>\"NO\",D200=\"YES\")),1+IF(D201=\"YES\",1+COUNTIF(D202:D204,\"YES\"),0),-1))","v":-1}]
[null,"Input needed",{"$f":"'Input Sheet'!C244","v":"The dimension is relevant for/applicable to the project or program as per GCF assessment"},{"$f":"'Input Sheet'!D244","v":0}]
[null,"Input needed",{"$f":"'Input Sheet'!C245","v":"Based on information in the FP, or as per GCF assessment, the project produces NEGATIVE IMPACTS in relation to the dimension examined"},{"$f":"'Input Sheet'!D245","v":0}]
[null,"Input needed",{"$f":"'Input Sheet'!C246","v":"Based on information in the FP, evidence/documentation is provided that a PLAN is in place to entirely offset such negative impacts"},{"$f":"'Input Sheet'!D246","v":0}]
[null,"Input needed",{"$f":"'Input Sheet'!C247","v":"The proposed project or program provides a DESCRIPTION of long-term NET POSITIVE impacts in the dimension examined"},{"$f":"'Input Sheet'!D247","v":0}]
[null,"Input needed",{"$f":"'Input Sheet'!C248","v":"Based on information in the FP, or as per GCF assessment, net positive impacts can be considered SIGNIFICANT and ALIGNED with priorities at the national, local or sectoral level"},{"$f":"'Input Sheet'!D248","v":0}]
[null,"Input needed",{"$f":"'Input Sheet'!C249","v":"Potential net positive impacts are ESTIMATED using peer-reviewed METHODOLOGIES as a frame of reference and the COUNTERFACTUAL / BASELINE is supported by EVIDENCE / DOCUMENTATION"},{"$f":"'Input Sheet'!D249","v":0}]
[null,"Input needed",{"$f":"'Input Sheet'!C250","v":"The FP includes a MONITORING PLAN to measure and demonstrate net positive impacts ex-post"},{"$f":"'Input Sheet'!D250","v":0}]
[null,"Sub-indicator",{"$f":"'Input Sheet'!C251","v":"Does the proposed project or program increase availability of physical infrastructure for a wider use than strictly serving the project purposes (e.g. expansion of road network), compared to the likely situation without the project? "},null,{"$f":"IF(D206=\"NO\",\"\",IF(OR(D207=\"NO\",AND(D207<>\"NO\",D208=\"YES\")),1+IF(D209=\"YES\",1+COUNTIF(D210:D212,\"YES\"),0),-1))","v":-1}]
[null,"Input needed",{"$f":"'Input Sheet'!C252","v":"The dimension is relevant for/applicable to the project or program as per GCF assessment"},{"$f":"'Input Sheet'!D252","v":0}]
[null,"Input needed",{"$f":"'Input Sheet'!C253","v":"Based on information in the FP, or as per GCF assessment, the project produces NEGATIVE IMPACTS in relation to the dimension examined"},{"$f":"'Input Sheet'!D253","v":0}]
[null,"Input needed",{"$f":"'Input Sheet'!C254","v":"Based on information in the FP, evidence/documentation is provided that a PLAN is in place to entirely offset such negative impacts"},{"$f":"'Input Sheet'!D254","v":0}]
[null,"Input needed",{"$f":"'Input Sheet'!C255","v":"The proposed project or program provides a DESCRIPTION of long-term NET POSITIVE impacts in the dimension examined"},{"$f":"'Input Sheet'!D255","v":0}]
[null,"Input needed",{"$f":"'Input Sheet'!C256","v":"Based on information in the FP, or as per GCF assessment, net positive impacts can be considered SIGNIFICANT and ALIGNED with priorities at the national, local or sectoral level"},{"$f":"'Input Sheet'!D256","v":0}]
[null,"Input needed",{"$f":"'Input Sheet'!C257","v":"Potential net positive impacts are ESTIMATED using peer-reviewed METHODOLOGIES as a frame of reference and the COUNTERFACTUAL / BASELINE is supported by EVIDENCE / DOCUMENTATION"},{"$f":"'Input Sheet'!D257","v":0}]
[null,"Input needed",{"$f":"'Input Sheet'!C258","v":"The FP includes a MONITORING PLAN to measure and demonstrate net positive impacts ex-post"},{"$f":"'Input Sheet'!D258","v":0}]
[null,"Sub-indicator",{"$f":"'Input Sheet'!C259","v":"Does the proposed project or program determine a net increase in productivity and competitive capacity for the beneficiaries (e.g. through improved resources use, access to services which increase local competitive advantage), compared to the likely situation without the project?"},null,{"$f":"IF(D214=\"NO\",\"\",IF(OR(D215=\"NO\",AND(D215<>\"NO\",D216=\"YES\")),1+IF(D217=\"YES\",1+COUNTIF(D218:D220,\"YES\"),0),-1))","v":-1}]
[null,"Input needed",{"$f":"'Input Sheet'!C260","v":"The dimension is relevant for/applicable to the project or program as per GCF assessment"},{"$f":"'Input Sheet'!D260","v":0}]
[null,"Input needed",{"$f":"'Input Sheet'!C261","v":"Based on information in the FP, or as per GCF assessment, the project produces NEGATIVE IMPACTS in relation to the dimension examined"},{"$f":"'Input Sheet'!D261","v":0}]
[null,"Input needed",{"$f":"'Input Sheet'!C262","v":"Based on information in the FP, evidence/documentation is provided that a PLAN is in place to entirely offset such negative impacts"},{"$f":"'Input Sheet'!D262","v":0}]
[null,"Input needed",{"$f":"'Input Sheet'!C263","v":"The proposed project or program provides a DESCRIPTION of long-term NET POSITIVE impacts in the dimension examined"},{"$f":"'Input Sheet'!D263","v":0}]
[null,"Input needed",{"$f":"'Input Sheet'!C264","v":"Based on information in the FP, or as per GCF assessment, net positive impacts can be considered SIGNIFICANT and ALIGNED with priorities at the national, local or sectoral level"},{"$f":"'Input Sheet'!D264","v":0}]
[null,"Input needed",{"$f":"'Input Sheet'!C265","v":"Potential net positive impacts are ESTIMATED using peer-reviewed METHODOLOGIES as a frame of reference and the COUNTERFACTUAL / BASELINE is supported by EVIDENCE / DOCUMENTATION"},{"$f":"'Input Sheet'!D265","v":0}]
[null,"Input needed",{"$f":"'Input Sheet'!C266","v":"The FP includes a MONITORING PLAN to measure and demonstrate net positive impacts ex-post"},{"$f":"'Input Sheet'!D266","v":0}]
[null,"Sub-criterion",{"$f":"'Input Sheet'!B268","v":"IV - Potential for reduced gender inequalities in climate change impacts and/or equal participation by gender groups in contributing to expected outcomes"},null,null,null,null,{"$f":"F222","v":1}]
[null,"Indicator",{"$f":"'Input Sheet'!B269","v":"Introduction of gender-responsive measures to promote gender equality or gender equity"},null,null,{"$f":"1+SUM(E223,E225,E227,E229,E231,E233)*2/3","v":1}]
[null,"Sub-indicator",{"$f":"'Input Sheet'!C270","v":"Does the proposed project or program include gender-responsive measures  that aim to address gender inequalities  in decision-making participation (including inclusion of women in decision-making governance structures at all levels from community to national-level)?"},null,{"$f":"IF(D224=\"yes\",1,0)","v":0}]
[null,"Input needed","Yes or not",{"$f":"'Input Sheet'!D270","v":0}]
[null,"Sub-indicator",{"$f":"'Input Sheet'!C271","v":"Does the proposed project or program include gender-responsive measures that aim to address gender inequalities in access and control over natural resources?"},null,{"$f":"IF(D226=\"yes\",1,0)","v":0}]
[null,"Input needed","Yes or not",{"$f":"'Input Sheet'!D271","v":0}]
[null,"Sub-indicator",{"$f":"'Input Sheet'!C272","v":"Does the proposed project or program include gender-sensitive measures that aim to improve women’s access to education and training (including job-related training, enhanced educational services, project-related knowledge dissemination and other educational benefits)?"},null,{"$f":"IF(D228=\"yes\",1,0)","v":0}]
[null,"Input needed","Yes or not",{"$f":"'Input Sheet'!D272","v":0}]
[null,"Sub-indicator",{"$f":"'Input Sheet'!C273","v":"Does the proposed project or program include gender-responsive measures that aim to address gender inequalities in access to other services (including energy, healthcare)? "},null,{"$f":"IF(D230=\"yes\",1,0)","v":0}]
[null,"Input needed","Yes or not",{"$f":"'Input Sheet'!D273","v":0}]
[null,"Sub-indicator",{"$f":"'Input Sheet'!C274","v":"Does the proposed project or program include gender-sensitive measures that address gender inequalities in the distribution of socioeconomic benefits for women (including new short-term jobs, new long-term jobs, new sources of income generation and other employment activities)?"},null,{"$f":"IF(D232=\"yes\",1,0)","v":0}]
[null,"Input needed","Yes or not",{"$f":"'Input Sheet'!D274","v":0}]
[null,"Sub-indicator",{"$f":"'Input Sheet'!C275","v":"Does the proposed project or program include a monitoring plan to measure and demonstrate ex-post progress on gender equality? "},null,{"$f":"IF(D234=\"yes\",1,0)","v":0}]
[null,"Input needed","Yes or not",{"$f":"'Input Sheet'!D275","v":0}]
[]
[null,"NEEDS OF THE RECIPIENT"]
[null,"Level of analysis","Indicators","Input","Output (sub-indicator)","Output (indicator)",null,"Output (sub-criterion)"]
[null,"Sub-criterion","17/31 - Scale and intensity of exposure of people, and/or social or economic assets or capital, to risks derived from climate change",null,null,null,null,{"$f":"(F239+F242)/2","v":1}]
[null,"Indicator","1 - Evidence of exposure and vulnerability for the country",null,null,{"$f":"1+E240*4/3","v":1}]
[null,"Sub-indicator","There is clear evidence that the country/ies of implementation is vulnerable to climate change (i.e. the specific risks and vulnerabilities under current and future conditions of climate change). ",null,{"$f":"D241","v":0}]
[null,"Input needed",{"$f":"'Input Sheet'!B281","v":"Data entry to be covered by Question 1 of the \"robustness of the adaptation impact estimate\", in the Impact section"},{"$f":"E32","v":0}]
[null,"Indicator","2 - Climate vulnerability and adaptation readiness",null,null,{"$f":"E243","v":1}]
[null,"Sub-indicator","ND-GAIN vulnerability index",null,{"$f":"IF(D244=0,1,IF(D244<=_xlfn.PERCENTILE.EXC('COUNTRY BENCHMARK'!$F$2:$F$148,0.2),5,IF(D244<=_xlfn.PERCENTILE.EXC('COUNTRY BENCHMARK'!$F$2:$F$148,0.4),4,IF(D244<=_xlfn.PERCENTILE.EXC('COUNTRY BENCHMARK'!$F$2:$F$148,0.6),3,IF(D244<=_xlfn.PERCENTILE.EXC('COUNTRY BENCHMARK'!$F$2:$F$148,0.8),2,1)))))","v":1}]
[null,"Input needed",{"$f":"'Input Sheet'!B283","v":"Data entry to be covered under the \"Target countries\" section"},{"$f":"SUMPRODUCT('Input Sheet'!E26:E65,'Input Sheet'!R26:R65)","v":0}]
[null,"Sub-criterion","19/31 - Level of social and economic development of the country and target population",null,null,null,null,{"$f":"F246","v":1}]
[null,"Indicator","1 - Country-level socio-economic development",null,"changed to 1",{"$f":"E247","v":1}]
[null,"Sub-indicator",{"$f":"'Input Sheet'!M3","v":"National IHDI"},null,{"$f":"IF(D248=0,1,IF('Input Sheet'!$M$3=\"national IHDI\",IF(D248<=_xlfn.PERCENTILE.EXC('COUNTRY BENCHMARK'!$D$2:$D$148,0.2),5,IF(D248<=_xlfn.PERCENTILE.EXC('COUNTRY BENCHMARK'!$D$2:$D$148,0.4),4,IF(D248<=_xlfn.PERCENTILE.EXC('COUNTRY BENCHMARK'!$D$2:$D$148,0.6),3,IF(D248<=_xlfn.PERCENTILE.EXC('COUNTRY BENCHMARK'!$D$2:$D$148,0.8),2,1)))),IF(D248<=_xlfn.PERCENTILE.EXC('COUNTRY BENCHMARK'!$E$2:$E$148,0.2),5,IF(D248<=_xlfn.PERCENTILE.EXC('COUNTRY BENCHMARK'!$E$2:$E$148,0.4),4,IF(D248<=_xlfn.PERCENTILE.EXC('COUNTRY BENCHMARK'!$E$2:$E$148,0.6),3,IF(D248<=_xlfn.PERCENTILE.EXC('COUNTRY BENCHMARK'!$E$2:$E$148,0.8),2,1))))))","v":1}]
[null,"Input needed",{"$f":"'Input Sheet'!B287","v":"Data entry to be covered under the \"Target countries\" section"},{"$f":"SUMPRODUCT('Input Sheet'!E26:E65,'Input Sheet'!N26:N65)","v":0}]
[null,"Sub-criterion","20/31 - Opportunities for the Fund to overcome specific barriers to financing",null,null,null,null,{"$f":"F250","v":1}]
[null,"Indicator","1 - Prioritization given risk/barriers and opportunities",null,null,{"$f":"1+IFERROR((SUM(E251,E256,E261)/COUNT(E251,E256,E261))*4/3,0)","v":1}]
[null,"Sub-indicator",{"$f":"'Input Sheet'!C291","v":"To what extent is barrier 1 hampering investment towards low-carbon and climate-resilient development in the context/country targeted, and how is it addressed by the project/program intervention and Fund?"},null,{"$f":"IF(OR(D252=0,D252=\"NO BARRIER/RISK IDENTIFIED\"),\"\",IF(D253=\"YES\",1+IF(D254=\"YES\",1+IF(D255=\"YES\",1,0),0),0))","v":""}]
[null,"Input needed",{"$f":"'Input Sheet'!C292","v":"Select barrier/risk 1. If \"other\", please describe barrier/risk in box to the right. If no barrier is identified select \"No barriers/risk identified\""},{"$f":"'Input Sheet'!D292","v":0}]
[null,"Input needed",{"$f":"'Input Sheet'!C293","v":"Not Applicable"},{"$f":"'Input Sheet'!D293","v":0}]
[null,"Input needed",{"$f":"'Input Sheet'!C294","v":"Not Applicable"},{"$f":"'Input Sheet'!D294","v":0}]
[null,"Input needed",{"$f":"'Input Sheet'!C295","v":"Not Applicable"},{"$f":"'Input Sheet'!D295","v":0}]
[null,"Sub-indicator",{"$f":"'Input Sheet'!C296","v":"To what extent is barrier 2 hampering investment towards low-carbon and climate-resilient development in the context/country targeted, and how is it addressed by the project/program intervention and Fund?"},null,{"$f":"IF(OR(D257=0,D257=\"NO BARRIER/RISK IDENTIFIED\"),\"\",IF(D258=\"YES\",1+IF(D259=\"YES\",1+IF(D260=\"YES\",1,0),0),0))","v":""}]
[null,"Input needed",{"$f":"'Input Sheet'!C297","v":"Select barrier/risk 2. If \"other\", please describe barrier/risk in box to the right. If no barrier is identified select \"No barriers/risk identified\""},{"$f":"'Input Sheet'!D297","v":0}]
[null,"Input needed",{"$f":"'Input Sheet'!C298","v":"Not Applicable"},{"$f":"'Input Sheet'!D298","v":0}]
[null,"Input needed",{"$f":"'Input Sheet'!C299","v":"Not Applicable"},{"$f":"'Input Sheet'!D299","v":0}]
[null,"Input needed",{"$f":"'Input Sheet'!C300","v":"Not Applicable"},{"$f":"'Input Sheet'!D300","v":0}]
[null,"Sub-indicator",{"$f":"'Input Sheet'!C301","v":"To what extent is barrier 3 hampering investment towards low-carbon and climate-resilient development in the context/country targeted, and how is it addressed by the project/program intervention and Fund?"},null,{"$f":"IF(OR(D262=0,D262=\"NO BARRIER/RISK IDENTIFIED\"),\"\",IF(D263=\"YES\",1+IF(D264=\"YES\",1+IF(D265=\"YES\",1,0),0),0))","v":""}]
[null,"Input needed",{"$f":"'Input Sheet'!C302","v":"Select barrier/risk 3. If \"other\", please describe barrier/risk in box to the right. If no barrier is identified select \"No barriers/risk identified\""},{"$f":"'Input Sheet'!D302","v":0}]
[null,"Input needed",{"$f":"'Input Sheet'!C303","v":"Not Applicable"},{"$f":"'Input Sheet'!D303","v":0}]
[null,"Input needed",{"$f":"'Input Sheet'!C304","v":"Not Applicable"},{"$f":"'Input Sheet'!D304","v":0}]
[null,"Input needed",{"$f":"'Input Sheet'!C305","v":"Not Applicable"},{"$f":"'Input Sheet'!D305","v":0}]
[]
[null,"COUNTRY OWNERSHIP"]
[null,"Level of analysis","Indicators","Input","Output (sub-indicator)","Output (indicator)",null,"Output (sub-criterion)"]
[null,"Sub-criterion","22/31 - Objectives are in line with priorities in the country’s national climate strategy",null,null,null,null,{"$f":"F270","v":1}]
[null,"Indicator","1 - Coherence with the country’s national climate priorities",null,null,{"$f":"1+(E271*4/3)","v":1}]
[null,"Sub-indicator","1. To what extent are the referenced priorities from the country’s (or key target countries, if the project covers multiple geographies) national climate strategies or plans linked with the proposed project or program’s objectives? ",null,{"$f":"IF(D272=\"yes\",IF(COUNTIF(D273:D274,\"yes\")=2,3,IF(D273=\"yes\",2,1)),0)","v":0}]
[null,"Input needed","The proposal refers to priorities in the country’s national climate strategies or plans as defined in relevant strategic and policy documents (e.g. national and sectoral climate strategies or plans, NAMAs, NAPs, NDCs, TNAs, national communications)",{"$f":"'Input Sheet'!D312","v":0}]
[null,"Input needed","A clear and direct  link between (a) specific objective(s) of the project or program and the referenced prioritie(s) of relevant national climate strategie(s) or plan(s) is demonstrated in the proposal",{"$f":"'Input Sheet'!D313","v":0}]
[null,"Input needed","These links are supported by/derived from references/data/evidence",{"$f":"'Input Sheet'!D314","v":0}]
[null,"Sub-criterion","23/31 - Proposed activity is designed in cognizance of other country policies",null,null,null,null,{"$f":"F276","v":1}]
[null,"Indicator","1 - Degree of alignment of the proposed project or program’s objectives with the country’s national development priorities",null,null,{"$f":"1+((E277+E279+E281)*4/5)","v":1}]
[null,"Sub-indicator","1. Does the proposed project or program refer to one/several priorities from the country’s national (sustainable) development frameworks as defined in relevant strategic policy documents (e.g. country’s national policies, including national development policies and strategies, sustainable or green growth development policies and strategies, Vision 2020 and/or other policy frameworks)? ",null,{"$f":"IF(D278=\"yes\",1,0)","v":0}]
[null,"Input needed","Yes or not",{"$f":"'Input Sheet'!D318","v":0}]
[null,"Sub-indicator","2. Does the proposed project or program refer to one/several priorities from the country’s sectoral (sustainable) development frameworks as defined in relevant strategic sectoral policy documents (e.g. country’s sector-specific policies, and/or other policy frameworks)? ",null,{"$f":"IF(D280=\"yes\",1,0)","v":0}]
[null,"Input needed","Yes or not",{"$f":"'Input Sheet'!D319","v":0}]
[null,"Sub-indicator","3. To what extent are the referenced priorities from the country’s national or sectoral development or sustainable development frameworks linked with the proposed project or program’s objectives? ",null,{"$f":"IF(D282=\"yes\",IF(COUNTIF(D283:D284,\"yes\")=2,3,IF(D283=\"yes\",2,1)),0)","v":0}]
[null,"Input needed","A link between (a) specific objective(s) of the project or program and the referenced prioritie(s) of relevant national or sectoral development strategie(s) or plan(s) is mentioned in the proposal",{"$f":"'Input Sheet'!D321","v":0}]
[null,"Input needed","The proposal specifies how the project/program is linked to specific priority(ies)/aspect(s) from relevant national development strategies or plans, including via direct support by a country’s enabling policy and institutional framework..",{"$f":"'Input Sheet'!D322","v":0}]
[null,"Input needed","These links are supported by/derived from references/data/evidence",{"$f":"'Input Sheet'!D323","v":0}]
[null,"Sub-criterion","24/31 - Experience and track record of the Accredited Entity or executing entities in key elements of the proposed activity",null,null,null,null,{"$f":"(F286+F293)/2","v":1}]
[null,"Indicator","1 - AE’s experience working in the project’s/program’s country of implementation or a similar context (e.g. SIDS, LDCs, similar region or geographical area)",null,null,{"$f":"1+((E287+E290)*4/6)","v":1}]
[null,"Sub-indicator","Country experience",null,{"$f":"MAX(IF(D288=\"0 (or no data)\",0,IF(D288=\"1 to 4\",1,IF(D288=\"5 to 9\",2,IF(D288=\">=10\",3,0)))),IF(D289=\"0 (or no data)\",0,IF(D289=\"1 to 4\",1,IF(D289=\"5 to 9\",2,IF(D289=\">=10\",3,0)))))","v":0}]
[null,"Input needed",{"$f":"'Input Sheet'!C328","v":"For how long has the AE been working in the target country, or in a similar country context?  "},{"$f":"'Input Sheet'!D328","v":0}]
[null,"Input needed",{"$f":"'Input Sheet'!C331","v":"For how long has the EE been working in the target country, or in a similar country context?  "},{"$f":"'Input Sheet'!D331","v":0}]
[null,"Sub-indicator","Experience with NDA",null,{"$f":"MAX(IF(D291=\"0 (or no data)\",0,IF(D291=\"1 to 4\",1,IF(D291=\"5 to 9\",2,IF(D291=\">=10\",3,0)))),IF(D292=\"0 (or no data)\",0,IF(D292=\"1 to 4\",1,IF(D292=\"5 to 9\",2,IF(D292=\">=10\",3,0)))))","v":0}]
[null,"Input needed",{"$f":"'Input Sheet'!C329","v":"For how long has the AE been working with the country’s (or key target countries, if project covers multiple geographies) National Designated Authority (NDA)? "},{"$f":"'Input Sheet'!D329","v":0}]
[null,"Input needed",{"$f":"'Input Sheet'!C332","v":"For how long has the EE been working with the country’s (or key target countries, if project covers multiple geographies) National Designated Authority (NDA)? "},{"$f":"'Input Sheet'!D332","v":0}]
[null,"Indicator","2 - AE’s/EE’s experience in implementing similar projects (similar sector, technology, type of intervention)",null,null,{"$f":"1+(E294+E297+E303+E300)","v":1}]
[null,"Sub-indicator","Experience with similar sector",null,{"$f":"MAX(IF(D295=\"yes\",1,0),IF(D296=\"yes\",1,0))","v":0}]
[null,"Input needed",{"$f":"'Input Sheet'!C335","v":"Has the AE been implementing projects in a similar sector or results area in past projects over the last 5 years (e.g. food security, water security, health)? "},{"$f":"'Input Sheet'!D335","v":0}]
[null,"Input needed",{"$f":"'Input Sheet'!C340","v":"Has the EE been implementing projects in a similar sector or results area in past projects over the last 5 years (e.g. food security, water security, health)? "},{"$f":"'Input Sheet'!D340","v":0}]
[null,"Sub-indicator","Experience with similar activity types",null,{"$f":"MAX(IF(D298=\"yes\",1,0),IF(D299=\"yes\",1,0))","v":0}]
[null,"Input needed",{"$f":"'Input Sheet'!C336","v":"Has the AE been implementing the same type of proposed activities (e.g. capacity building, construction of infrastructure/facility, lending) over the last 5 years? "},{"$f":"'Input Sheet'!D336","v":0}]
[null,"Input needed",{"$f":"'Input Sheet'!C341","v":"Has the EE been implementing the same type of proposed activities (e.g. capacity building, construction of infrastructure/facility, lending) over the last 5 years? "},{"$f":"'Input Sheet'!D341","v":0}]
[null,"Sub-indicator","Experience with similar financing size (years)",null,{"$f":"MAX(IF(D301=\"yes\",1,0),IF(D302=\"yes\",1,0))","v":0}]
[null,"Input needed",{"$f":"'Input Sheet'!C337","v":"Has the AE been managing the similar financing size/budget projects/initiatives over the last 5 years? "},{"$f":"'Input Sheet'!D337","v":0}]
[null,"Input needed",{"$f":"'Input Sheet'!C342","v":"Has the EE been managing the similar financing size/budget projects/initiatives over the last 5 years? "},{"$f":"'Input Sheet'!D342","v":0}]
[null,"Sub-indicator","Experience with similar financing size (nr)",null,{"$f":"MAX(IF(D304=\"yes\",1,0),IF(D305=\"yes\",1,0))","v":0}]
[null,"Input needed",{"$f":"'Input Sheet'!C338","v":"Has the AE been implementing more than 5 projects in a similar financing size/budget? "},{"$f":"'Input Sheet'!D338","v":0}]
[null,"Input needed",{"$f":"'Input Sheet'!C343","v":"Has the EE been implementing more than 5 projects in a similar financing size/budget? "},{"$f":"'Input Sheet'!D343","v":0}]
[null,"Sub-criterion","25/31 - Stakeholder consultations and engagement",null,null,null,null,{"$f":"(F307+F314+F339)/3","v":1}]
[null,"Indicator","1 - Coverage of diverse stakeholders from non-governmental organisations in designing the project/program",null,null,{"$f":"1+E308*4/(5-COUNTIF(D309:D313,\"Not Applicable\"))","v":1}]
[null,"Sub-indicator",{"$f":"'Input Sheet'!C347","v":"To what extent did the AE/EE engage a diverse group of non-governmental stakeholders during the development/design phase?"},null,{"$f":"COUNTIF(D309:D313,\"YES\")","v":0}]
[null,"Input needed",{"$f":"'Input Sheet'!C348","v":"Private companies, including suppliers or relevant technologies or solutions"},{"$f":"'Input Sheet'!D348","v":0}]
[null,"Input needed",{"$f":"'Input Sheet'!C349","v":"Financial sector such as commercial or retail banks, investment banks, internet banks, credit unions, savings and loans associations, mortgage companies, microfinance, insurance and re-insurance, pension funds and sovereign wealth funds"},{"$f":"'Input Sheet'!D349","v":0}]
[null,"Input needed",{"$f":"'Input Sheet'!C350","v":"Industry-wide and sector specific associations such as chambers of commerce or industry"},{"$f":"'Input Sheet'!D350","v":0}]
[null,"Input needed",{"$f":"'Input Sheet'!C351","v":"Civil Society Organizations (CSOs), including Non-Governmental Organisations (NGOs), Community-Based Organisations (CBOs), Faith-Based Organisations (FBOs), Unions"},{"$f":"'Input Sheet'!D351","v":0}]
[null,"Input needed",{"$f":"'Input Sheet'!C352","v":"Vulnerable groups such as women, minority groups, and other more traditionally under-represented stakeholders"},{"$f":"'Input Sheet'!D352","v":0}]
[null,"Indicator","2 - Existence of a robust Stakeholder Engagement Plan ",null,null,{"$f":"1+(E315+E320+E330+E334+E338)*4/15","v":1}]
[null,"Sub-indicator","Does the Stakeholder Engagement Plan  articulate a well-defined stakeholder engagement strategy?",null,{"$f":"IF(COUNTIF(D316:D319,\"YES\")=4,3,IF(COUNTIF(D316:D319,\"YES\")>2,2,IF(COUNTIF(D316:D319,\"YES\")=0,0,1)))","v":0}]
[null,"Input needed","Purpose and objectives are defined",{"$f":"'Input Sheet'!D355","v":0}]
[null,"Input needed","Guiding principles are defined",{"$f":"'Input Sheet'!D356","v":0}]
[null,"Input needed","Commitments made to stakeholders and success indicators are defined",{"$f":"'Input Sheet'!D357","v":0}]
[null,"Input needed","Organizational roles and responsibilities related to stakeholder engagement activity are defined",{"$f":"'Input Sheet'!D358","v":0}]
[null,"Sub-indicator","Does the Stakeholder Engagement Plan present a detailed stakeholder mapping?",null,{"$f":"IF(OR(COUNTIF(D321:D328,\"YES\")=8,AND(COUNTIF(D321:D328,\"YES\")>4,D329=\"yes\")),3,IF(COUNTIF(D321:D328,\"YES\")>4,2,IF(COUNTIF(D321:D328,\"YES\")=0,0,1)))","v":0}]
[null,"Input needed","Stakeholders’ background (government, private sector, CSOs) is provided",{"$f":"'Input Sheet'!D360","v":0}]
[null,"Input needed","Stakeholder's expectations on a project (what they want) are defined",{"$f":"'Input Sheet'!D361","v":0}]
[null,"Input needed","Stakeholders' interests in a project (why they want it) are provided",{"$f":"'Input Sheet'!D362","v":0}]
[null,"Input needed","Stakeholder's potential conflict of interest / elite capture is provided",{"$f":"'Input Sheet'!D363","v":0}]
[null,"Input needed","Stakeholders’ relative influence on a project or influence in a community or organization is provided; ",{"$f":"'Input Sheet'!D364","v":0}]
[null,"Input needed","Stakeholders' emotional stake in an issue or a project is provided",{"$f":"'Input Sheet'!D365","v":0}]
[null,"Input needed","Stakeholders’ financial or political positions are provided",{"$f":"'Input Sheet'!D366","v":0}]
[null,"Input needed","Stakeholder's potential contributions to a project or activity is provided",{"$f":"'Input Sheet'!D367","v":0}]
[null,"Input needed","The above information is provided in its evolution throughout the project",{"$f":"'Input Sheet'!D368","v":0}]
[null,"Sub-indicator","Does the Stakeholder Engagement Plan reflect in-depth consultation and engagement with stakeholders?",null,{"$f":"IF(AND(COUNTIF(D331:D332,\"YES\")=2,D333=\"yes\"),3,IF(COUNTIF(D331:D332,\"YES\")=2,2,IF(COUNTIF(D331:D332,\"YES\")=0,0,1)))","v":0}]
[null,"Input needed","Pre-consultations with all stakeholders that were identified through the stakeholder mapping were made during the project’s preparation phase",{"$f":"'Input Sheet'!D370","v":0}]
[null,"Input needed","More in-depth engagement with “key stakeholders” (e.g. those most likely to be affected by program/project activities) was done through at least a dialogue and negotiation processes, and/or partnerships, joint fact-finding exercises and similar processes",{"$f":"'Input Sheet'!D371","v":0}]
[null,"Input needed","The above activities are outlined in detail",{"$f":"'Input Sheet'!D372","v":0}]
[null,"Sub-indicator","Does the Stakeholder Engagement Plan provide a well-articulated implementation plan?",null,{"$f":"IF(AND(COUNTIF(D335:D336,\"YES\")=2,D337=\"yes\"),3,IF(COUNTIF(D335:D336,\"YES\")=2,2,IF(COUNTIF(D335:D336,\"YES\")=0,0,1)))","v":0}]
[null,"Input needed","Internal actions (e.g. revising strategies, adjusting timeline) are included in the plan",{"$f":"'Input Sheet'!D374","v":0}]
[null,"Input needed","External actions (e.g. communication) are included in the plan",{"$f":"'Input Sheet'!D375","v":0}]
[null,"Input needed","The above activities are outlined in detail",{"$f":"'Input Sheet'!D376","v":0}]
[null,"Sub-indicator","Does the Stakeholder Engagement Plan include a monitoring and evaluation (M&E) process? ",{"$f":"'Input Sheet'!D377","v":0},{"$f":"IF(D338=\"YES\",3,0)","v":0}]
[null,"Indicator","3 - Level of engagement of the National Designated Authority (NDA)",null,null,{"$f":"1+E340*2/3","v":1}]
[null,"Sub-indicator","To what extent did the AE/EE engage the National Designated Authority (NDA) during development/design phase",null,{"$f":"COUNTIF(D341:D343,\"YES (for all NDAs)\")*2+COUNTIF(D341:D343,\"YES (for most NDAs)\")*1","v":0}]
[null,"Input needed","There is evidence that the NDA attended or supported stakeholder consultation meetings and workshops",{"$f":"'Input Sheet'!D380","v":0}]
[null,"Input needed","There is evidence that the NDA provided strategic inputs and guidance to the AE and/or EE",{"$f":"'Input Sheet'!D381","v":0}]
[null,"Input needed","There is evidence that the proposed project/program is derived from/aligned with the priorities identified in the country work program (if existing) developed by the NDA in consultation with key national stakeholders ",{"$f":"'Input Sheet'!D382","v":0}]
[]
[null,"EFFICIENCY AND EFFECTIVENESS"]
[null,"Level of analysis","Indicators","Input","Output (sub-indicator)","Output (indicator)",null,"Output (sub-criterion)"]
[null,"Sub-criterion","26/31 - Financial adequacy and appropriateness of concessionality",null,null,"changed to 1",null,{"$f":"F348","v":1}]
[null,"Indicator","1 - Adequacy of concessionality to instrument type",null,null,{"$f":"IF(MIN(E349,E355,E362,E369)=0,1,MIN(E349,E355,E362,E369))","v":1}]
[null,"Sub-indicator",{"$f":"'Input Sheet'!C388","v":"Are grants requested from the GCF in the project? If no, skip sub-questions (1.1 to 1.3.1) and proceed to Question 2."},null,{"$f":"IF(D350=\"yes\",1+(IF(D351=\"yes\",1,0)+IF(D352=\"yes\",1,0)+IF(D353=\"no\",1,IF(D354=\"yes\",1,0)))*4/3,\"\")","v":""}]
[null,"Input needed","Yes or not",{"$f":"'Input Sheet'!D388","v":0}]
[null,"Input needed",{"$f":"'Input Sheet'!C389","v":"Does the proponent provide evidence that there is NO REVENUE POTENTIAL from the project?"},{"$f":"'Input Sheet'!D389","v":0}]
[null,"Input needed",{"$f":"'Input Sheet'!C390","v":"Does the proponent provide evidence that – if the grant component had to be replaced by other instruments (e.g. debt) – the PROJECT REVENUE would NOT be ABLE to cover its PAYMENT?"},{"$f":"'Input Sheet'!D390","v":0}]
[null,"Input needed",{"$f":"'Input Sheet'!C391","v":"Are GCF grants accompanied by OTHER GRANT sources?"},{"$f":"'Input Sheet'!D391","v":0}]
[null,"Input needed",{"$f":"'Input Sheet'!C392","v":"If yes, does the proponent clearly describe WHY the GCF grant is NEEDED in addition to other concessional sources?"},{"$f":"'Input Sheet'!D392","v":0}]
[null,"Sub-indicator",{"$f":"'Input Sheet'!C394","v":"Are loans requested from the GCF in the project?  If no, skip sub-questions (2.1 to 2.3.1) and proceed to Question 3."},null,{"$f":"IF(D356=\"yes\",1+(IF(D357=\"yes\",1,0)+IF(D358=\"no\",1,IF(D359=\"yes\",1,0))+IF(D360=\"no\",1,IF(D361=\"yes\",1,0)))*4/3,\"\")","v":""}]
[null,"Input needed","Yes or not",{"$f":"'Input Sheet'!D394","v":0}]
[null,"Input needed",{"$f":"'Input Sheet'!C395","v":"Does the proponent provide evidence that the PRICING BENEFIT of GCF’s concessional loan is PASSED ON to end beneficiaries? OR, does the proponent provide evidence that the pricing benefit is NECESSARY for the proponent to achieve acceptable returns?"},{"$f":"'Input Sheet'!D395","v":0}]
[null,"Input needed",{"$f":"'Input Sheet'!C396","v":"Is the GCF loan requested SUBORDINATED?"},{"$f":"'Input Sheet'!D396","v":0}]
[null,"Input needed",{"$f":"'Input Sheet'!C397","v":"If yes, does the proponent provide evidence that the CUSHION provided to senior lenders is ADEQUATE to their risk appetite?"},{"$f":"'Input Sheet'!D397","v":0}]
[null,"Input needed",{"$f":"'Input Sheet'!C398","v":"Is the GCF loan accompanied by OTHER CONCESSIONAL DEBT sources?"},{"$f":"'Input Sheet'!D398","v":0}]
[null,"Input needed",{"$f":"'Input Sheet'!C399","v":"If yes, does the proponent clearly describe WHY the GCF loan is NEEDED in addition to other concessional sources?"},{"$f":"'Input Sheet'!D399","v":0}]
[null,"Sub-indicator",{"$f":"'Input Sheet'!C401","v":"Is equity requested from the GCF in the project?  If no, skip sub-questions (3.1 to 3.3.1) and proceed to Question 4."},null,{"$f":"IF(D363=\"yes\",1+(IF(D364=\"yes\",1,0)+IF(D365=\"no\",1,IF(D366=\"yes\",1,0))+IF(D367=\"no\",1,IF(D368=\"yes\",1,0)))*4/3,\"\")","v":""}]
[null,"Input needed","Yes or not",{"$f":"'Input Sheet'!D401","v":0}]
[null,"Input needed",{"$f":"'Input Sheet'!C402","v":"Does the proponent provide evidence that the PRICING BENEFIT of GCF’s concessional equity is PASSED ON to end beneficiaries? OR, does the proponent provide evidence that the pricing benefit is NECESSARY for the proponent to achieve acceptable returns?"},{"$f":"'Input Sheet'!D402","v":0}]
[null,"Input needed",{"$f":"'Input Sheet'!C403","v":"Is the GCF equity requested SUBORDINATED?"},{"$f":"'Input Sheet'!D403","v":0}]
[null,"Input needed",{"$f":"'Input Sheet'!C404","v":"If yes, does the proponent provide evidence that the CUSHION provided to senior equity providers, or lenders, is ADEQUATE to their risk appetite?"},{"$f":"'Input Sheet'!D404","v":0}]
[null,"Input needed",{"$f":"'Input Sheet'!C405","v":"Is the GCF equity accompanied by OTHER CONCESSIONAL EQUITY sources?"},{"$f":"'Input Sheet'!D405","v":0}]
[null,"Input needed",{"$f":"'Input Sheet'!C406","v":"If yes, does the proponent clearly describe WHY the GCF equity is NEEDED in addition to other concessional  sources?"},{"$f":"'Input Sheet'!D406","v":0}]
[null,"Sub-indicator",{"$f":"'Input Sheet'!C408","v":"Are guarantees requested from the GCF in the project?  "},null,{"$f":"IF(D370=\"yes\",1+(IF(D371=\"yes\",1,0)+IF(D372=\"yes\",1,0)+IF(D373=\"no\",1,IF(D374=\"yes\",1,0)))*4/3,\"\")","v":""}]
[null,"Input needed","Yes or not",{"$f":"'Input Sheet'!D408","v":0}]
[null,"Input needed",{"$f":"'Input Sheet'!C409","v":"Does the proponent provide evidence that the guarantee causes a REDUCTION in the BORROWING COST of end beneficiaries, or Is critical in ENABLING ACCESS to financing?"},{"$f":"'Input Sheet'!D409","v":0}]
[null,"Input needed",{"$f":"'Input Sheet'!C410","v":"Does the proponent provide evidence that the guarantee cover (% of loan guaranteed / first loss cover) is ADEQUATE to their risk appetite?"},{"$f":"'Input Sheet'!D410","v":0}]
[null,"Input needed",{"$f":"'Input Sheet'!C411","v":"Is the GCF guarantee accompanied by OTHER GUARANTEE sources?"},{"$f":"'Input Sheet'!D411","v":0}]
[null,"Input needed",{"$f":"'Input Sheet'!C412","v":"If yes, does the proponent clearly describe WHY the GCF guarantee is NEEDED in addition to other concessional sources?"},{"$f":"'Input Sheet'!D412","v":0},null,null,null,"changed to 1"]
[null,"Sub-criterion","27/31 - Cost-effectiveness (mitigation only)",null,null,null,null,{"$f":"IFERROR(F376,1)","v":1}]
[null,"Indicator","1 - Cost-effectiveness of CO2 emissions abatement",null,null,{"$f":"IF(E377<=_xlfn.PERCENTILE.EXC('PROJECT BENCHMARKS'!$H$2:$H$658,0.2),5,IF(E377<=_xlfn.PERCENTILE.EXC('PROJECT BENCHMARKS'!$H$2:$H$658,0.4),4,IF(E377<=_xlfn.PERCENTILE.EXC('PROJECT BENCHMARKS'!$H$2:$H$658,0.6),3,IF(E377<=_xlfn.PERCENTILE.EXC('PROJECT BENCHMARKS'!$H$2:$H$658,0.8),2,1))))","v":{"$error":"#DIV/0!"}}]
[null,"Sub-indicator","(Mitigation share of total project cost) / (Total tCO2e reduced or avoided by activities)",null,{"$f":"D378/D379","v":{"$error":"#DIV/0!"}}]
[null,"Input needed","Mitigation share of total project cost",{"$f":"('Input Sheet'!E8+'Input Sheet'!E9)*SUM('Input Sheet'!E13:E16)","v":0}]
[null,"Input needed","Total tCO2e reduced or avoided by activities",{"$f":"'Input Sheet'!E71","v":0},null,null,null,"changed to 1"]
[null,"Sub-criterion","28/31 - Potential to catalyse and/or leverage investment (mitigation only)",null,null,null,null,{"$f":"IFERROR(F381,1)","v":1}]
[null,"Indicator","1 - Co-financing ratio",null,null,{"$f":"IF(E382<=_xlfn.PERCENTILE.EXC('PROJECT BENCHMARKS'!$I$2:$I$658,0.2),1,IF(E382<=_xlfn.PERCENTILE.EXC('PROJECT BENCHMARKS'!$I$2:$I$658,0.4),2,IF(E382<=_xlfn.PERCENTILE.EXC('PROJECT BENCHMARKS'!$I$2:$I$658,0.6),3,IF(E382<=_xlfn.PERCENTILE.EXC('PROJECT BENCHMARKS'!$I$2:$I$658,0.8),4,5))))","v":{"$error":"#DIV/0!"}}]
[null,"Sub-indicator","(Direct co-financing in US$)/(Total GCF financing in US$)",null,{"$f":"D383/D384","v":{"$error":"#DIV/0!"}}]
[null,"Input needed","Direct co-financing in US$",{"$f":"'Input Sheet'!E9","v":0}]
[null,"Input needed","Total GCF financing in US$",{"$f":"'Input Sheet'!E8","v":0}]
[null,"Sub-criterion","30/31 - Financial viability in the long run",null,null,null,null,{"$f":"(F386+F396+F399)/3","v":1}]
[null,"Indicator","1 - Existence of business and strategy for phasing out GCF’s capital support",null,null,{"$f":"1+(E387+E390)*4/5","v":1}]
[null,"Sub-indicator",{"$f":"'Input Sheet'!C424","v":"Does the proposal include a strategy to identify sources of financing and continue its activities in the long-run? "},null,{"$f":"IF(D395=\"YES\",IF(COUNTIF(D388:D389,\"YES\")>0,2,1),IF(D389=\"YES\",2,IF(D388=\"YES\",1,0)))","v":0}]
[null,"Input needed",{"$f":"'Input Sheet'!C425","v":"The FP outlines a strategy to phase out GCF support by ensuring continuous concessional financing support in the long term (e.g. Government funding, or other public entities)"},{"$f":"'Input Sheet'!D425","v":0}]
[null,"Input needed",{"$f":"'Input Sheet'!C426","v":"The FP outlines a strategy  to phase out GCF support and operate on a commercial basis (including an exit strategy, etc.)"},{"$f":"'Input Sheet'!D426","v":0}]
[null,"Sub-indicator",{"$f":"'Input Sheet'!C427","v":"Does the proposal provide evidence of the commitment by a specific source of capital replacing GCF’s capital?"},null,{"$f":"IF(D395=\"YES\",IF(D392=\"YES\",3,IF(D391=\"YES\",2,1)),IF(D392=\"YES\",2,IF(D391=\"YES\",1,0))+IF(AND(D392=\"YES\",D393=\"YES\"),1,0))","v":0}]
[null,"Input needed",{"$f":"'Input Sheet'!C428","v":"Evidence of commitment is provided for the partial or short-term replacement of GCF’s capital."},{"$f":"'Input Sheet'!D428","v":0}]
[null,"Input needed",{"$f":"'Input Sheet'!C429","v":"Evidence of commitment is provided for the full and long-term replacement of GCF’s capital."},{"$f":"'Input Sheet'!D429","v":0}]
[null,"Input needed",{"$f":"'Input Sheet'!C430","v":"Evidence is provided - in the form of supportive research and analytical documents, including projected cash flows - that  the above commitment guarantees the viability of the project in the long term."},{"$f":"'Input Sheet'!D430","v":0}]
[null,"Sub-indicator",{"$f":"'Input Sheet'!C431","v":"The FP targets adaptation implemented in  least developed countries (LDCs) and/or small island developing states (SIDS)."}]
[null,"Input needed","Yes or not",{"$f":"'Input Sheet'!D431","v":0}]
[null,"Indicator","2 - Strength of the accredited entity and executing entity",null,null,{"$f":"E397","v":1}]
[null,"Sub-indicator","Proxy for strenght of EE/AE",null,{"$f":"D398","v":1}]
[null,"Input needed",{"$f":"'Input Sheet'!B433","v":"Data entry to be covered by subcriterion 24/31 \"Experience and track record of the Accredited Entity or Executing Entities in key elements of the proposed activity\""},{"$f":"H285","v":1}]
[null,"Indicator","3 - Effectiveness in mitigating risks and challenges to the project implementation in the long-run ",null,null,{"$f":"MAX(1,IFERROR((SUM(E400,E406,E412)/COUNT(E400,E406,E412)),0))","v":1}]
[null,"Sub-indicator",{"$f":"'Input Sheet'!C435","v":"To what extent is risk/challenge 1 a threat to the success of the project/program?"},null,{"$f":"IF(OR(D401=0,D401=\"NO RISK/CHALLENGE IDENTIFIED\"),\"\",MAX(IFERROR(INDEX(LISTS!$G$1:$I$3,MATCH('CALCULATION SHEET'!D402,LISTS!$F$1:$F$3,0),MATCH('CALCULATION SHEET'!D403,LISTS!$G$4:$I$4,0)),1),1+IFERROR(INDEX(LISTS!$G$6:$G$8,MATCH('CALCULATION SHEET'!D404,LISTS!$F$6:$F$8,0),0),0)+IFERROR(INDEX(LISTS!$G$9:$G$11,MATCH('CALCULATION SHEET'!D405,LISTS!$F$9:$F$11,0),0),0)))","v":""}]
[null,"Input needed",{"$f":"'Input Sheet'!C436","v":"Select risk/challenge 1. If \"other\", please describe risk/challenge in box to the right. If no barrier is identified select \"No risk/challenge identified\""},{"$f":"'Input Sheet'!D436","v":0}]
[null,"Input needed",{"$f":"'Input Sheet'!C437","v":"Not Applicable"},{"$f":"'Input Sheet'!D437","v":0}]
[null,"Input needed",{"$f":"'Input Sheet'!C438","v":"Not Applicable"},{"$f":"'Input Sheet'!D438","v":0}]
[null,"Input needed",{"$f":"'Input Sheet'!C439","v":"Not Applicable"},{"$f":"'Input Sheet'!D439","v":0}]
[null,null,{"$f":"'Input Sheet'!C440","v":"Not Applicable"},{"$f":"'Input Sheet'!D440","v":0}]
[null,"Sub-indicator",{"$f":"'Input Sheet'!C441","v":"To what extent is risk/challenge 2 a threat to the success of the project/program?"},null,{"$f":"IF(OR(D407=0,D407=\"NO RISK/CHALLENGE IDENTIFIED\"),\"\",MAX(IFERROR(INDEX(LISTS!$G$1:$I$3,MATCH('CALCULATION SHEET'!D408,LISTS!$F$1:$F$3,0),MATCH('CALCULATION SHEET'!D409,LISTS!$G$4:$I$4,0)),1),1+IFERROR(INDEX(LISTS!$G$6:$G$8,MATCH('CALCULATION SHEET'!D410,LISTS!$F$6:$F$8,0),0),0)+IFERROR(INDEX(LISTS!$G$9:$G$11,MATCH('CALCULATION SHEET'!D411,LISTS!$F$9:$F$11,0),0),0)))","v":""}]
[null,"Input needed",{"$f":"'Input Sheet'!C442","v":"Select risk/challenge 2. If \"other\", please describe risk/challenge in box to the right. If no barrier is identified select \"No risk/challenge identified\""},{"$f":"'Input Sheet'!D442","v":0}]
[null,"Input needed",{"$f":"'Input Sheet'!C443","v":"Not Applicable"},{"$f":"'Input Sheet'!D443","v":0}]
[null,"Input needed",{"$f":"'Input Sheet'!C444","v":"Not Applicable"},{"$f":"'Input Sheet'!D444","v":0}]
[null,"Input needed",{"$f":"'Input Sheet'!C445","v":"Not Applicable"},{"$f":"'Input Sheet'!D445","v":0}]
[null,"Input needed",{"$f":"'Input Sheet'!C446","v":"Not Applicable"},{"$f":"'Input Sheet'!D446","v":0}]
[null,"Sub-indicator",{"$f":"'Input Sheet'!C447","v":"To what extent is risk/challenge 3 a threat to the success of the project/program?"},null,{"$f":"IF(OR(D413=0,D413=\"NO RISK/CHALLENGE IDENTIFIED\"),\"\",MAX(IFERROR(INDEX(LISTS!$G$1:$I$3,MATCH('CALCULATION SHEET'!D414,LISTS!$F$1:$F$3,0),MATCH('CALCULATION SHEET'!D415,LISTS!$G$4:$I$4,0)),1),1+IFERROR(INDEX(LISTS!$G$6:$G$8,MATCH('CALCULATION SHEET'!D416,LISTS!$F$6:$F$8,0),0),0)+IFERROR(INDEX(LISTS!$G$9:$G$11,MATCH('CALCULATION SHEET'!D417,LISTS!$F$9:$F$11,0),0),0)))","v":""}]
[null,"Input needed",{"$f":"'Input Sheet'!C448","v":"Select risk/challenge 3. If \"other\", please describe risk/challenge in box to the right. If no barrier is identified select \"No risk/challenge identified\""},{"$f":"'Input Sheet'!D448","v":0}]
[null,"Input needed",{"$f":"'Input Sheet'!C442","v":"Select risk/challenge 2. If \"other\", please describe risk/challenge in box to the right. If no barrier is identified select \"No risk/challenge identified\""},{"$f":"'Input Sheet'!D449","v":0}]
[null,"Input needed",{"$f":"'Input Sheet'!C450","v":"Not Applicable"},{"$f":"'Input Sheet'!D450","v":0}]
[null,"Input needed",{"$f":"'Input Sheet'!C451","v":"Not Applicable"},{"$f":"'Input Sheet'!D451","v":0}]
[null,"Input needed",{"$f":"'Input Sheet'!C452","v":"Not Applicable"},{"$f":"'Input Sheet'!D452","v":0}]
[null,"Sub-criterion","31/31 - Application of best practices and degree of innovation",null,null,null,null,{"$f":"(F419+F422)/2","v":1}]
[null,"Indicator","1 - Innovation checklist",null,null,{"$f":"D421","v":1}]
[null,"Sub-indicator","Proxy of innovation",null,{"$f":"D421","v":1}]
[null,"Input needed",{"$f":"'Input Sheet'!B456","v":"Data entry to be covered by subcriterion 3/31 \"Innovation checklist\""},{"$f":"H47","v":1}]
[null,"Indicator","2 - Transfer of best available technologies and practices",null,null,{"$f":"1+SUM(E423,E425,E427,E429)","v":1}]
[null,"Sub-indicator",{"$f":"'Input Sheet'!C458","v":"Does the FP describe and provide evidence from resources/literature about how best practices and/or best available technologies were identified and reviewed, including international ones, and those of indigenous peoples and local communities? "},null,{"$f":"IF(D424=\"yes\",1,0)","v":0}]
[null,"Input needed","Yes or not",{"$f":"'Input Sheet'!D458","v":0}]
[null,"Sub-indicator",{"$f":"'Input Sheet'!C459","v":"Does the FP describe and provide evidence of how best practices and/or best available technologies were integrated during proposal development and will be used during project implementation, or how the proposal deviates from/improves them, including international ones, and those of indigenous peoples and local communities? "},null,{"$f":"IF(D426=\"yes\",1,0)","v":0}]
[null,"Input needed","Yes or not",{"$f":"'Input Sheet'!D459","v":0}]
[null,"Sub-indicator",{"$f":"'Input Sheet'!C460","v":"Are best available technologies and practices accessed through imports from outside the region of application of the project (e.g. of technical components, pieces of equipment, expertise),  and/or through the valorization of contributions by indigenous peoples and local communities?"},null,{"$f":"IF(D428=\"yes\",1,0)","v":0}]
[null,"Input needed","Yes or not",{"$f":"'Input Sheet'!D460","v":0}]
[null,"Sub-indicator",{"$f":"'Input Sheet'!C461","v":"Does the FP include the description of a causal path ensuring the continuous/long-term adoption of best available technologies and practices within the target geography and sector (e.g. training activities, and resources and time allocated for that,  encouraging policy changes incentivizing their adoption )? "},null,{"$f":"IF(D430=\"yes\",1,0)","v":0}]
[null,"Input needed","Yes or not",{"$f":"'Input Sheet'!D461","v":0}]

{"sheet":"log","index":4,"n_rows":57,"n_cols":5,"rows_kept":57,"cut":false,"hidden":true,"merged":[]}
[]
[]
["date","version","item","sub-item","change"]
["2019-12-05","v 1.5","needs of the recipient","stakeholder consultation","added indicator"]
["2019-12-05","v 1.5","paradigm shift","innovation","added indicator"]
["2020-01-29","v 2.0","impact","mitigation and adaptation impact","amend impact to fund ratio using total finance instead of GCF finance only, change of benchmarks for quintiles calculation and outliers to reflect new ratio"]
["2020-01-29","v 2.0","impact","mitigation impact","added robustness indicator for adaptation impact"]
["2020-01-29","v 2.0","impact","adaptation impact","added robustness indicator for adaptation impact"]
["2020-01-29","v 2.0","weights and benchmarks","weights","added weights by result areas in model"]
["2020-01-30","v 2.0","paradigm shift","innovation","small amendment in introductory wording"]
["2020-01-30","v 2.0","paradigm shift","scalability","Added question on size of target market"]
["2020-01-30","v 2.0","paradigm shift","diffusion of knowledge","Added question of M&E of knowledge spreading, by amending previous question on general monitoring"]
["2020-01-30","v 2.0","paradigm shift","contribute of regulatory framework","change formula, added new question on how regulatory framework changes guarantee continuity of proposed activity. Slight amendment of previous questions"]
["2020-01-30","v 2.0","sustainable development potential","environmental co-benefits","substantial change in questions and calculation formula"]
["2020-01-30","v 2.0","sustainable development potential","social co-benefits","substantial change in questions and calculation formula"]
["2020-01-30","v 2.0","sustainable development potential","economic co-benefits","substantial change in questions and calculation formula"]
["2020-01-31","v 2.0","needs of the recipient","country vulnerability","linked indicator to assessment of robustness of vulnerability context"]
["2020-01-31","v 2.0","needs of the recipient","country vulnerability","added indicator using ND-GAIN as proxy index for vulnerability of country"]
["2020-01-31","v 2.0","sustainable development potential","gender equality","added question on access to services and amended wording of some other questions"]
["2020-01-31","v 2.0","sustainable development potential","gender equality","added indicator comparing share of female beneficiaries over similar projects / benchmarks"]
["2020-02-02","v 2.0","country ownership","coherence with country's national climate priorities","slighlty amended wording in questions"]
["2020-02-02","v 2.0","country ownership","Experience and track record of the Accredited Entity (AE) or Executing Entities (EEs) in key elements of the proposed activity  ","added reference to EE in first question on in-country experience"]
["2020-02-02","v 2.0","country ownership","Coverage of diverse stakeholders from non-governmental organisations in designing the project/program","some categories of stakeholders are \"not applicable\" if so assessed by the TM"]
["2020-02-02","v 2.0","country ownership","Level of engagement of the National Designated Authority (NDA","amended questions to reflect better the fact that multiple NDAs can participate in multi-country projects"]
["2020-02-02","v 2.0","efficiency and effectiveness","Existence of strategy for phasing out GCF's support","added indicator"]
["2020-02-02","v 2.0","efficiency and effectiveness","Strength of the executing entity","added indicator linked to \"Experience and track record of the Accredited Entity (AE) or Executing Entities (EEs) in key elements of the proposed activity  \""]
["2020-02-02","v 2.0","efficiency and effectiveness","Effectiveness in mitigating risks and challenges to the project implementation in the long-run ","added indicator"]
["2020-02-02","v 2.0","efficiency and effectiveness","innovation checklist","added indicator linking to \"innovation checklist\""]
["2020-02-02","v 2.0","efficiency and effectiveness","transfer of best available tech and practices","added indicator"]
["2020-02-02","v 2.0","needs of the recipient","barriers to finance","added quantification of barrier impact and how it is mitigated "]
["2020-02-02","v 2.0","paradigm shift","Sustainability of outcomes and results beyond completion of the intervention","added indicator linked with \"financial sustainability\""]
["2020-02-04","v 2.0","weights and benchmarks","weights","corrected error on weights formula"]
["2020-02-13","v 2.0","impact","mitigation impact","questions on robustness of estimate inverted"]
["2020-02-13","v 2.0","impact","mitigation impact","make reference to CO2 emitted by project clearer"]
["2020-02-13","v 2.0","sustainable development potential","environmental co-benefits","made availability of monitoring plan, quantification of assessment, and demonstration of significance equally relevant for individual co-benefits within the dimension, refer to baseline/conterfactual in the assessmnent"]
["2020-02-13","v 2.0","sustainable development potential","social co-benefits","made availability of monitoring plan, quantification of assessment, and demonstration of significance equally relevant for individual co-benefits within the dimension, refer to baseline/conterfactual in the assessmnent"]
["2020-02-13","v 2.0","sustainable development potential","economic co-benefits","made availability of monitoring plan, quantification of assessment, and demonstration of significance equally relevant for individual co-benefits within the dimension, refer to baseline/conterfactual in the assessmnent"]
["2020-02-13","v 2.0","sustainable development potential","economic co-benefits","added description of individual dimensions"]
["2020-02-13","v 2.0","sustainable development potential","economic co-benefits","changed order of questions (sequence now more logical)"]
["2020-02-13","v 2.0","sustainable development potential","social co-benefits","separate questions on resettlement of people and indigenous / cultural heritage "]
["2020-02-13","v 2.0","sustainable development potential","gender equality","add question on monitoring of gender progress"]
["2020-02-14","v 2.0","needs of the recipient","barriers to finance","made reference to barriers clearer to reduce confusion Vs financial sustainability indicator"]
["2020-02-14","v 2.0","country ownership","coherence with country's national climate priorities","clarified what is meant by sectoral priorities"]
["2020-02-14","v 2.0","country ownership","coherence with country's national climate priorities","explanation of direct link"]
["2020-02-14","v 2.0","country ownership","Experience and track record of the Accredited Entity (AE) or Executing Entities (EEs) in key elements of the proposed activity  ","separate assessment of AE from assessment of EE"]
["2020-02-14","v 2.0","country ownership","stakeholder consultation","clarified what is meant by development/design phase"]
["2020-02-14","v 2.0","country ownership","stakeholder consultation","added example of union within CSO"]
["2020-02-14","v 2.0","efficiency and effectiveness","adequate concessionality","added feature to make questions \"not applicable\" depending on previous answers"]
["2020-02-14","v 2.0","efficiency and effectiveness","financial sustainability","corrected some typose included in questions"]
["2020-02-14","v 2.0","efficiency and effectiveness","ability to address risk/challenges","improved match formula so that it does not generate errors"]
["2020-02-14","v 2.0","ALL","formulas","elminate ROUND formula from sub-criteria level assessment, values are only rounded at criteria level"]
["2020-02-25","v 2.0","weights and benchmarks","benchmarks","add country benchmark for Korea (dem republic)"]
["2020-02-21","v 2.0","weights and benchmarks","benchmarks","review annual emissions mitigation benchmarks using reported annual mitigation or retrieving it based on actual technology lifetimes"]
["2020-02-25","v 2.0","weights and benchmarks","benchmarks","updated HDI and IHDI benchmarks (2018 data, previously using 2017 data)"]
["2020-02-25","v 2.0","weights and benchmarks","benchmarks","updated beneficiaries information to ensure higher comparability between project data from different sources (GCF, GEF and CIFs funds)"]
["2020-04-16","v 2.0","sustainable development potential","gender equality","removed indicator comparing share of female beneficiaries over similar projects / benchmarks"]
["2020-04-16","v 2.0","efficiency and effectiveness","ability to address risk/challenges","renamed 3 scenario of likelyhood for risk event analysed"]

{"sheet":"WEIGHTS","index":5,"n_rows":46,"n_cols":115,"rows_kept":46,"cut":false,"hidden":true,"merged":[[17,0,26,0],[17,1,20,1],[22,1,23,1],[25,1,26,1],[27,0,30,0],[31,0,35,0],[36,0,39,0],[40,0,45,0],[40,1,41,1],[43,1,44,1],[13,26,13,33],[13,35,13,42],[13,44,13,51],[13,53,13,60],[15,0,16,0],[13,5,13,6],[13,7,13,8],[13,107,13,114],[12,5,12,13],[12,14,12,22],[13,9,13,10],[13,11,13,12],[13,14,13,15],[13,16,13,17],[13,18,13,19],[13,20,13,21],[12,44,12,78],[12,80,12,114],[13,62,13,69],[13,71,13,78],[13,80,13,87],[13,89,13,96],[13,98,13,105]]}
[null,null,null,null,"Public","Private","TOTAL"]
[null,null,null,null,{"$f":"'Input Sheet'!E23","v":0},{"$f":"'Input Sheet'!E22","v":0}]
[null,null,"1. Energy generation / access",{"$f":"'Input Sheet'!E13","v":0},{"$f":"D3*E$2","v":0},{"$f":"D3*F$2","v":0}]
[null,null,"2. Transport",{"$f":"'Input Sheet'!E14","v":0},{"$f":"D4*E$2","v":0},{"$f":"D4*F$2","v":0}]
[null,null,"3. Buildings, cities, industries and appliances",{"$f":"'Input Sheet'!E15","v":0},0,0]
[null,null,"4. Forests and Land Use",{"$f":"'Input Sheet'!E16","v":0},0,0]
[null,null,"5. Livelihoods of  vulnerable people & communities",{"$f":"'Input Sheet'!E17","v":0},0,0]
[null,null,"6. Health and well-being, and food & water security",{"$f":"'Input Sheet'!E18","v":0},0,0]
[null,null,"7. Infrastructure & built environment",{"$f":"'Input Sheet'!E19","v":0},0,0]
[null,null,"8. Ecosystem & ecosystem services",{"$f":"'Input Sheet'!E20","v":0},0,0]
[null,null,"TOTAL",null,null,null,{"$f":"SUM(E3:F10)","v":0}]
[]
[null,null,null,null,null,"MITIGATION",null,null,null,null,null,null,null,null,"ADAPTATION",null,null,null,null,null,null,null,null,null,null,null,null,null,null,null,null,null,null,null,null,null,null,null,null,null,null,null,null,null,"MITIGATION",null,null,null,null,null,null,null,null,null,null,null,null,null,null,null,null,null,null,null,null,null,null,null,null,null,null,null,null,null,null,null,null,null,null,null,"ADAPTATION"]
["CRITERION","COVERAGE AREA","SUB-CRITERION",null,null,"1. Energy generation / access",null,"2. Transport",null,"3. Buildings, cities, industries and appliances",null,"4. Forests and Land Use",null,"Applicable","5. Livelihoods of  vulnerable people & communities",null,"6. Health and well-being, and food & water security",null,"7. Infrastructure & built environment",null,"8. Ecosystem & ecosystem services",null,"Applicable",null,null,null,"PUBLIC Sector",null,null,null,null,null,null,null,null,"PRIVATE sector",null,null,null,null,null,null,null,null,"1. Energy generation / access ",null,null,null,null,null,null,null,null,"2. Transport",null,null,null,null,null,null,null,null,"3. Buildings, cities, industries and appliances",null,null,null,null,null,null,null,null,"4. Forests and Land Use",null,null,null,null,null,null,null,null,"1. Livelihoods of  vulnerable people & communities",null,null,null,null,null,null,null,null,"2. Health and well-being, and food & water security",null,null,null,null,null,null,null,null,"3. Infrastructure & built environment",null,null,null,null,null,null,null,null,"4. Ecosystem & ecosystem services"]
[null,null,null,"WEIGHTS","SCENARIO SCORE","Public","Private","Public ","Private","Public ","Private","Public ","Private","X","Public ","Private","Public ","Private","Public ","Private","Public ","Private","x",null,null,null,"RANK","MODE","MEDIAN","AVERAGE","Min","25th percentile","75th percentile","Max",null,"RANK","MODE","MEDIAN","AVERAGE","Min","25th percentile","75th percentile","Max",null,"RANK","MODE","MEDIAN","AVERAGE","Min","25th percentile","75th percentile","Max",null,"RANK","MODE","MEDIAN","AVERAGE","Min","25th percentile","75th percentile","Max",null,"RANK","MODE","MEDIAN","AVERAGE","Min","25th percentile","75th percentile","Max",null,"RANK","MODE","MEDIAN","AVERAGE","Min","25th percentile","75th percentile","Max",null,"RANK","MODE","MEDIAN","AVERAGE","Min","25th percentile","75th percentile","Max",null,"RANK","MODE","MEDIAN","AVERAGE","Min","25th percentile","75th percentile","Max",null,"RANK","MODE","MEDIAN","AVERAGE","Min","25th percentile","75th percentile","Max",null,"RANK","MODE","MEDIAN","AVERAGE","Min","25th percentile","75th percentile","Max"]
["Impact potential","Mitigation impact","Contribution to the shift to low-emission sustainable development pathways",{"$f":"E16/SUM(E16:E17)","v":{"$error":"#DIV/0!"}},{"$f":"$E$3*F16+$F$3*G16+$E$4*H16+$F$4*I16+$E$5*J16+$F$5*K16+$E$6*L16+$F$6*M16+$E$7*O16+$F$7*P16+$E$8*Q16+$F$8*R16+$E$9*S16+$F$9*T16+$E$10*U16+$F$10*V16","v":0},{"$f":"N16*AVERAGE(AC16,AU16)","v":10},{"$f":"N16*AVERAGE(AL16,AU16)","v":10},{"$f":"N16*AVERAGE(AC16,BD16)","v":9},{"$f":"N16*AVERAGE(AL16,BD16)","v":9},{"$f":"N16*AVERAGE(AC16,BM16)","v":9.25},{"$f":"N16*AVERAGE(AL16,BM16)","v":9.25},{"$f":"N16*AVERAGE(AC16,BV16)","v":9.75},{"$f":"N16*AVERAGE(AL16,BV16)","v":9.75},1,{"$f":"W16*AVERAGE(AC16,CE16)","v":0},{"$f":"W16*AVERAGE(AL16,CE16)","v":0},{"$f":"W16*AVERAGE(AC16,CN16)","v":0},{"$f":"W16*AVERAGE(AL16,CN16)","v":0},{"$f":"W16*AVERAGE(AC16,CW16)","v":0},{"$f":"W16*AVERAGE(AL16,CW16)","v":0},{"$f":"W16*AVERAGE(AC16,DF16)","v":0},{"$f":"W16*AVERAGE(AL16,DF16)","v":0},null,null,null,null,1,10,10,9.5,8,9,10,10,null,1,10,10,9.1999999999999993,5,8.5,10,10,null,1,10,10,9.4,7,9,10,10,null,1,8,8,8.9230769230769234,8,8,10,10,null,1,10,8.5,8.6428571428571423,7,8,10,10,null,1,10,9.5,8.5714285714285712,5,7,10,10]
[null,"Adaptation impact","Contribution to increased climate-resilient sustainable development",{"$f":"E17/SUM(E16:E17)","v":{"$error":"#DIV/0!"}},{"$f":"$E$3*F17+$F$3*G17+$E$4*H17+$F$4*I17+$E$5*J17+$F$5*K17+$E$6*L17+$F$6*M17+$E$7*O17+$F$7*P17+$E$8*Q17+$F$8*R17+$E$9*S17+$F$9*T17+$E$10*U17+$F$10*V17","v":0},0,0,0,0,0,0,0,0,null,10,10,9.5,9.5,9.25,9.25,9.5,9.5,1,null,null,null,1,10,10,9.3333333333333339,7,9,10,10,null,1,10,10,8.5909090909090917,4,8,10,10,null,null,null,null,null,null,null,null,null,null,null,null,null,null,null,null,null,null,null,null,null,null,null,null,null,null,null,null,null,null,null,null,null,null,null,null,null,1,10,10,9.35,7,9,10,10,null,1,10,9,8.9473684210526319,7,8,10,10,null,1,10,8.5,8.65,6,8,10,10,null,1,10,9,8.2941176470588243,4,7,10,10]
["Paradigm shift potential","Potential for scaling up and replication, and its overall contribution to global low-carbon development pathways being consistent with a temperature increase of less than 2 degrees Celsius (mitigation only)","Innovation",{"$f":"E18/SUM($E$18:$E$27)","v":{"$error":"#DIV/0!"}},{"$f":"$E$3*F18+$F$3*G18+$E$4*H18+$F$4*I18+$E$5*J18+$F$5*K18+$E$6*L18+$F$6*M18+$E$7*O18+$F$7*P18+$E$8*Q18+$F$8*R18+$E$9*S18+$F$9*T18+$E$10*U18+$F$10*V18","v":0},6.5,7.5,7,8,7,8,6.5,7.5,1,0,0,0,0,0,0,0,0,null,null,null,null,"",5,6,6,1,5,7.75,10,null,2,8,8,6.6,1,5.5,8,9,null,"",8,7,6.5333333333333332,3,5.5,8,10,null,2,8,8,7.384615384615385,3,7,8,10,null,2,8,8,7.5,5,7,8,9,null,"",7,7,6.1428571428571432,3,4.25,7.75,8]
[null,null,"Level of contributions to global low-carbon development pathways, consistent with a temperature increase of less than 2 degrees Celsius",{"$error":"#DIV/0!"},null,8.75,8.25,8.5,8,8.5,8,8.5,8,1,0,0,0,0,0,0,0,0,null,null,null,null,2,10,8,7.833333333333333,1,7.75,10,10,null,"",10,7,7.0769230769230766,1,6,9,10,null,1,10,9.5,9.2857142857142865,8,9,10,10,null,1,8,9,8.8333333333333339,7,8,10,10,null,1,9,9,8.0769230769230766,2,8,9,10,null,1,10,9,8.5384615384615383,4,8,10,10]
[null,null,"Potential for expanding the scale and impact of the proposed programme or project (scalability)",{"$error":"#DIV/0!"},{"$f":"$E$3*F20+$F$3*G20+$E$4*H20+$F$4*I20+$E$5*J20+$F$5*K20+$E$6*L20+$F$6*M20+$E$7*O20+$F$7*P20+$E$8*Q20+$F$8*R20+$E$9*S20+$F$9*T20+$E$10*U20+$F$10*V20","v":0},8,9,8,9,8,9,8,9,1,0,0,0,0,0,0,0,0,null,null,null,null,2,8,8,7.6428571428571432,4,7,8.75,10,null,1,10,10,8.8000000000000007,5,8,10,10,null,3,9,8,8.2142857142857135,6,7.25,9,10,null,2,9,8,8,6,7,9,10,null,2,8,8,8.2307692307692299,7,8,9,10,null,2,8,8,6.7692307692307692,2,5,8,10]
[null,null,"Potential for exporting key structural elements of the proposed programme or project elsewhere within the same sector as well as to other sectors, regions or countries (replicability)",{"$error":"#DIV/0!"},null,7.5,8,7.5,8,7.5,8,7,7.5,1,0,0,0,0,0,0,0,0,null,null,null,null,"",7,7,7.2857142857142856,4,6.25,8,10,null,2,10,8,7.5333333333333332,3,6,9.5,10,null,3,8,8,8.2142857142857135,6,7.25,9,10,null,2,8,8,7.666666666666667,4,7,8.25,10,null,2,8,8,8.1538461538461533,6,8,9,10,null,"",7,7,7.1538461538461542,5,7,8,9]
[null,"Potential for knowledge and learning","Contribution to the creation or strengthening of knowledge, collective learning processes, or institutions",{"$error":"#DIV/0!"},{"$f":"$E$3*F22+$F$3*G22+$E$4*H22+$F$4*I22+$E$5*J22+$F$5*K22+$E$6*L22+$F$6*M22+$E$7*O22+$F$7*P22+$E$8*Q22+$F$8*R22+$E$9*S22+$F$9*T22+$E$10*U22+$F$10*V22","v":0},7,6,7.75,6.75,7.5,6.5,7.5,6.5,1,8,7,8,7,7.75,6.75,7.75,6.75,1,null,null,null,2,8,8,7.3250000000000002,1,6,8.625,10,null,"",6,6,5.3095238095238093,1,5,6.5,8,null,"",6,6,6,3,5,7,8,null,"",8,7.5,7.25,5,6.75,8,9,null,"",8,7,7.2307692307692308,5,7,8,9,null,"",6,7,7.3076923076923075,5,6,8,10,null,1,8,8,7.65,5,6.75,9,10,null,1,8,8,7.6842105263157894,5,7,8.5,10,null,3,7,7.5,7.6,5,6.75,8.25,10,null,2,8,7.5,7.2222222222222223,5,6,8,10]
[null,"Contribution to the creation of an enabling environment","Sustainability of outcomes and results beyond completion of the intervention",{"$error":"#DIV/0!"},{"$f":"$E$3*F23+$F$3*G23+$E$4*H23+$F$4*I23+$E$5*J23+$F$5*K23+$E$6*L23+$F$6*M23+$E$7*O23+$F$7*P23+$E$8*Q23+$F$8*R23+$E$9*S23+$F$9*T23+$E$10*U23+$F$10*V23","v":0},8.75,8,8.75,8,8.75,8,8.75,8,1,8.75,8,8.75,8,8.75,8,8.75,8,1,null,null,null,1,10,9.5,8.9250000000000007,6,8,10,10,null,2,10,8,8.1190476190476186,5,6.5,10,10,null,3,8,8,8.2142857142857135,5,8,9.75,10,null,2,8,8,7.833333333333333,5,6.75,9,10,null,2,8,8,8.1538461538461533,6,8,9,10,null,2,8,8,7.615384615384615,3,8,8,10,null,1,8,8,7.4736842105263159,3,7,8,10,null,1,8,8,7.5555555555555554,2,7,9,10,null,1,8,8,7.6315789473684212,5,6.5,8.5,10,null,1,8,8,8,5,7.25,9,10]
[null,null,"Market development and transformation",{"$error":"#DIV/0!"},{"$f":"$E$3*F24+$F$3*G24+$E$4*H24+$F$4*I24+$E$5*J24+$F$5*K24+$E$6*L24+$F$6*M24+$E$7*O24+$F$7*P24+$E$8*Q24+$F$8*R24+$E$9*S24+$F$9*T24+$E$10*U24+$F$10*V24","v":0},7.25,8.25,7,8,7,8,6.5,7.5,1,6.5,7.5,6.25,7.25,6.5,7.5,6,7,1,null,null,null,"",6,6,5.85,1,5,7.25,10,null,2,8,8,7.2142857142857144,1,6,9,10,null,2,8,8.5,8.3571428571428577,5,8,9.75,10,null,2,10,8,8.0833333333333339,5,6.75,10,10,null,2,8,8,8,5,8,9,10,null,"",7,7,7.3076923076923075,4,6,9,10,null,"",8,7,6.2631578947368425,3,5,8,9,null,"",8,6.5,6.2777777777777777,2,5,8,10,null,"",8,7,6.7368421052631575,4,5,8,9,null,"",6,6,6.5555555555555554,4,6,8,9]
[null,"Contribution to the regulatory framework and policies","Potential for strengthened regulatory frameworks and policies to drive investment in low-emission technologies and activities, promote development of additional low-emission policies, and/or improve climate-responsive planning and development",{"$error":"#DIV/0!"},{"$f":"$E$3*F25+$F$3*G25+$E$4*H25+$F$4*I25+$E$5*J25+$F$5*K25+$E$6*L25+$F$6*M25+$E$7*O25+$F$7*P25+$E$8*Q25+$F$8*R25+$E$9*S25+$F$9*T25+$E$10*U25+$F$10*V25","v":0},7.25,5.5,7.5,5.75,7.75,6,7.75,6,1,7.25,5.5,7.25,5.5,7.75,6,7.5,5.75,1,null,null,null,"",10,7.5,7.45,1,6.375,9.125,10,null,"",5,4,4.1190476190476186,1,3,5,9,null,"",10,7,7,2,6,9.5,10,null,"",10,7.5,7.333333333333333,1,6,9.25,10,null,2,9,8,7.384615384615385,5,6,9,10,null,2,7,8,7.7692307692307692,4,7,10,10,null,"",7,7,6.2105263157894735,1,5,8,9,null,3,7,7,6.6111111111111107,1,6.25,8,10,null,1,8,8,7.3684210526315788,1,7,9,10,null,2,8,7.5,6.4444444444444446,1,4.5,8,9]
[null,"Overall contribution to climate-resilient development pathways consistent with a country’s climate change adaptation strategies and plans (adaptation only)","Potential for expanding the proposal’s impact without equally increasing its cost base (scalability)",{"$error":"#DIV/0!"},{"$f":"$E$3*F26+$F$3*G26+$E$4*H26+$F$4*I26+$E$5*J26+$F$5*K26+$E$6*L26+$F$6*M26+$E$7*O26+$F$7*P26+$E$8*Q26+$F$8*R26+$E$9*S26+$F$9*T26+$E$10*U26+$F$10*V26","v":0},0,0,0,0,0,0,0,0,null,7.5,7.25,7.5,7.25,7.5,7.25,7.5,7.25,1,null,null,null,2,8,8,7.5,3,7,8,10,null,"",8,7.5,7.1904761904761907,2,6,8,10,null,null,null,null,null,null,null,null,null,null,null,null,null,null,null,null,null,null,null,null,null,null,null,null,null,null,null,null,null,null,null,null,null,null,null,null,null,"",7,7,6.833333333333333,1,6.25,8,10,null,3,7,7,6.9411764705882355,1,7,8,9,null,"",7,7,6.7777777777777777,2,6.25,8,10,null,"",7,7,7,1,7,9,10]
[null,null,"Potential for exporting key structural elements of the proposal to other sectors, regions or countries (replicability)",{"$error":"#DIV/0!"},null,0,0,0,0,0,0,0,0,null,7.5,7,7,6.5,7,6.5,7,6.5,1,null,null,null,"",7,7,6.5750000000000002,2.5,5,7.25,10,null,"",5,6,6.4523809523809526,2,5,9,10,null,null,null,null,null,null,null,null,null,null,null,null,null,null,null,null,null,null,null,null,null,null,null,null,null,null,null,null,null,null,null,null,null,null,null,null,null,1,7,8,7.666666666666667,4,7,9,10,null,3,7,7,7.4117647058823533,4,7,9,10,null,"",8,7,6.9444444444444446,4,6,8,10,null,"",7,7,7.1764705882352944,4,6,9,10]
["Sustainable development potential","Environmental cobenefits","Expected positive environmental impacts, including in other result areas of the Fund, and/or in line with the priorities set at the national, local or sectoral level, as appropriate",{"$f":"E28/SUM($E$28:$E$31)","v":{"$error":"#DIV/0!"}},{"$f":"$E$3*F28+$F$3*G28+$E$4*H28+$F$4*I28+$E$5*J28+$F$5*K28+$E$6*L28+$F$6*M28+$E$7*O28+$F$7*P28+$E$8*Q28+$F$8*R28+$E$9*S28+$F$9*T28+$E$10*U28+$F$10*V28","v":0},8,7.5,8,7.5,7.75,7.25,8,7.5,1,7.5,7,7.5,7,8,7.5,8.5,8,1,null,null,null,1,10,8,7.625,3,6,9.625,10,null,1,6,7,6.5,2,6,8,10,null,1,9,8,7.2,1,6,9,10,null,1,8,8,8.384615384615385,7,7,10,10,null,2,6,7.5,7.7142857142857144,5,6.25,9,10,null,2,8,8,8,5,7.25,9,10,null,"",9,7,6.7,3,5,8.25,10,null,3,9,7,7.0526315789473681,3,5.5,9,9,null,1,7,8,7.75,4,7,9,10,null,1,10,9,8.5789473684210531,6,7.5,10,10]
[null,"Social co-benefits","Expected positive social and health impacts, including in other result areas of the Fund, and/or in line with the priorities set at the national, local or sectoral levels, as appropriate",{"$f":"E29/SUM($E$28:$E$31)","v":{"$error":"#DIV/0!"}},{"$f":"$E$3*F29+$F$3*G29+$E$4*H29+$F$4*I29+$E$5*J29+$F$5*K29+$E$6*L29+$F$6*M29+$E$7*O29+$F$7*P29+$E$8*Q29+$F$8*R29+$E$9*S29+$F$9*T29+$E$10*U29+$F$10*V29","v":0},8,7,7.5,6.5,7.5,6.5,8.25,7.25,1,8.5,7.5,8.5,7.5,7.75,6.75,7.5,6.5,1,null,null,null,1,7,8,7.45,1,7,9,10,null,3,6,6,6.2380952380952381,1,6,7.5,10,null,1,10,8,7.4,2,6,9.5,10,null,3,7,7,6.9230769230769234,2,7,8,10,null,3,8,7,6.5,2,5,8,10,null,1,9,8.5,7.7857142857142856,2,7,9,10,null,1,10,9,8.35,2,8,10,10,null,1,10,9,8.9473684210526319,2,9,10,10,null,2,6,7.5,7.4,2,6,9,10,null,2,6,7,7.0526315789473681,2,6,8.5,10]
[null,"Economic cobenefits","Expected positive economic impacts, including in other result areas of the Fund, and/or in line with the priorities set at the national, local or sectoral level, as appropriate",{"$f":"E30/SUM($E$28:$E$31)","v":{"$error":"#DIV/0!"}},{"$f":"$E$3*F30+$F$3*G30+$E$4*H30+$F$4*I30+$E$5*J30+$F$5*K30+$E$6*L30+$F$6*M30+$E$7*O30+$F$7*P30+$E$8*Q30+$F$8*R30+$E$9*S30+$F$9*T30+$E$10*U30+$F$10*V30","v":0},7.125,7,7.625,7.5,7.625,7.5,7.375,7.25,1,7.625,7.5,7.125,7,7.125,7,7.125,7,1,null,null,null,3,8,7.25,7.05,3.5,5.75,8.25,10,null,1,9,7,6.9523809523809526,3,5,9,10,null,3,7,7,7.6,5,7,8,10,null,1,8,8,7.384615384615385,5,7,8,10,null,1,8,8,7.5714285714285712,5,7,8,10,null,"",6,7.5,7.2857142857142856,4,6,8.75,10,null,3,8,8,7.3,3,6.75,8.25,10,null,3,6,7,6.9473684210526319,3,6,8.5,10,null,3,7,7,7.4,4,7,9,10,null,2,7,7,6.2631578947368425,2,4,8,9]
[null,"Gender-sensitive development impact","Potential for reduced gender inequalities in climate change impacts and/or equal participation by gender groups in contributing to expected outcomes",{"$f":"E31/SUM($E$28:$E$31)","v":{"$error":"#DIV/0!"}},{"$f":"$E$3*F31+$F$3*G31+$E$4*H31+$F$4*I31+$E$5*J31+$F$5*K31+$E$6*L31+$F$6*M31+$E$7*O31+$F$7*P31+$E$8*Q31+$F$8*R31+$E$9*S31+$F$9*T31+$E$10*U31+$F$10*V31","v":0},6.5,6.5,6,6,5.5,5.5,7,7,1,7.5,7.5,7.5,7.5,6,6,6.5,6.5,1,null,null,null,"",6,6,5.95,1,5,7.25,10,null,3,6,6,5.5238095238095237,1,4,7,9,null,3,8,7,6.2,1,5,8,10,null,"",8,6,5.3076923076923075,1,3,7,9,null,"",5,5,5.2857142857142856,2,5,6,8,null,2,9,8,7.5,3,6,9,10,null,1,10,9,8.9,6,8,10,10,null,1,10,9,8.5789473684210531,5,8,10,10,null,"",6,6,6.05,2,5,7.25,9,null,2,8,7,6.2105263157894735,2,4,8,10]
["Needs of the recipient","Vulnerability of the country (adaptation only)","Scale and intensity of exposure of people, and/or social or economic assets or capital, to risks derived from climate change",{"$f":"E32/SUM($E$32:$E$36)","v":{"$error":"#DIV/0!"}},{"$f":"$E$3*F32+$F$3*G32+$E$4*H32+$F$4*I32+$E$5*J32+$F$5*K32+$E$6*L32+$F$6*M32+$E$7*O32+$F$7*P32+$E$8*Q32+$F$8*R32+$E$9*S32+$F$9*T32+$E$10*U32+$F$10*V32","v":0},0,0,0,0,0,0,0,0,null,9,8,9,8,9,8,9,8,1,null,null,null,1,10,9,8.5789473684210531,2,7.5,10,10,null,2,10,7,7.1,1,5,9.25,10,null,null,null,null,null,null,null,null,null,null,null,null,null,null,null,null,null,null,null,null,null,null,null,null,null,null,null,null,null,null,null,null,null,null,null,null,null,2,8,9,8.6315789473684212,6,8,10,10,null,1,9,9,8.5,6,8,9,10,null,1,9,9,8.0526315789473681,4,7,9,10,null,1,9,9,7.6111111111111107,4,6,9,10]
[null,"Vulnerable groups and gender aspects (adaptation only)","Comparably high vulnerability of the beneficiary groups",{"$f":"E33/SUM($E$32:$E$36)","v":{"$error":"#DIV/0!"}},null,0,0,0,0,0,0,0,0,null,9.5,8,9,7.5,8,6.5,8.5,7,1,null,null,null,1,10,9,8.4250000000000007,5,7,10,10,null,3,10,6,6.5952380952380949,1,5,8,10,null,null,null,null,null,null,null,null,null,null,null,null,null,null,null,null,null,null,null,null,null,null,null,null,null,null,null,null,null,null,null,null,null,null,null,null,null,1,10,10,8.9473684210526319,2,9,10,10,null,1,9,9,8.3888888888888893,2,8,9.75,10,null,3,6,7,7.1578947368421053,2,6,8,10,null,2,8,8,7.166666666666667,2,6,8,10]
[null,"Economic and social development level of the country and the affected population","Level of social and economic development of the country and target population",{"$f":"E34/SUM($E$32:$E$36)","v":{"$error":"#DIV/0!"}},{"$f":"$E$3*F34+$F$3*G34+$E$4*H34+$F$4*I34+$E$5*J34+$F$5*K34+$E$6*L34+$F$6*M34+$E$7*O34+$F$7*P34+$E$8*Q34+$F$8*R34+$E$9*S34+$F$9*T34+$E$10*U34+$F$10*V34","v":0},7.5,6.5,7.5,6.5,7.5,6.5,7,6,1,8,7,8,7,7.5,6.5,7.5,6.5,1,null,null,null,3,8,8,7.7,3,7,9.125,10,null,3,5,6,6.1428571428571432,1,5,8,10,null,2,7,7,7.3571428571428568,4,6.25,8.75,10,null,3,7,7,6.583333333333333,3,5,8,10,null,2,8,7,7,4,5,8,10,null,"",5,6,6.384615384615385,4,5,8,9,null,"",8,8,7.9473684210526319,4,7.5,9,10,null,3,9,8,7.3888888888888893,4,6.25,9,10,null,3,8,7,7.0526315789473681,4,6,8,10,null,3,4,7,6.666666666666667,4,6,8,10]
[null,"Absence of alternative sources of financing","Opportunities for the Fund to overcome specific barriers to financing",{"$f":"E35/SUM($E$32:$E$36)","v":{"$error":"#DIV/0!"}},{"$f":"$E$3*F35+$F$3*G35+$E$4*H35+$F$4*I35+$E$5*J35+$F$5*K35+$E$6*L35+$F$6*M35+$E$7*O35+$F$7*P35+$E$8*Q35+$F$8*R35+$E$9*S35+$F$9*T35+$E$10*U35+$F$10*V35","v":0},7.75,8.25,7.5,8,7.5,8,8,8.5,1,7.75,8.25,7.5,8,7.25,7.75,7,7.5,1,null,null,null,"",6,7,7.25,3.5,6,9,10,null,1,10,8,8.0952380952380949,5,7,10,10,null,1,9,8.5,8.4285714285714288,7,8,9,10,null,1,8,8,8.1666666666666661,6,7.5,9.25,10,null,1,8,8,7.8461538461538458,5,8,9,10,null,1,9,9,8.384615384615385,4,8,9,10,null,3,9,8.5,7.8888888888888893,2,7,9,10,null,3,9,8,7.7647058823529411,2,7,9,10,null,2,7,7.5,7.3888888888888893,2,7,9,10,null,3,7,7,7.4117647058823533,2,6,9,10]
[null,"Need for strengthening institutions and implementation capacity","Opportunities to strengthen institutional and implementation capacity in relevant institutions in the context of the proposal",{"$f":"E36/SUM($E$32:$E$36)","v":{"$error":"#DIV/0!"}},null,7.375,6.5,7.875,7,7.375,6.5,7.875,7,1,7.625,6.75,7.875,7,7.375,6.5,7.375,6.5,1,null,null,null,"",8,7.75,7.1,3,6,8.25,10,null,3,6,6,4.8095238095238093,1,3,6,8,null,2,8,7,7.2307692307692308,5,7,8,9,null,1,7,8,7.5454545454545459,4,7,8.5,10,null,2,7,7,7.333333333333333,4,7,8.25,10,null,2,8,8,8.3333333333333339,7,7.75,9,10,null,"",8,7.5,7.1111111111111107,4,6,8,9,null,3,8,8,7.1764705882352944,4,6,8,9,null,3,6,7,6.8888888888888893,3,6,8,9,null,3,8,7,6.9411764705882355,3,6,8,9]
["Country ownership","Existence of a national climate strategy","Objectives are in line with priorities in the country’s national climate strategy",{"$f":"E37/SUM($E$37:$E$40)","v":{"$error":"#DIV/0!"}},{"$f":"$E$3*F37+$F$3*G37+$E$4*H37+$F$4*I37+$E$5*J37+$F$5*K37+$E$6*L37+$F$6*M37+$E$7*O37+$F$7*P37+$E$8*Q37+$F$8*R37+$E$9*S37+$F$9*T37+$E$10*U37+$F$10*V37","v":0},8.375,7,8.125,6.75,7.875,6.5,8.375,7,1,7.875,6.5,7.875,6.5,8.375,7,7.875,6.5,1,null,null,null,1,10,8.75,8.0749999999999993,4,7,10,10,null,2,6,6,6.5952380952380949,2,5,8,10,null,1,8,8,7.6428571428571432,4,6.5,9,10,null,2,9,7.5,6.916666666666667,3,5,9,10,null,2,8,7,7.1538461538461542,4,6,8,10,null,1,8,8,7.3076923076923075,4,6,8,10,null,3,7,7,6.8947368421052628,4,6,7.5,10,null,3,8,7,7,4,6,8,10,null,1,8,8,7.1578947368421053,4,6,8,10,null,2,8,7,6.8888888888888893,4,6,8,10]
[null,"Coherence with existing policies","Proposed activity is designed in cognizance of other country policies",{"$f":"E38/SUM($E$37:$E$40)","v":{"$error":"#DIV/0!"}},0,7.25,6.75,7,6.5,6.5,6,7,6.5,1,7,6.5,7.5,7,7.25,6.75,6.5,6,1,null,null,null,"",10,7,7.125,4,5.75,8.5,10,null,2,6,6,6.0714285714285712,1,5,7,10,null,2,8,7.5,6.9285714285714288,4,5.25,8,10,null,3,8,7,6.75,3,5.75,8,10,null,"",5,6,6.5384615384615383,4,5,8,10,null,"",6,7,6.9230769230769234,4,6,8,10,null,3,5,7,6.8888888888888893,3,5,8.75,10,null,1,8,8,7.2941176470588234,4,6,9,10,null,3,8,7.5,7.166666666666667,4,6,8,10,null,"",5,6,6.5294117647058822,3,5,8,10]
[null,"Capacity of accredited entities or executing entities to deliver","Experience and track record of the Accredited Entity or executing entities in key elements of the proposed activity",{"$f":"E39/SUM($E$37:$E$40)","v":{"$error":"#DIV/0!"}},0,7.5,7.5,7.5,7.5,7.5,7.5,8,8,1,7.75,7.75,7.5,7.5,7.5,7.5,7.5,7.5,1,null,null,null,2,10,8,7.5250000000000004,4,5,9.25,10,null,1,10,8,7.5952380952380949,4,5,10,10,null,3,7,7,7.2307692307692308,5,6,8,10,null,3,6,7,7.0909090909090908,5,6,7.5,10,null,2,6,7,7.25,6,6,8,10,null,1,9,8,7.916666666666667,6,6.75,9,10,null,2,9,7.5,7.6111111111111107,4,6.25,9,10,null,3,6,7,7.4117647058823533,4,6,9,10,null,"",7,7,7.166666666666667,4,6,8,10,null,2,9,7,7.4117647058823533,4,6,9,10]
[null,"Engagement with civil society organizations and other relevant stakeholders","Stakeholder consultations and engagement",{"$f":"E40/SUM($E$37:$E$40)","v":{"$error":"#DIV/0!"}},0,7.25,6.5,7.75,7,7.5,6.75,7.75,7,1,7.75,7,7.75,7,7.75,7,7.75,7,1,null,null,null,3,7,7.5,7.6749999999999998,4,7,9,10,null,2,5,6,6.4523809523809526,2,5,8,10,null,3,8,7,7.0769230769230766,4,6,8,10,null,1,8,8,7.1818181818181817,4,6.5,8,10,null,1,8,7.5,7,3,5.75,8,10,null,1,8,8,8,4,7.75,9.25,10,null,1,8,8,8.3333333333333339,5,8,9.75,10,null,1,8,8,7.7647058823529411,3,7,9,10,null,1,8,8,7.6111111111111107,3,7,8,10,null,1,8,8,7.6470588235294121,3,7,9,10]
["Efficiency and effectiveness","Cost-effectiveness and efficiency regarding financial and non-financial aspects","Financial adequacy and appropriateness of concessionality",{"$f":"E41/SUM($E$41:$E$46)","v":{"$error":"#DIV/0!"}},0,8,9,7.75,8.75,7.5,8.5,7,8,1,7,8,7,8,7.5,8.5,7.5,8.5,1,null,null,null,1,8,8,8.25,5,8,10,10,null,1,10,10,8.7142857142857135,3,8,10,10,null,1,8,8,8,6,7,9,10,null,"",7,7.5,7.75,6,7,8.25,10,null,"",7,7,7.4615384615384617,5,6,9,10,null,"",6,6,6.384615384615385,4,6,7,10,null,3,6,6,6.166666666666667,2,5,7.75,10,null,3,6,6,6,2,5,7,10,null,2,8,7,7,2,6,8,10,null,1,8,7,6.4705882352941178,2,5,8,10]
[null,null,"Cost-effectiveness (mitigation only)",{"$error":"#DIV/0!"},0,7.5,8,7.5,8,7.5,8,6.5,7,1,0,0,0,0,0,0,0,0,null,null,null,null,2,7,7,7,3,6,8,10,null,"",7,8,7.8571428571428568,5,7,9,10,null,1,8,8,7.9285714285714288,5,7,9,10,null,1,8,8,7.583333333333333,5,6.75,9,10,null,1,9,8,7.615384615384615,5,7,9,10,null,"",5,6,6.615384615384615,4,5,8,10]
[null,"Amount of cofinancing","Potential to catalyse and/or leverage investment (mitigation only)",{"$error":"#DIV/0!"},0,7.5,8.25,7.25,8,7.5,8.25,7,7.75,1,0,0,0,0,0,0,0,0,null,null,null,null,2,7,7,6.384615384615385,2,5,8,10,null,3,10,8.5,7.8571428571428568,3,7,10,10,null,1,8,8,8.4285714285714288,6,8,9,10,null,"",8,7.5,7.083333333333333,4,6,8,9,null,1,8,8,7.6923076923076925,5,7,9,10,null,1,7,7,6.4615384615384617,3,6,8,9]
[null,"Programme/project financial viability and other financial indicators","Expected economic and financial internal rate of return",{"$error":"#DIV/0!"},null,7,8,6.25,7.25,6.5,7.5,6,7,1,5.5,6.5,5.75,6.75,6.5,7.5,5.5,6.5,1,null,null,null,"",6,6,5.8,2,4,7,10,null,"",10,8,8.5238095238095237,6,7,10,10,null,1,8,8,7.5,3,6.25,8.75,10,null,"",6,6.5,6.833333333333333,3,6,8,10,null,"",6,7,7.0769230769230766,6,6,8,10,null,"",7,6,6.1538461538461542,3,6,7,8,null,"",8,5,5.7368421052631575,2,4,8,9,null,"",8,5.5,5.666666666666667,2,4,8,9,null,2,8,7,6.4210526315789478,2,5.5,8,9,null,"",5,5,5.2222222222222223,2,4,6,9]
[null,null,"Financial viability in the long run",{"$error":"#DIV/0!"},{"$f":"$E$3*F45+$F$3*G45+$E$4*H45+$F$4*I45+$E$5*J45+$F$5*K45+$E$6*L45+$F$6*M45+$E$7*O45+$F$7*P45+$E$8*Q45+$F$8*R45+$E$9*S45+$F$9*T45+$E$10*U45+$F$10*V45","v":0},7.5,8.5,7.5,8.5,7.5,8.5,7,8,1,7,8,7,8,7,8,7,8,1,null,null,null,2,6,7,7.2750000000000004,5,6,8.25,10,null,2,10,9,8.5952380952380949,4.5,8,10,10,null,1,8,8,8.2142857142857135,6,7.25,9,10,null,1,7,8,7.916666666666667,6,7,9,10,null,1,7,8,7.7692307692307692,6,7,8,10,null,1,8,7,7.1538461538461542,4,7,8,10,null,1,8,7,6.5789473684210522,3,5,8,10,null,1,7,7,6.7222222222222223,2,5.25,8,10,null,2,7,7,7.4736842105263159,3,7,8.5,10,null,1,7,7,6.7222222222222223,3,6,8,9]
[null,"Industry best practices","Application of best practices and degree of innovation",{"$error":"#DIV/0!"},{"$f":"$E$3*F46+$F$3*G46+$E$4*H46+$F$4*I46+$E$5*J46+$F$5*K46+$E$6*L46+$F$6*M46+$E$7*O46+$F$7*P46+$E$8*Q46+$F$8*R46+$E$9*S46+$F$9*T46+$E$10*U46+$F$10*V46","v":0},6.75,7,7.25,7.5,7,7.25,6.5,6.75,1,6.75,7,6.5,6.75,7.25,7.5,6.75,7,1,null,null,null,"",8,6.5,6.4749999999999996,1,5.875,8,10,null,"",8,7,6.9285714285714288,1,6,8,10,null,"",6,7,7.2307692307692308,5,6,8,10,null,1,8,8,7.7272727272727275,6,6.5,8.5,10,null,"",7,7.5,7.666666666666667,4,7,8.5,10,null,3,7,6.5,6.166666666666667,4,5.75,7,8,null,1,7,7,6.7222222222222223,3,5.5,8,10,null,2,7,6.5,6.3125,3,5,7.25,9,null,1,8,8,7.166666666666667,4,6.25,8,9,null,1,8,7,6.9411764705882355,3,6,8,9]

{"sheet":"PROJECT BENCHMARKS","index":6,"n_rows":658,"n_cols":25,"rows_kept":658,"cut":false,"hidden":true,"merged":[]}
["ID","Project Code","Fund","Entity","Theme","(tCO2 reduced) / (Mitigation share of project cost)","(Expected total number of beneficiaries - adaptation) / (Adaptation share of project cost)","(Mitigation share of project cost) / (tCO2 reduced)","(Direct co-financing in US$)/(Total GCF/other fund financing in US$)"," (annual tCO2 reduced)/(annual emissions in target countries)"," (beneficiaries)/(average population in target countries)","Female beneficiaries/Total beneficiaries","Total project cost","Total GCF/other fund financing in US$","Total co-financing in US$","Total tCO2e reduced or avoided by activities","Expected total number of beneficiaries (adaptation or cross-cutting only)","Expected total number of beneficiaries","MITIGATION SHARE","ADAPTATION SHARE","Annual tCO2e reduced or avoided by activities","Expected total number of beneficiaries","Share of female beneficiaries","Annual Emissions in target countries","Population in target countries"]
[1,"PCTFCL204A","CTF","IDB","Mitigation",{"$f":"IF(ISERROR(P2/(M2*S2)),\"\",IF((P2/(M2*S2))<=OUTLIERS!$C$3,\"\",IF((P2/(M2*S2))>=OUTLIERS!$C$4,\"\",P2/(M2*S2))))","v":4.0234275528393176E-2},{"$f":"IF(ISERROR(Q2/($M2*T2)),\"\",IF((Q2/($M2*T2))<=OUTLIERS!$D$3,\"\",IF((Q2/($M2*T2))>=OUTLIERS!$D$4,\"\",Q2/($M2*T2))))","v":""},{"$f":"IF(ISERROR((M2*S2)/P2),\"\",IF((M2*S2/P2)<=OUTLIERS!$E$3,\"\",IF((M2*S2/P2)>=OUTLIERS!$E$4,\"\",M2*S2/P2)))","v":24.854430379746834},{"$f":"IF(ISERROR(O2/N2),\"\",IF(O2/N2<=OUTLIERS!$F$3,\"\",IF(O2/N2>=OUTLIERS!$F$4,\"\",O2/N2)))","v":0.554016620498615},{"$f":"IF(ISERROR(U2/X2),\"\",IF(U2/X2<=OUTLIERS!$G$3,\"\",IF(U2/X2>=OUTLIERS!$G$4,\"\",U2/X2)))","v":1.1264193110419797E-3},{"$f":"IF(ISERROR(Q2/Y2),\"\",IF(Q2/Y2<=OUTLIERS!$H$3,\"\",IF(Q2/Y2>=OUTLIERS!$H$4,\"\",Q2/Y2)))","v":""},{"$f":"IF(ISERROR(W2),\"\",IF(W2<=OUTLIERS!$I$3,\"\",IF(W2>=OUTLIERS!$I$4,\"\",W2)))","v":""},{"$f":"N2+O2","v":39270000},25270000,14000000,1580000,{"$f":"IF(E2=\"adaptation\",R2,\"\")","v":""},{"$f":"IF(V2=\"n/a\",\"\",V2)","v":""},1,0,93000,"n/a","n/a",82562505,18054726]
[2,"PCTFCL222A","CTF","IDB","Mitigation",{"$f":"IF(ISERROR(P3/(M3*S3)),\"\",IF((P3/(M3*S3))<=OUTLIERS!$C$3,\"\",IF((P3/(M3*S3))>=OUTLIERS!$C$4,\"\",P3/(M3*S3))))","v":1.5711628410958408E-2},{"$f":"IF(ISERROR(Q3/($M3*T3)),\"\",IF((Q3/($M3*T3))<=OUTLIERS!$D$3,\"\",IF((Q3/($M3*T3))>=OUTLIERS!$D$4,\"\",Q3/($M3*T3))))","v":""},{"$f":"IF(ISERROR((M3*S3)/P3),\"\",IF((M3*S3/P3)<=OUTLIERS!$E$3,\"\",IF((M3*S3/P3)>=OUTLIERS!$E$4,\"\",M3*S3/P3)))","v":63.647126436781612},{"$f":"IF(ISERROR(O3/N3),\"\",IF(O3/N3<=OUTLIERS!$F$3,\"\",IF(O3/N3>=OUTLIERS!$F$4,\"\",O3/N3)))","v":9.3057882002605616},{"$f":"IF(ISERROR(U3/X3),\"\",IF(U3/X3<=OUTLIERS!$G$3,\"\",IF(U3/X3>=OUTLIERS!$G$4,\"\",U3/X3)))","v":3.5124903247545601E-3},{"$f":"IF(ISERROR(Q3/Y3),\"\",IF(Q3/Y3<=OUTLIERS!$H$3,\"\",IF(Q3/Y3>=OUTLIERS!$H$4,\"\",Q3/Y3)))","v":""},{"$f":"IF(ISERROR(W3),\"\",IF(W3<=OUTLIERS!$I$3,\"\",IF(W3>=OUTLIERS!$I$4,\"\",W3)))","v":""},553730000,53730000,500000000,8700000,{"$f":"IF(E3=\"adaptation\",R3,\"\")","v":""},"",1,0,290000,"n/a","n/a",82562505,18054726]
[3,"PCTFCO007A","CTF","IDB","Mitigation",{"$f":"IF(ISERROR(P4/(M4*S4)),\"\",IF((P4/(M4*S4))<=OUTLIERS!$C$3,\"\",IF((P4/(M4*S4))>=OUTLIERS!$C$4,\"\",P4/(M4*S4))))","v":8.7662337662337657E-3},{"$f":"IF(ISERROR(Q4/($M4*T4)),\"\",IF((Q4/($M4*T4))<=OUTLIERS!$D$3,\"\",IF((Q4/($M4*T4))>=OUTLIERS!$D$4,\"\",Q4/($M4*T4))))","v":""},{"$f":"IF(ISERROR((M4*S4)/P4),\"\",IF((M4*S4/P4)<=OUTLIERS!$E$3,\"\",IF((M4*S4/P4)>=OUTLIERS!$E$4,\"\",M4*S4/P4)))","v":114.07407407407408},{"$f":"IF(ISERROR(O4/N4),\"\",IF(O4/N4<=OUTLIERS!$F$3,\"\",IF(O4/N4>=OUTLIERS!$F$4,\"\",O4/N4)))","v":5.16},{"$f":"IF(ISERROR(U4/X4),\"\",IF(U4/X4<=OUTLIERS!$G$3,\"\",IF(U4/X4>=OUTLIERS!$G$4,\"\",U4/X4)))","v":2.5686262002441051E-4},{"$f":"IF(ISERROR(Q4/Y4),\"\",IF(Q4/Y4<=OUTLIERS!$H$3,\"\",IF(Q4/Y4>=OUTLIERS!$H$4,\"\",Q4/Y4)))","v":""},{"$f":"IF(ISERROR(W4),\"\",IF(W4<=OUTLIERS!$I$3,\"\",IF(W4>=OUTLIERS!$I$4,\"\",W4)))","v":""},61600000,10000000,51600000,540000,"","",1,0,21600,"n/a","n/a",84091644,49065615]
[4,"PCTFCO098A","CTF","IDB","Mitigation",{"$f":"IF(ISERROR(P5/(M5*S5)),\"\",IF((P5/(M5*S5))<=OUTLIERS!$C$3,\"\",IF((P5/(M5*S5))>=OUTLIERS!$C$4,\"\",P5/(M5*S5))))","v":3.2869296210363497E-2},{"$f":"IF(ISERROR(Q5/($M5*T5)),\"\",IF((Q5/($M5*T5))<=OUTLIERS!$D$3,\"\",IF((Q5/($M5*T5))>=OUTLIERS!$D$4,\"\",Q5/($M5*T5))))","v":""},{"$f":"IF(ISERROR((M5*S5)/P5),\"\",IF((M5*S5/P5)<=OUTLIERS!$E$3,\"\",IF((M5*S5/P5)>=OUTLIERS!$E$4,\"\",M5*S5/P5)))","v":30.423529411764704},{"$f":"IF(ISERROR(O5/N5),\"\",IF(O5/N5<=OUTLIERS!$F$3,\"\",IF(O5/N5>=OUTLIERS!$F$4,\"\",O5/N5)))","v":4.7339246119733929},{"$f":"IF(ISERROR(U5/X5),\"\",IF(U5/X5<=OUTLIERS!$G$3,\"\",IF(U5/X5>=OUTLIERS!$G$4,\"\",U5/X5)))","v":6.7386798463194117E-4},{"$f":"IF(ISERROR(Q5/Y5),\"\",IF(Q5/Y5<=OUTLIERS!$H$3,\"\",IF(Q5/Y5>=OUTLIERS!$H$4,\"\",Q5/Y5)))","v":""},{"$f":"IF(ISERROR(W5),\"\",IF(W5<=OUTLIERS!$I$3,\"\",IF(W5>=OUTLIERS!$I$4,\"\",W5)))","v":""},25860000,4510000,21350000,850000,"",1000,1,0,56666.666666666664,1000,"n/a",84091644,49065615]
[5,"PCTFDP501A","CTF","ADB","Mitigation",{"$f":"IF(ISERROR(P6/(M6*S6)),\"\",IF((P6/(M6*S6))<=OUTLIERS!$C$3,\"\",IF((P6/(M6*S6))>=OUTLIERS!$C$4,\"\",P6/(M6*S6))))","v":2.5101643980908608E-2},{"$f":"IF(ISERROR(Q6/($M6*T6)),\"\",IF((Q6/($M6*T6))<=OUTLIERS!$D$3,\"\",IF((Q6/($M6*T6))>=OUTLIERS!$D$4,\"\",Q6/($M6*T6))))","v":""},{"$f":"IF(ISERROR((M6*S6)/P6),\"\",IF((M6*S6/P6)<=OUTLIERS!$E$3,\"\",IF((M6*S6/P6)>=OUTLIERS!$E$4,\"\",M6*S6/P6)))","v":39.838028169014088},{"$f":"IF(ISERROR(O6/N6),\"\",IF(O6/N6<=OUTLIERS!$F$3,\"\",IF(O6/N6>=OUTLIERS!$F$4,\"\",O6/N6)))","v":0.64782988639673755},{"$f":"IF(ISERROR(U6/X6),\"\",IF(U6/X6<=OUTLIERS!$G$3,\"\",IF(U6/X6>=OUTLIERS!$G$4,\"\",U6/X6)))","v":7.584911116957982E-5},{"$f":"IF(ISERROR(Q6/Y6),\"\",IF(Q6/Y6<=OUTLIERS!$H$3,\"\",IF(Q6/Y6>=OUTLIERS!$H$4,\"\",Q6/Y6)))","v":""},{"$f":"IF(ISERROR(W6),\"\",IF(W6<=OUTLIERS!$I$3,\"\",IF(W6>=OUTLIERS!$I$4,\"\",W6)))","v":""},56570000,34330000,22240000,1420000,"",637700.00000000012,1,0,71000,637700.00000000012,"n/a",936068978.33333325,569363198.66666663]
[6,"PCTFDP601A","CTF","ADB","Mitigation",{"$f":"IF(ISERROR(P7/(M7*S7)),\"\",IF((P7/(M7*S7))<=OUTLIERS!$C$3,\"\",IF((P7/(M7*S7))>=OUTLIERS!$C$4,\"\",P7/(M7*S7))))","v":0.05},{"$f":"IF(ISERROR(Q7/($M7*T7)),\"\",IF((Q7/($M7*T7))<=OUTLIERS!$D$3,\"\",IF((Q7/($M7*T7))>=OUTLIERS!$D$4,\"\",Q7/($M7*T7))))","v":""},{"$f":"IF(ISERROR((M7*S7)/P7),\"\",IF((M7*S7/P7)<=OUTLIERS!$E$3,\"\",IF((M7*S7/P7)>=OUTLIERS!$E$4,\"\",M7*S7/P7)))","v":20},{"$f":"IF(ISERROR(O7/N7),\"\",IF(O7/N7<=OUTLIERS!$F$3,\"\",IF(O7/N7>=OUTLIERS!$F$4,\"\",O7/N7)))","v":4},{"$f":"IF(ISERROR(U7/X7),\"\",IF(U7/X7<=OUTLIERS!$G$3,\"\",IF(U7/X7>=OUTLIERS!$G$4,\"\",U7/X7)))","v":1.3161824857744627E-3},{"$f":"IF(ISERROR(Q7/Y7),\"\",IF(Q7/Y7<=OUTLIERS!$H$3,\"\",IF(Q7/Y7>=OUTLIERS!$H$4,\"\",Q7/Y7)))","v":""},{"$f":"IF(ISERROR(W7),\"\",IF(W7<=OUTLIERS!$I$3,\"\",IF(W7>=OUTLIERS!$I$4,\"\",W7)))","v":""},150000000,30000000,120000000,7500000,"","",1,0,375000,"n/a","n/a",284914899,184454734.5]
[7,"PCTFDP602A","CTF","ADB","Mitigation",{"$f":"IF(ISERROR(P8/(M8*S8)),\"\",IF((P8/(M8*S8))<=OUTLIERS!$C$3,\"\",IF((P8/(M8*S8))>=OUTLIERS!$C$4,\"\",P8/(M8*S8))))","v":1.9369369369369369E-2},{"$f":"IF(ISERROR(Q8/($M8*T8)),\"\",IF((Q8/($M8*T8))<=OUTLIERS!$D$3,\"\",IF((Q8/($M8*T8))>=OUTLIERS!$D$4,\"\",Q8/($M8*T8))))","v":""},{"$f":"IF(ISERROR((M8*S8)/P8),\"\",IF((M8*S8/P8)<=OUTLIERS!$E$3,\"\",IF((M8*S8/P8)>=OUTLIERS!$E$4,\"\",M8*S8/P8)))","v":51.627906976744185},{"$f":"IF(ISERROR(O8/N8),\"\",IF(O8/N8<=OUTLIERS!$F$3,\"\",IF(O8/N8>=OUTLIERS!$F$4,\"\",O8/N8)))","v":5.3428571428571425},{"$f":"IF(ISERROR(U8/X8),\"\",IF(U8/X8<=OUTLIERS!$G$3,\"\",IF(U8/X8>=OUTLIERS!$G$4,\"\",U8/X8)))","v":8.1847876179741083E-4},{"$f":"IF(ISERROR(Q8/Y8),\"\",IF(Q8/Y8<=OUTLIERS!$H$3,\"\",IF(Q8/Y8>=OUTLIERS!$H$4,\"\",Q8/Y8)))","v":""},{"$f":"IF(ISERROR(W8),\"\",IF(W8<=OUTLIERS!$I$3,\"\",IF(W8>=OUTLIERS!$I$4,\"\",W8)))","v":""},222000000,35000000,187000000,4300000,"","",1,0,215000,"n/a","n/a",262682442.15384614,162322359.46153846]
[8,"PCTFDP606A","CTF","EBRD","Mitigation",{"$f":"IF(ISERROR(P9/(M9*S9)),\"\",IF((P9/(M9*S9))<=OUTLIERS!$C$3,\"\",IF((P9/(M9*S9))>=OUTLIERS!$C$4,\"\",P9/(M9*S9))))","v":1.4721919302071973E-2},{"$f":"IF(ISERROR(Q9/($M9*T9)),\"\",IF((Q9/($M9*T9))<=OUTLIERS!$D$3,\"\",IF((Q9/($M9*T9))>=OUTLIERS!$D$4,\"\",Q9/($M9*T9))))","v":""},{"$f":"IF(ISERROR((M9*S9)/P9),\"\",IF((M9*S9/P9)<=OUTLIERS!$E$3,\"\",IF((M9*S9/P9)>=OUTLIERS!$E$4,\"\",M9*S9/P9)))","v":67.925925925925924},{"$f":"IF(ISERROR(O9/N9),\"\",IF(O9/N9<=OUTLIERS!$F$3,\"\",IF(O9/N9>=OUTLIERS!$F$4,\"\",O9/N9)))","v":25.2},{"$f":"IF(ISERROR(U9/X9),\"\",IF(U9/X9<=OUTLIERS!$G$3,\"\",IF(U9/X9>=OUTLIERS!$G$4,\"\",U9/X9)))","v":8.5163341348875477E-3},{"$f":"IF(ISERROR(Q9/Y9),\"\",IF(Q9/Y9<=OUTLIERS!$H$3,\"\",IF(Q9/Y9>=OUTLIERS!$H$4,\"\",Q9/Y9)))","v":""},{"$f":"IF(ISERROR(W9),\"\",IF(W9<=OUTLIERS!$I$3,\"\",IF(W9>=OUTLIERS!$I$4,\"\",W9)))","v":""},917000000,35000000,882000000,13500000,"","",1,0,675000,"n/a","n/a",79259454.75,38631802.75]
[9,"PCTFDP613A","CTF","IFC","Mitigation",{"$f":"IF(ISERROR(P10/(M10*S10)),\"\",IF((P10/(M10*S10))<=OUTLIERS!$C$3,\"\",IF((P10/(M10*S10))>=OUTLIERS!$C$4,\"\",P10/(M10*S10))))","v":1.2962962962962963E-2},{"$f":"IF(ISERROR(Q10/($M10*T10)),\"\",IF((Q10/($M10*T10))<=OUTLIERS!$D$3,\"\",IF((Q10/($M10*T10))>=OUTLIERS!$D$4,\"\",Q10/($M10*T10))))","v":""},{"$f":"IF(ISERROR((M10*S10)/P10),\"\",IF((M10*S10/P10)<=OUTLIERS!$E$3,\"\",IF((M10*S10/P10)>=OUTLIERS!$E$4,\"\",M10*S10/P10)))","v":77.142857142857139},{"$f":"IF(ISERROR(O10/N10),\"\",IF(O10/N10<=OUTLIERS!$F$3,\"\",IF(O10/N10>=OUTLIERS!$F$4,\"\",O10/N10)))","v":2.0857142857142859},{"$f":"IF(ISERROR(U10/X10),\"\",IF(U10/X10<=OUTLIERS!$G$3,\"\",IF(U10/X10>=OUTLIERS!$G$4,\"\",U10/X10)))","v":1.5964318088782488E-3},{"$f":"IF(ISERROR(Q10/Y10),\"\",IF(Q10/Y10<=OUTLIERS!$H$3,\"\",IF(Q10/Y10>=OUTLIERS!$H$4,\"\",Q10/Y10)))","v":""},{"$f":"IF(ISERROR(W10),\"\",IF(W10<=OUTLIERS!$I$3,\"\",IF(W10>=OUTLIERS!$I$4,\"\",W10)))","v":""},108000000,35000000,73000000,1400000,"","",1,0,70000,"n/a","n/a",43847785.800000004,40297346.399999999]
[10,"PCTFDP614A","CTF","IDB","Mitigation",{"$f":"IF(ISERROR(P11/(M11*S11)),\"\",IF((P11/(M11*S11))<=OUTLIERS!$C$3,\"\",IF((P11/(M11*S11))>=OUTLIERS!$C$4,\"\",P11/(M11*S11))))","v":1.3289036544850499E-2},{"$f":"IF(ISERROR(Q11/($M11*T11)),\"\",IF((Q11/($M11*T11))<=OUTLIERS!$D$3,\"\",IF((Q11/($M11*T11))>=OUTLIERS!$D$4,\"\",Q11/($M11*T11))))","v":""},{"$f":"IF(ISERROR((M11*S11)/P11),\"\",IF((M11*S11/P11)<=OUTLIERS!$E$3,\"\",IF((M11*S11/P11)>=OUTLIERS!$E$4,\"\",M11*S11/P11)))","v":75.25},{"$f":"IF(ISERROR(O11/N11),\"\",IF(O11/N11<=OUTLIERS!$F$3,\"\",IF(O11/N11>=OUTLIERS!$F$4,\"\",O11/N11)))","v":5.0199999999999996},{"$f":"IF(ISERROR(U11/X11),\"\",IF(U11/X11<=OUTLIERS!$G$3,\"\",IF(U11/X11>=OUTLIERS!$G$4,\"\",U11/X11)))","v":""},{"$f":"IF(ISERROR(Q11/Y11),\"\",IF(Q11/Y11<=OUTLIERS!$H$3,\"\",IF(Q11/Y11>=OUTLIERS!$H$4,\"\",Q11/Y11)))","v":""},{"$f":"IF(ISERROR(W11),\"\",IF(W11<=OUTLIERS!$I$3,\"\",IF(W11>=OUTLIERS!$I$4,\"\",W11)))","v":""},120400000,20000000,100400000,1600000,"","",1,0,80000,"n/a","n/a","",""]
[11,"PCTFDP713A","CTF","IDB","Mitigation",{"$f":"IF(ISERROR(P12/(M12*S12)),\"\",IF((P12/(M12*S12))<=OUTLIERS!$C$3,\"\",IF((P12/(M12*S12))>=OUTLIERS!$C$4,\"\",P12/(M12*S12))))","v":""},{"$f":"IF(ISERROR(Q12/($M12*T12)),\"\",IF((Q12/($M12*T12))<=OUTLIERS!$D$3,\"\",IF((Q12/($M12*T12))>=OUTLIERS!$D$4,\"\",Q12/($M12*T12))))","v":""},{"$f":"IF(ISERROR((M12*S12)/P12),\"\",IF((M12*S12/P12)<=OUTLIERS!$E$3,\"\",IF((M12*S12/P12)>=OUTLIERS!$E$4,\"\",M12*S12/P12)))","v":""},{"$f":"IF(ISERROR(O12/N12),\"\",IF(O12/N12<=OUTLIERS!$F$3,\"\",IF(O12/N12>=OUTLIERS!$F$4,\"\",O12/N12)))","v":8.9705882352941178},{"$f":"IF(ISERROR(U12/X12),\"\",IF(U12/X12<=OUTLIERS!$G$3,\"\",IF(U12/X12>=OUTLIERS!$G$4,\"\",U12/X12)))","v":""},{"$f":"IF(ISERROR(Q12/Y12),\"\",IF(Q12/Y12<=OUTLIERS!$H$3,\"\",IF(Q12/Y12>=OUTLIERS!$H$4,\"\",Q12/Y12)))","v":""},{"$f":"IF(ISERROR(W12),\"\",IF(W12<=OUTLIERS!$I$3,\"\",IF(W12>=OUTLIERS!$I$4,\"\",W12)))","v":""},339000000,34000000,305000000,"n/a","","",1,0,"n/a","n/a","n/a","",""]
[12,"PCTFGL700A","CTF","IFC","Mitigation",{"$f":"IF(ISERROR(P13/(M13*S13)),\"\",IF((P13/(M13*S13))<=OUTLIERS!$C$3,\"\",IF((P13/(M13*S13))>=OUTLIERS!$C$4,\"\",P13/(M13*S13))))","v":1.0283687943262411E-2},{"$f":"IF(ISERROR(Q13/($M13*T13)),\"\",IF((Q13/($M13*T13))<=OUTLIERS!$D$3,\"\",IF((Q13/($M13*T13))>=OUTLIERS!$D$4,\"\",Q13/($M13*T13))))","v":""},{"$f":"IF(ISERROR((M13*S13)/P13),\"\",IF((M13*S13/P13)<=OUTLIERS!$E$3,\"\",IF((M13*S13/P13)>=OUTLIERS!$E$4,\"\",M13*S13/P13)))","v":97.241379310344826},{"$f":"IF(ISERROR(O13/N13),\"\",IF(O13/N13<=OUTLIERS!$F$3,\"\",IF(O13/N13>=OUTLIERS!$F$4,\"\",O13/N13)))","v":3.9473684210526314},{"$f":"IF(ISERROR(U13/X13),\"\",IF(U13/X13<=OUTLIERS!$G$3,\"\",IF(U13/X13>=OUTLIERS!$G$4,\"\",U13/X13)))","v":1.8207721186128183E-4},{"$f":"IF(ISERROR(Q13/Y13),\"\",IF(Q13/Y13<=OUTLIERS!$H$3,\"\",IF(Q13/Y13>=OUTLIERS!$H$4,\"\",Q13/Y13)))","v":""},{"$f":"IF(ISERROR(W13),\"\",IF(W13<=OUTLIERS!$I$3,\"\",IF(W13>=OUTLIERS!$I$4,\"\",W13)))","v":""},169200000,34200000,135000000,1740000,"","",1,0,87000,"n/a","n/a",477819267.5,268751978.25]
[13,"PCTFHN617A","CTF","IFC","Mitigation",{"$f":"IF(ISERROR(P14/(M14*S14)),\"\",IF((P14/(M14*S14))<=OUTLIERS!$C$3,\"\",IF((P14/(M14*S14))>=OUTLIERS!$C$4,\"\",P14/(M14*S14))))","v":6.7763794772507258E-3},{"$f":"IF(ISERROR(Q14/($M14*T14)),\"\",IF((Q14/($M14*T14))<=OUTLIERS!$D$3,\"\",IF((Q14/($M14*T14))>=OUTLIERS!$D$4,\"\",Q14/($M14*T14))))","v":""},{"$f":"IF(ISERROR((M14*S14)/P14),\"\",IF((M14*S14/P14)<=OUTLIERS!$E$3,\"\",IF((M14*S14/P14)>=OUTLIERS!$E$4,\"\",M14*S14/P14)))","v":147.57142857142858},{"$f":"IF(ISERROR(O14/N14),\"\",IF(O14/N14<=OUTLIERS!$F$3,\"\",IF(O14/N14>=OUTLIERS!$F$4,\"\",O14/N14)))","v":9.33},{"$f":"IF(ISERROR(U14/X14),\"\",IF(U14/X14<=OUTLIERS!$G$3,\"\",IF(U14/X14>=OUTLIERS!$G$4,\"\",U14/X14)))","v":7.3903111542705279E-3},{"$f":"IF(ISERROR(Q14/Y14),\"\",IF(Q14/Y14<=OUTLIERS!$H$3,\"\",IF(Q14/Y14>=OUTLIERS!$H$4,\"\",Q14/Y14)))","v":""},{"$f":"IF(ISERROR(W14),\"\",IF(W14<=OUTLIERS!$I$3,\"\",IF(W14>=OUTLIERS!$I$4,\"\",W14)))","v":""},206600000,20000000,186600000,1400000,"","",1,0,70000,"n/a","n/a",9471861,9265067]
[14,"PCTFID018A","CTF","IFC","Mitigation",{"$f":"IF(ISERROR(P15/(M15*S15)),\"\",IF((P15/(M15*S15))<=OUTLIERS!$C$3,\"\",IF((P15/(M15*S15))>=OUTLIERS!$C$4,\"\",P15/(M15*S15))))","v":2.9275362318840578E-2},{"$f":"IF(ISERROR(Q15/($M15*T15)),\"\",IF((Q15/($M15*T15))<=OUTLIERS!$D$3,\"\",IF((Q15/($M15*T15))>=OUTLIERS!$D$4,\"\",Q15/($M15*T15))))","v":""},{"$f":"IF(ISERROR((M15*S15)/P15),\"\",IF((M15*S15/P15)<=OUTLIERS!$E$3,\"\",IF((M15*S15/P15)>=OUTLIERS!$E$4,\"\",M15*S15/P15)))","v":34.158415841584159},{"$f":"IF(ISERROR(O15/N15),\"\",IF(O15/N15<=OUTLIERS!$F$3,\"\",IF(O15/N15>=OUTLIERS!$F$4,\"\",O15/N15)))","v":5.2727272727272725},{"$f":"IF(ISERROR(U15/X15),\"\",IF(U15/X15<=OUTLIERS!$G$3,\"\",IF(U15/X15>=OUTLIERS!$G$4,\"\",U15/X15)))","v":8.1865465078116435E-4},{"$f":"IF(ISERROR(Q15/Y15),\"\",IF(Q15/Y15<=OUTLIERS!$H$3,\"\",IF(Q15/Y15>=OUTLIERS!$H$4,\"\",Q15/Y15)))","v":""},{"$f":"IF(ISERROR(W15),\"\",IF(W15<=OUTLIERS!$I$3,\"\",IF(W15>=OUTLIERS!$I$4,\"\",W15)))","v":""},345000000,55000000,290000000,10100000,"","",1,0,380000,"n/a","n/a",464176194,263991379]
[15,"PCTFKE604B","CTF","AfDB","Mitigation",{"$f":"IF(ISERROR(P16/(M16*S16)),\"\",IF((P16/(M16*S16))<=OUTLIERS!$C$3,\"\",IF((P16/(M16*S16))>=OUTLIERS!$C$4,\"\",P16/(M16*S16))))","v":6.3522448979591833E-2},{"$f":"IF(ISERROR(Q16/($M16*T16)),\"\",IF((Q16/($M16*T16))<=OUTLIERS!$D$3,\"\",IF((Q16/($M16*T16))>=OUTLIERS!$D$4,\"\",Q16/($M16*T16))))","v":""},{"$f":"IF(ISERROR((M16*S16)/P16),\"\",IF((M16*S16/P16)<=OUTLIERS!$E$3,\"\",IF((M16*S16/P16)>=OUTLIERS!$E$4,\"\",M16*S16/P16)))","v":15.742466105506651},{"$f":"IF(ISERROR(O16/N16),\"\",IF(O16/N16<=OUTLIERS!$F$3,\"\",IF(O16/N16>=OUTLIERS!$F$4,\"\",O16/N16)))","v":2.5933333333333333},{"$f":"IF(ISERROR(U16/X16),\"\",IF(U16/X16<=OUTLIERS!$G$3,\"\",IF(U16/X16>=OUTLIERS!$G$4,\"\",U16/X16)))","v":2.3965480457535406E-2},{"$f":"IF(ISERROR(Q16/Y16),\"\",IF(Q16/Y16<=OUTLIERS!$H$3,\"\",IF(Q16/Y16>=OUTLIERS!$H$4,\"\",Q16/Y16)))","v":""},{"$f":"IF(ISERROR(W16),\"\",IF(W16<=OUTLIERS!$I$3,\"\",IF(W16>=OUTLIERS!$I$4,\"\",W16)))","v":0.3},107800000,30000000,77800000,6847720,"",300,1,0,342386,300,0.3,14286632,49699862]
[16,"PCTFKZ025A","CTF","IFC","Mitigation",{"$f":"IF(ISERROR(P17/(M17*S17)),\"\",IF((P17/(M17*S17))<=OUTLIERS!$C$3,\"\",IF((P17/(M17*S17))>=OUTLIERS!$C$4,\"\",P17/(M17*S17))))","v":""},{"$f":"IF(ISERROR(Q17/($M17*T17)),\"\",IF((Q17/($M17*T17))<=OUTLIERS!$D$3,\"\",IF((Q17/($M17*T17))>=OUTLIERS!$D$4,\"\",Q17/($M17*T17))))","v":""},{"$f":"IF(ISERROR((M17*S17)/P17),\"\",IF((M17*S17/P17)<=OUTLIERS!$E$3,\"\",IF((M17*S17/P17)>=OUTLIERS!$E$4,\"\",M17*S17/P17)))","v":""},{"$f":"IF(ISERROR(O17/N17),\"\",IF(O17/N17<=OUTLIERS!$F$3,\"\",IF(O17/N17>=OUTLIERS!$F$4,\"\",O17/N17)))","v":0.12857142857142856},{"$f":"IF(ISERROR(U17/X17),\"\",IF(U17/X17<=OUTLIERS!$G$3,\"\",IF(U17/X17>=OUTLIERS!$G$4,\"\",U17/X17)))","v":""},{"$f":"IF(ISERROR(Q17/Y17),\"\",IF(Q17/Y17<=OUTLIERS!$H$3,\"\",IF(Q17/Y17>=OUTLIERS!$H$4,\"\",Q17/Y17)))","v":""},{"$f":"IF(ISERROR(W17),\"\",IF(W17<=OUTLIERS!$I$3,\"\",IF(W17>=OUTLIERS!$I$4,\"\",W17)))","v":""},23700000,21000000,2700000,"n/a","","",1,0,"n/a","n/a","n/a",248314572,18037646]
[17,"PCTFKZ099A","CTF","EBRD","Mitigation",{"$f":"IF(ISERROR(P18/(M18*S18)),\"\",IF((P18/(M18*S18))<=OUTLIERS!$C$3,\"\",IF((P18/(M18*S18))>=OUTLIERS!$C$4,\"\",P18/(M18*S18))))","v":2.8840607575466255E-2},{"$f":"IF(ISERROR(Q18/($M18*T18)),\"\",IF((Q18/($M18*T18))<=OUTLIERS!$D$3,\"\",IF((Q18/($M18*T18))>=OUTLIERS!$D$4,\"\",Q18/($M18*T18))))","v":""},{"$f":"IF(ISERROR((M18*S18)/P18),\"\",IF((M18*S18/P18)<=OUTLIERS!$E$3,\"\",IF((M18*S18/P18)>=OUTLIERS!$E$4,\"\",M18*S18/P18)))","v":34.673333333333332},{"$f":"IF(ISERROR(O18/N18),\"\",IF(O18/N18<=OUTLIERS!$F$3,\"\",IF(O18/N18>=OUTLIERS!$F$4,\"\",O18/N18)))","v":3.0760188087774294},{"$f":"IF(ISERROR(U18/X18),\"\",IF(U18/X18<=OUTLIERS!$G$3,\"\",IF(U18/X18>=OUTLIERS!$G$4,\"\",U18/X18)))","v":6.040724827055256E-4},{"$f":"IF(ISERROR(Q18/Y18),\"\",IF(Q18/Y18<=OUTLIERS!$H$3,\"\",IF(Q18/Y18>=OUTLIERS!$H$4,\"\",Q18/Y18)))","v":""},{"$f":"IF(ISERROR(W18),\"\",IF(W18<=OUTLIERS!$I$3,\"\",IF(W18>=OUTLIERS!$I$4,\"\",W18)))","v":""},104020000,25520000,78500000,3000000,"","",1,0,150000,"n/a","n/a",248314572,18037646]
[18,"PCTFNG217A","CTF","AfDB","Mitigation",{"$f":"IF(ISERROR(P19/(M19*S19)),\"\",IF((P19/(M19*S19))<=OUTLIERS!$C$3,\"\",IF((P19/(M19*S19))>=OUTLIERS!$C$4,\"\",P19/(M19*S19))))","v":6.4787409836065568E-2},{"$f":"IF(ISERROR(Q19/($M19*T19)),\"\",IF((Q19/($M19*T19))<=OUTLIERS!$D$3,\"\",IF((Q19/($M19*T19))>=OUTLIERS!$D$4,\"\",Q19/($M19*T19))))","v":""},{"$f":"IF(ISERROR((M19*S19)/P19),\"\",IF((M19*S19/P19)<=OUTLIERS!$E$3,\"\",IF((M19*S19/P19)>=OUTLIERS!$E$4,\"\",M19*S19/P19)))","v":15.435097691516669},{"$f":"IF(ISERROR(O19/N19),\"\",IF(O19/N19<=OUTLIERS!$F$3,\"\",IF(O19/N19>=OUTLIERS!$F$4,\"\",O19/N19)))","v":60},{"$f":"IF(ISERROR(U19/X19),\"\",IF(U19/X19<=OUTLIERS!$G$3,\"\",IF(U19/X19>=OUTLIERS!$G$4,\"\",U19/X19)))","v":1.6470581783573938E-3},{"$f":"IF(ISERROR(Q19/Y19),\"\",IF(Q19/Y19<=OUTLIERS!$H$3,\"\",IF(Q19/Y19>=OUTLIERS!$H$4,\"\",Q19/Y19)))","v":""},{"$f":"IF(ISERROR(W19),\"\",IF(W19<=OUTLIERS!$I$3,\"\",IF(W19>=OUTLIERS!$I$4,\"\",W19)))","v":""},76250000,1250000,75000000,4940040,"",2450000,1,0,158580,2450000,"n/a",96280752,190886311]
[19,"PCTFNG230A","CTF","IFC","Mitigation",{"$f":"IF(ISERROR(P20/(M20*S20)),\"\",IF((P20/(M20*S20))<=OUTLIERS!$C$3,\"\",IF((P20/(M20*S20))>=OUTLIERS!$C$4,\"\",P20/(M20*S20))))","v":1.1538461538461539E-2},{"$f":"IF(ISERROR(Q20/($M20*T20)),\"\",IF((Q20/($M20*T20))<=OUTLIERS!$D$3,\"\",IF((Q20/($M20*T20))>=OUTLIERS!$D$4,\"\",Q20/($M20*T20))))","v":""},{"$f":"IF(ISERROR((M20*S20)/P20),\"\",IF((M20*S20/P20)<=OUTLIERS!$E$3,\"\",IF((M20*S20/P20)>=OUTLIERS!$E$4,\"\",M20*S20/P20)))","v":86.666666666666671},{"$f":"IF(ISERROR(O20/N20),\"\",IF(O20/N20<=OUTLIERS!$F$3,\"\",IF(O20/N20>=OUTLIERS!$F$4,\"\",O20/N20)))","v":3.3333333333333335},{"$f":"IF(ISERROR(U20/X20),\"\",IF(U20/X20<=OUTLIERS!$G$3,\"\",IF(U20/X20>=OUTLIERS!$G$4,\"\",U20/X20)))","v":7.7897189668813557E-4},{"$f":"IF(ISERROR(Q20/Y20),\"\",IF(Q20/Y20<=OUTLIERS!$H$3,\"\",IF(Q20/Y20>=OUTLIERS!$H$4,\"\",Q20/Y20)))","v":""},{"$f":"IF(ISERROR(W20),\"\",IF(W20<=OUTLIERS!$I$3,\"\",IF(W20>=OUTLIERS!$I$4,\"\",W20)))","v":""},130000000,30000000,100000000,1500000,"","",1,0,75000,"n/a","n/a",96280752,190886311]
[20,"PCTFTH702A","CTF","ADB","Mitigation",{"$f":"IF(ISERROR(P21/(M21*S21)),\"\",IF((P21/(M21*S21))<=OUTLIERS!$C$3,\"\",IF((P21/(M21*S21))>=OUTLIERS!$C$4,\"\",P21/(M21*S21))))","v":""},{"$f":"IF(ISERROR(Q21/($M21*T21)),\"\",IF((Q21/($M21*T21))<=OUTLIERS!$D$3,\"\",IF((Q21/($M21*T21))>=OUTLIERS!$D$4,\"\",Q21/($M21*T21))))","v":""},{"$f":"IF(ISERROR((M21*S21)/P21),\"\",IF((M21*S21/P21)<=OUTLIERS!$E$3,\"\",IF((M21*S21/P21)>=OUTLIERS!$E$4,\"\",M21*S21/P21)))","v":""},{"$f":"IF(ISERROR(O21/N21),\"\",IF(O21/N21<=OUTLIERS!$F$3,\"\",IF(O21/N21>=OUTLIERS!$F$4,\"\",O21/N21)))","v":4},{"$f":"IF(ISERROR(U21/X21),\"\",IF(U21/X21<=OUTLIERS!$G$3,\"\",IF(U21/X21>=OUTLIERS!$G$4,\"\",U21/X21)))","v":""},{"$f":"IF(ISERROR(Q21/Y21),\"\",IF(Q21/Y21<=OUTLIERS!$H$3,\"\",IF(Q21/Y21>=OUTLIERS!$H$4,\"\",Q21/Y21)))","v":""},{"$f":"IF(ISERROR(W21),\"\",IF(W21<=OUTLIERS!$I$3,\"\",IF(W21>=OUTLIERS!$I$4,\"\",W21)))","v":""},180500000,36100000,144400000,"n/a","","",1,0,"n/a","n/a","n/a","",""]
[21,"PCTFTR079A","CTF","IFC","Mitigation",{"$f":"IF(ISERROR(P22/(M22*S22)),\"\",IF((P22/(M22*S22))<=OUTLIERS!$C$3,\"\",IF((P22/(M22*S22))>=OUTLIERS!$C$4,\"\",P22/(M22*S22))))","v":1.2035329515675047E-2},{"$f":"IF(ISERROR(Q22/($M22*T22)),\"\",IF((Q22/($M22*T22))<=OUTLIERS!$D$3,\"\",IF((Q22/($M22*T22))>=OUTLIERS!$D$4,\"\",Q22/($M22*T22))))","v":""},{"$f":"IF(ISERROR((M22*S22)/P22),\"\",IF((M22*S22/P22)<=OUTLIERS!$E$3,\"\",IF((M22*S22/P22)>=OUTLIERS!$E$4,\"\",M22*S22/P22)))","v":83.088709677419359},{"$f":"IF(ISERROR(O22/N22),\"\",IF(O22/N22<=OUTLIERS!$F$3,\"\",IF(O22/N22>=OUTLIERS!$F$4,\"\",O22/N22)))","v":131.08974358974359},{"$f":"IF(ISERROR(U22/X22),\"\",IF(U22/X22<=OUTLIERS!$G$3,\"\",IF(U22/X22>=OUTLIERS!$G$4,\"\",U22/X22)))","v":1.7920035886317026E-4},{"$f":"IF(ISERROR(Q22/Y22),\"\",IF(Q22/Y22<=OUTLIERS!$H$3,\"\",IF(Q22/Y22>=OUTLIERS!$H$4,\"\",Q22/Y22)))","v":""},{"$f":"IF(ISERROR(W22),\"\",IF(W22<=OUTLIERS!$I$3,\"\",IF(W22>=OUTLIERS!$I$4,\"\",W22)))","v":""},103030000,780000,102250000,1240000,"","",1,0,62000,"n/a","n/a",345981450,80745020]
[22,"PCTFTR221A","CTF","IFC","Mitigation",{"$f":"IF(ISERROR(P23/(M23*S23)),\"\",IF((P23/(M23*S23))<=OUTLIERS!$C$3,\"\",IF((P23/(M23*S23))>=OUTLIERS!$C$4,\"\",P23/(M23*S23))))","v":3.952569169960474E-3},{"$f":"IF(ISERROR(Q23/($M23*T23)),\"\",IF((Q23/($M23*T23))<=OUTLIERS!$D$3,\"\",IF((Q23/($M23*T23))>=OUTLIERS!$D$4,\"\",Q23/($M23*T23))))","v":""},{"$f":"IF(ISERROR((M23*S23)/P23),\"\",IF((M23*S23/P23)<=OUTLIERS!$E$3,\"\",IF((M23*S23/P23)>=OUTLIERS!$E$4,\"\",M23*S23/P23)))","v":253},{"$f":"IF(ISERROR(O23/N23),\"\",IF(O23/N23<=OUTLIERS!$F$3,\"\",IF(O23/N23>=OUTLIERS!$F$4,\"\",O23/N23)))","v":1.689445709946849},{"$f":"IF(ISERROR(U23/X23),\"\",IF(U23/X23<=OUTLIERS!$G$3,\"\",IF(U23/X23>=OUTLIERS!$G$4,\"\",U23/X23)))","v":4.046459716265135E-5},{"$f":"IF(ISERROR(Q23/Y23),\"\",IF(Q23/Y23<=OUTLIERS!$H$3,\"\",IF(Q23/Y23>=OUTLIERS!$H$4,\"\",Q23/Y23)))","v":""},{"$f":"IF(ISERROR(W23),\"\",IF(W23<=OUTLIERS!$I$3,\"\",IF(W23>=OUTLIERS!$I$4,\"\",W23)))","v":""},106260000,39510000,66750000,420000,"","",1,0,14000,"n/a","n/a",345981450,80745020]
[23,"PCTFTR507A","CTF","EBRD","Mitigation",{"$f":"IF(ISERROR(P24/(M24*S24)),\"\",IF((P24/(M24*S24))<=OUTLIERS!$C$3,\"\",IF((P24/(M24*S24))>=OUTLIERS!$C$4,\"\",P24/(M24*S24))))","v":""},{"$f":"IF(ISERROR(Q24/($M24*T24)),\"\",IF((Q24/($M24*T24))<=OUTLIERS!$D$3,\"\",IF((Q24/($M24*T24))>=OUTLIERS!$D$4,\"\",Q24/($M24*T24))))","v":""},{"$f":"IF(ISERROR((M24*S24)/P24),\"\",IF((M24*S24/P24)<=OUTLIERS!$E$3,\"\",IF((M24*S24/P24)>=OUTLIERS!$E$4,\"\",M24*S24/P24)))","v":""},{"$f":"IF(ISERROR(O24/N24),\"\",IF(O24/N24<=OUTLIERS!$F$3,\"\",IF(O24/N24>=OUTLIERS!$F$4,\"\",O24/N24)))","v":12.48},{"$f":"IF(ISERROR(U24/X24),\"\",IF(U24/X24<=OUTLIERS!$G$3,\"\",IF(U24/X24>=OUTLIERS!$G$4,\"\",U24/X24)))","v":""},{"$f":"IF(ISERROR(Q24/Y24),\"\",IF(Q24/Y24<=OUTLIERS!$H$3,\"\",IF(Q24/Y24>=OUTLIERS!$H$4,\"\",Q24/Y24)))","v":""},{"$f":"IF(ISERROR(W24),\"\",IF(W24<=OUTLIERS!$I$3,\"\",IF(W24>=OUTLIERS!$I$4,\"\",W24)))","v":""},337000000,25000000,312000000,"n/a","","",1,0,"n/a","n/a","n/a",345981450,80745020]
[24,"PCTFUA084A","CTF","EBRD","Mitigation",{"$f":"IF(ISERROR(P25/(M25*S25)),\"\",IF((P25/(M25*S25))<=OUTLIERS!$C$3,\"\",IF((P25/(M25*S25))>=OUTLIERS!$C$4,\"\",P25/(M25*S25))))","v":0.10900031142946123},{"$f":"IF(ISERROR(Q25/($M25*T25)),\"\",IF((Q25/($M25*T25))<=OUTLIERS!$D$3,\"\",IF((Q25/($M25*T25))>=OUTLIERS!$D$4,\"\",Q25/($M25*T25))))","v":""},{"$f":"IF(ISERROR((M25*S25)/P25),\"\",IF((M25*S25/P25)<=OUTLIERS!$E$3,\"\",IF((M25*S25/P25)>=OUTLIERS!$E$4,\"\",M25*S25/P25)))","v":9.1742857142857144},{"$f":"IF(ISERROR(O25/N25),\"\",IF(O25/N25<=OUTLIERS!$F$3,\"\",IF(O25/N25>=OUTLIERS!$F$4,\"\",O25/N25)))","v":0.41703442188879081},{"$f":"IF(ISERROR(U25/X25),\"\",IF(U25/X25<=OUTLIERS!$G$3,\"\",IF(U25/X25>=OUTLIERS!$G$4,\"\",U25/X25)))","v":1.5398220304493648E-3},{"$f":"IF(ISERROR(Q25/Y25),\"\",IF(Q25/Y25<=OUTLIERS!$H$3,\"\",IF(Q25/Y25>=OUTLIERS!$H$4,\"\",Q25/Y25)))","v":""},{"$f":"IF(ISERROR(W25),\"\",IF(W25<=OUTLIERS!$I$3,\"\",IF(W25>=OUTLIERS!$I$4,\"\",W25)))","v":""},64220000,45320000,18900000,7000000,"","",1,0,350000,"n/a","n/a",227298995,44831159]
[25,"PCTFUA110A","CTF","EBRD","Mitigation",{"$f":"IF(ISERROR(P26/(M26*S26)),\"\",IF((P26/(M26*S26))<=OUTLIERS!$C$3,\"\",IF((P26/(M26*S26))>=OUTLIERS!$C$4,\"\",P26/(M26*S26))))","v":6.2441461130190445E-3},{"$f":"IF(ISERROR(Q26/($M26*T26)),\"\",IF((Q26/($M26*T26))<=OUTLIERS!$D$3,\"\",IF((Q26/($M26*T26))>=OUTLIERS!$D$4,\"\",Q26/($M26*T26))))","v":""},{"$f":"IF(ISERROR((M26*S26)/P26),\"\",IF((M26*S26/P26)<=OUTLIERS!$E$3,\"\",IF((M26*S26/P26)>=OUTLIERS!$E$4,\"\",M26*S26/P26)))","v":160.15},{"$f":"IF(ISERROR(O26/N26),\"\",IF(O26/N26<=OUTLIERS!$F$3,\"\",IF(O26/N26>=OUTLIERS!$F$4,\"\",O26/N26)))","v":5.6314699792960665},{"$f":"IF(ISERROR(U26/X26),\"\",IF(U26/X26<=OUTLIERS!$G$3,\"\",IF(U26/X26>=OUTLIERS!$G$4,\"\",U26/X26)))","v":2.1997457577848067E-4},{"$f":"IF(ISERROR(Q26/Y26),\"\",IF(Q26/Y26<=OUTLIERS!$H$3,\"\",IF(Q26/Y26>=OUTLIERS!$H$4,\"\",Q26/Y26)))","v":""},{"$f":"IF(ISERROR(W26),\"\",IF(W26<=OUTLIERS!$I$3,\"\",IF(W26>=OUTLIERS!$I$4,\"\",W26)))","v":""},160150000,24150000,136000000,1000000,"",137500,1,0,50000,137500,"n/a",227298995,44831159]
[26,"PCTFUA707A","CTF","EBRD","Mitigation",{"$f":"IF(ISERROR(P27/(M27*S27)),\"\",IF((P27/(M27*S27))<=OUTLIERS!$C$3,\"\",IF((P27/(M27*S27))>=OUTLIERS!$C$4,\"\",P27/(M27*S27))))","v":2.6054649775606432E-2},{"$f":"IF(ISERROR(Q27/($M27*T27)),\"\",IF((Q27/($M27*T27))<=OUTLIERS!$D$3,\"\",IF((Q27/($M27*T27))>=OUTLIERS!$D$4,\"\",Q27/($M27*T27))))","v":""},{"$f":"IF(ISERROR((M27*S27)/P27),\"\",IF((M27*S27/P27)<=OUTLIERS!$E$3,\"\",IF((M27*S27/P27)>=OUTLIERS!$E$4,\"\",M27*S27/P27)))","v":38.380865166579454},{"$f":"IF(ISERROR(O27/N27),\"\",IF(O27/N27<=OUTLIERS!$F$3,\"\",IF(O27/N27>=OUTLIERS!$F$4,\"\",O27/N27)))","v":10.711909514304724},{"$f":"IF(ISERROR(U27/X27),\"\",IF(U27/X27<=OUTLIERS!$G$3,\"\",IF(U27/X27>=OUTLIERS!$G$4,\"\",U27/X27)))","v":1.0088913943504237E-3},{"$f":"IF(ISERROR(Q27/Y27),\"\",IF(Q27/Y27<=OUTLIERS!$H$3,\"\",IF(Q27/Y27>=OUTLIERS!$H$4,\"\",Q27/Y27)))","v":""},{"$f":"IF(ISERROR(W27),\"\",IF(W27<=OUTLIERS!$I$3,\"\",IF(W27>=OUTLIERS!$I$4,\"\",W27)))","v":""},176030000,15030000,161000000,4586400,"","",1,0,229320,"n/a","n/a",227298995,44831159]
[27,"XCTFCL224A","CTF","WorldBank","Mitigation",{"$f":"IF(ISERROR(P28/(M28*S28)),\"\",IF((P28/(M28*S28))<=OUTLIERS!$C$3,\"\",IF((P28/(M28*S28))>=OUTLIERS!$C$4,\"\",P28/(M28*S28))))","v":3.1549295774647885},{"$f":"IF(ISERROR(Q28/($M28*T28)),\"\",IF((Q28/($M28*T28))<=OUTLIERS!$D$3,\"\",IF((Q28/($M28*T28))>=OUTLIERS!$D$4,\"\",Q28/($M28*T28))))","v":""},{"$f":"IF(ISERROR((M28*S28)/P28),\"\",IF((M28*S28/P28)<=OUTLIERS!$E$3,\"\",IF((M28*S28/P28)>=OUTLIERS!$E$4,\"\",M28*S28/P28)))","v":0.3169642857142857},{"$f":"IF(ISERROR(O28/N28),\"\",IF(O28/N28<=OUTLIERS!$F$3,\"\",IF(O28/N28>=OUTLIERS!$F$4,\"\",O28/N28)))","v":0.18333333333333332},{"$f":"IF(ISERROR(U28/X28),\"\",IF(U28/X28<=OUTLIERS!$G$3,\"\",IF(U28/X28>=OUTLIERS!$G$4,\"\",U28/X28)))","v":4.5117332619692193E-3},{"$f":"IF(ISERROR(Q28/Y28),\"\",IF(Q28/Y28<=OUTLIERS!$H$3,\"\",IF(Q28/Y28>=OUTLIERS!$H$4,\"\",Q28/Y28)))","v":""},{"$f":"IF(ISERROR(W28),\"\",IF(W28<=OUTLIERS!$I$3,\"\",IF(W28>=OUTLIERS!$I$4,\"\",W28)))","v":""},3550000,3000000,550000,11200000,"","",1,0,372500,"n/a","n/a",82562505,18054726]
[28,"XCTFCO005A","CTF","IDB","Mitigation",{"$f":"IF(ISERROR(P29/(M29*S29)),\"\",IF((P29/(M29*S29))<=OUTLIERS!$C$3,\"\",IF((P29/(M29*S29))>=OUTLIERS!$C$4,\"\",P29/(M29*S29))))","v":""},{"$f":"IF(ISERROR(Q29/($M29*T29)),\"\",IF((Q29/($M29*T29))<=OUTLIERS!$D$3,\"\",IF((Q29/($M29*T29))>=OUTLIERS!$D$4,\"\",Q29/($M29*T29))))","v":""},{"$f":"IF(ISERROR((M29*S29)/P29),\"\",IF((M29*S29/P29)<=OUTLIERS!$E$3,\"\",IF((M29*S29/P29)>=OUTLIERS!$E$4,\"\",M29*S29/P29)))","v":""},{"$f":"IF(ISERROR(O29/N29),\"\",IF(O29/N29<=OUTLIERS!$F$3,\"\",IF(O29/N29>=OUTLIERS!$F$4,\"\",O29/N29)))","v":8.8068181818181817},{"$f":"IF(ISERROR(U29/X29),\"\",IF(U29/X29<=OUTLIERS!$G$3,\"\",IF(U29/X29>=OUTLIERS!$G$4,\"\",U29/X29)))","v":""},{"$f":"IF(ISERROR(Q29/Y29),\"\",IF(Q29/Y29<=OUTLIERS!$H$3,\"\",IF(Q29/Y29>=OUTLIERS!$H$4,\"\",Q29/Y29)))","v":""},{"$f":"IF(ISERROR(W29),\"\",IF(W29<=OUTLIERS!$I$3,\"\",IF(W29>=OUTLIERS!$I$4,\"\",W29)))","v":""},103560000,10560000,93000000,"n/a","","",1,0,"n/a","n/a","n/a",84091644,49065615]
[29,"XCTFCO113A","CTF","WorldBank","Mitigation",{"$f":"IF(ISERROR(P30/(M30*S30)),\"\",IF((P30/(M30*S30))<=OUTLIERS!$C$3,\"\",IF((P30/(M30*S30))>=OUTLIERS!$C$4,\"\",P30/(M30*S30))))","v":1.5715843023255814E-2},{"$f":"IF(ISERROR(Q30/($M30*T30)),\"\",IF((Q30/($M30*T30))<=OUTLIERS!$D$3,\"\",IF((Q30/($M30*T30))>=OUTLIERS!$D$4,\"\",Q30/($M30*T30))))","v":""},{"$f":"IF(ISERROR((M30*S30)/P30),\"\",IF((M30*S30/P30)<=OUTLIERS!$E$3,\"\",IF((M30*S30/P30)>=OUTLIERS!$E$4,\"\",M30*S30/P30)))","v":63.630057803468205},{"$f":"IF(ISERROR(O30/N30),\"\",IF(O30/N30<=OUTLIERS!$F$3,\"\",IF(O30/N30>=OUTLIERS!$F$4,\"\",O30/N30)))","v":25.848780487804877},{"$f":"IF(ISERROR(U30/X30),\"\",IF(U30/X30<=OUTLIERS!$G$3,\"\",IF(U30/X30>=OUTLIERS!$G$4,\"\",U30/X30)))","v":1.0286396588940514E-2},{"$f":"IF(ISERROR(Q30/Y30),\"\",IF(Q30/Y30<=OUTLIERS!$H$3,\"\",IF(Q30/Y30>=OUTLIERS!$H$4,\"\",Q30/Y30)))","v":""},{"$f":"IF(ISERROR(W30),\"\",IF(W30<=OUTLIERS!$I$3,\"\",IF(W30>=OUTLIERS!$I$4,\"\",W30)))","v":""},1100800000,41000000,1059800000,17300000,"","",1,0,865000,"n/a","n/a",84091644,49065615]
[30,"XCTFCO506A","CTF","IDB","Mitigation",{"$f":"IF(ISERROR(P31/(M31*S31)),\"\",IF((P31/(M31*S31))<=OUTLIERS!$C$3,\"\",IF((P31/(M31*S31))>=OUTLIERS!$C$4,\"\",P31/(M31*S31))))","v":1.155E-2},{"$f":"IF(ISERROR(Q31/($M31*T31)),\"\",IF((Q31/($M31*T31))<=OUTLIERS!$D$3,\"\",IF((Q31/($M31*T31))>=OUTLIERS!$D$4,\"\",Q31/($M31*T31))))","v":""},{"$f":"IF(ISERROR((M31*S31)/P31),\"\",IF((M31*S31/P31)<=OUTLIERS!$E$3,\"\",IF((M31*S31/P31)>=OUTLIERS!$E$4,\"\",M31*S31/P31)))","v":86.580086580086586},{"$f":"IF(ISERROR(O31/N31),\"\",IF(O31/N31<=OUTLIERS!$F$3,\"\",IF(O31/N31>=OUTLIERS!$F$4,\"\",O31/N31)))","v":19},{"$f":"IF(ISERROR(U31/X31),\"\",IF(U31/X31<=OUTLIERS!$G$3,\"\",IF(U31/X31>=OUTLIERS!$G$4,\"\",U31/X31)))","v":9.2035303769301977E-4},{"$f":"IF(ISERROR(Q31/Y31),\"\",IF(Q31/Y31<=OUTLIERS!$H$3,\"\",IF(Q31/Y31>=OUTLIERS!$H$4,\"\",Q31/Y31)))","v":""},{"$f":"IF(ISERROR(W31),\"\",IF(W31<=OUTLIERS!$I$3,\"\",IF(W31>=OUTLIERS!$I$4,\"\",W31)))","v":""},200000000,10000000,190000000,2310000,"",285,1,0,77394,285,"n/a",84091644,49065615]
[31,"XCTFCO615A","CTF","IDB","Mitigation",{"$f":"IF(ISERROR(P32/(M32*S32)),\"\",IF((P32/(M32*S32))<=OUTLIERS!$C$3,\"\",IF((P32/(M32*S32))>=OUTLIERS!$C$4,\"\",P32/(M32*S32))))","v":""},{"$f":"IF(ISERROR(Q32/($M32*T32)),\"\",IF((Q32/($M32*T32))<=OUTLIERS!$D$3,\"\",IF((Q32/($M32*T32))>=OUTLIERS!$D$4,\"\",Q32/($M32*T32))))","v":""},{"$f":"IF(ISERROR((M32*S32)/P32),\"\",IF((M32*S32/P32)<=OUTLIERS!$E$3,\"\",IF((M32*S32/P32)>=OUTLIERS!$E$4,\"\",M32*S32/P32)))","v":""},{"$f":"IF(ISERROR(O32/N32),\"\",IF(O32/N32<=OUTLIERS!$F$3,\"\",IF(O32/N32>=OUTLIERS!$F$4,\"\",O32/N32)))","v":1.7809523809523808},{"$f":"IF(ISERROR(U32/X32),\"\",IF(U32/X32<=OUTLIERS!$G$3,\"\",IF(U32/X32>=OUTLIERS!$G$4,\"\",U32/X32)))","v":""},{"$f":"IF(ISERROR(Q32/Y32),\"\",IF(Q32/Y32<=OUTLIERS!$H$3,\"\",IF(Q32/Y32>=OUTLIERS!$H$4,\"\",Q32/Y32)))","v":""},{"$f":"IF(ISERROR(W32),\"\",IF(W32<=OUTLIERS!$I$3,\"\",IF(W32>=OUTLIERS!$I$4,\"\",W32)))","v":""},29200000,10500000,18700000,"n/a","","",1,0,"n/a","n/a","n/a",84091644,49065615]
[32,"XCTFDM619A","CTF","WorldBank","Mitigation",{"$f":"IF(ISERROR(P33/(M33*S33)),\"\",IF((P33/(M33*S33))<=OUTLIERS!$C$3,\"\",IF((P33/(M33*S33))>=OUTLIERS!$C$4,\"\",P33/(M33*S33))))","v":1.9405483516483517E-2},{"$f":"IF(ISERROR(Q33/($M33*T33)),\"\",IF((Q33/($M33*T33))<=OUTLIERS!$D$3,\"\",IF((Q33/($M33*T33))>=OUTLIERS!$D$4,\"\",Q33/($M33*T33))))","v":""},{"$f":"IF(ISERROR((M33*S33)/P33),\"\",IF((M33*S33/P33)<=OUTLIERS!$E$3,\"\",IF((M33*S33/P33)>=OUTLIERS!$E$4,\"\",M33*S33/P33)))","v":51.531825999108669},{"$f":"IF(ISERROR(O33/N33),\"\",IF(O33/N33<=OUTLIERS!$F$3,\"\",IF(O33/N33>=OUTLIERS!$F$4,\"\",O33/N33)))","v":3.55},{"$f":"IF(ISERROR(U33/X33),\"\",IF(U33/X33<=OUTLIERS!$G$3,\"\",IF(U33/X33>=OUTLIERS!$G$4,\"\",U33/X33)))","v":0.26030542677938373},{"$f":"IF(ISERROR(Q33/Y33),\"\",IF(Q33/Y33<=OUTLIERS!$H$3,\"\",IF(Q33/Y33>=OUTLIERS!$H$4,\"\",Q33/Y33)))","v":""},{"$f":"IF(ISERROR(W33),\"\",IF(W33<=OUTLIERS!$I$3,\"\",IF(W33>=OUTLIERS!$I$4,\"\",W33)))","v":""},45500000,10000000,35500000,882949.5,"","",1,0,35317.980000000003,"n/a","n/a",135679,73925]
[33,"XCTFDP612A","CTF","IDB","Mitigation",{"$f":"IF(ISERROR(P34/(M34*S34)),\"\",IF((P34/(M34*S34))<=OUTLIERS!$C$3,\"\",IF((P34/(M34*S34))>=OUTLIERS!$C$4,\"\",P34/(M34*S34))))","v":0.14012422360248447},{"$f":"IF(ISERROR(Q34/($M34*T34)),\"\",IF((Q34/($M34*T34))<=OUTLIERS!$D$3,\"\",IF((Q34/($M34*T34))>=OUTLIERS!$D$4,\"\",Q34/($M34*T34))))","v":""},{"$f":"IF(ISERROR((M34*S34)/P34),\"\",IF((M34*S34/P34)<=OUTLIERS!$E$3,\"\",IF((M34*S34/P34)>=OUTLIERS!$E$4,\"\",M34*S34/P34)))","v":7.1365248226950353},{"$f":"IF(ISERROR(O34/N34),\"\",IF(O34/N34<=OUTLIERS!$F$3,\"\",IF(O34/N34>=OUTLIERS!$F$4,\"\",O34/N34)))","v":2.6225000000000001},{"$f":"IF(ISERROR(U34/X34),\"\",IF(U34/X34<=OUTLIERS!$G$3,\"\",IF(U34/X34>=OUTLIERS!$G$4,\"\",U34/X34)))","v":""},{"$f":"IF(ISERROR(Q34/Y34),\"\",IF(Q34/Y34<=OUTLIERS!$H$3,\"\",IF(Q34/Y34>=OUTLIERS!$H$4,\"\",Q34/Y34)))","v":""},{"$f":"IF(ISERROR(W34),\"\",IF(W34<=OUTLIERS!$I$3,\"\",IF(W34>=OUTLIERS!$I$4,\"\",W34)))","v":0.3},72450000,20000000,52450000,10152000,"",171,1,0,338421,171,0.3,244955.60000000003,105167.20000000001]
[34,"XCTFHY611A","CTF","WorldBank","Mitigation",{"$f":"IF(ISERROR(P35/(M35*S35)),\"\",IF((P35/(M35*S35))<=OUTLIERS!$C$3,\"\",IF((P35/(M35*S35))>=OUTLIERS!$C$4,\"\",P35/(M35*S35))))","v":9.3749999999999997E-3},{"$f":"IF(ISERROR(Q35/($M35*T35)),\"\",IF((Q35/($M35*T35))<=OUTLIERS!$D$3,\"\",IF((Q35/($M35*T35))>=OUTLIERS!$D$4,\"\",Q35/($M35*T35))))","v":""},{"$f":"IF(ISERROR((M35*S35)/P35),\"\",IF((M35*S35/P35)<=OUTLIERS!$E$3,\"\",IF((M35*S35/P35)>=OUTLIERS!$E$4,\"\",M35*S35/P35)))","v":106.66666666666667},{"$f":"IF(ISERROR(O35/N35),\"\",IF(O35/N35<=OUTLIERS!$F$3,\"\",IF(O35/N35>=OUTLIERS!$F$4,\"\",O35/N35)))","v":3},{"$f":"IF(ISERROR(U35/X35),\"\",IF(U35/X35<=OUTLIERS!$G$3,\"\",IF(U35/X35>=OUTLIERS!$G$4,\"\",U35/X35)))","v":2.0977113968660192E-2},{"$f":"IF(ISERROR(Q35/Y35),\"\",IF(Q35/Y35<=OUTLIERS!$H$3,\"\",IF(Q35/Y35>=OUTLIERS!$H$4,\"\",Q35/Y35)))","v":""},{"$f":"IF(ISERROR(W35),\"\",IF(W35<=OUTLIERS!$I$3,\"\",IF(W35>=OUTLIERS!$I$4,\"\",W35)))","v":""},64000000,16000000,48000000,600000,"","",1,0,60000,"n/a","n/a",2860260,10981229]
[35,"XCTFID112A","CTF","WorldBank","Mitigation",{"$f":"IF(ISERROR(P36/(M36*S36)),\"\",IF((P36/(M36*S36))<=OUTLIERS!$C$3,\"\",IF((P36/(M36*S36))>=OUTLIERS!$C$4,\"\",P36/(M36*S36))))","v":6.6328600405679519E-2},{"$f":"IF(ISERROR(Q36/($M36*T36)),\"\",IF((Q36/($M36*T36))<=OUTLIERS!$D$3,\"\",IF((Q36/($M36*T36))>=OUTLIERS!$D$4,\"\",Q36/($M36*T36))))","v":""},{"$f":"IF(ISERROR((M36*S36)/P36),\"\",IF((M36*S36/P36)<=OUTLIERS!$E$3,\"\",IF((M36*S36/P36)>=OUTLIERS!$E$4,\"\",M36*S36/P36)))","v":15.076452599388379},{"$f":"IF(ISERROR(O36/N36),\"\",IF(O36/N36<=OUTLIERS!$F$3,\"\",IF(O36/N36>=OUTLIERS!$F$4,\"\",O36/N36)))","v":0.98790322580645162},{"$f":"IF(ISERROR(U36/X36),\"\",IF(U36/X36<=OUTLIERS!$G$3,\"\",IF(U36/X36>=OUTLIERS!$G$4,\"\",U36/X36)))","v":7.0447387054063356E-4},{"$f":"IF(ISERROR(Q36/Y36),\"\",IF(Q36/Y36<=OUTLIERS!$H$3,\"\",IF(Q36/Y36>=OUTLIERS!$H$4,\"\",Q36/Y36)))","v":""},{"$f":"IF(ISERROR(W36),\"\",IF(W36<=OUTLIERS!$I$3,\"\",IF(W36>=OUTLIERS!$I$4,\"\",W36)))","v":""},98600000,49600000,49000000,6540000,"","",1,0,327000,"n/a","n/a",464176194,263991379]
[36,"XCTFIN208A","CTF","WorldBank","Mitigation",{"$f":"IF(ISERROR(P37/(M37*S37)),\"\",IF((P37/(M37*S37))<=OUTLIERS!$C$3,\"\",IF((P37/(M37*S37))>=OUTLIERS!$C$4,\"\",P37/(M37*S37))))","v":1.4634146341463415E-3},{"$f":"IF(ISERROR(Q37/($M37*T37)),\"\",IF((Q37/($M37*T37))<=OUTLIERS!$D$3,\"\",IF((Q37/($M37*T37))>=OUTLIERS!$D$4,\"\",Q37/($M37*T37))))","v":""},{"$f":"IF(ISERROR((M37*S37)/P37),\"\",IF((M37*S37/P37)<=OUTLIERS!$E$3,\"\",IF((M37*S37/P37)>=OUTLIERS!$E$4,\"\",M37*S37/P37)))","v":683.33333333333337},{"$f":"IF(ISERROR(O37/N37),\"\",IF(O37/N37<=OUTLIERS!$F$3,\"\",IF(O37/N37>=OUTLIERS!$F$4,\"\",O37/N37)))","v":5.56},{"$f":"IF(ISERROR(U37/X37),\"\",IF(U37/X37<=OUTLIERS!$G$3,\"\",IF(U37/X37>=OUTLIERS!$G$4,\"\",U37/X37)))","v":5.6431861899277529E-6},{"$f":"IF(ISERROR(Q37/Y37),\"\",IF(Q37/Y37<=OUTLIERS!$H$3,\"\",IF(Q37/Y37>=OUTLIERS!$H$4,\"\",Q37/Y37)))","v":""},{"$f":"IF(ISERROR(W37),\"\",IF(W37<=OUTLIERS!$I$3,\"\",IF(W37>=OUTLIERS!$I$4,\"\",W37)))","v":""},164000000,25000000,139000000,240000,"","",1,0,12631.578947368422,"n/a","n/a",2238377137,1339180127]
[37,"XCTFIN210A","CTF","WorldBank","Mitigation",{"$f":"IF(ISERROR(P38/(M38*S38)),\"\",IF((P38/(M38*S38))<=OUTLIERS!$C$3,\"\",IF((P38/(M38*S38))>=OUTLIERS!$C$4,\"\",P38/(M38*S38))))","v":0.53422222222222226},{"$f":"IF(ISERROR(Q38/($M38*T38)),\"\",IF((Q38/($M38*T38))<=OUTLIERS!$D$3,\"\",IF((Q38/($M38*T38))>=OUTLIERS!$D$4,\"\",Q38/($M38*T38))))","v":""},{"$f":"IF(ISERROR((M38*S38)/P38),\"\",IF((M38*S38/P38)<=OUTLIERS!$E$3,\"\",IF((M38*S38/P38)>=OUTLIERS!$E$4,\"\",M38*S38/P38)))","v":1.8718801996672212},{"$f":"IF(ISERROR(O38/N38),\"\",IF(O38/N38<=OUTLIERS!$F$3,\"\",IF(O38/N38>=OUTLIERS!$F$4,\"\",O38/N38)))","v":3.5},{"$f":"IF(ISERROR(U38/X38),\"\",IF(U38/X38<=OUTLIERS!$G$3,\"\",IF(U38/X38>=OUTLIERS!$G$4,\"\",U38/X38)))","v":2.1444107521725458E-3},{"$f":"IF(ISERROR(Q38/Y38),\"\",IF(Q38/Y38<=OUTLIERS!$H$3,\"\",IF(Q38/Y38>=OUTLIERS!$H$4,\"\",Q38/Y38)))","v":""},{"$f":"IF(ISERROR(W38),\"\",IF(W38<=OUTLIERS!$I$3,\"\",IF(W38>=OUTLIERS!$I$4,\"\",W38)))","v":""},225000000,50000000,175000000,120200000,"","",1,0,4800000,"n/a","n/a",2238377137,1339180127]
[38,"XCTFIN211A","CTF","WorldBank","Mitigation",{"$f":"IF(ISERROR(P39/(M39*S39)),\"\",IF((P39/(M39*S39))<=OUTLIERS!$C$3,\"\",IF((P39/(M39*S39))>=OUTLIERS!$C$4,\"\",P39/(M39*S39))))","v":1.6174863387978144E-2},{"$f":"IF(ISERROR(Q39/($M39*T39)),\"\",IF((Q39/($M39*T39))<=OUTLIERS!$D$3,\"\",IF((Q39/($M39*T39))>=OUTLIERS!$D$4,\"\",Q39/($M39*T39))))","v":""},{"$f":"IF(ISERROR((M39*S39)/P39),\"\",IF((M39*S39/P39)<=OUTLIERS!$E$3,\"\",IF((M39*S39/P39)>=OUTLIERS!$E$4,\"\",M39*S39/P39)))","v":61.824324324324323},{"$f":"IF(ISERROR(O39/N39),\"\",IF(O39/N39<=OUTLIERS!$F$3,\"\",IF(O39/N39>=OUTLIERS!$F$4,\"\",O39/N39)))","v":6.32},{"$f":"IF(ISERROR(U39/X39),\"\",IF(U39/X39<=OUTLIERS!$G$3,\"\",IF(U39/X39>=OUTLIERS!$G$4,\"\",U39/X39)))","v":2.6805134402156823E-4},{"$f":"IF(ISERROR(Q39/Y39),\"\",IF(Q39/Y39<=OUTLIERS!$H$3,\"\",IF(Q39/Y39>=OUTLIERS!$H$4,\"\",Q39/Y39)))","v":""},{"$f":"IF(ISERROR(W39),\"\",IF(W39<=OUTLIERS!$I$3,\"\",IF(W39>=OUTLIERS!$I$4,\"\",W39)))","v":""},915000000,125000000,790000000,14800000,"","",1,0,600000,"n/a","n/a",2238377137,1339180127]
[39,"XCTFIN213A","CTF","WorldBank","Mitigation",{"$f":"IF(ISERROR(P40/(M40*S40)),\"\",IF((P40/(M40*S40))<=OUTLIERS!$C$3,\"\",IF((P40/(M40*S40))>=OUTLIERS!$C$4,\"\",P40/(M40*S40))))","v":2.1914893617021276E-2},{"$f":"IF(ISERROR(Q40/($M40*T40)),\"\",IF((Q40/($M40*T40))<=OUTLIERS!$D$3,\"\",IF((Q40/($M40*T40))>=OUTLIERS!$D$4,\"\",Q40/($M40*T40))))","v":""},{"$f":"IF(ISERROR((M40*S40)/P40),\"\",IF((M40*S40/P40)<=OUTLIERS!$E$3,\"\",IF((M40*S40/P40)>=OUTLIERS!$E$4,\"\",M40*S40/P40)))","v":45.631067961165051},{"$f":"IF(ISERROR(O40/N40),\"\",IF(O40/N40<=OUTLIERS!$F$3,\"\",IF(O40/N40>=OUTLIERS!$F$4,\"\",O40/N40)))","v":8.4},{"$f":"IF(ISERROR(U40/X40),\"\",IF(U40/X40<=OUTLIERS!$G$3,\"\",IF(U40/X40>=OUTLIERS!$G$4,\"\",U40/X40)))","v":1.840619228948102E-4},{"$f":"IF(ISERROR(Q40/Y40),\"\",IF(Q40/Y40<=OUTLIERS!$H$3,\"\",IF(Q40/Y40>=OUTLIERS!$H$4,\"\",Q40/Y40)))","v":""},{"$f":"IF(ISERROR(W40),\"\",IF(W40<=OUTLIERS!$I$3,\"\",IF(W40>=OUTLIERS!$I$4,\"\",W40)))","v":""},470000000,50000000,420000000,10300000,"","",1,0,412000,"n/a","n/a",2238377137,1339180127]
[40,"XCTFIN227A","CTF","ADB","Mitigation",{"$f":"IF(ISERROR(P41/(M41*S41)),\"\",IF((P41/(M41*S41))<=OUTLIERS!$C$3,\"\",IF((P41/(M41*S41))>=OUTLIERS!$C$4,\"\",P41/(M41*S41))))","v":1.0985074626865671E-2},{"$f":"IF(ISERROR(Q41/($M41*T41)),\"\",IF((Q41/($M41*T41))<=OUTLIERS!$D$3,\"\",IF((Q41/($M41*T41))>=OUTLIERS!$D$4,\"\",Q41/($M41*T41))))","v":""},{"$f":"IF(ISERROR((M41*S41)/P41),\"\",IF((M41*S41/P41)<=OUTLIERS!$E$3,\"\",IF((M41*S41/P41)>=OUTLIERS!$E$4,\"\",M41*S41/P41)))","v":91.032608695652172},{"$f":"IF(ISERROR(O41/N41),\"\",IF(O41/N41<=OUTLIERS!$F$3,\"\",IF(O41/N41>=OUTLIERS!$F$4,\"\",O41/N41)))","v":4.7428571428571429},{"$f":"IF(ISERROR(U41/X41),\"\",IF(U41/X41<=OUTLIERS!$G$3,\"\",IF(U41/X41>=OUTLIERS!$G$4,\"\",U41/X41)))","v":1.9728578919987424E-4},{"$f":"IF(ISERROR(Q41/Y41),\"\",IF(Q41/Y41<=OUTLIERS!$H$3,\"\",IF(Q41/Y41>=OUTLIERS!$H$4,\"\",Q41/Y41)))","v":""},{"$f":"IF(ISERROR(W41),\"\",IF(W41<=OUTLIERS!$I$3,\"\",IF(W41>=OUTLIERS!$I$4,\"\",W41)))","v":""},1005000000,175000000,830000000,11040000,"",280000,1,0,441600,280000,"n/a",2238377137,1339180127]
[41,"XCTFIN228A","CTF","ADB","Mitigation",{"$f":"IF(ISERROR(P42/(M42*S42)),\"\",IF((P42/(M42*S42))<=OUTLIERS!$C$3,\"\",IF((P42/(M42*S42))>=OUTLIERS!$C$4,\"\",P42/(M42*S42))))","v":0.12222222222222222},{"$f":"IF(ISERROR(Q42/($M42*T42)),\"\",IF((Q42/($M42*T42))<=OUTLIERS!$D$3,\"\",IF((Q42/($M42*T42))>=OUTLIERS!$D$4,\"\",Q42/($M42*T42))))","v":""},{"$f":"IF(ISERROR((M42*S42)/P42),\"\",IF((M42*S42/P42)<=OUTLIERS!$E$3,\"\",IF((M42*S42/P42)>=OUTLIERS!$E$4,\"\",M42*S42/P42)))","v":8.1818181818181817},{"$f":"IF(ISERROR(O42/N42),\"\",IF(O42/N42<=OUTLIERS!$F$3,\"\",IF(O42/N42>=OUTLIERS!$F$4,\"\",O42/N42)))","v":8},{"$f":"IF(ISERROR(U42/X42),\"\",IF(U42/X42<=OUTLIERS!$G$3,\"\",IF(U42/X42>=OUTLIERS!$G$4,\"\",U42/X42)))","v":9.8285492807908366E-4},{"$f":"IF(ISERROR(Q42/Y42),\"\",IF(Q42/Y42<=OUTLIERS!$H$3,\"\",IF(Q42/Y42>=OUTLIERS!$H$4,\"\",Q42/Y42)))","v":""},{"$f":"IF(ISERROR(W42),\"\",IF(W42<=OUTLIERS!$I$3,\"\",IF(W42>=OUTLIERS!$I$4,\"\",W42)))","v":""},450000000,50000000,400000000,55000000,"",1300000,1,0,2200000,1300000,"n/a",2238377137,1339180127]
[42,"XCTFLC620A","CTF","WorldBank","Mitigation",{"$f":"IF(ISERROR(P43/(M43*S43)),\"\",IF((P43/(M43*S43))<=OUTLIERS!$C$3,\"\",IF((P43/(M43*S43))>=OUTLIERS!$C$4,\"\",P43/(M43*S43))))","v":1.7665615141955835E-2},{"$f":"IF(ISERROR(Q43/($M43*T43)),\"\",IF((Q43/($M43*T43))<=OUTLIERS!$D$3,\"\",IF((Q43/($M43*T43))>=OUTLIERS!$D$4,\"\",Q43/($M43*T43))))","v":""},{"$f":"IF(ISERROR((M43*S43)/P43),\"\",IF((M43*S43/P43)<=OUTLIERS!$E$3,\"\",IF((M43*S43/P43)>=OUTLIERS!$E$4,\"\",M43*S43/P43)))","v":56.607142857142854},{"$f":"IF(ISERROR(O43/N43),\"\",IF(O43/N43<=OUTLIERS!$F$3,\"\",IF(O43/N43>=OUTLIERS!$F$4,\"\",O43/N43)))","v":16.434999999999999},{"$f":"IF(ISERROR(U43/X43),\"\",IF(U43/X43<=OUTLIERS!$G$3,\"\",IF(U43/X43>=OUTLIERS!$G$4,\"\",U43/X43)))","v":0.30332131968346859},{"$f":"IF(ISERROR(Q43/Y43),\"\",IF(Q43/Y43<=OUTLIERS!$H$3,\"\",IF(Q43/Y43>=OUTLIERS!$H$4,\"\",Q43/Y43)))","v":""},{"$f":"IF(ISERROR(W43),\"\",IF(W43<=OUTLIERS!$I$3,\"\",IF(W43>=OUTLIERS!$I$4,\"\",W43)))","v":""},174350000,10000000,164350000,3080000,"","",1,0,123463,"n/a","n/a",407037,178844]
[43,"XCTFMA058A","CTF","WorldBank","Mitigation",{"$f":"IF(ISERROR(P44/(M44*S44)),\"\",IF((P44/(M44*S44))<=OUTLIERS!$C$3,\"\",IF((P44/(M44*S44))>=OUTLIERS!$C$4,\"\",P44/(M44*S44))))","v":1.2254901960784314E-2},{"$f":"IF(ISERROR(Q44/($M44*T44)),\"\",IF((Q44/($M44*T44))<=OUTLIERS!$D$3,\"\",IF((Q44/($M44*T44))>=OUTLIERS!$D$4,\"\",Q44/($M44*T44))))","v":""},{"$f":"IF(ISERROR((M44*S44)/P44),\"\",IF((M44*S44/P44)<=OUTLIERS!$E$3,\"\",IF((M44*S44/P44)>=OUTLIERS!$E$4,\"\",M44*S44/P44)))","v":81.599999999999994},{"$f":"IF(ISERROR(O44/N44),\"\",IF(O44/N44<=OUTLIERS!$F$3,\"\",IF(O44/N44>=OUTLIERS!$F$4,\"\",O44/N44)))","v":5.4264943457189014},{"$f":"IF(ISERROR(U44/X44),\"\",IF(U44/X44<=OUTLIERS!$G$3,\"\",IF(U44/X44>=OUTLIERS!$G$4,\"\",U44/X44)))","v":1.3032589408202206E-3},{"$f":"IF(ISERROR(Q44/Y44),\"\",IF(Q44/Y44<=OUTLIERS!$H$3,\"\",IF(Q44/Y44>=OUTLIERS!$H$4,\"\",Q44/Y44)))","v":""},{"$f":"IF(ISERROR(W44),\"\",IF(W44<=OUTLIERS!$I$3,\"\",IF(W44>=OUTLIERS!$I$4,\"\",W44)))","v":""},159120000,24760000,134360000,1950000,"","",1,0,78018,"n/a","n/a",59863775,35739580]
[44,"XCTFMB030A","CTF","AfDB","Mitigation",{"$f":"IF(ISERROR(P45/(M45*S45)),\"\",IF((P45/(M45*S45))<=OUTLIERS!$C$3,\"\",IF((P45/(M45*S45))>=OUTLIERS!$C$4,\"\",P45/(M45*S45))))","v":7.2337687554491215E-3},{"$f":"IF(ISERROR(Q45/($M45*T45)),\"\",IF((Q45/($M45*T45))<=OUTLIERS!$D$3,\"\",IF((Q45/($M45*T45))>=OUTLIERS!$D$4,\"\",Q45/($M45*T45))))","v":""},{"$f":"IF(ISERROR((M45*S45)/P45),\"\",IF((M45*S45/P45)<=OUTLIERS!$E$3,\"\",IF((M45*S45/P45)>=OUTLIERS!$E$4,\"\",M45*S45/P45)))","v":138.24052631578948},{"$f":"IF(ISERROR(O45/N45),\"\",IF(O45/N45<=OUTLIERS!$F$3,\"\",IF(O45/N45>=OUTLIERS!$F$4,\"\",O45/N45)))","v":21.07201680672269},{"$f":"IF(ISERROR(U45/X45),\"\",IF(U45/X45<=OUTLIERS!$G$3,\"\",IF(U45/X45>=OUTLIERS!$G$4,\"\",U45/X45)))","v":1.2723387390788503E-2},{"$f":"IF(ISERROR(Q45/Y45),\"\",IF(Q45/Y45<=OUTLIERS!$H$3,\"\",IF(Q45/Y45>=OUTLIERS!$H$4,\"\",Q45/Y45)))","v":""},{"$f":"IF(ISERROR(W45),\"\",IF(W45<=OUTLIERS!$I$3,\"\",IF(W45>=OUTLIERS!$I$4,\"\",W45)))","v":""},2626570000,119000000,2507570000,19000000,"","",1,0,761670,"n/a","n/a",59863775,35739580]
[45,"XCTFMB032A","CTF","WorldBank","Mitigation",{"$f":"IF(ISERROR(P46/(M46*S46)),\"\",IF((P46/(M46*S46))<=OUTLIERS!$C$3,\"\",IF((P46/(M46*S46))>=OUTLIERS!$C$4,\"\",P46/(M46*S46))))","v":0.15368852459016394},{"$f":"IF(ISERROR(Q46/($M46*T46)),\"\",IF((Q46/($M46*T46))<=OUTLIERS!$D$3,\"\",IF((Q46/($M46*T46))>=OUTLIERS!$D$4,\"\",Q46/($M46*T46))))","v":""},{"$f":"IF(ISERROR((M46*S46)/P46),\"\",IF((M46*S46/P46)<=OUTLIERS!$E$3,\"\",IF((M46*S46/P46)>=OUTLIERS!$E$4,\"\",M46*S46/P46)))","v":6.5066666666666668},{"$f":"IF(ISERROR(O46/N46),\"\",IF(O46/N46<=OUTLIERS!$F$3,\"\",IF(O46/N46>=OUTLIERS!$F$4,\"\",O46/N46)))","v":0},{"$f":"IF(ISERROR(U46/X46),\"\",IF(U46/X46<=OUTLIERS!$G$3,\"\",IF(U46/X46>=OUTLIERS!$G$4,\"\",U46/X46)))","v":8.6632721771580953E-4},{"$f":"IF(ISERROR(Q46/Y46),\"\",IF(Q46/Y46<=OUTLIERS!$H$3,\"\",IF(Q46/Y46>=OUTLIERS!$H$4,\"\",Q46/Y46)))","v":""},{"$f":"IF(ISERROR(W46),\"\",IF(W46<=OUTLIERS!$I$3,\"\",IF(W46>=OUTLIERS!$I$4,\"\",W46)))","v":""},9760000,9760000,0,1500000,"","",1,0,75000,"n/a","n/a",86572369.499999985,33703328.166666664]
[46,"XCTFMB106A","CTF","WorldBank","Mitigation",{"$f":"IF(ISERROR(P47/(M47*S47)),\"\",IF((P47/(M47*S47))<=OUTLIERS!$C$3,\"\",IF((P47/(M47*S47))>=OUTLIERS!$C$4,\"\",P47/(M47*S47))))","v":0.14716981132075471},{"$f":"IF(ISERROR(Q47/($M47*T47)),\"\",IF((Q47/($M47*T47))<=OUTLIERS!$D$3,\"\",IF((Q47/($M47*T47))>=OUTLIERS!$D$4,\"\",Q47/($M47*T47))))","v":""},{"$f":"IF(ISERROR((M47*S47)/P47),\"\",IF((M47*S47/P47)<=OUTLIERS!$E$3,\"\",IF((M47*S47/P47)>=OUTLIERS!$E$4,\"\",M47*S47/P47)))","v":6.7948717948717947},{"$f":"IF(ISERROR(O47/N47),\"\",IF(O47/N47<=OUTLIERS!$F$3,\"\",IF(O47/N47>=OUTLIERS!$F$4,\"\",O47/N47)))","v":9.6},{"$f":"IF(ISERROR(U47/X47),\"\",IF(U47/X47<=OUTLIERS!$G$3,\"\",IF(U47/X47>=OUTLIERS!$G$4,\"\",U47/X47)))","v":""},{"$f":"IF(ISERROR(Q47/Y47),\"\",IF(Q47/Y47<=OUTLIERS!$H$3,\"\",IF(Q47/Y47>=OUTLIERS!$H$4,\"\",Q47/Y47)))","v":""},{"$f":"IF(ISERROR(W47),\"\",IF(W47<=OUTLIERS!$I$3,\"\",IF(W47>=OUTLIERS!$I$4,\"\",W47)))","v":""},265000000,25000000,240000000,39000000,"","",1,0,1300000,"n/a","n/a","",""]
[47,"XCTFMB107A","CTF","AfDB","Mitigation",{"$f":"IF(ISERROR(P48/(M48*S48)),\"\",IF((P48/(M48*S48))<=OUTLIERS!$C$3,\"\",IF((P48/(M48*S48))>=OUTLIERS!$C$4,\"\",P48/(M48*S48))))","v":1.607142857142857E-2},{"$f":"IF(ISERROR(Q48/($M48*T48)),\"\",IF((Q48/($M48*T48))<=OUTLIERS!$D$3,\"\",IF((Q48/($M48*T48))>=OUTLIERS!$D$4,\"\",Q48/($M48*T48))))","v":""},{"$f":"IF(ISERROR((M48*S48)/P48),\"\",IF((M48*S48/P48)<=OUTLIERS!$E$3,\"\",IF((M48*S48/P48)>=OUTLIERS!$E$4,\"\",M48*S48/P48)))","v":62.222222222222221},{"$f":"IF(ISERROR(O48/N48),\"\",IF(O48/N48<=OUTLIERS!$F$3,\"\",IF(O48/N48>=OUTLIERS!$F$4,\"\",O48/N48)))","v":88.6},{"$f":"IF(ISERROR(U48/X48),\"\",IF(U48/X48<=OUTLIERS!$G$3,\"\",IF(U48/X48>=OUTLIERS!$G$4,\"\",U48/X48)))","v":""},{"$f":"IF(ISERROR(Q48/Y48),\"\",IF(Q48/Y48<=OUTLIERS!$H$3,\"\",IF(Q48/Y48>=OUTLIERS!$H$4,\"\",Q48/Y48)))","v":""},{"$f":"IF(ISERROR(W48),\"\",IF(W48<=OUTLIERS!$I$3,\"\",IF(W48>=OUTLIERS!$I$4,\"\",W48)))","v":""},2240000000,25000000,2215000000,36000000,"","",1,0,1200000,"n/a","n/a","",""]
[48,"XCTFMX100A","CTF","IDB","Mitigation",{"$f":"IF(ISERROR(P49/(M49*S49)),\"\",IF((P49/(M49*S49))<=OUTLIERS!$C$3,\"\",IF((P49/(M49*S49))>=OUTLIERS!$C$4,\"\",P49/(M49*S49))))","v":2.6678966789667895E-2},{"$f":"IF(ISERROR(Q49/($M49*T49)),\"\",IF((Q49/($M49*T49))<=OUTLIERS!$D$3,\"\",IF((Q49/($M49*T49))>=OUTLIERS!$D$4,\"\",Q49/($M49*T49))))","v":""},{"$f":"IF(ISERROR((M49*S49)/P49),\"\",IF((M49*S49/P49)<=OUTLIERS!$E$3,\"\",IF((M49*S49/P49)>=OUTLIERS!$E$4,\"\",M49*S49/P49)))","v":37.482710926694331},{"$f":"IF(ISERROR(O49/N49),\"\",IF(O49/N49<=OUTLIERS!$F$3,\"\",IF(O49/N49>=OUTLIERS!$F$4,\"\",O49/N49)))","v":11.904761904761905},{"$f":"IF(ISERROR(U49/X49),\"\",IF(U49/X49<=OUTLIERS!$G$3,\"\",IF(U49/X49>=OUTLIERS!$G$4,\"\",U49/X49)))","v":1.5054011513345483E-4},{"$f":"IF(ISERROR(Q49/Y49),\"\",IF(Q49/Y49<=OUTLIERS!$H$3,\"\",IF(Q49/Y49>=OUTLIERS!$H$4,\"\",Q49/Y49)))","v":""},{"$f":"IF(ISERROR(W49),\"\",IF(W49<=OUTLIERS!$I$3,\"\",IF(W49>=OUTLIERS!$I$4,\"\",W49)))","v":""},27100000,2100000,25000000,723000,"","",1,0,72300,"n/a","n/a",480270657,129163276]
[49,"XCTFMX504A","CTF","IDB","Mitigation",{"$f":"IF(ISERROR(P50/(M50*S50)),\"\",IF((P50/(M50*S50))<=OUTLIERS!$C$3,\"\",IF((P50/(M50*S50))>=OUTLIERS!$C$4,\"\",P50/(M50*S50))))","v":2.830917045552029E-2},{"$f":"IF(ISERROR(Q50/($M50*T50)),\"\",IF((Q50/($M50*T50))<=OUTLIERS!$D$3,\"\",IF((Q50/($M50*T50))>=OUTLIERS!$D$4,\"\",Q50/($M50*T50))))","v":""},{"$f":"IF(ISERROR((M50*S50)/P50),\"\",IF((M50*S50/P50)<=OUTLIERS!$E$3,\"\",IF((M50*S50/P50)>=OUTLIERS!$E$4,\"\",M50*S50/P50)))","v":35.324242424242428},{"$f":"IF(ISERROR(O50/N50),\"\",IF(O50/N50<=OUTLIERS!$F$3,\"\",IF(O50/N50>=OUTLIERS!$F$4,\"\",O50/N50)))","v":57.284999999999997},{"$f":"IF(ISERROR(U50/X50),\"\",IF(U50/X50<=OUTLIERS!$G$3,\"\",IF(U50/X50>=OUTLIERS!$G$4,\"\",U50/X50)))","v":2.2903751956680541E-3},{"$f":"IF(ISERROR(Q50/Y50),\"\",IF(Q50/Y50<=OUTLIERS!$H$3,\"\",IF(Q50/Y50>=OUTLIERS!$H$4,\"\",Q50/Y50)))","v":""},{"$f":"IF(ISERROR(W50),\"\",IF(W50<=OUTLIERS!$I$3,\"\",IF(W50>=OUTLIERS!$I$4,\"\",W50)))","v":""},1165700000,20000000,1145700000,33000000,"",5400,1,0,1100000,5400,"n/a",480270657,129163276]
[50,"XCTFNI618A","CTF","IDB","Mitigation",{"$f":"IF(ISERROR(P51/(M51*S51)),\"\",IF((P51/(M51*S51))<=OUTLIERS!$C$3,\"\",IF((P51/(M51*S51))>=OUTLIERS!$C$4,\"\",P51/(M51*S51))))","v":3.4443349242581446E-2},{"$f":"IF(ISERROR(Q51/($M51*T51)),\"\",IF((Q51/($M51*T51))<=OUTLIERS!$D$3,\"\",IF((Q51/($M51*T51))>=OUTLIERS!$D$4,\"\",Q51/($M51*T51))))","v":""},{"$f":"IF(ISERROR((M51*S51)/P51),\"\",IF((M51*S51/P51)<=OUTLIERS!$E$3,\"\",IF((M51*S51/P51)>=OUTLIERS!$E$4,\"\",M51*S51/P51)))","v":29.033181208862381},{"$f":"IF(ISERROR(O51/N51),\"\",IF(O51/N51<=OUTLIERS!$F$3,\"\",IF(O51/N51>=OUTLIERS!$F$4,\"\",O51/N51)))","v":8.6379999999999999},{"$f":"IF(ISERROR(U51/X51),\"\",IF(U51/X51<=OUTLIERS!$G$3,\"\",IF(U51/X51>=OUTLIERS!$G$4,\"\",U51/X51)))","v":2.2757083786295033E-2},{"$f":"IF(ISERROR(Q51/Y51),\"\",IF(Q51/Y51<=OUTLIERS!$H$3,\"\",IF(Q51/Y51>=OUTLIERS!$H$4,\"\",Q51/Y51)))","v":""},{"$f":"IF(ISERROR(W51),\"\",IF(W51<=OUTLIERS!$I$3,\"\",IF(W51>=OUTLIERS!$I$4,\"\",W51)))","v":""},96380000,10000000,86380000,3319650,"",273,1,0,110655,273,"n/a",4862442,6217581]
[51,"XCTFPH063A","CTF","WorldBank","Mitigation",{"$f":"IF(ISERROR(P52/(M52*S52)),\"\",IF((P52/(M52*S52))<=OUTLIERS!$C$3,\"\",IF((P52/(M52*S52))>=OUTLIERS!$C$4,\"\",P52/(M52*S52))))","v":2.407723242848003E-2},{"$f":"IF(ISERROR(Q52/($M52*T52)),\"\",IF((Q52/($M52*T52))<=OUTLIERS!$D$3,\"\",IF((Q52/($M52*T52))>=OUTLIERS!$D$4,\"\",Q52/($M52*T52))))","v":""},{"$f":"IF(ISERROR((M52*S52)/P52),\"\",IF((M52*S52/P52)<=OUTLIERS!$E$3,\"\",IF((M52*S52/P52)>=OUTLIERS!$E$4,\"\",M52*S52/P52)))","v":41.533012690326423},{"$f":"IF(ISERROR(O52/N52),\"\",IF(O52/N52<=OUTLIERS!$F$3,\"\",IF(O52/N52>=OUTLIERS!$F$4,\"\",O52/N52)))","v":3.5778242677824266},{"$f":"IF(ISERROR(U52/X52),\"\",IF(U52/X52<=OUTLIERS!$G$3,\"\",IF(U52/X52>=OUTLIERS!$G$4,\"\",U52/X52)))","v":1.9632497292645019E-3},{"$f":"IF(ISERROR(Q52/Y52),\"\",IF(Q52/Y52<=OUTLIERS!$H$3,\"\",IF(Q52/Y52>=OUTLIERS!$H$4,\"\",Q52/Y52)))","v":""},{"$f":"IF(ISERROR(W52),\"\",IF(W52<=OUTLIERS!$I$3,\"\",IF(W52>=OUTLIERS!$I$4,\"\",W52)))","v":0.5},109410000,23900000,85510000,2634290,"",300000,1,0,207424.40944881891,300000,0.5,105653604,104918090]
[52,"XCTFTR078A","CTF","WorldBank","Mitigation",{"$f":"IF(ISERROR(P53/(M53*S53)),\"\",IF((P53/(M53*S53))<=OUTLIERS!$C$3,\"\",IF((P53/(M53*S53))>=OUTLIERS!$C$4,\"\",P53/(M53*S53))))","v":9.6930232558139536E-3},{"$f":"IF(ISERROR(Q53/($M53*T53)),\"\",IF((Q53/($M53*T53))<=OUTLIERS!$D$3,\"\",IF((Q53/($M53*T53))>=OUTLIERS!$D$4,\"\",Q53/($M53*T53))))","v":""},{"$f":"IF(ISERROR((M53*S53)/P53),\"\",IF((M53*S53/P53)<=OUTLIERS!$E$3,\"\",IF((M53*S53/P53)>=OUTLIERS!$E$4,\"\",M53*S53/P53)))","v":103.16698656429942},{"$f":"IF(ISERROR(O53/N53),\"\",IF(O53/N53<=OUTLIERS!$F$3,\"\",IF(O53/N53>=OUTLIERS!$F$4,\"\",O53/N53)))","v":20.5},{"$f":"IF(ISERROR(U53/X53),\"\",IF(U53/X53<=OUTLIERS!$G$3,\"\",IF(U53/X53>=OUTLIERS!$G$4,\"\",U53/X53)))","v":2.0078147734991763E-3},{"$f":"IF(ISERROR(Q53/Y53),\"\",IF(Q53/Y53<=OUTLIERS!$H$3,\"\",IF(Q53/Y53>=OUTLIERS!$H$4,\"\",Q53/Y53)))","v":""},{"$f":"IF(ISERROR(W53),\"\",IF(W53<=OUTLIERS!$I$3,\"\",IF(W53>=OUTLIERS!$I$4,\"\",W53)))","v":""},1075000000,50000000,1025000000,10420000,"","",1,0,694666.66666666663,"n/a","n/a",345981450,80745020]
[53,"XCTFTR219A","CTF","WorldBank","Mitigation",{"$f":"IF(ISERROR(P54/(M54*S54)),\"\",IF((P54/(M54*S54))<=OUTLIERS!$C$3,\"\",IF((P54/(M54*S54))>=OUTLIERS!$C$4,\"\",P54/(M54*S54))))","v":""},{"$f":"IF(ISERROR(Q54/($M54*T54)),\"\",IF((Q54/($M54*T54))<=OUTLIERS!$D$3,\"\",IF((Q54/($M54*T54))>=OUTLIERS!$D$4,\"\",Q54/($M54*T54))))","v":""},{"$f":"IF(ISERROR((M54*S54)/P54),\"\",IF((M54*S54/P54)<=OUTLIERS!$E$3,\"\",IF((M54*S54/P54)>=OUTLIERS!$E$4,\"\",M54*S54/P54)))","v":""},{"$f":"IF(ISERROR(O54/N54),\"\",IF(O54/N54<=OUTLIERS!$F$3,\"\",IF(O54/N54>=OUTLIERS!$F$4,\"\",O54/N54)))","v":0},{"$f":"IF(ISERROR(U54/X54),\"\",IF(U54/X54<=OUTLIERS!$G$3,\"\",IF(U54/X54>=OUTLIERS!$G$4,\"\",U54/X54)))","v":""},{"$f":"IF(ISERROR(Q54/Y54),\"\",IF(Q54/Y54<=OUTLIERS!$H$3,\"\",IF(Q54/Y54>=OUTLIERS!$H$4,\"\",Q54/Y54)))","v":""},{"$f":"IF(ISERROR(W54),\"\",IF(W54<=OUTLIERS!$I$3,\"\",IF(W54>=OUTLIERS!$I$4,\"\",W54)))","v":""},1050000,1050000,0,"n/a","","",1,0,"n/a","n/a","n/a",345981450,80745020]
[54,"XCTFTR509A","CTF","WorldBank","Mitigation",{"$f":"IF(ISERROR(P55/(M55*S55)),\"\",IF((P55/(M55*S55))<=OUTLIERS!$C$3,\"\",IF((P55/(M55*S55))>=OUTLIERS!$C$4,\"\",P55/(M55*S55))))","v":""},{"$f":"IF(ISERROR(Q55/($M55*T55)),\"\",IF((Q55/($M55*T55))<=OUTLIERS!$D$3,\"\",IF((Q55/($M55*T55))>=OUTLIERS!$D$4,\"\",Q55/($M55*T55))))","v":""},{"$f":"IF(ISERROR((M55*S55)/P55),\"\",IF((M55*S55/P55)<=OUTLIERS!$E$3,\"\",IF((M55*S55/P55)>=OUTLIERS!$E$4,\"\",M55*S55/P55)))","v":""},{"$f":"IF(ISERROR(O55/N55),\"\",IF(O55/N55<=OUTLIERS!$F$3,\"\",IF(O55/N55>=OUTLIERS!$F$4,\"\",O55/N55)))","v":7.9},{"$f":"IF(ISERROR(U55/X55),\"\",IF(U55/X55<=OUTLIERS!$G$3,\"\",IF(U55/X55>=OUTLIERS!$G$4,\"\",U55/X55)))","v":""},{"$f":"IF(ISERROR(Q55/Y55),\"\",IF(Q55/Y55<=OUTLIERS!$H$3,\"\",IF(Q55/Y55>=OUTLIERS!$H$4,\"\",Q55/Y55)))","v":""},{"$f":"IF(ISERROR(W55),\"\",IF(W55<=OUTLIERS!$I$3,\"\",IF(W55>=OUTLIERS!$I$4,\"\",W55)))","v":""},356000000,40000000,316000000,"n/a","","",1,0,"n/a","n/a","n/a",345981450,80745020]
[55,"XCTFUA056A","CTF","WorldBank","Mitigation",{"$f":"IF(ISERROR(P56/(M56*S56)),\"\",IF((P56/(M56*S56))<=OUTLIERS!$C$3,\"\",IF((P56/(M56*S56))>=OUTLIERS!$C$4,\"\",P56/(M56*S56))))","v":1.3733681462140991E-2},{"$f":"IF(ISERROR(Q56/($M56*T56)),\"\",IF((Q56/($M56*T56))<=OUTLIERS!$D$3,\"\",IF((Q56/($M56*T56))>=OUTLIERS!$D$4,\"\",Q56/($M56*T56))))","v":""},{"$f":"IF(ISERROR((M56*S56)/P56),\"\",IF((M56*S56/P56)<=OUTLIERS!$E$3,\"\",IF((M56*S56/P56)>=OUTLIERS!$E$4,\"\",M56*S56/P56)))","v":72.813688212927758},{"$f":"IF(ISERROR(O56/N56),\"\",IF(O56/N56<=OUTLIERS!$F$3,\"\",IF(O56/N56>=OUTLIERS!$F$4,\"\",O56/N56)))","v":6.5098039215686274},{"$f":"IF(ISERROR(U56/X56),\"\",IF(U56/X56<=OUTLIERS!$G$3,\"\",IF(U56/X56>=OUTLIERS!$G$4,\"\",U56/X56)))","v":1.4463328357435105E-3},{"$f":"IF(ISERROR(Q56/Y56),\"\",IF(Q56/Y56<=OUTLIERS!$H$3,\"\",IF(Q56/Y56>=OUTLIERS!$H$4,\"\",Q56/Y56)))","v":""},{"$f":"IF(ISERROR(W56),\"\",IF(W56<=OUTLIERS!$I$3,\"\",IF(W56>=OUTLIERS!$I$4,\"\",W56)))","v":0.4},383000000,51000000,332000000,5260000,"",1960705,1,0,328750,1960705,0.4,227298995,44831159]
[56,"XCTFUA087A","CTF","WorldBank","Cross-cutting",{"$f":"IF(ISERROR(P57/(M57*S57)),\"\",IF((P57/(M57*S57))<=OUTLIERS!$C$3,\"\",IF((P57/(M57*S57))>=OUTLIERS!$C$4,\"\",P57/(M57*S57))))","v":""},{"$f":"IF(ISERROR(Q57/($M57*T57)),\"\",IF((Q57/($M57*T57))<=OUTLIERS!$D$3,\"\",IF((Q57/($M57*T57))>=OUTLIERS!$D$4,\"\",Q57/($M57*T57))))","v":""},{"$f":"IF(ISERROR((M57*S57)/P57),\"\",IF((M57*S57/P57)<=OUTLIERS!$E$3,\"\",IF((M57*S57/P57)>=OUTLIERS!$E$4,\"\",M57*S57/P57)))","v":""},{"$f":"IF(ISERROR(O57/N57),\"\",IF(O57/N57<=OUTLIERS!$F$3,\"\",IF(O57/N57>=OUTLIERS!$F$4,\"\",O57/N57)))","v":6},{"$f":"IF(ISERROR(U57/X57),\"\",IF(U57/X57<=OUTLIERS!$G$3,\"\",IF(U57/X57>=OUTLIERS!$G$4,\"\",U57/X57)))","v":1.2973704525178389E-3},{"$f":"IF(ISERROR(Q57/Y57),\"\",IF(Q57/Y57<=OUTLIERS!$H$3,\"\",IF(Q57/Y57>=OUTLIERS!$H$4,\"\",Q57/Y57)))","v":""},{"$f":"IF(ISERROR(W57),\"\",IF(W57<=OUTLIERS!$I$3,\"\",IF(W57>=OUTLIERS!$I$4,\"\",W57)))","v":""},350000000,50000000,300000000,5897820,"",4300000,"n/a","n/a",294891,4300000,"n/a",227298995,44831159]
[57,"XCTFUA088A","CTF","WorldBank","Mitigation",{"$f":"IF(ISERROR(P58/(M58*S58)),\"\",IF((P58/(M58*S58))<=OUTLIERS!$C$3,\"\",IF((P58/(M58*S58))>=OUTLIERS!$C$4,\"\",P58/(M58*S58))))","v":6.2875075085190107E-2},{"$f":"IF(ISERROR(Q58/($M58*T58)),\"\",IF((Q58/($M58*T58))<=OUTLIERS!$D$3,\"\",IF((Q58/($M58*T58))>=OUTLIERS!$D$4,\"\",Q58/($M58*T58))))","v":""},{"$f":"IF(ISERROR((M58*S58)/P58),\"\",IF((M58*S58/P58)<=OUTLIERS!$E$3,\"\",IF((M58*S58/P58)>=OUTLIERS!$E$4,\"\",M58*S58/P58)))","v":15.904553571428572},{"$f":"IF(ISERROR(O58/N58),\"\",IF(O58/N58<=OUTLIERS!$F$3,\"\",IF(O58/N58>=OUTLIERS!$F$4,\"\",O58/N58)))","v":35.49477566072526},{"$f":"IF(ISERROR(U58/X58),\"\",IF(U58/X58<=OUTLIERS!$G$3,\"\",IF(U58/X58>=OUTLIERS!$G$4,\"\",U58/X58)))","v":1.2318576243594918E-2},{"$f":"IF(ISERROR(Q58/Y58),\"\",IF(Q58/Y58<=OUTLIERS!$H$3,\"\",IF(Q58/Y58>=OUTLIERS!$H$4,\"\",Q58/Y58)))","v":""},{"$f":"IF(ISERROR(W58),\"\",IF(W58<=OUTLIERS!$I$3,\"\",IF(W58>=OUTLIERS!$I$4,\"\",W58)))","v":""},1781310000,48810000,1732500000,112000000,"","",1,0,2800000,"n/a","n/a",227298995,44831159]
[58,"XCTFVN101A","CTF","ADB","Mitigation",{"$f":"IF(ISERROR(P59/(M59*S59)),\"\",IF((P59/(M59*S59))<=OUTLIERS!$C$3,\"\",IF((P59/(M59*S59))>=OUTLIERS!$C$4,\"\",P59/(M59*S59))))","v":""},{"$f":"IF(ISERROR(Q59/($M59*T59)),\"\",IF((Q59/($M59*T59))<=OUTLIERS!$D$3,\"\",IF((Q59/($M59*T59))>=OUTLIERS!$D$4,\"\",Q59/($M59*T59))))","v":""},{"$f":"IF(ISERROR((M59*S59)/P59),\"\",IF((M59*S59/P59)<=OUTLIERS!$E$3,\"\",IF((M59*S59/P59)>=OUTLIERS!$E$4,\"\",M59*S59/P59)))","v":""},{"$f":"IF(ISERROR(O59/N59),\"\",IF(O59/N59<=OUTLIERS!$F$3,\"\",IF(O59/N59>=OUTLIERS!$F$4,\"\",O59/N59)))","v":6.7039999999999997},{"$f":"IF(ISERROR(U59/X59),\"\",IF(U59/X59<=OUTLIERS!$G$3,\"\",IF(U59/X59>=OUTLIERS!$G$4,\"\",U59/X59)))","v":""},{"$f":"IF(ISERROR(Q59/Y59),\"\",IF(Q59/Y59<=OUTLIERS!$H$3,\"\",IF(Q59/Y59>=OUTLIERS!$H$4,\"\",Q59/Y59)))","v":""},{"$f":"IF(ISERROR(W59),\"\",IF(W59<=OUTLIERS!$I$3,\"\",IF(W59>=OUTLIERS!$I$4,\"\",W59)))","v":""},385200000,50000000,335200000,"n/a","","",1,0,"n/a","n/a","n/a",166910839,95540800]
[59,"XCTFVN104A","CTF","ADB","Mitigation",{"$f":"IF(ISERROR(P60/(M60*S60)),\"\",IF((P60/(M60*S60))<=OUTLIERS!$C$3,\"\",IF((P60/(M60*S60))>=OUTLIERS!$C$4,\"\",P60/(M60*S60))))","v":""},{"$f":"IF(ISERROR(Q60/($M60*T60)),\"\",IF((Q60/($M60*T60))<=OUTLIERS!$D$3,\"\",IF((Q60/($M60*T60))>=OUTLIERS!$D$4,\"\",Q60/($M60*T60))))","v":""},{"$f":"IF(ISERROR((M60*S60)/P60),\"\",IF((M60*S60/P60)<=OUTLIERS!$E$3,\"\",IF((M60*S60/P60)>=OUTLIERS!$E$4,\"\",M60*S60/P60)))","v":""},{"$f":"IF(ISERROR(O60/N60),\"\",IF(O60/N60<=OUTLIERS!$F$3,\"\",IF(O60/N60>=OUTLIERS!$F$4,\"\",O60/N60)))","v":3.1578947368421054E-2},{"$f":"IF(ISERROR(U60/X60),\"\",IF(U60/X60<=OUTLIERS!$G$3,\"\",IF(U60/X60>=OUTLIERS!$G$4,\"\",U60/X60)))","v":2.9569015886379913E-3},{"$f":"IF(ISERROR(Q60/Y60),\"\",IF(Q60/Y60<=OUTLIERS!$H$3,\"\",IF(Q60/Y60>=OUTLIERS!$H$4,\"\",Q60/Y60)))","v":""},{"$f":"IF(ISERROR(W60),\"\",IF(W60<=OUTLIERS!$I$3,\"\",IF(W60>=OUTLIERS!$I$4,\"\",W60)))","v":""},980000,950000,30000,9870778.5,"","",1,0,493538.92499999999,"n/a","n/a",166910839,95540800]
[60,"XCTFVN111A","CTF","ADB","Mitigation",{"$f":"IF(ISERROR(P61/(M61*S61)),\"\",IF((P61/(M61*S61))<=OUTLIERS!$C$3,\"\",IF((P61/(M61*S61))>=OUTLIERS!$C$4,\"\",P61/(M61*S61))))","v":""},{"$f":"IF(ISERROR(Q61/($M61*T61)),\"\",IF((Q61/($M61*T61))<=OUTLIERS!$D$3,\"\",IF((Q61/($M61*T61))>=OUTLIERS!$D$4,\"\",Q61/($M61*T61))))","v":""},{"$f":"IF(ISERROR((M61*S61)/P61),\"\",IF((M61*S61/P61)<=OUTLIERS!$E$3,\"\",IF((M61*S61/P61)>=OUTLIERS!$E$4,\"\",M61*S61/P61)))","v":""},{"$f":"IF(ISERROR(O61/N61),\"\",IF(O61/N61<=OUTLIERS!$F$3,\"\",IF(O61/N61>=OUTLIERS!$F$4,\"\",O61/N61)))","v":0.20016012810248199},{"$f":"IF(ISERROR(U61/X61),\"\",IF(U61/X61<=OUTLIERS!$G$3,\"\",IF(U61/X61>=OUTLIERS!$G$4,\"\",U61/X61)))","v":""},{"$f":"IF(ISERROR(Q61/Y61),\"\",IF(Q61/Y61<=OUTLIERS!$H$3,\"\",IF(Q61/Y61>=OUTLIERS!$H$4,\"\",Q61/Y61)))","v":""},{"$f":"IF(ISERROR(W61),\"\",IF(W61<=OUTLIERS!$I$3,\"\",IF(W61>=OUTLIERS!$I$4,\"\",W61)))","v":""},59960000,49960000,10000000,"n/a","","",1,0,"n/a","n/a","n/a",166910839,95540800]
[61,"PFIPBR501A","FIP","IDB","Mitigation",{"$f":"IF(ISERROR(P62/(M62*S62)),\"\",IF((P62/(M62*S62))<=OUTLIERS!$C$3,\"\",IF((P62/(M62*S62))>=OUTLIERS!$C$4,\"\",P62/(M62*S62))))","v":5.2356020942408377E-2},{"$f":"IF(ISERROR(Q62/($M62*T62)),\"\",IF((Q62/($M62*T62))<=OUTLIERS!$D$3,\"\",IF((Q62/($M62*T62))>=OUTLIERS!$D$4,\"\",Q62/($M62*T62))))","v":""},{"$f":"IF(ISERROR((M62*S62)/P62),\"\",IF((M62*S62/P62)<=OUTLIERS!$E$3,\"\",IF((M62*S62/P62)>=OUTLIERS!$E$4,\"\",M62*S62/P62)))","v":19.100000000000001},{"$f":"IF(ISERROR(O62/N62),\"\",IF(O62/N62<=OUTLIERS!$F$3,\"\",IF(O62/N62>=OUTLIERS!$F$4,\"\",O62/N62)))","v":0.68529411764705883},{"$f":"IF(ISERROR(U62/X62),\"\",IF(U62/X62<=OUTLIERS!$G$3,\"\",IF(U62/X62>=OUTLIERS!$G$4,\"\",U62/X62)))","v":""},{"$f":"IF(ISERROR(Q62/Y62),\"\",IF(Q62/Y62<=OUTLIERS!$H$3,\"\",IF(Q62/Y62>=OUTLIERS!$H$4,\"\",Q62/Y62)))","v":""},{"$f":"IF(ISERROR(W62),\"\",IF(W62<=OUTLIERS!$I$3,\"\",IF(W62>=OUTLIERS!$I$4,\"\",W62)))","v":""},5730000,3400000,2330000,300000,"",0,1,0,15000,0,"n/a",0,0]
[62,"PFIPMZ032A","FIP","IFC","Mitigation",{"$f":"IF(ISERROR(P63/(M63*S63)),\"\",IF((P63/(M63*S63))<=OUTLIERS!$C$3,\"\",IF((P63/(M63*S63))>=OUTLIERS!$C$4,\"\",P63/(M63*S63))))","v":""},{"$f":"IF(ISERROR(Q63/($M63*T63)),\"\",IF((Q63/($M63*T63))<=OUTLIERS!$D$3,\"\",IF((Q63/($M63*T63))>=OUTLIERS!$D$4,\"\",Q63/($M63*T63))))","v":""},{"$f":"IF(ISERROR((M63*S63)/P63),\"\",IF((M63*S63/P63)<=OUTLIERS!$E$3,\"\",IF((M63*S63/P63)>=OUTLIERS!$E$4,\"\",M63*S63/P63)))","v":""},{"$f":"IF(ISERROR(O63/N63),\"\",IF(O63/N63<=OUTLIERS!$F$3,\"\",IF(O63/N63>=OUTLIERS!$F$4,\"\",O63/N63)))","v":1.9538461538461538},{"$f":"IF(ISERROR(U63/X63),\"\",IF(U63/X63<=OUTLIERS!$G$3,\"\",IF(U63/X63>=OUTLIERS!$G$4,\"\",U63/X63)))","v":""},{"$f":"IF(ISERROR(Q63/Y63),\"\",IF(Q63/Y63<=OUTLIERS!$H$3,\"\",IF(Q63/Y63>=OUTLIERS!$H$4,\"\",Q63/Y63)))","v":""},{"$f":"IF(ISERROR(W63),\"\",IF(W63<=OUTLIERS!$I$3,\"\",IF(W63>=OUTLIERS!$I$4,\"\",W63)))","v":""},5760000,1950000,3810000,"n/a","",20000,1,0,"n/a",20000,"n/a",8426766,29668834]
[63,"XFIPBF503A","FIP","AfDB","Mitigation",{"$f":"IF(ISERROR(P64/(M64*S64)),\"\",IF((P64/(M64*S64))<=OUTLIERS!$C$3,\"\",IF((P64/(M64*S64))>=OUTLIERS!$C$4,\"\",P64/(M64*S64))))","v":0.33868092691622104},{"$f":"IF(ISERROR(Q64/($M64*T64)),\"\",IF((Q64/($M64*T64))<=OUTLIERS!$D$3,\"\",IF((Q64/($M64*T64))>=OUTLIERS!$D$4,\"\",Q64/($M64*T64))))","v":""},{"$f":"IF(ISERROR((M64*S64)/P64),\"\",IF((M64*S64/P64)<=OUTLIERS!$E$3,\"\",IF((M64*S64/P64)>=OUTLIERS!$E$4,\"\",M64*S64/P64)))","v":2.9526315789473685},{"$f":"IF(ISERROR(O64/N64),\"\",IF(O64/N64<=OUTLIERS!$F$3,\"\",IF(O64/N64>=OUTLIERS!$F$4,\"\",O64/N64)))","v":1.64},{"$f":"IF(ISERROR(U64/X64),\"\",IF(U64/X64<=OUTLIERS!$G$3,\"\",IF(U64/X64>=OUTLIERS!$G$4,\"\",U64/X64)))","v":5.3347203606270967E-2},{"$f":"IF(ISERROR(Q64/Y64),\"\",IF(Q64/Y64<=OUTLIERS!$H$3,\"\",IF(Q64/Y64>=OUTLIERS!$H$4,\"\",Q64/Y64)))","v":""},{"$f":"IF(ISERROR(W64),\"\",IF(W64<=OUTLIERS!$I$3,\"\",IF(W64>=OUTLIERS!$I$4,\"\",W64)))","v":0.44897959183673469},11220000,4250000,6970000,3800000,"",9800,1,0,152000,9800,0.44897959183673469,2849259,19193382]
[64,"XFIPBR010A","FIP","WorldBank","Cross-cutting",{"$f":"IF(ISERROR(P65/(M65*S65)),\"\",IF((P65/(M65*S65))<=OUTLIERS!$C$3,\"\",IF((P65/(M65*S65))>=OUTLIERS!$C$4,\"\",P65/(M65*S65))))","v":""},{"$f":"IF(ISERROR(Q65/($M65*T65)),\"\",IF((Q65/($M65*T65))<=OUTLIERS!$D$3,\"\",IF((Q65/($M65*T65))>=OUTLIERS!$D$4,\"\",Q65/($M65*T65))))","v":""},{"$f":"IF(ISERROR((M65*S65)/P65),\"\",IF((M65*S65/P65)<=OUTLIERS!$E$3,\"\",IF((M65*S65/P65)>=OUTLIERS!$E$4,\"\",M65*S65/P65)))","v":""},{"$f":"IF(ISERROR(O65/N65),\"\",IF(O65/N65<=OUTLIERS!$F$3,\"\",IF(O65/N65>=OUTLIERS!$F$4,\"\",O65/N65)))","v":0.79512635379061369},{"$f":"IF(ISERROR(U65/X65),\"\",IF(U65/X65<=OUTLIERS!$G$3,\"\",IF(U65/X65>=OUTLIERS!$G$4,\"\",U65/X65)))","v":""},{"$f":"IF(ISERROR(Q65/Y65),\"\",IF(Q65/Y65<=OUTLIERS!$H$3,\"\",IF(Q65/Y65>=OUTLIERS!$H$4,\"\",Q65/Y65)))","v":""},{"$f":"IF(ISERROR(W65),\"\",IF(W65<=OUTLIERS!$I$3,\"\",IF(W65>=OUTLIERS!$I$4,\"\",W65)))","v":""},59670000,33240000,26430000,"n/a","","","n/a","n/a","n/a","n/a","n/a",529808160.00000006,209288278]
[65,"XFIPBR011A","FIP","WorldBank","Cross-cutting",{"$f":"IF(ISERROR(P66/(M66*S66)),\"\",IF((P66/(M66*S66))<=OUTLIERS!$C$3,\"\",IF((P66/(M66*S66))>=OUTLIERS!$C$4,\"\",P66/(M66*S66))))","v":""},{"$f":"IF(ISERROR(Q66/($M66*T66)),\"\",IF((Q66/($M66*T66))<=OUTLIERS!$D$3,\"\",IF((Q66/($M66*T66))>=OUTLIERS!$D$4,\"\",Q66/($M66*T66))))","v":""},{"$f":"IF(ISERROR((M66*S66)/P66),\"\",IF((M66*S66/P66)<=OUTLIERS!$E$3,\"\",IF((M66*S66/P66)>=OUTLIERS!$E$4,\"\",M66*S66/P66)))","v":""},{"$f":"IF(ISERROR(O66/N66),\"\",IF(O66/N66<=OUTLIERS!$F$3,\"\",IF(O66/N66>=OUTLIERS!$F$4,\"\",O66/N66)))","v":4.4502617801047119E-2},{"$f":"IF(ISERROR(U66/X66),\"\",IF(U66/X66<=OUTLIERS!$G$3,\"\",IF(U66/X66>=OUTLIERS!$G$4,\"\",U66/X66)))","v":5.4264924873939266E-4},{"$f":"IF(ISERROR(Q66/Y66),\"\",IF(Q66/Y66<=OUTLIERS!$H$3,\"\",IF(Q66/Y66>=OUTLIERS!$H$4,\"\",Q66/Y66)))","v":""},{"$f":"IF(ISERROR(W66),\"\",IF(W66<=OUTLIERS!$I$3,\"\",IF(W66>=OUTLIERS!$I$4,\"\",W66)))","v":""},{"$f":"N66+O66","v":11970000},11460000,510000,4600000,"",{"$f":"IF(V66=\"n/a\",\"\",V66)","v":12000},"n/a","n/a",287500,12000,"n/a",529808160.00000006,209288278]
[66,"XFIPBR013A","FIP","WorldBank","Adaptation",{"$f":"IF(ISERROR(P67/(M67*S67)),\"\",IF((P67/(M67*S67))<=OUTLIERS!$C$3,\"\",IF((P67/(M67*S67))>=OUTLIERS!$C$4,\"\",P67/(M67*S67))))","v":""},{"$f":"IF(ISERROR(Q67/($M67*T67)),\"\",IF((Q67/($M67*T67))<=OUTLIERS!$D$3,\"\",IF((Q67/($M67*T67))>=OUTLIERS!$D$4,\"\",Q67/($M67*T67))))","v":""},{"$f":"IF(ISERROR((M67*S67)/P67),\"\",IF((M67*S67/P67)<=OUTLIERS!$E$3,\"\",IF((M67*S67/P67)>=OUTLIERS!$E$4,\"\",M67*S67/P67)))","v":""},{"$f":"IF(ISERROR(O67/N67),\"\",IF(O67/N67<=OUTLIERS!$F$3,\"\",IF(O67/N67>=OUTLIERS!$F$4,\"\",O67/N67)))","v":0},{"$f":"IF(ISERROR(U67/X67),\"\",IF(U67/X67<=OUTLIERS!$G$3,\"\",IF(U67/X67>=OUTLIERS!$G$4,\"\",U67/X67)))","v":""},{"$f":"IF(ISERROR(Q67/Y67),\"\",IF(Q67/Y67<=OUTLIERS!$H$3,\"\",IF(Q67/Y67>=OUTLIERS!$H$4,\"\",Q67/Y67)))","v":""},{"$f":"IF(ISERROR(W67),\"\",IF(W67<=OUTLIERS!$I$3,\"\",IF(W67>=OUTLIERS!$I$4,\"\",W67)))","v":""},10020000,10020000,0,"n/a",{"$f":"IF(E67=\"adaptation\",R67,\"\")","v":""},"",0,1,"n/a","n/a","n/a",529808160.00000006,209288278]
[67,"XFIPBR026A","FIP","WorldBank","Cross-cutting",{"$f":"IF(ISERROR(P68/(M68*S68)),\"\",IF((P68/(M68*S68))<=OUTLIERS!$C$3,\"\",IF((P68/(M68*S68))>=OUTLIERS!$C$4,\"\",P68/(M68*S68))))","v":""},{"$f":"IF(ISERROR(Q68/($M68*T68)),\"\",IF((Q68/($M68*T68))<=OUTLIERS!$D$3,\"\",IF((Q68/($M68*T68))>=OUTLIERS!$D$4,\"\",Q68/($M68*T68))))","v":""},{"$f":"IF(ISERROR((M68*S68)/P68),\"\",IF((M68*S68/P68)<=OUTLIERS!$E$3,\"\",IF((M68*S68/P68)>=OUTLIERS!$E$4,\"\",M68*S68/P68)))","v":""},{"$f":"IF(ISERROR(O68/N68),\"\",IF(O68/N68<=OUTLIERS!$F$3,\"\",IF(O68/N68>=OUTLIERS!$F$4,\"\",O68/N68)))","v":0.2},{"$f":"IF(ISERROR(U68/X68),\"\",IF(U68/X68<=OUTLIERS!$G$3,\"\",IF(U68/X68>=OUTLIERS!$G$4,\"\",U68/X68)))","v":""},{"$f":"IF(ISERROR(Q68/Y68),\"\",IF(Q68/Y68<=OUTLIERS!$H$3,\"\",IF(Q68/Y68>=OUTLIERS!$H$4,\"\",Q68/Y68)))","v":""},{"$f":"IF(ISERROR(W68),\"\",IF(W68<=OUTLIERS!$I$3,\"\",IF(W68>=OUTLIERS!$I$4,\"\",W68)))","v":""},1200000,1000000,200000,"n/a","","","n/a","n/a","n/a","n/a","n/a",529808160.00000006,209288278]
[68,"XFIPBR027A","FIP","WorldBank","Cross-cutting",{"$f":"IF(ISERROR(P69/(M69*S69)),\"\",IF((P69/(M69*S69))<=OUTLIERS!$C$3,\"\",IF((P69/(M69*S69))>=OUTLIERS!$C$4,\"\",P69/(M69*S69))))","v":""},{"$f":"IF(ISERROR(Q69/($M69*T69)),\"\",IF((Q69/($M69*T69))<=OUTLIERS!$D$3,\"\",IF((Q69/($M69*T69))>=OUTLIERS!$D$4,\"\",Q69/($M69*T69))))","v":""},{"$f":"IF(ISERROR((M69*S69)/P69),\"\",IF((M69*S69/P69)<=OUTLIERS!$E$3,\"\",IF((M69*S69/P69)>=OUTLIERS!$E$4,\"\",M69*S69/P69)))","v":""},{"$f":"IF(ISERROR(O69/N69),\"\",IF(O69/N69<=OUTLIERS!$F$3,\"\",IF(O69/N69>=OUTLIERS!$F$4,\"\",O69/N69)))","v":0.15207373271889402},{"$f":"IF(ISERROR(U69/X69),\"\",IF(U69/X69<=OUTLIERS!$G$3,\"\",IF(U69/X69>=OUTLIERS!$G$4,\"\",U69/X69)))","v":0},{"$f":"IF(ISERROR(Q69/Y69),\"\",IF(Q69/Y69<=OUTLIERS!$H$3,\"\",IF(Q69/Y69>=OUTLIERS!$H$4,\"\",Q69/Y69)))","v":""},{"$f":"IF(ISERROR(W69),\"\",IF(W69<=OUTLIERS!$I$3,\"\",IF(W69>=OUTLIERS!$I$4,\"\",W69)))","v":""},25000000,21700000,3300000,"n/a","",5200,"n/a","n/a",0,5200,"n/a",529808160.00000006,209288278]
[69,"XFIPCI029A","FIP","WorldBank","Mitigation",{"$f":"IF(ISERROR(P70/(M70*S70)),\"\",IF((P70/(M70*S70))<=OUTLIERS!$C$3,\"\",IF((P70/(M70*S70))>=OUTLIERS!$C$4,\"\",P70/(M70*S70))))","v":0.12928999999999999},{"$f":"IF(ISERROR(Q70/($M70*T70)),\"\",IF((Q70/($M70*T70))<=OUTLIERS!$D$3,\"\",IF((Q70/($M70*T70))>=OUTLIERS!$D$4,\"\",Q70/($M70*T70))))","v":""},{"$f":"IF(ISERROR((M70*S70)/P70),\"\",IF((M70*S70/P70)<=OUTLIERS!$E$3,\"\",IF((M70*S70/P70)>=OUTLIERS!$E$4,\"\",M70*S70/P70)))","v":7.7345502359037823},{"$f":"IF(ISERROR(O70/N70),\"\",IF(O70/N70<=OUTLIERS!$F$3,\"\",IF(O70/N70>=OUTLIERS!$F$4,\"\",O70/N70)))","v":0},{"$f":"IF(ISERROR(U70/X70),\"\",IF(U70/X70<=OUTLIERS!$G$3,\"\",IF(U70/X70>=OUTLIERS!$G$4,\"\",U70/X70)))","v":1.755861745274153E-2},{"$f":"IF(ISERROR(Q70/Y70),\"\",IF(Q70/Y70<=OUTLIERS!$H$3,\"\",IF(Q70/Y70>=OUTLIERS!$H$4,\"\",Q70/Y70)))","v":""},{"$f":"IF(ISERROR(W70),\"\",IF(W70<=OUTLIERS!$I$3,\"\",IF(W70>=OUTLIERS!$I$4,\"\",W70)))","v":0.5},15000000,15000000,0,1939350,"",345000,1,0,193935,345000,0.5,11045004,24294750]
[70,"XFIPCI030A","FIP","AfDB","Cross-cutting",{"$f":"IF(ISERROR(P71/(M71*S71)),\"\",IF((P71/(M71*S71))<=OUTLIERS!$C$3,\"\",IF((P71/(M71*S71))>=OUTLIERS!$C$4,\"\",P71/(M71*S71))))","v":""},{"$f":"IF(ISERROR(Q71/($M71*T71)),\"\",IF((Q71/($M71*T71))<=OUTLIERS!$D$3,\"\",IF((Q71/($M71*T71))>=OUTLIERS!$D$4,\"\",Q71/($M71*T71))))","v":""},{"$f":"IF(ISERROR((M71*S71)/P71),\"\",IF((M71*S71/P71)<=OUTLIERS!$E$3,\"\",IF((M71*S71/P71)>=OUTLIERS!$E$4,\"\",M71*S71/P71)))","v":""},{"$f":"IF(ISERROR(O71/N71),\"\",IF(O71/N71<=OUTLIERS!$F$3,\"\",IF(O71/N71>=OUTLIERS!$F$4,\"\",O71/N71)))","v":2.3155555555555556},{"$f":"IF(ISERROR(U71/X71),\"\",IF(U71/X71<=OUTLIERS!$G$3,\"\",IF(U71/X71>=OUTLIERS!$G$4,\"\",U71/X71)))","v":2.5350828302099303E-2},{"$f":"IF(ISERROR(Q71/Y71),\"\",IF(Q71/Y71<=OUTLIERS!$H$3,\"\",IF(Q71/Y71>=OUTLIERS!$H$4,\"\",Q71/Y71)))","v":""},{"$f":"IF(ISERROR(W71),\"\",IF(W71<=OUTLIERS!$I$3,\"\",IF(W71>=OUTLIERS!$I$4,\"\",W71)))","v":""},29840000,9000000,20840000,7000000,"",1819679,"n/a","n/a",280000,1819679,"n/a",11045004,24294750]
[71,"XFIPDG201A","FIP","WorldBank","Cross-cutting",{"$f":"IF(ISERROR(P72/(M72*S72)),\"\",IF((P72/(M72*S72))<=OUTLIERS!$C$3,\"\",IF((P72/(M72*S72))>=OUTLIERS!$C$4,\"\",P72/(M72*S72))))","v":""},{"$f":"IF(ISERROR(Q72/($M72*T72)),\"\",IF((Q72/($M72*T72))<=OUTLIERS!$D$3,\"\",IF((Q72/($M72*T72))>=OUTLIERS!$D$4,\"\",Q72/($M72*T72))))","v":""},{"$f":"IF(ISERROR((M72*S72)/P72),\"\",IF((M72*S72/P72)<=OUTLIERS!$E$3,\"\",IF((M72*S72/P72)>=OUTLIERS!$E$4,\"\",M72*S72/P72)))","v":""},{"$f":"IF(ISERROR(O72/N72),\"\",IF(O72/N72<=OUTLIERS!$F$3,\"\",IF(O72/N72>=OUTLIERS!$F$4,\"\",O72/N72)))","v":0},{"$f":"IF(ISERROR(U72/X72),\"\",IF(U72/X72<=OUTLIERS!$G$3,\"\",IF(U72/X72>=OUTLIERS!$G$4,\"\",U72/X72)))","v":""},{"$f":"IF(ISERROR(Q72/Y72),\"\",IF(Q72/Y72<=OUTLIERS!$H$3,\"\",IF(Q72/Y72>=OUTLIERS!$H$4,\"\",Q72/Y72)))","v":""},{"$f":"IF(ISERROR(W72),\"\",IF(W72<=OUTLIERS!$I$3,\"\",IF(W72>=OUTLIERS!$I$4,\"\",W72)))","v":0.3},7460000,7460000,0,"n/a","",6000,"n/a","n/a","n/a",6000,0.3,529808160.00000006,209288278]
[72,"XFIPDG202A","FIP","WorldBank","Cross-cutting",{"$f":"IF(ISERROR(P73/(M73*S73)),\"\",IF((P73/(M73*S73))<=OUTLIERS!$C$3,\"\",IF((P73/(M73*S73))>=OUTLIERS!$C$4,\"\",P73/(M73*S73))))","v":""},{"$f":"IF(ISERROR(Q73/($M73*T73)),\"\",IF((Q73/($M73*T73))<=OUTLIERS!$D$3,\"\",IF((Q73/($M73*T73))>=OUTLIERS!$D$4,\"\",Q73/($M73*T73))))","v":""},{"$f":"IF(ISERROR((M73*S73)/P73),\"\",IF((M73*S73/P73)<=OUTLIERS!$E$3,\"\",IF((M73*S73/P73)>=OUTLIERS!$E$4,\"\",M73*S73/P73)))","v":""},{"$f":"IF(ISERROR(O73/N73),\"\",IF(O73/N73<=OUTLIERS!$F$3,\"\",IF(O73/N73>=OUTLIERS!$F$4,\"\",O73/N73)))","v":0},{"$f":"IF(ISERROR(U73/X73),\"\",IF(U73/X73<=OUTLIERS!$G$3,\"\",IF(U73/X73>=OUTLIERS!$G$4,\"\",U73/X73)))","v":""},{"$f":"IF(ISERROR(Q73/Y73),\"\",IF(Q73/Y73<=OUTLIERS!$H$3,\"\",IF(Q73/Y73>=OUTLIERS!$H$4,\"\",Q73/Y73)))","v":""},{"$f":"IF(ISERROR(W73),\"\",IF(W73<=OUTLIERS!$I$3,\"\",IF(W73>=OUTLIERS!$I$4,\"\",W73)))","v":""},5220000,5220000,0,"n/a","",5590,"n/a","n/a","n/a",5590,"n/a",2849259,19193382]
[73,"XFIPDG203A","FIP","WorldBank","Cross-cutting",{"$f":"IF(ISERROR(P74/(M74*S74)),\"\",IF((P74/(M74*S74))<=OUTLIERS!$C$3,\"\",IF((P74/(M74*S74))>=OUTLIERS!$C$4,\"\",P74/(M74*S74))))","v":""},{"$f":"IF(ISERROR(Q74/($M74*T74)),\"\",IF((Q74/($M74*T74))<=OUTLIERS!$D$3,\"\",IF((Q74/($M74*T74))>=OUTLIERS!$D$4,\"\",Q74/($M74*T74))))","v":""},{"$f":"IF(ISERROR((M74*S74)/P74),\"\",IF((M74*S74/P74)<=OUTLIERS!$E$3,\"\",IF((M74*S74/P74)>=OUTLIERS!$E$4,\"\",M74*S74/P74)))","v":""},{"$f":"IF(ISERROR(O74/N74),\"\",IF(O74/N74<=OUTLIERS!$F$3,\"\",IF(O74/N74>=OUTLIERS!$F$4,\"\",O74/N74)))","v":1.1007194244604317},{"$f":"IF(ISERROR(U74/X74),\"\",IF(U74/X74<=OUTLIERS!$G$3,\"\",IF(U74/X74>=OUTLIERS!$G$4,\"\",U74/X74)))","v":""},{"$f":"IF(ISERROR(Q74/Y74),\"\",IF(Q74/Y74<=OUTLIERS!$H$3,\"\",IF(Q74/Y74>=OUTLIERS!$H$4,\"\",Q74/Y74)))","v":""},{"$f":"IF(ISERROR(W74),\"\",IF(W74<=OUTLIERS!$I$3,\"\",IF(W74>=OUTLIERS!$I$4,\"\",W74)))","v":0.3},14600000,6950000,7650000,"n/a","",20000,"n/a","n/a","n/a",20000,0.3,4671758,81339988]
[74,"XFIPDG204A","FIP","WorldBank","Mitigation",{"$f":"IF(ISERROR(P75/(M75*S75)),\"\",IF((P75/(M75*S75))<=OUTLIERS!$C$3,\"\",IF((P75/(M75*S75))>=OUTLIERS!$C$4,\"\",P75/(M75*S75))))","v":""},{"$f":"IF(ISERROR(Q75/($M75*T75)),\"\",IF((Q75/($M75*T75))<=OUTLIERS!$D$3,\"\",IF((Q75/($M75*T75))>=OUTLIERS!$D$4,\"\",Q75/($M75*T75))))","v":""},{"$f":"IF(ISERROR((M75*S75)/P75),\"\",IF((M75*S75/P75)<=OUTLIERS!$E$3,\"\",IF((M75*S75/P75)>=OUTLIERS!$E$4,\"\",M75*S75/P75)))","v":""},{"$f":"IF(ISERROR(O75/N75),\"\",IF(O75/N75<=OUTLIERS!$F$3,\"\",IF(O75/N75>=OUTLIERS!$F$4,\"\",O75/N75)))","v":0},{"$f":"IF(ISERROR(U75/X75),\"\",IF(U75/X75<=OUTLIERS!$G$3,\"\",IF(U75/X75>=OUTLIERS!$G$4,\"\",U75/X75)))","v":""},{"$f":"IF(ISERROR(Q75/Y75),\"\",IF(Q75/Y75<=OUTLIERS!$H$3,\"\",IF(Q75/Y75>=OUTLIERS!$H$4,\"\",Q75/Y75)))","v":""},{"$f":"IF(ISERROR(W75),\"\",IF(W75<=OUTLIERS!$I$3,\"\",IF(W75>=OUTLIERS!$I$4,\"\",W75)))","v":""},6130000,6130000,0,"n/a","",11000,1,0,"n/a",11000,"n/a",14466315,28833629]
[75,"XFIPDG205A","FIP","WorldBank","Cross-cutting",{"$f":"IF(ISERROR(P76/(M76*S76)),\"\",IF((P76/(M76*S76))<=OUTLIERS!$C$3,\"\",IF((P76/(M76*S76))>=OUTLIERS!$C$4,\"\",P76/(M76*S76))))","v":""},{"$f":"IF(ISERROR(Q76/($M76*T76)),\"\",IF((Q76/($M76*T76))<=OUTLIERS!$D$3,\"\",IF((Q76/($M76*T76))>=OUTLIERS!$D$4,\"\",Q76/($M76*T76))))","v":""},{"$f":"IF(ISERROR((M76*S76)/P76),\"\",IF((M76*S76/P76)<=OUTLIERS!$E$3,\"\",IF((M76*S76/P76)>=OUTLIERS!$E$4,\"\",M76*S76/P76)))","v":""},{"$f":"IF(ISERROR(O76/N76),\"\",IF(O76/N76<=OUTLIERS!$F$3,\"\",IF(O76/N76>=OUTLIERS!$F$4,\"\",O76/N76)))","v":0},{"$f":"IF(ISERROR(U76/X76),\"\",IF(U76/X76<=OUTLIERS!$G$3,\"\",IF(U76/X76>=OUTLIERS!$G$4,\"\",U76/X76)))","v":""},{"$f":"IF(ISERROR(Q76/Y76),\"\",IF(Q76/Y76<=OUTLIERS!$H$3,\"\",IF(Q76/Y76>=OUTLIERS!$H$4,\"\",Q76/Y76)))","v":""},{"$f":"IF(ISERROR(W76),\"\",IF(W76<=OUTLIERS!$I$3,\"\",IF(W76>=OUTLIERS!$I$4,\"\",W76)))","v":0.3},7480000,7480000,0,"n/a","",700,"n/a","n/a","n/a",700,0.3,464176194,263991379]
[76,"XFIPDG207A","FIP","WorldBank","Cross-cutting",{"$f":"IF(ISERROR(P77/(M77*S77)),\"\",IF((P77/(M77*S77))<=OUTLIERS!$C$3,\"\",IF((P77/(M77*S77))>=OUTLIERS!$C$4,\"\",P77/(M77*S77))))","v":""},{"$f":"IF(ISERROR(Q77/($M77*T77)),\"\",IF((Q77/($M77*T77))<=OUTLIERS!$D$3,\"\",IF((Q77/($M77*T77))>=OUTLIERS!$D$4,\"\",Q77/($M77*T77))))","v":""},{"$f":"IF(ISERROR((M77*S77)/P77),\"\",IF((M77*S77/P77)<=OUTLIERS!$E$3,\"\",IF((M77*S77/P77)>=OUTLIERS!$E$4,\"\",M77*S77/P77)))","v":""},{"$f":"IF(ISERROR(O77/N77),\"\",IF(O77/N77<=OUTLIERS!$F$3,\"\",IF(O77/N77>=OUTLIERS!$F$4,\"\",O77/N77)))","v":0},{"$f":"IF(ISERROR(U77/X77),\"\",IF(U77/X77<=OUTLIERS!$G$3,\"\",IF(U77/X77>=OUTLIERS!$G$4,\"\",U77/X77)))","v":""},{"$f":"IF(ISERROR(Q77/Y77),\"\",IF(Q77/Y77<=OUTLIERS!$H$3,\"\",IF(Q77/Y77>=OUTLIERS!$H$4,\"\",Q77/Y77)))","v":""},{"$f":"IF(ISERROR(W77),\"\",IF(W77<=OUTLIERS!$I$3,\"\",IF(W77>=OUTLIERS!$I$4,\"\",W77)))","v":0.25},6700000,6700000,0,"n/a","",2705,"n/a","n/a","n/a",2705,0.25,480270657,129163276]
[77,"XFIPDG208A","FIP","WorldBank","Cross-cutting",{"$f":"IF(ISERROR(P78/(M78*S78)),\"\",IF((P78/(M78*S78))<=OUTLIERS!$C$3,\"\",IF((P78/(M78*S78))>=OUTLIERS!$C$4,\"\",P78/(M78*S78))))","v":""},{"$f":"IF(ISERROR(Q78/($M78*T78)),\"\",IF((Q78/($M78*T78))<=OUTLIERS!$D$3,\"\",IF((Q78/($M78*T78))>=OUTLIERS!$D$4,\"\",Q78/($M78*T78))))","v":""},{"$f":"IF(ISERROR((M78*S78)/P78),\"\",IF((M78*S78/P78)<=OUTLIERS!$E$3,\"\",IF((M78*S78/P78)>=OUTLIERS!$E$4,\"\",M78*S78/P78)))","v":""},{"$f":"IF(ISERROR(O78/N78),\"\",IF(O78/N78<=OUTLIERS!$F$3,\"\",IF(O78/N78>=OUTLIERS!$F$4,\"\",O78/N78)))","v":0},{"$f":"IF(ISERROR(U78/X78),\"\",IF(U78/X78<=OUTLIERS!$G$3,\"\",IF(U78/X78>=OUTLIERS!$G$4,\"\",U78/X78)))","v":""},{"$f":"IF(ISERROR(Q78/Y78),\"\",IF(Q78/Y78<=OUTLIERS!$H$3,\"\",IF(Q78/Y78>=OUTLIERS!$H$4,\"\",Q78/Y78)))","v":""},{"$f":"IF(ISERROR(W78),\"\",IF(W78<=OUTLIERS!$I$3,\"\",IF(W78>=OUTLIERS!$I$4,\"\",W78)))","v":""},6230000,6230000,0,"n/a","","","n/a","n/a","n/a","n/a","n/a",61744946,32165485]
[78,"XFIPDG209A","FIP","WorldBank","Cross-cutting",{"$f":"IF(ISERROR(P79/(M79*S79)),\"\",IF((P79/(M79*S79))<=OUTLIERS!$C$3,\"\",IF((P79/(M79*S79))>=OUTLIERS!$C$4,\"\",P79/(M79*S79))))","v":""},{"$f":"IF(ISERROR(Q79/($M79*T79)),\"\",IF((Q79/($M79*T79))<=OUTLIERS!$D$3,\"\",IF((Q79/($M79*T79))>=OUTLIERS!$D$4,\"\",Q79/($M79*T79))))","v":""},{"$f":"IF(ISERROR((M79*S79)/P79),\"\",IF((M79*S79/P79)<=OUTLIERS!$E$3,\"\",IF((M79*S79/P79)>=OUTLIERS!$E$4,\"\",M79*S79/P79)))","v":""},{"$f":"IF(ISERROR(O79/N79),\"\",IF(O79/N79<=OUTLIERS!$F$3,\"\",IF(O79/N79>=OUTLIERS!$F$4,\"\",O79/N79)))","v":0},{"$f":"IF(ISERROR(U79/X79),\"\",IF(U79/X79<=OUTLIERS!$G$3,\"\",IF(U79/X79>=OUTLIERS!$G$4,\"\",U79/X79)))","v":""},{"$f":"IF(ISERROR(Q79/Y79),\"\",IF(Q79/Y79<=OUTLIERS!$H$3,\"\",IF(Q79/Y79>=OUTLIERS!$H$4,\"\",Q79/Y79)))","v":""},{"$f":"IF(ISERROR(W79),\"\",IF(W79<=OUTLIERS!$I$3,\"\",IF(W79>=OUTLIERS!$I$4,\"\",W79)))","v":""},6000000,6000000,0,"n/a","","","n/a","n/a","n/a","n/a","n/a","",""]
[79,"XFIPDG214A","FIP","WorldBank","Adaptation",{"$f":"IF(ISERROR(P80/(M80*S80)),\"\",IF((P80/(M80*S80))<=OUTLIERS!$C$3,\"\",IF((P80/(M80*S80))>=OUTLIERS!$C$4,\"\",P80/(M80*S80))))","v":""},{"$f":"IF(ISERROR(Q80/($M80*T80)),\"\",IF((Q80/($M80*T80))<=OUTLIERS!$D$3,\"\",IF((Q80/($M80*T80))>=OUTLIERS!$D$4,\"\",Q80/($M80*T80))))","v":3.7878787878787879E-4},{"$f":"IF(ISERROR((M80*S80)/P80),\"\",IF((M80*S80/P80)<=OUTLIERS!$E$3,\"\",IF((M80*S80/P80)>=OUTLIERS!$E$4,\"\",M80*S80/P80)))","v":""},{"$f":"IF(ISERROR(O80/N80),\"\",IF(O80/N80<=OUTLIERS!$F$3,\"\",IF(O80/N80>=OUTLIERS!$F$4,\"\",O80/N80)))","v":0},{"$f":"IF(ISERROR(U80/X80),\"\",IF(U80/X80<=OUTLIERS!$G$3,\"\",IF(U80/X80>=OUTLIERS!$G$4,\"\",U80/X80)))","v":""},{"$f":"IF(ISERROR(Q80/Y80),\"\",IF(Q80/Y80<=OUTLIERS!$H$3,\"\",IF(Q80/Y80>=OUTLIERS!$H$4,\"\",Q80/Y80)))","v":""},{"$f":"IF(ISERROR(W80),\"\",IF(W80<=OUTLIERS!$I$3,\"\",IF(W80>=OUTLIERS!$I$4,\"\",W80)))","v":""},5280000,5280000,0,"n/a",2000,2000,0,1,"n/a",2000,"n/a",8426766,29668834]
[80,"XFIPGH016A","FIP","WorldBank","Cross-cutting",{"$f":"IF(ISERROR(P81/(M81*S81)),\"\",IF((P81/(M81*S81))<=OUTLIERS!$C$3,\"\",IF((P81/(M81*S81))>=OUTLIERS!$C$4,\"\",P81/(M81*S81))))","v":""},{"$f":"IF(ISERROR(Q81/($M81*T81)),\"\",IF((Q81/($M81*T81))<=OUTLIERS!$D$3,\"\",IF((Q81/($M81*T81))>=OUTLIERS!$D$4,\"\",Q81/($M81*T81))))","v":""},{"$f":"IF(ISERROR((M81*S81)/P81),\"\",IF((M81*S81/P81)<=OUTLIERS!$E$3,\"\",IF((M81*S81/P81)>=OUTLIERS!$E$4,\"\",M81*S81/P81)))","v":""},{"$f":"IF(ISERROR(O81/N81),\"\",IF(O81/N81<=OUTLIERS!$F$3,\"\",IF(O81/N81>=OUTLIERS!$F$4,\"\",O81/N81)))","v":9.765625E-2},{"$f":"IF(ISERROR(U81/X81),\"\",IF(U81/X81<=OUTLIERS!$G$3,\"\",IF(U81/X81>=OUTLIERS!$G$4,\"\",U81/X81)))","v":""},{"$f":"IF(ISERROR(Q81/Y81),\"\",IF(Q81/Y81<=OUTLIERS!$H$3,\"\",IF(Q81/Y81>=OUTLIERS!$H$4,\"\",Q81/Y81)))","v":""},{"$f":"IF(ISERROR(W81),\"\",IF(W81<=OUTLIERS!$I$3,\"\",IF(W81>=OUTLIERS!$I$4,\"\",W81)))","v":""},33720000,30720000,3000000,"n/a","","","n/a","n/a","n/a","n/a","n/a",14466315,28833629]
[81,"XFIPGH045A","FIP","WorldBank","Cross-cutting",{"$f":"IF(ISERROR(P82/(M82*S82)),\"\",IF((P82/(M82*S82))<=OUTLIERS!$C$3,\"\",IF((P82/(M82*S82))>=OUTLIERS!$C$4,\"\",P82/(M82*S82))))","v":""},{"$f":"IF(ISERROR(Q82/($M82*T82)),\"\",IF((Q82/($M82*T82))<=OUTLIERS!$D$3,\"\",IF((Q82/($M82*T82))>=OUTLIERS!$D$4,\"\",Q82/($M82*T82))))","v":""},{"$f":"IF(ISERROR((M82*S82)/P82),\"\",IF((M82*S82/P82)<=OUTLIERS!$E$3,\"\",IF((M82*S82/P82)>=OUTLIERS!$E$4,\"\",M82*S82/P82)))","v":""},{"$f":"IF(ISERROR(O82/N82),\"\",IF(O82/N82<=OUTLIERS!$F$3,\"\",IF(O82/N82>=OUTLIERS!$F$4,\"\",O82/N82)))","v":0.15471892728210418},{"$f":"IF(ISERROR(U82/X82),\"\",IF(U82/X82<=OUTLIERS!$G$3,\"\",IF(U82/X82>=OUTLIERS!$G$4,\"\",U82/X82)))","v":7.1771007336699083E-2},{"$f":"IF(ISERROR(Q82/Y82),\"\",IF(Q82/Y82<=OUTLIERS!$H$3,\"\",IF(Q82/Y82>=OUTLIERS!$H$4,\"\",Q82/Y82)))","v":""},{"$f":"IF(ISERROR(W82),\"\",IF(W82<=OUTLIERS!$I$3,\"\",IF(W82>=OUTLIERS!$I$4,\"\",W82)))","v":0.49},22390000,19390000,3000000,"n/a","",9501,"n/a","n/a",1038262,9501,0.49,14466315,28833629]
[82,"PFIPGH504A","FIP","AfDB","Adaptation",{"$f":"IF(ISERROR(P83/(M83*S83)),\"\",IF((P83/(M83*S83))<=OUTLIERS!$C$3,\"\",IF((P83/(M83*S83))>=OUTLIERS!$C$4,\"\",P83/(M83*S83))))","v":""},{"$f":"IF(ISERROR(Q83/($M83*T83)),\"\",IF((Q83/($M83*T83))<=OUTLIERS!$D$3,\"\",IF((Q83/($M83*T83))>=OUTLIERS!$D$4,\"\",Q83/($M83*T83))))","v":""},{"$f":"IF(ISERROR((M83*S83)/P83),\"\",IF((M83*S83/P83)<=OUTLIERS!$E$3,\"\",IF((M83*S83/P83)>=OUTLIERS!$E$4,\"\",M83*S83/P83)))","v":""},{"$f":"IF(ISERROR(O83/N83),\"\",IF(O83/N83<=OUTLIERS!$F$3,\"\",IF(O83/N83>=OUTLIERS!$F$4,\"\",O83/N83)))","v":3.4146341463414633},{"$f":"IF(ISERROR(U83/X83),\"\",IF(U83/X83<=OUTLIERS!$G$3,\"\",IF(U83/X83>=OUTLIERS!$G$4,\"\",U83/X83)))","v":4.8459472920367071E-3},{"$f":"IF(ISERROR(Q83/Y83),\"\",IF(Q83/Y83<=OUTLIERS!$H$3,\"\",IF(Q83/Y83>=OUTLIERS!$H$4,\"\",Q83/Y83)))","v":""},{"$f":"IF(ISERROR(W83),\"\",IF(W83<=OUTLIERS!$I$3,\"\",IF(W83>=OUTLIERS!$I$4,\"\",W83)))","v":0.4},47060000,10660000,36400000,"n/a","not vulnerable beneficiaries","not vulnerable beneficiaries",0,1,70103,"not vulnerable beneficiaries",0.4,14466315,28833629]
[83,"XFIPID019A","FIP","ADB","Mitigation",{"$f":"IF(ISERROR(P84/(M84*S84)),\"\",IF((P84/(M84*S84))<=OUTLIERS!$C$3,\"\",IF((P84/(M84*S84))>=OUTLIERS!$C$4,\"\",P84/(M84*S84))))","v":0.1791767554479419},{"$f":"IF(ISERROR(Q84/($M84*T84)),\"\",IF((Q84/($M84*T84))<=OUTLIERS!$D$3,\"\",IF((Q84/($M84*T84))>=OUTLIERS!$D$4,\"\",Q84/($M84*T84))))","v":""},{"$f":"IF(ISERROR((M84*S84)/P84),\"\",IF((M84*S84/P84)<=OUTLIERS!$E$3,\"\",IF((M84*S84/P84)>=OUTLIERS!$E$4,\"\",M84*S84/P84)))","v":5.5810810810810807},{"$f":"IF(ISERROR(O84/N84),\"\",IF(O84/N84<=OUTLIERS!$F$3,\"\",IF(O84/N84>=OUTLIERS!$F$4,\"\",O84/N84)))","v":8.9709762532981532E-2},{"$f":"IF(ISERROR(U84/X84),\"\",IF(U84/X84<=OUTLIERS!$G$3,\"\",IF(U84/X84>=OUTLIERS!$G$4,\"\",U84/X84)))","v":7.9711110733955476E-4},{"$f":"IF(ISERROR(Q84/Y84),\"\",IF(Q84/Y84<=OUTLIERS!$H$3,\"\",IF(Q84/Y84>=OUTLIERS!$H$4,\"\",Q84/Y84)))","v":""},{"$f":"IF(ISERROR(W84),\"\",IF(W84<=OUTLIERS!$I$3,\"\",IF(W84>=OUTLIERS!$I$4,\"\",W84)))","v":0.4},20650000,18950000,1700000,3700000,"",10000,1,0,370000,10000,0.4,464176194,263991379]
[84,"XFIPLA004A","FIP","ADB","Cross-cutting",{"$f":"IF(ISERROR(P85/(M85*S85)),\"\",IF((P85/(M85*S85))<=OUTLIERS!$C$3,\"\",IF((P85/(M85*S85))>=OUTLIERS!$C$4,\"\",P85/(M85*S85))))","v":""},{"$f":"IF(ISERROR(Q85/($M85*T85)),\"\",IF((Q85/($M85*T85))<=OUTLIERS!$D$3,\"\",IF((Q85/($M85*T85))>=OUTLIERS!$D$4,\"\",Q85/($M85*T85))))","v":""},{"$f":"IF(ISERROR((M85*S85)/P85),\"\",IF((M85*S85/P85)<=OUTLIERS!$E$3,\"\",IF((M85*S85/P85)>=OUTLIERS!$E$4,\"\",M85*S85/P85)))","v":""},{"$f":"IF(ISERROR(O85/N85),\"\",IF(O85/N85<=OUTLIERS!$F$3,\"\",IF(O85/N85>=OUTLIERS!$F$4,\"\",O85/N85)))","v":1.4597864768683273},{"$f":"IF(ISERROR(U85/X85),\"\",IF(U85/X85<=OUTLIERS!$G$3,\"\",IF(U85/X85>=OUTLIERS!$G$4,\"\",U85/X85)))","v":4.6742075127742949E-2},{"$f":"IF(ISERROR(Q85/Y85),\"\",IF(Q85/Y85<=OUTLIERS!$H$3,\"\",IF(Q85/Y85>=OUTLIERS!$H$4,\"\",Q85/Y85)))","v":""},{"$f":"IF(ISERROR(W85),\"\",IF(W85<=OUTLIERS!$I$3,\"\",IF(W85>=OUTLIERS!$I$4,\"\",W85)))","v":0.3},34560000,14050000,20510000,913579,"",925,"n/a","n/a",91357.9,925,0.3,1954511,6858160]
[85,"XFIPMZ031A","FIP","WorldBank","Mitigation",{"$f":"IF(ISERROR(P86/(M86*S86)),\"\",IF((P86/(M86*S86))<=OUTLIERS!$C$3,\"\",IF((P86/(M86*S86))>=OUTLIERS!$C$4,\"\",P86/(M86*S86))))","v":""},{"$f":"IF(ISERROR(Q86/($M86*T86)),\"\",IF((Q86/($M86*T86))<=OUTLIERS!$D$3,\"\",IF((Q86/($M86*T86))>=OUTLIERS!$D$4,\"\",Q86/($M86*T86))))","v":""},{"$f":"IF(ISERROR((M86*S86)/P86),\"\",IF((M86*S86/P86)<=OUTLIERS!$E$3,\"\",IF((M86*S86/P86)>=OUTLIERS!$E$4,\"\",M86*S86/P86)))","v":""},{"$f":"IF(ISERROR(O86/N86),\"\",IF(O86/N86<=OUTLIERS!$F$3,\"\",IF(O86/N86>=OUTLIERS!$F$4,\"\",O86/N86)))","v":1.0974539069359086},{"$f":"IF(ISERROR(U86/X86),\"\",IF(U86/X86<=OUTLIERS!$G$3,\"\",IF(U86/X86>=OUTLIERS!$G$4,\"\",U86/X86)))","v":""},{"$f":"IF(ISERROR(Q86/Y86),\"\",IF(Q86/Y86<=OUTLIERS!$H$3,\"\",IF(Q86/Y86>=OUTLIERS!$H$4,\"\",Q86/Y86)))","v":""},{"$f":"IF(ISERROR(W86),\"\",IF(W86<=OUTLIERS!$I$3,\"\",IF(W86>=OUTLIERS!$I$4,\"\",W86)))","v":""},47780000,22780000,25000000,"n/a","","",1,0,"n/a","n/a","n/a",8426766,29668834]
[86,"XFIPPE023A","FIP","WorldBank","Cross-cutting",{"$f":"IF(ISERROR(P87/(M87*S87)),\"\",IF((P87/(M87*S87))<=OUTLIERS!$C$3,\"\",IF((P87/(M87*S87))>=OUTLIERS!$C$4,\"\",P87/(M87*S87))))","v":""},{"$f":"IF(ISERROR(Q87/($M87*T87)),\"\",IF((Q87/($M87*T87))<=OUTLIERS!$D$3,\"\",IF((Q87/($M87*T87))>=OUTLIERS!$D$4,\"\",Q87/($M87*T87))))","v":""},{"$f":"IF(ISERROR((M87*S87)/P87),\"\",IF((M87*S87/P87)<=OUTLIERS!$E$3,\"\",IF((M87*S87/P87)>=OUTLIERS!$E$4,\"\",M87*S87/P87)))","v":""},{"$f":"IF(ISERROR(O87/N87),\"\",IF(O87/N87<=OUTLIERS!$F$3,\"\",IF(O87/N87>=OUTLIERS!$F$4,\"\",O87/N87)))","v":0.37313432835820898},{"$f":"IF(ISERROR(U87/X87),\"\",IF(U87/X87<=OUTLIERS!$G$3,\"\",IF(U87/X87>=OUTLIERS!$G$4,\"\",U87/X87)))","v":""},{"$f":"IF(ISERROR(Q87/Y87),\"\",IF(Q87/Y87<=OUTLIERS!$H$3,\"\",IF(Q87/Y87>=OUTLIERS!$H$4,\"\",Q87/Y87)))","v":""},{"$f":"IF(ISERROR(W87),\"\",IF(W87<=OUTLIERS!$I$3,\"\",IF(W87>=OUTLIERS!$I$4,\"\",W87)))","v":""},18400000,13400000,5000000,3108737,"",7500,"n/a","n/a","n/a",7500,"n/a",61744946,32165485]
[87,"XFIPPE033A","FIP","IDB","Mitigation",{"$f":"IF(ISERROR(P88/(M88*S88)),\"\",IF((P88/(M88*S88))<=OUTLIERS!$C$3,\"\",IF((P88/(M88*S88))>=OUTLIERS!$C$4,\"\",P88/(M88*S88))))","v":""},{"$f":"IF(ISERROR(Q88/($M88*T88)),\"\",IF((Q88/($M88*T88))<=OUTLIERS!$D$3,\"\",IF((Q88/($M88*T88))>=OUTLIERS!$D$4,\"\",Q88/($M88*T88))))","v":""},{"$f":"IF(ISERROR((M88*S88)/P88),\"\",IF((M88*S88/P88)<=OUTLIERS!$E$3,\"\",IF((M88*S88/P88)>=OUTLIERS!$E$4,\"\",M88*S88/P88)))","v":""},{"$f":"IF(ISERROR(O88/N88),\"\",IF(O88/N88<=OUTLIERS!$F$3,\"\",IF(O88/N88>=OUTLIERS!$F$4,\"\",O88/N88)))","v":0},{"$f":"IF(ISERROR(U88/X88),\"\",IF(U88/X88<=OUTLIERS!$G$3,\"\",IF(U88/X88>=OUTLIERS!$G$4,\"\",U88/X88)))","v":""},{"$f":"IF(ISERROR(Q88/Y88),\"\",IF(Q88/Y88<=OUTLIERS!$H$3,\"\",IF(Q88/Y88>=OUTLIERS!$H$4,\"\",Q88/Y88)))","v":""},{"$f":"IF(ISERROR(W88),\"\",IF(W88<=OUTLIERS!$I$3,\"\",IF(W88>=OUTLIERS!$I$4,\"\",W88)))","v":""},36300000,36300000,0,"n/a","","",1,0,"n/a","n/a","n/a",61744946,32165485]
[88,"XFIPZR001A","FIP","WorldBank","Cross-cutting",{"$f":"IF(ISERROR(P89/(M89*S89)),\"\",IF((P89/(M89*S89))<=OUTLIERS!$C$3,\"\",IF((P89/(M89*S89))>=OUTLIERS!$C$4,\"\",P89/(M89*S89))))","v":""},{"$f":"IF(ISERROR(Q89/($M89*T89)),\"\",IF((Q89/($M89*T89))<=OUTLIERS!$D$3,\"\",IF((Q89/($M89*T89))>=OUTLIERS!$D$4,\"\",Q89/($M89*T89))))","v":""},{"$f":"IF(ISERROR((M89*S89)/P89),\"\",IF((M89*S89/P89)<=OUTLIERS!$E$3,\"\",IF((M89*S89/P89)>=OUTLIERS!$E$4,\"\",M89*S89/P89)))","v":""},{"$f":"IF(ISERROR(O89/N89),\"\",IF(O89/N89<=OUTLIERS!$F$3,\"\",IF(O89/N89>=OUTLIERS!$F$4,\"\",O89/N89)))","v":0},{"$f":"IF(ISERROR(U89/X89),\"\",IF(U89/X89<=OUTLIERS!$G$3,\"\",IF(U89/X89>=OUTLIERS!$G$4,\"\",U89/X89)))","v":""},{"$f":"IF(ISERROR(Q89/Y89),\"\",IF(Q89/Y89<=OUTLIERS!$H$3,\"\",IF(Q89/Y89>=OUTLIERS!$H$4,\"\",Q89/Y89)))","v":""},{"$f":"IF(ISERROR(W89),\"\",IF(W89<=OUTLIERS!$I$3,\"\",IF(W89>=OUTLIERS!$I$4,\"\",W89)))","v":0.3},38540000,38540000,0,4500000,"",120000,"n/a","n/a","n/a",120000,0.3,4671758,81339988]
[89,"XFIPID020A","FIP","WorldBank","Cross-cutting",{"$f":"IF(ISERROR(P90/(M90*S90)),\"\",IF((P90/(M90*S90))<=OUTLIERS!$C$3,\"\",IF((P90/(M90*S90))>=OUTLIERS!$C$4,\"\",P90/(M90*S90))))","v":""},{"$f":"IF(ISERROR(Q90/($M90*T90)),\"\",IF((Q90/($M90*T90))<=OUTLIERS!$D$3,\"\",IF((Q90/($M90*T90))>=OUTLIERS!$D$4,\"\",Q90/($M90*T90))))","v":""},{"$f":"IF(ISERROR((M90*S90)/P90),\"\",IF((M90*S90/P90)<=OUTLIERS!$E$3,\"\",IF((M90*S90/P90)>=OUTLIERS!$E$4,\"\",M90*S90/P90)))","v":""},{"$f":"IF(ISERROR(O90/N90),\"\",IF(O90/N90<=OUTLIERS!$F$3,\"\",IF(O90/N90>=OUTLIERS!$F$4,\"\",O90/N90)))","v":0.26925119490175253},{"$f":"IF(ISERROR(U90/X90),\"\",IF(U90/X90<=OUTLIERS!$G$3,\"\",IF(U90/X90>=OUTLIERS!$G$4,\"\",U90/X90)))","v":6.893933901315068E-5},{"$f":"IF(ISERROR(Q90/Y90),\"\",IF(Q90/Y90<=OUTLIERS!$H$3,\"\",IF(Q90/Y90>=OUTLIERS!$H$4,\"\",Q90/Y90)))","v":""},{"$f":"IF(ISERROR(W90),\"\",IF(W90<=OUTLIERS!$I$3,\"\",IF(W90>=OUTLIERS!$I$4,\"\",W90)))","v":0.45},23900000,18830000,5070000,320000,"",200000,"n/a","n/a",32000,200000,0.45,464176194,263991379]
[90,"FP001","GCF","Profonanpe","Cross-cutting",{"$f":"IF(ISERROR(P91/(M91*S91)),\"\",IF((P91/(M91*S91))<=OUTLIERS!$C$3,\"\",IF((P91/(M91*S91))>=OUTLIERS!$C$4,\"\",P91/(M91*S91))))","v":0.36086717892425907},{"$f":"IF(ISERROR(Q91/($M91*T91)),\"\",IF((Q91/($M91*T91))<=OUTLIERS!$D$3,\"\",IF((Q91/($M91*T91))>=OUTLIERS!$D$4,\"\",Q91/($M91*T91))))","v":""},{"$f":"IF(ISERROR((M91*S91)/P91),\"\",IF((M91*S91/P91)<=OUTLIERS!$E$3,\"\",IF((M91*S91/P91)>=OUTLIERS!$E$4,\"\",M91*S91/P91)))","v":2.7711026615969581},{"$f":"IF(ISERROR(O91/N91),\"\",IF(O91/N91<=OUTLIERS!$F$3,\"\",IF(O91/N91>=OUTLIERS!$F$4,\"\",O91/N91)))","v":0.45993589743589741},{"$f":"IF(ISERROR(U91/X91),\"\",IF(U91/X91<=OUTLIERS!$G$3,\"\",IF(U91/X91>=OUTLIERS!$G$4,\"\",U91/X91)))","v":4.2108709593818416E-3},{"$f":"IF(ISERROR(Q91/Y91),\"\",IF(Q91/Y91<=OUTLIERS!$H$3,\"\",IF(Q91/Y91>=OUTLIERS!$H$4,\"\",Q91/Y91)))","v":""},{"$f":"IF(ISERROR(W91),\"\",IF(W91<=OUTLIERS!$I$3,\"\",IF(W91>=OUTLIERS!$I$4,\"\",W91)))","v":0.5},9110000,6240000,2870000,2630000,"",61239,0.8,0.2,260000,61239,0.5,61744946,32165485]
[91,"FP002","GCF","UNDP","Adaptation",{"$f":"IF(ISERROR(P92/(M92*S92)),\"\",IF((P92/(M92*S92))<=OUTLIERS!$C$3,\"\",IF((P92/(M92*S92))>=OUTLIERS!$C$4,\"\",P92/(M92*S92))))","v":""},{"$f":"IF(ISERROR(Q92/($M92*T92)),\"\",IF((Q92/($M92*T92))<=OUTLIERS!$D$3,\"\",IF((Q92/($M92*T92))>=OUTLIERS!$D$4,\"\",Q92/($M92*T92))))","v":0.12911520119376227},{"$f":"IF(ISERROR((M92*S92)/P92),\"\",IF((M92*S92/P92)<=OUTLIERS!$E$3,\"\",IF((M92*S92/P92)>=OUTLIERS!$E$4,\"\",M92*S92/P92)))","v":""},{"$f":"IF(ISERROR(O92/N92),\"\",IF(O92/N92<=OUTLIERS!$F$3,\"\",IF(O92/N92>=OUTLIERS!$F$4,\"\",O92/N92)))","v":0.32290743577741188},{"$f":"IF(ISERROR(U92/X92),\"\",IF(U92/X92<=OUTLIERS!$G$3,\"\",IF(U92/X92>=OUTLIERS!$G$4,\"\",U92/X92)))","v":0},{"$f":"IF(ISERROR(Q92/Y92),\"\",IF(Q92/Y92<=OUTLIERS!$H$3,\"\",IF(Q92/Y92>=OUTLIERS!$H$4,\"\",Q92/Y92)))","v":0.11276921232960573},{"$f":"IF(ISERROR(W92),\"\",IF(W92<=OUTLIERS!$I$3,\"\",IF(W92>=OUTLIERS!$I$4,\"\",W92)))","v":0.5},16264545,12294545,3970000,"n/a",2100000,2100000,0,1,0,2100000,0.5,1276116,18622104]
[92,"FP003","GCF","CSE","Adaptation",{"$f":"IF(ISERROR(P93/(M93*S93)),\"\",IF((P93/(M93*S93))<=OUTLIERS!$C$3,\"\",IF((P93/(M93*S93))>=OUTLIERS!$C$4,\"\",P93/(M93*S93))))","v":""},{"$f":"IF(ISERROR(Q93/($M93*T93)),\"\",IF((Q93/($M93*T93))<=OUTLIERS!$D$3,\"\",IF((Q93/($M93*T93))>=OUTLIERS!$D$4,\"\",Q93/($M93*T93))))","v":1.5915154487493869E-2},{"$f":"IF(ISERROR((M93*S93)/P93),\"\",IF((M93*S93/P93)<=OUTLIERS!$E$3,\"\",IF((M93*S93/P93)>=OUTLIERS!$E$4,\"\",M93*S93/P93)))","v":""},{"$f":"IF(ISERROR(O93/N93),\"\",IF(O93/N93<=OUTLIERS!$F$3,\"\",IF(O93/N93>=OUTLIERS!$F$4,\"\",O93/N93)))","v":7.1747700394218128E-2},{"$f":"IF(ISERROR(U93/X93),\"\",IF(U93/X93<=OUTLIERS!$G$3,\"\",IF(U93/X93>=OUTLIERS!$G$4,\"\",U93/X93)))","v":""},{"$f":"IF(ISERROR(Q93/Y93),\"\",IF(Q93/Y93<=OUTLIERS!$H$3,\"\",IF(Q93/Y93>=OUTLIERS!$H$4,\"\",Q93/Y93)))","v":8.1892338614763752E-3},{"$f":"IF(ISERROR(W93),\"\",IF(W93<=OUTLIERS!$I$3,\"\",IF(W93>=OUTLIERS!$I$4,\"\",W93)))","v":0.5},8156000,7610000,546000,"n/a",129804,129804,0,1,"n/a",129804,0.5,8855805,15850567]
[93,"FP004","GCF","KfW","Adaptation",{"$f":"IF(ISERROR(P94/(M94*S94)),\"\",IF((P94/(M94*S94))<=OUTLIERS!$C$3,\"\",IF((P94/(M94*S94))>=OUTLIERS!$C$4,\"\",P94/(M94*S94))))","v":""},{"$f":"IF(ISERROR(Q94/($M94*T94)),\"\",IF((Q94/($M94*T94))<=OUTLIERS!$D$3,\"\",IF((Q94/($M94*T94))>=OUTLIERS!$D$4,\"\",Q94/($M94*T94))))","v":0.13005129534638246},{"$f":"IF(ISERROR((M94*S94)/P94),\"\",IF((M94*S94/P94)<=OUTLIERS!$E$3,\"\",IF((M94*S94/P94)>=OUTLIERS!$E$4,\"\",M94*S94/P94)))","v":""},{"$f":"IF(ISERROR(O94/N94),\"\",IF(O94/N94<=OUTLIERS!$F$3,\"\",IF(O94/N94>=OUTLIERS!$F$4,\"\",O94/N94)))","v":1.0250375},{"$f":"IF(ISERROR(U94/X94),\"\",IF(U94/X94<=OUTLIERS!$G$3,\"\",IF(U94/X94>=OUTLIERS!$G$4,\"\",U94/X94)))","v":0},{"$f":"IF(ISERROR(Q94/Y94),\"\",IF(Q94/Y94<=OUTLIERS!$H$3,\"\",IF(Q94/Y94>=OUTLIERS!$H$4,\"\",Q94/Y94)))","v":6.397258716933385E-2},{"$f":"IF(ISERROR(W94),\"\",IF(W94<=OUTLIERS!$I$3,\"\",IF(W94>=OUTLIERS!$I$4,\"\",W94)))","v":0.5},81001500,40000000,41001500,"n/a",10534350,10534350,0,1,0,10534350,0.5,73189653,164669751]
[94,"FP005","GCF","Acumen","Cross-cutting",{"$f":"IF(ISERROR(P95/(M95*S95)),\"\",IF((P95/(M95*S95))<=OUTLIERS!$C$3,\"\",IF((P95/(M95*S95))>=OUTLIERS!$C$4,\"\",P95/(M95*S95))))","v":1.6042780748663103E-2},{"$f":"IF(ISERROR(Q95/($M95*T95)),\"\",IF((Q95/($M95*T95))<=OUTLIERS!$D$3,\"\",IF((Q95/($M95*T95))>=OUTLIERS!$D$4,\"\",Q95/($M95*T95))))","v":""},{"$f":"IF(ISERROR((M95*S95)/P95),\"\",IF((M95*S95/P95)<=OUTLIERS!$E$3,\"\",IF((M95*S95/P95)>=OUTLIERS!$E$4,\"\",M95*S95/P95)))","v":62.333333333333336},{"$f":"IF(ISERROR(O95/N95),\"\",IF(O95/N95<=OUTLIERS!$F$3,\"\",IF(O95/N95>=OUTLIERS!$F$4,\"\",O95/N95)))","v":3.4},{"$f":"IF(ISERROR(U95/X95),\"\",IF(U95/X95<=OUTLIERS!$G$3,\"\",IF(U95/X95>=OUTLIERS!$G$4,\"\",U95/X95)))","v":1.652742312682318E-2},{"$f":"IF(ISERROR(Q95/Y95),\"\",IF(Q95/Y95<=OUTLIERS!$H$3,\"\",IF(Q95/Y95>=OUTLIERS!$H$4,\"\",Q95/Y95)))","v":""},{"$f":"IF(ISERROR(W95),\"\",IF(W95<=OUTLIERS!$I$3,\"\",IF(W95>=OUTLIERS!$I$4,\"\",W95)))","v":""},110000000,25000000,85000000,1500000,"",15000000,0.85,0.15,125000,15000000,"n/a",7563187.5,30954134.5]
[95,"FP006","GCF","IDB","Mitigation",{"$f":"IF(ISERROR(P96/(M96*S96)),\"\",IF((P96/(M96*S96))<=OUTLIERS!$C$3,\"\",IF((P96/(M96*S96))>=OUTLIERS!$C$4,\"\",P96/(M96*S96))))","v":7.1544715447154475E-2},{"$f":"IF(ISERROR(Q96/($M96*T96)),\"\",IF((Q96/($M96*T96))<=OUTLIERS!$D$3,\"\",IF((Q96/($M96*T96))>=OUTLIERS!$D$4,\"\",Q96/($M96*T96))))","v":""},{"$f":"IF(ISERROR((M96*S96)/P96),\"\",IF((M96*S96/P96)<=OUTLIERS!$E$3,\"\",IF((M96*S96/P96)>=OUTLIERS!$E$4,\"\",M96*S96/P96)))","v":13.977272727272727},{"$f":"IF(ISERROR(O96/N96),\"\",IF(O96/N96<=OUTLIERS!$F$3,\"\",IF(O96/N96>=OUTLIERS!$F$4,\"\",O96/N96)))","v":7.3863636363636367},{"$f":"IF(ISERROR(U96/X96),\"\",IF(U96/X96<=OUTLIERS!$G$3,\"\",IF(U96/X96>=OUTLIERS!$G$4,\"\",U96/X96)))","v":4.5807503913361082E-3},{"$f":"IF(ISERROR(Q96/Y96),\"\",IF(Q96/Y96<=OUTLIERS!$H$3,\"\",IF(Q96/Y96>=OUTLIERS!$H$4,\"\",Q96/Y96)))","v":""},{"$f":"IF(ISERROR(W96),\"\",IF(W96<=OUTLIERS!$I$3,\"\",IF(W96>=OUTLIERS!$I$4,\"\",W96)))","v":""},184500000,22000000,162500000,13200000,"","",1,0,2200000,"n/a","n/a",480270657,129163276]
[96,"FP007","GCF","UNDP","Adaptation",{"$f":"IF(ISERROR(P97/(M97*S97)),\"\",IF((P97/(M97*S97))<=OUTLIERS!$C$3,\"\",IF((P97/(M97*S97))>=OUTLIERS!$C$4,\"\",P97/(M97*S97))))","v":""},{"$f":"IF(ISERROR(Q97/($M97*T97)),\"\",IF((Q97/($M97*T97))<=OUTLIERS!$D$3,\"\",IF((Q97/($M97*T97))>=OUTLIERS!$D$4,\"\",Q97/($M97*T97))))","v":3.7195311945391329E-3},{"$f":"IF(ISERROR((M97*S97)/P97),\"\",IF((M97*S97/P97)<=OUTLIERS!$E$3,\"\",IF((M97*S97/P97)>=OUTLIERS!$E$4,\"\",M97*S97/P97)))","v":""},{"$f":"IF(ISERROR(O97/N97),\"\",IF(O97/N97<=OUTLIERS!$F$3,\"\",IF(O97/N97>=OUTLIERS!$F$4,\"\",O97/N97)))","v":0.1943192277797042},{"$f":"IF(ISERROR(U97/X97),\"\",IF(U97/X97<=OUTLIERS!$G$3,\"\",IF(U97/X97>=OUTLIERS!$G$4,\"\",U97/X97)))","v":""},{"$f":"IF(ISERROR(Q97/Y97),\"\",IF(Q97/Y97<=OUTLIERS!$H$3,\"\",IF(Q97/Y97>=OUTLIERS!$H$4,\"\",Q97/Y97)))","v":0.24064354960694886},{"$f":"IF(ISERROR(W97),\"\",IF(W97<=OUTLIERS!$I$3,\"\",IF(W97>=OUTLIERS!$I$4,\"\",W97)))","v":0.59191428571428573},28229364,23636364,4593000,"n/a",105000,105000,0,1,"n/a",105000,0.59191428571428573,1334788,436330]
[97,"FP008","GCF","ADB","Adaptation",{"$f":"IF(ISERROR(P98/(M98*S98)),\"\",IF((P98/(M98*S98))<=OUTLIERS!$C$3,\"\",IF((P98/(M98*S98))>=OUTLIERS!$C$4,\"\",P98/(M98*S98))))","v":""},{"$f":"IF(ISERROR(Q98/($M98*T98)),\"\",IF((Q98/($M98*T98))<=OUTLIERS!$D$3,\"\",IF((Q98/($M98*T98))>=OUTLIERS!$D$4,\"\",Q98/($M98*T98))))","v":7.1790985832058049E-4},{"$f":"IF(ISERROR((M98*S98)/P98),\"\",IF((M98*S98/P98)<=OUTLIERS!$E$3,\"\",IF((M98*S98/P98)>=OUTLIERS!$E$4,\"\",M98*S98/P98)))","v":""},{"$f":"IF(ISERROR(O98/N98),\"\",IF(O98/N98<=OUTLIERS!$F$3,\"\",IF(O98/N98>=OUTLIERS!$F$4,\"\",O98/N98)))","v":12.052190721649485},{"$f":"IF(ISERROR(U98/X98),\"\",IF(U98/X98<=OUTLIERS!$G$3,\"\",IF(U98/X98>=OUTLIERS!$G$4,\"\",U98/X98)))","v":0},{"$f":"IF(ISERROR(Q98/Y98),\"\",IF(Q98/Y98<=OUTLIERS!$H$3,\"\",IF(Q98/Y98>=OUTLIERS!$H$4,\"\",Q98/Y98)))","v":0.32120746282172763},{"$f":"IF(ISERROR(W98),\"\",IF(W98<=OUTLIERS!$I$3,\"\",IF(W98>=OUTLIERS!$I$4,\"\",W98)))","v":""},405140000,31040000,374100000,"n/a",290854,290854,0,1,0,290854,"n/a",1169773,905502]
[98,"FP009","GCF","IDB","Mitigation",{"$f":"IF(ISERROR(P99/(M99*S99)),\"\",IF((P99/(M99*S99))<=OUTLIERS!$C$3,\"\",IF((P99/(M99*S99))>=OUTLIERS!$C$4,\"\",P99/(M99*S99))))","v":1.347810551558753E-2},{"$f":"IF(ISERROR(Q99/($M99*T99)),\"\",IF((Q99/($M99*T99))<=OUTLIERS!$D$3,\"\",IF((Q99/($M99*T99))>=OUTLIERS!$D$4,\"\",Q99/($M99*T99))))","v":""},{"$f":"IF(ISERROR((M99*S99)/P99),\"\",IF((M99*S99/P99)<=OUTLIERS!$E$3,\"\",IF((M99*S99/P99)>=OUTLIERS!$E$4,\"\",M99*S99/P99)))","v":74.194403571295126},{"$f":"IF(ISERROR(O99/N99),\"\",IF(O99/N99<=OUTLIERS!$F$3,\"\",IF(O99/N99>=OUTLIERS!$F$4,\"\",O99/N99)))","v":0.92165898617511521},{"$f":"IF(ISERROR(U99/X99),\"\",IF(U99/X99<=OUTLIERS!$G$3,\"\",IF(U99/X99>=OUTLIERS!$G$4,\"\",U99/X99)))","v":5.9614289864600191E-3},{"$f":"IF(ISERROR(Q99/Y99),\"\",IF(Q99/Y99<=OUTLIERS!$H$3,\"\",IF(Q99/Y99>=OUTLIERS!$H$4,\"\",Q99/Y99)))","v":""},{"$f":"IF(ISERROR(W99),\"\",IF(W99<=OUTLIERS!$I$3,\"\",IF(W99>=OUTLIERS!$I$4,\"\",W99)))","v":""},41700000,21700000,20000000,562037,"","",1,0,37469,"n/a","n/a",6285238,6377853]
[99,"FP010","GCF","UNDP","Mitigation",{"$f":"IF(ISERROR(P100/(M100*S100)),\"\",IF((P100/(M100*S100))<=OUTLIERS!$C$3,\"\",IF((P100/(M100*S100))>=OUTLIERS!$C$4,\"\",P100/(M100*S100))))","v":1.1972749203067115E-2},{"$f":"IF(ISERROR(Q100/($M100*T100)),\"\",IF((Q100/($M100*T100))<=OUTLIERS!$D$3,\"\",IF((Q100/($M100*T100))>=OUTLIERS!$D$4,\"\",Q100/($M100*T100))))","v":""},{"$f":"IF(ISERROR((M100*S100)/P100),\"\",IF((M100*S100/P100)<=OUTLIERS!$E$3,\"\",IF((M100*S100/P100)>=OUTLIERS!$E$4,\"\",M100*S100/P100)))","v":83.52300570564239},{"$f":"IF(ISERROR(O100/N100),\"\",IF(O100/N100<=OUTLIERS!$F$3,\"\",IF(O100/N100>=OUTLIERS!$F$4,\"\",O100/N100)))","v":4.8034999999999997},{"$f":"IF(ISERROR(U100/X100),\"\",IF(U100/X100<=OUTLIERS!$G$3,\"\",IF(U100/X100>=OUTLIERS!$G$4,\"\",U100/X100)))","v":1.2565291267227455E-2},{"$f":"IF(ISERROR(Q100/Y100),\"\",IF(Q100/Y100<=OUTLIERS!$H$3,\"\",IF(Q100/Y100>=OUTLIERS!$H$4,\"\",Q100/Y100)))","v":""},{"$f":"IF(ISERROR(W100),\"\",IF(W100<=OUTLIERS!$I$3,\"\",IF(W100>=OUTLIERS!$I$4,\"\",W100)))","v":0.62369172216936253},116070000,20000000,96070000,1389677,"",210200,1,0,69484,210200,0.62369172216936253,5529836,2930450]
[100,"FP011","GCF","UNEP","Adaptation",{"$f":"IF(ISERROR(P101/(M101*S101)),\"\",IF((P101/(M101*S101))<=OUTLIERS!$C$3,\"\",IF((P101/(M101*S101))>=OUTLIERS!$C$4,\"\",P101/(M101*S101))))","v":""},{"$f":"IF(ISERROR(Q101/($M101*T101)),\"\",IF((Q101/($M101*T101))<=OUTLIERS!$D$3,\"\",IF((Q101/($M101*T101))>=OUTLIERS!$D$4,\"\",Q101/($M101*T101))))","v":2.2628098251947083E-3},{"$f":"IF(ISERROR((M101*S101)/P101),\"\",IF((M101*S101/P101)<=OUTLIERS!$E$3,\"\",IF((M101*S101/P101)>=OUTLIERS!$E$4,\"\",M101*S101/P101)))","v":""},{"$f":"IF(ISERROR(O101/N101),\"\",IF(O101/N101<=OUTLIERS!$F$3,\"\",IF(O101/N101>=OUTLIERS!$F$4,\"\",O101/N101)))","v":0.24211174747001424},{"$f":"IF(ISERROR(U101/X101),\"\",IF(U101/X101<=OUTLIERS!$G$3,\"\",IF(U101/X101>=OUTLIERS!$G$4,\"\",U101/X101)))","v":0},{"$f":"IF(ISERROR(Q101/Y101),\"\",IF(Q101/Y101<=OUTLIERS!$H$3,\"\",IF(Q101/Y101>=OUTLIERS!$H$4,\"\",Q101/Y101)))","v":2.7492563916045563E-2},{"$f":"IF(ISERROR(W101),\"\",IF(W101<=OUTLIERS!$I$3,\"\",IF(W101>=OUTLIERS!$I$4,\"\",W101)))","v":0.5},25521367,20546756,4974611,"n/a",57750,57750,0,1,0,57750,0.5,513380,2100568]
[101,"FP012","GCF","WorldBank","Adaptation",{"$f":"IF(ISERROR(P102/(M102*S102)),\"\",IF((P102/(M102*S102))<=OUTLIERS!$C$3,\"\",IF((P102/(M102*S102))>=OUTLIERS!$C$4,\"\",P102/(M102*S102))))","v":""},{"$f":"IF(ISERROR(Q102/($M102*T102)),\"\",IF((Q102/($M102*T102))<=OUTLIERS!$D$3,\"\",IF((Q102/($M102*T102))>=OUTLIERS!$D$4,\"\",Q102/($M102*T102))))","v":0.19449541284403671},{"$f":"IF(ISERROR((M102*S102)/P102),\"\",IF((M102*S102/P102)<=OUTLIERS!$E$3,\"\",IF((M102*S102/P102)>=OUTLIERS!$E$4,\"\",M102*S102/P102)))","v":""},{"$f":"IF(ISERROR(O102/N102),\"\",IF(O102/N102<=OUTLIERS!$F$3,\"\",IF(O102/N102>=OUTLIERS!$F$4,\"\",O102/N102)))","v":0.19780219780219779},{"$f":"IF(ISERROR(U102/X102),\"\",IF(U102/X102<=OUTLIERS!$G$3,\"\",IF(U102/X102>=OUTLIERS!$G$4,\"\",U102/X102)))","v":""},{"$f":"IF(ISERROR(Q102/Y102),\"\",IF(Q102/Y102<=OUTLIERS!$H$3,\"\",IF(Q102/Y102>=OUTLIERS!$H$4,\"\",Q102/Y102)))","v":0.28583786629043934},{"$f":"IF(ISERROR(W102),\"\",IF(W102<=OUTLIERS!$I$3,\"\",IF(W102>=OUTLIERS!$I$4,\"\",W102)))","v":0.5},27250000,22750000,4500000,"n/a",5300000,5300000,0,1,"n/a",5300000,0.5,1411795,18541980]
[102,"FP013","GCF","UNDP","Cross-cutting",{"$f":"IF(ISERROR(P103/(M103*S103)),\"\",IF((P103/(M103*S103))<=OUTLIERS!$C$3,\"\",IF((P103/(M103*S103))>=OUTLIERS!$C$4,\"\",P103/(M103*S103))))","v":0.20868236954618213},{"$f":"IF(ISERROR(Q103/($M103*T103)),\"\",IF((Q103/($M103*T103))<=OUTLIERS!$D$3,\"\",IF((Q103/($M103*T103))>=OUTLIERS!$D$4,\"\",Q103/($M103*T103))))","v":""},{"$f":"IF(ISERROR((M103*S103)/P103),\"\",IF((M103*S103/P103)<=OUTLIERS!$E$3,\"\",IF((M103*S103/P103)>=OUTLIERS!$E$4,\"\",M103*S103/P103)))","v":4.7919716561331098},{"$f":"IF(ISERROR(O103/N103),\"\",IF(O103/N103<=OUTLIERS!$F$3,\"\",IF(O103/N103>=OUTLIERS!$F$4,\"\",O103/N103)))","v":0.37281526267655724},{"$f":"IF(ISERROR(U103/X103),\"\",IF(U103/X103<=OUTLIERS!$G$3,\"\",IF(U103/X103>=OUTLIERS!$G$4,\"\",U103/X103)))","v":5.5739939094069256E-4},{"$f":"IF(ISERROR(Q103/Y103),\"\",IF(Q103/Y103<=OUTLIERS!$H$3,\"\",IF(Q103/Y103>=OUTLIERS!$H$4,\"\",Q103/Y103)))","v":""},{"$f":"IF(ISERROR(W103),\"\",IF(W103<=OUTLIERS!$I$3,\"\",IF(W103>=OUTLIERS!$I$4,\"\",W103)))","v":0.6},40529625,29523000,11006625,1860720,"",30020000,0.22,0.78,93036,30020000,0.6,166910839,95540800]
[103,"FP014","GCF","WorldBank","Adaptation",{"$f":"IF(ISERROR(P104/(M104*S104)),\"\",IF((P104/(M104*S104))<=OUTLIERS!$C$3,\"\",IF((P104/(M104*S104))>=OUTLIERS!$C$4,\"\",P104/(M104*S104))))","v":""},{"$f":"IF(ISERROR(Q104/($M104*T104)),\"\",IF((Q104/($M104*T104))<=OUTLIERS!$D$3,\"\",IF((Q104/($M104*T104))>=OUTLIERS!$D$4,\"\",Q104/($M104*T104))))","v":2.9805175923233499E-3},{"$f":"IF(ISERROR((M104*S104)/P104),\"\",IF((M104*S104/P104)<=OUTLIERS!$E$3,\"\",IF((M104*S104/P104)>=OUTLIERS!$E$4,\"\",M104*S104/P104)))","v":""},{"$f":"IF(ISERROR(O104/N104),\"\",IF(O104/N104<=OUTLIERS!$F$3,\"\",IF(O104/N104>=OUTLIERS!$F$4,\"\",O104/N104)))","v":2.62},{"$f":"IF(ISERROR(U104/X104),\"\",IF(U104/X104<=OUTLIERS!$G$3,\"\",IF(U104/X104>=OUTLIERS!$G$4,\"\",U104/X104)))","v":0},{"$f":"IF(ISERROR(Q104/Y104),\"\",IF(Q104/Y104<=OUTLIERS!$H$3,\"\",IF(Q104/Y104>=OUTLIERS!$H$4,\"\",Q104/Y104)))","v":9.9253077020896134E-3},{"$f":"IF(ISERROR(W104),\"\",IF(W104<=OUTLIERS!$I$3,\"\",IF(W104>=OUTLIERS!$I$4,\"\",W104)))","v":0.4},68780000,19000000,49780000,"n/a",205000,205000,0,1,0,205000,0.4,55201184.5,20654271.5]
[104,"FP015","GCF","UNDP","Adaptation",{"$f":"IF(ISERROR(P105/(M105*S105)),\"\",IF((P105/(M105*S105))<=OUTLIERS!$C$3,\"\",IF((P105/(M105*S105))>=OUTLIERS!$C$4,\"\",P105/(M105*S105))))","v":""},{"$f":"IF(ISERROR(Q105/($M105*T105)),\"\",IF((Q105/($M105*T105))<=OUTLIERS!$D$3,\"\",IF((Q105/($M105*T105))>=OUTLIERS!$D$4,\"\",Q105/($M105*T105))))","v":""},{"$f":"IF(ISERROR((M105*S105)/P105),\"\",IF((M105*S105/P105)<=OUTLIERS!$E$3,\"\",IF((M105*S105/P105)>=OUTLIERS!$E$4,\"\",M105*S105/P105)))","v":""},{"$f":"IF(ISERROR(O105/N105),\"\",IF(O105/N105<=OUTLIERS!$F$3,\"\",IF(O105/N105>=OUTLIERS!$F$4,\"\",O105/N105)))","v":7.9422382671480149E-2},{"$f":"IF(ISERROR(U105/X105),\"\",IF(U105/X105<=OUTLIERS!$G$3,\"\",IF(U105/X105>=OUTLIERS!$G$4,\"\",U105/X105)))","v":0},{"$f":"IF(ISERROR(Q105/Y105),\"\",IF(Q105/Y105<=OUTLIERS!$H$3,\"\",IF(Q105/Y105>=OUTLIERS!$H$4,\"\",Q105/Y105)))","v":0.58961758398856323},{"$f":"IF(ISERROR(W105),\"\",IF(W105<=OUTLIERS!$I$3,\"\",IF(W105>=OUTLIERS!$I$4,\"\",W105)))","v":0.50612903225806449},38870000,36010000,2860000,"n/a",6599,6599,0,1,0,6599,0.50612903225806449,11001,11192]
[105,"FP016","GCF","UNDP","Adaptation",{"$f":"IF(ISERROR(P106/(M106*S106)),\"\",IF((P106/(M106*S106))<=OUTLIERS!$C$3,\"\",IF((P106/(M106*S106))>=OUTLIERS!$C$4,\"\",P106/(M106*S106))))","v":""},{"$f":"IF(ISERROR(Q106/($M106*T106)),\"\",IF((Q106/($M106*T106))<=OUTLIERS!$D$3,\"\",IF((Q106/($M106*T106))>=OUTLIERS!$D$4,\"\",Q106/($M106*T106))))","v":3.7446701482221026E-2},{"$f":"IF(ISERROR((M106*S106)/P106),\"\",IF((M106*S106/P106)<=OUTLIERS!$E$3,\"\",IF((M106*S106/P106)>=OUTLIERS!$E$4,\"\",M106*S106/P106)))","v":""},{"$f":"IF(ISERROR(O106/N106),\"\",IF(O106/N106<=OUTLIERS!$F$3,\"\",IF(O106/N106>=OUTLIERS!$F$4,\"\",O106/N106)))","v":0.3676084444911249},{"$f":"IF(ISERROR(U106/X106),\"\",IF(U106/X106<=OUTLIERS!$G$3,\"\",IF(U106/X106>=OUTLIERS!$G$4,\"\",U106/X106)))","v":0},{"$f":"IF(ISERROR(Q106/Y106),\"\",IF(Q106/Y106<=OUTLIERS!$H$3,\"\",IF(Q106/Y106>=OUTLIERS!$H$4,\"\",Q106/Y106)))","v":9.0951967916433507E-2},{"$f":"IF(ISERROR(W106),\"\",IF(W106<=OUTLIERS!$I$3,\"\",IF(W106>=OUTLIERS!$I$4,\"\",W106)))","v":0.51},52084000,38084000,14000000,"n/a",1950374,1950374,0,1,0,1950374,0.51,18393672,21444000]
[106,"FP017","GCF","CAF","Mitigation",{"$f":"IF(ISERROR(P107/(M107*S107)),\"\",IF((P107/(M107*S107))<=OUTLIERS!$C$3,\"\",IF((P107/(M107*S107))>=OUTLIERS!$C$4,\"\",P107/(M107*S107))))","v":2.0427856353591161E-2},{"$f":"IF(ISERROR(Q107/($M107*T107)),\"\",IF((Q107/($M107*T107))<=OUTLIERS!$D$3,\"\",IF((Q107/($M107*T107))>=OUTLIERS!$D$4,\"\",Q107/($M107*T107))))","v":""},{"$f":"IF(ISERROR((M107*S107)/P107),\"\",IF((M107*S107/P107)<=OUTLIERS!$E$3,\"\",IF((M107*S107/P107)>=OUTLIERS!$E$4,\"\",M107*S107/P107)))","v":48.952762477410062},{"$f":"IF(ISERROR(O107/N107),\"\",IF(O107/N107<=OUTLIERS!$F$3,\"\",IF(O107/N107>=OUTLIERS!$F$4,\"\",O107/N107)))","v":3.641025641025641},{"$f":"IF(ISERROR(U107/X107),\"\",IF(U107/X107<=OUTLIERS!$G$3,\"\",IF(U107/X107>=OUTLIERS!$G$4,\"\",U107/X107)))","v":2.2391762459242244E-3},{"$f":"IF(ISERROR(Q107/Y107),\"\",IF(Q107/Y107<=OUTLIERS!$H$3,\"\",IF(Q107/Y107>=OUTLIERS!$H$4,\"\",Q107/Y107)))","v":""},{"$f":"IF(ISERROR(W107),\"\",IF(W107<=OUTLIERS!$I$3,\"\",IF(W107>=OUTLIERS!$I$4,\"\",W107)))","v":""},181000000,39000000,142000000,3697442,"","",1,0,184872,"n/a","n/a",82562505,18054726]
[107,"FP018","GCF","UNDP","Adaptation",{"$f":"IF(ISERROR(P108/(M108*S108)),\"\",IF((P108/(M108*S108))<=OUTLIERS!$C$3,\"\",IF((P108/(M108*S108))>=OUTLIERS!$C$4,\"\",P108/(M108*S108))))","v":""},{"$f":"IF(ISERROR(Q108/($M108*T108)),\"\",IF((Q108/($M108*T108))<=OUTLIERS!$D$3,\"\",IF((Q108/($M108*T108))>=OUTLIERS!$D$4,\"\",Q108/($M108*T108))))","v":0.78037907100907633},{"$f":"IF(ISERROR((M108*S108)/P108),\"\",IF((M108*S108/P108)<=OUTLIERS!$E$3,\"\",IF((M108*S108/P108)>=OUTLIERS!$E$4,\"\",M108*S108/P108)))","v":""},{"$f":"IF(ISERROR(O108/N108),\"\",IF(O108/N108<=OUTLIERS!$F$3,\"\",IF(O108/N108>=OUTLIERS!$F$4,\"\",O108/N108)))","v":1.3528138528138528E-2},{"$f":"IF(ISERROR(U108/X108),\"\",IF(U108/X108<=OUTLIERS!$G$3,\"\",IF(U108/X108>=OUTLIERS!$G$4,\"\",U108/X108)))","v":0},{"$f":"IF(ISERROR(Q108/Y108),\"\",IF(Q108/Y108<=OUTLIERS!$H$3,\"\",IF(Q108/Y108>=OUTLIERS!$H$4,\"\",Q108/Y108)))","v":0.14837884576403976},{"$f":"IF(ISERROR(W108),\"\",IF(W108<=OUTLIERS!$I$3,\"\",IF(W108>=OUTLIERS!$I$4,\"\",W108)))","v":0.5},37460000,36960000,500000,"n/a",29233000,29233000,0,1,0,29233000,0.5,166298450,197015955]
[108,"FP019","GCF","UNDP","Mitigation",{"$f":"IF(ISERROR(P109/(M109*S109)),\"\",IF((P109/(M109*S109))<=OUTLIERS!$C$3,\"\",IF((P109/(M109*S109))>=OUTLIERS!$C$4,\"\",P109/(M109*S109))))","v":0.17855304823561793},{"$f":"IF(ISERROR(Q109/($M109*T109)),\"\",IF((Q109/($M109*T109))<=OUTLIERS!$D$3,\"\",IF((Q109/($M109*T109))>=OUTLIERS!$D$4,\"\",Q109/($M109*T109))))","v":""},{"$f":"IF(ISERROR((M109*S109)/P109),\"\",IF((M109*S109/P109)<=OUTLIERS!$E$3,\"\",IF((M109*S109/P109)>=OUTLIERS!$E$4,\"\",M109*S109/P109)))","v":5.6005764666666664},{"$f":"IF(ISERROR(O109/N109),\"\",IF(O109/N109<=OUTLIERS!$F$3,\"\",IF(O109/N109>=OUTLIERS!$F$4,\"\",O109/N109)))","v":1.0403949079025323},{"$f":"IF(ISERROR(U109/X109),\"\",IF(U109/X109<=OUTLIERS!$G$3,\"\",IF(U109/X109>=OUTLIERS!$G$4,\"\",U109/X109)))","v":6.8306541268911031E-2},{"$f":"IF(ISERROR(Q109/Y109),\"\",IF(Q109/Y109<=OUTLIERS!$H$3,\"\",IF(Q109/Y109>=OUTLIERS!$H$4,\"\",Q109/Y109)))","v":""},{"$f":"IF(ISERROR(W109),\"\",IF(W109<=OUTLIERS!$I$3,\"\",IF(W109>=OUTLIERS!$I$4,\"\",W109)))","v":""},84008647,41172739,42835908,15000000,"",450000,1,0,3000000,450000,"n/a",43919659,16624858]
[109,"FP020","GCF","IDB","Mitigation",{"$f":"IF(ISERROR(P110/(M110*S110)),\"\",IF((P110/(M110*S110))<=OUTLIERS!$C$3,\"\",IF((P110/(M110*S110))>=OUTLIERS!$C$4,\"\",P110/(M110*S110))))","v":4.9365882982968269E-2},{"$f":"IF(ISERROR(Q110/($M110*T110)),\"\",IF((Q110/($M110*T110))<=OUTLIERS!$D$3,\"\",IF((Q110/($M110*T110))>=OUTLIERS!$D$4,\"\",Q110/($M110*T110))))","v":""},{"$f":"IF(ISERROR((M110*S110)/P110),\"\",IF((M110*S110/P110)<=OUTLIERS!$E$3,\"\",IF((M110*S110/P110)>=OUTLIERS!$E$4,\"\",M110*S110/P110)))","v":20.256904962988511},{"$f":"IF(ISERROR(O110/N110),\"\",IF(O110/N110<=OUTLIERS!$F$3,\"\",IF(O110/N110>=OUTLIERS!$F$4,\"\",O110/N110)))","v":1.3808499999999999},{"$f":"IF(ISERROR(U110/X110),\"\",IF(U110/X110<=OUTLIERS!$G$3,\"\",IF(U110/X110>=OUTLIERS!$G$4,\"\",U110/X110)))","v":""},{"$f":"IF(ISERROR(Q110/Y110),\"\",IF(Q110/Y110<=OUTLIERS!$H$3,\"\",IF(Q110/Y110>=OUTLIERS!$H$4,\"\",Q110/Y110)))","v":""},{"$f":"IF(ISERROR(W110),\"\",IF(W110<=OUTLIERS!$I$3,\"\",IF(W110>=OUTLIERS!$I$4,\"\",W110)))","v":""},190468000,80000000,110468000,9402621,"",481652,1,0,313421,481652,"n/a",244955.60000000003,105167.20000000001]
[110,"FP021","GCF","AFD","Adaptation",{"$f":"IF(ISERROR(P111/(M111*S111)),\"\",IF((P111/(M111*S111))<=OUTLIERS!$C$3,\"\",IF((P111/(M111*S111))>=OUTLIERS!$C$4,\"\",P111/(M111*S111))))","v":""},{"$f":"IF(ISERROR(Q111/($M111*T111)),\"\",IF((Q111/($M111*T111))<=OUTLIERS!$D$3,\"\",IF((Q111/($M111*T111))>=OUTLIERS!$D$4,\"\",Q111/($M111*T111))))","v":2.8104225349037046E-2},{"$f":"IF(ISERROR((M111*S111)/P111),\"\",IF((M111*S111/P111)<=OUTLIERS!$E$3,\"\",IF((M111*S111/P111)>=OUTLIERS!$E$4,\"\",M111*S111/P111)))","v":""},{"$f":"IF(ISERROR(O111/N111),\"\",IF(O111/N111<=OUTLIERS!$F$3,\"\",IF(O111/N111>=OUTLIERS!$F$4,\"\",O111/N111)))","v":3.7333333327689777},{"$f":"IF(ISERROR(U111/X111),\"\",IF(U111/X111<=OUTLIERS!$G$3,\"\",IF(U111/X111>=OUTLIERS!$G$4,\"\",U111/X111)))","v":""},{"$f":"IF(ISERROR(Q111/Y111),\"\",IF(Q111/Y111<=OUTLIERS!$H$3,\"\",IF(Q111/Y111>=OUTLIERS!$H$4,\"\",Q111/Y111)))","v":0.13879629668768315},{"$f":"IF(ISERROR(W111),\"\",IF(W111<=OUTLIERS!$I$3,\"\",IF(W111>=OUTLIERS!$I$4,\"\",W111)))","v":0.5},78280044.109999999,16538037.49,61742006.619999997,"n/a",2200000,2200000,0,1,"n/a",2200000,0.5,8855805,15850567]
[111,"FP022","GCF","ADA_Morocco","Cross-cutting",{"$f":"IF(ISERROR(P112/(M112*S112)),\"\",IF((P112/(M112*S112))<=OUTLIERS!$C$3,\"\",IF((P112/(M112*S112))>=OUTLIERS!$C$4,\"\",P112/(M112*S112))))","v":1.9191879215573075E-2},{"$f":"IF(ISERROR(Q112/($M112*T112)),\"\",IF((Q112/($M112*T112))<=OUTLIERS!$D$3,\"\",IF((Q112/($M112*T112))>=OUTLIERS!$D$4,\"\",Q112/($M112*T112))))","v":""},{"$f":"IF(ISERROR((M112*S112)/P112),\"\",IF((M112*S112/P112)<=OUTLIERS!$E$3,\"\",IF((M112*S112/P112)>=OUTLIERS!$E$4,\"\",M112*S112/P112)))","v":52.105371692239451},{"$f":"IF(ISERROR(O112/N112),\"\",IF(O112/N112<=OUTLIERS!$F$3,\"\",IF(O112/N112>=OUTLIERS!$F$4,\"\",O112/N112)))","v":0.25195583901294394},{"$f":"IF(ISERROR(U112/X112),\"\",IF(U112/X112<=OUTLIERS!$G$3,\"\",IF(U112/X112>=OUTLIERS!$G$4,\"\",U112/X112)))","v":2.168991180392483E-3},{"$f":"IF(ISERROR(Q112/Y112),\"\",IF(Q112/Y112<=OUTLIERS!$H$3,\"\",IF(Q112/Y112>=OUTLIERS!$H$4,\"\",Q112/Y112)))","v":""},{"$f":"IF(ISERROR(W112),\"\",IF(W112<=OUTLIERS!$I$3,\"\",IF(W112>=OUTLIERS!$I$4,\"\",W112)))","v":""},49192600,39292600,9900000,604223,"",26000,0.64,0.36,129844,26000,"n/a",59863775,35739580]
[112,"FP023","GCF","EIF","Adaptation",{"$f":"IF(ISERROR(P113/(M113*S113)),\"\",IF((P113/(M113*S113))<=OUTLIERS!$C$3,\"\",IF((P113/(M113*S113))>=OUTLIERS!$C$4,\"\",P113/(M113*S113))))","v":""},{"$f":"IF(ISERROR(Q113/($M113*T113)),\"\",IF((Q113/($M113*T113))<=OUTLIERS!$D$3,\"\",IF((Q113/($M113*T113))>=OUTLIERS!$D$4,\"\",Q113/($M113*T113))))","v":2.0999999999999999E-3},{"$f":"IF(ISERROR((M113*S113)/P113),\"\",IF((M113*S113/P113)<=OUTLIERS!$E$3,\"\",IF((M113*S113/P113)>=OUTLIERS!$E$4,\"\",M113*S113/P113)))","v":""},{"$f":"IF(ISERROR(O113/N113),\"\",IF(O113/N113<=OUTLIERS!$F$3,\"\",IF(O113/N113>=OUTLIERS!$F$4,\"\",O113/N113)))","v":5.2631578947368418E-2},{"$f":"IF(ISERROR(U113/X113),\"\",IF(U113/X113<=OUTLIERS!$G$3,\"\",IF(U113/X113>=OUTLIERS!$G$4,\"\",U113/X113)))","v":""},{"$f":"IF(ISERROR(Q113/Y113),\"\",IF(Q113/Y113<=OUTLIERS!$H$3,\"\",IF(Q113/Y113>=OUTLIERS!$H$4,\"\",Q113/Y113)))","v":8.2879665829187384E-3},{"$f":"IF(ISERROR(W113),\"\",IF(W113<=OUTLIERS!$I$3,\"\",IF(W113>=OUTLIERS!$I$4,\"\",W113)))","v":0.5},10000000,9500000,500000,"n/a",21000,21000,0,1,"n/a",21000,0.5,3755008,2533794]
[113,"FP024","GCF","EIF","Adaptation",{"$f":"IF(ISERROR(P114/(M114*S114)),\"\",IF((P114/(M114*S114))<=OUTLIERS!$C$3,\"\",IF((P114/(M114*S114))>=OUTLIERS!$C$4,\"\",P114/(M114*S114))))","v":""},{"$f":"IF(ISERROR(Q114/($M114*T114)),\"\",IF((Q114/($M114*T114))<=OUTLIERS!$D$3,\"\",IF((Q114/($M114*T114))>=OUTLIERS!$D$4,\"\",Q114/($M114*T114))))","v":7.6499999999999997E-3},{"$f":"IF(ISERROR((M114*S114)/P114),\"\",IF((M114*S114/P114)<=OUTLIERS!$E$3,\"\",IF((M114*S114/P114)>=OUTLIERS!$E$4,\"\",M114*S114/P114)))","v":""},{"$f":"IF(ISERROR(O114/N114),\"\",IF(O114/N114<=OUTLIERS!$F$3,\"\",IF(O114/N114>=OUTLIERS!$F$4,\"\",O114/N114)))","v":0},{"$f":"IF(ISERROR(U114/X114),\"\",IF(U114/X114<=OUTLIERS!$G$3,\"\",IF(U114/X114>=OUTLIERS!$G$4,\"\",U114/X114)))","v":""},{"$f":"IF(ISERROR(Q114/Y114),\"\",IF(Q114/Y114<=OUTLIERS!$H$3,\"\",IF(Q114/Y114>=OUTLIERS!$H$4,\"\",Q114/Y114)))","v":3.0191878266346828E-2},{"$f":"IF(ISERROR(W114),\"\",IF(W114<=OUTLIERS!$I$3,\"\",IF(W114>=OUTLIERS!$I$4,\"\",W114)))","v":0.5},10000000,10000000,0,"n/a",76500,76500,0,1,"n/a",76500,0.5,3755008,2533794]
[114,"FP025","GCF","EBRD","Cross-cutting",{"$f":"IF(ISERROR(P115/(M115*S115)),\"\",IF((P115/(M115*S115))<=OUTLIERS!$C$3,\"\",IF((P115/(M115*S115))>=OUTLIERS!$C$4,\"\",P115/(M115*S115))))","v":2.1049189929722101E-2},{"$f":"IF(ISERROR(Q115/($M115*T115)),\"\",IF((Q115/($M115*T115))<=OUTLIERS!$D$3,\"\",IF((Q115/($M115*T115))>=OUTLIERS!$D$4,\"\",Q115/($M115*T115))))","v":""},{"$f":"IF(ISERROR((M115*S115)/P115),\"\",IF((M115*S115/P115)<=OUTLIERS!$E$3,\"\",IF((M115*S115/P115)>=OUTLIERS!$E$4,\"\",M115*S115/P115)))","v":47.507766490717508},{"$f":"IF(ISERROR(O115/N115),\"\",IF(O115/N115<=OUTLIERS!$F$3,\"\",IF(O115/N115>=OUTLIERS!$F$4,\"\",O115/N115)))","v":2.6640211640211642},{"$f":"IF(ISERROR(U115/X115),\"\",IF(U115/X115<=OUTLIERS!$G$3,\"\",IF(U115/X115>=OUTLIERS!$G$4,\"\",U115/X115)))","v":4.8454311484307351E-2},{"$f":"IF(ISERROR(Q115/Y115),\"\",IF(Q115/Y115<=OUTLIERS!$H$3,\"\",IF(Q115/Y115>=OUTLIERS!$H$4,\"\",Q115/Y115)))","v":""},{"$f":"IF(ISERROR(W115),\"\",IF(W115<=OUTLIERS!$I$3,\"\",IF(W115>=OUTLIERS!$I$4,\"\",W115)))","v":0.37073681888374144},1385000000,378000000,1007000000,27456416,"",72840,0.94179999999999997,5.8200000000000002E-2,1939061,72840,0.37073681888374144,40018337.700000003,18374376.899999999]
[115,"FP026","GCF","CI, EIB","Cross-cutting",{"$f":"IF(ISERROR(P116/(M116*S116)),\"\",IF((P116/(M116*S116))<=OUTLIERS!$C$3,\"\",IF((P116/(M116*S116))>=OUTLIERS!$C$4,\"\",P116/(M116*S116))))","v":0.33395448868228245},{"$f":"IF(ISERROR(Q116/($M116*T116)),\"\",IF((Q116/($M116*T116))<=OUTLIERS!$D$3,\"\",IF((Q116/($M116*T116))>=OUTLIERS!$D$4,\"\",Q116/($M116*T116))))","v":""},{"$f":"IF(ISERROR((M116*S116)/P116),\"\",IF((M116*S116/P116)<=OUTLIERS!$E$3,\"\",IF((M116*S116/P116)>=OUTLIERS!$E$4,\"\",M116*S116/P116)))","v":2.9944199999999994},{"$f":"IF(ISERROR(O116/N116),\"\",IF(O116/N116<=OUTLIERS!$F$3,\"\",IF(O116/N116>=OUTLIERS!$F$4,\"\",O116/N116)))","v":0.30467289719626167},{"$f":"IF(ISERROR(U116/X116),\"\",IF(U116/X116<=OUTLIERS!$G$3,\"\",IF(U116/X116>=OUTLIERS!$G$4,\"\",U116/X116)))","v":0.32503275517590285},{"$f":"IF(ISERROR(Q116/Y116),\"\",IF(Q116/Y116<=OUTLIERS!$H$3,\"\",IF(Q116/Y116>=OUTLIERS!$H$4,\"\",Q116/Y116)))","v":""},{"$f":"IF(ISERROR(W116),\"\",IF(W116<=OUTLIERS!$I$3,\"\",IF(W116>=OUTLIERS!$I$4,\"\",W116)))","v":0.5},69800000,53500000,16300000,10000000,"",1562000,0.42899999999999994,0.57099999999999995,1000000,1562000,0.5,3076613,25570895]
[116,"FP027","GCF","DeutscheBank","Mitigation",{"$f":"IF(ISERROR(P117/(M117*S117)),\"\",IF((P117/(M117*S117))<=OUTLIERS!$C$3,\"\",IF((P117/(M117*S117))>=OUTLIERS!$C$4,\"\",P117/(M117*S117))))","v":0.16765476458885942},{"$f":"IF(ISERROR(Q117/($M117*T117)),\"\",IF((Q117/($M117*T117))<=OUTLIERS!$D$3,\"\",IF((Q117/($M117*T117))>=OUTLIERS!$D$4,\"\",Q117/($M117*T117))))","v":""},{"$f":"IF(ISERROR((M117*S117)/P117),\"\",IF((M117*S117/P117)<=OUTLIERS!$E$3,\"\",IF((M117*S117/P117)>=OUTLIERS!$E$4,\"\",M117*S117/P117)))","v":5.9646381207972512},{"$f":"IF(ISERROR(O117/N117),\"\",IF(O117/N117<=OUTLIERS!$F$3,\"\",IF(O117/N117>=OUTLIERS!$F$4,\"\",O117/N117)))","v":2.77},{"$f":"IF(ISERROR(U117/X117),\"\",IF(U117/X117<=OUTLIERS!$G$3,\"\",IF(U117/X117>=OUTLIERS!$G$4,\"\",U117/X117)))","v":0.10416543434171124},{"$f":"IF(ISERROR(Q117/Y117),\"\",IF(Q117/Y117<=OUTLIERS!$H$3,\"\",IF(Q117/Y117>=OUTLIERS!$H$4,\"\",Q117/Y117)))","v":""},{"$f":"IF(ISERROR(W117),\"\",IF(W117<=OUTLIERS!$I$3,\"\",IF(W117>=OUTLIERS!$I$4,\"\",W117)))","v":""},301600000,80000000,221600000,50564677,"","",1,0,2754190,"n/a","n/a",26440536.800000001,62321135.600000009]
[117,"FP028","GCF","XacBank","Mitigation",{"$f":"IF(ISERROR(P118/(M118*S118)),\"\",IF((P118/(M118*S118))<=OUTLIERS!$C$3,\"\",IF((P118/(M118*S118))>=OUTLIERS!$C$4,\"\",P118/(M118*S118))))","v":1.99054E-2},{"$f":"IF(ISERROR(Q118/($M118*T118)),\"\",IF((Q118/($M118*T118))<=OUTLIERS!$D$3,\"\",IF((Q118/($M118*T118))>=OUTLIERS!$D$4,\"\",Q118/($M118*T118))))","v":""},{"$f":"IF(ISERROR((M118*S118)/P118),\"\",IF((M118*S118/P118)<=OUTLIERS!$E$3,\"\",IF((M118*S118/P118)>=OUTLIERS!$E$4,\"\",M118*S118/P118)))","v":50.237623961337121},{"$f":"IF(ISERROR(O118/N118),\"\",IF(O118/N118<=OUTLIERS!$F$3,\"\",IF(O118/N118>=OUTLIERS!$F$4,\"\",O118/N118)))","v":2},{"$f":"IF(ISERROR(U118/X118),\"\",IF(U118/X118<=OUTLIERS!$G$3,\"\",IF(U118/X118>=OUTLIERS!$G$4,\"\",U118/X118)))","v":7.1637785460067997E-3},{"$f":"IF(ISERROR(Q118/Y118),\"\",IF(Q118/Y118<=OUTLIERS!$H$3,\"\",IF(Q118/Y118>=OUTLIERS!$H$4,\"\",Q118/Y118)))","v":""},{"$f":"IF(ISERROR(W118),\"\",IF(W118<=OUTLIERS!$I$3,\"\",IF(W118>=OUTLIERS!$I$4,\"\",W118)))","v":""},60000000,20000000,40000000,1194324,"","",1,0,149290,"n/a","n/a",20839561,3075647]
[118,"FP030","GCF","IDB","Mitigation",{"$f":"IF(ISERROR(P119/(M119*S119)),\"\",IF((P119/(M119*S119))<=OUTLIERS!$C$3,\"\",IF((P119/(M119*S119))>=OUTLIERS!$C$4,\"\",P119/(M119*S119))))","v":2.3430321592649312E-2},{"$f":"IF(ISERROR(Q119/($M119*T119)),\"\",IF((Q119/($M119*T119))<=OUTLIERS!$D$3,\"\",IF((Q119/($M119*T119))>=OUTLIERS!$D$4,\"\",Q119/($M119*T119))))","v":""},{"$f":"IF(ISERROR((M119*S119)/P119),\"\",IF((M119*S119/P119)<=OUTLIERS!$E$3,\"\",IF((M119*S119/P119)>=OUTLIERS!$E$4,\"\",M119*S119/P119)))","v":42.679738562091501},{"$f":"IF(ISERROR(O119/N119),\"\",IF(O119/N119<=OUTLIERS!$F$3,\"\",IF(O119/N119>=OUTLIERS!$F$4,\"\",O119/N119)))","v":3.9097744360902253},{"$f":"IF(ISERROR(U119/X119),\"\",IF(U119/X119<=OUTLIERS!$G$3,\"\",IF(U119/X119>=OUTLIERS!$G$4,\"\",U119/X119)))","v":3.0094418149078984E-3},{"$f":"IF(ISERROR(Q119/Y119),\"\",IF(Q119/Y119<=OUTLIERS!$H$3,\"\",IF(Q119/Y119>=OUTLIERS!$H$4,\"\",Q119/Y119)))","v":""},{"$f":"IF(ISERROR(W119),\"\",IF(W119<=OUTLIERS!$I$3,\"\",IF(W119>=OUTLIERS!$I$4,\"\",W119)))","v":""},653000000,133000000,520000000,15300000,"","",1,0,614000,"n/a","n/a",204024546,44271041]
[119,"FP033","GCF","UNDP","Mitigation",{"$f":"IF(ISERROR(P120/(M120*S120)),\"\",IF((P120/(M120*S120))<=OUTLIERS!$C$3,\"\",IF((P120/(M120*S120))>=OUTLIERS!$C$4,\"\",P120/(M120*S120))))","v":2.2400125990865664E-2},{"$f":"IF(ISERROR(Q120/($M120*T120)),\"\",IF((Q120/($M120*T120))<=OUTLIERS!$D$3,\"\",IF((Q120/($M120*T120))>=OUTLIERS!$D$4,\"\",Q120/($M120*T120))))","v":""},{"$f":"IF(ISERROR((M120*S120)/P120),\"\",IF((M120*S120/P120)<=OUTLIERS!$E$3,\"\",IF((M120*S120/P120)>=OUTLIERS!$E$4,\"\",M120*S120/P120)))","v":44.642606046402626},{"$f":"IF(ISERROR(O120/N120),\"\",IF(O120/N120<=OUTLIERS!$F$3,\"\",IF(O120/N120>=OUTLIERS!$F$4,\"\",O120/N120)))","v":5.7525700106345266},{"$f":"IF(ISERROR(U120/X120),\"\",IF(U120/X120<=OUTLIERS!$G$3,\"\",IF(U120/X120>=OUTLIERS!$G$4,\"\",U120/X120)))","v":5.0460602296424524E-2},{"$f":"IF(ISERROR(Q120/Y120),\"\",IF(Q120/Y120<=OUTLIERS!$H$3,\"\",IF(Q120/Y120>=OUTLIERS!$H$4,\"\",Q120/Y120)))","v":""},{"$f":"IF(ISERROR(W120),\"\",IF(W120<=OUTLIERS!$I$3,\"\",IF(W120>=OUTLIERS!$I$4,\"\",W120)))","v":""},190490000,28210000,162280000,4267000,"","",1,0,213350,"n/a","n/a",4228051,1264613]
[120,"FP034","GCF","UNDP","Adaptation",{"$f":"IF(ISERROR(P121/(M121*S121)),\"\",IF((P121/(M121*S121))<=OUTLIERS!$C$3,\"\",IF((P121/(M121*S121))>=OUTLIERS!$C$4,\"\",P121/(M121*S121))))","v":""},{"$f":"IF(ISERROR(Q121/($M121*T121)),\"\",IF((Q121/($M121*T121))<=OUTLIERS!$D$3,\"\",IF((Q121/($M121*T121))>=OUTLIERS!$D$4,\"\",Q121/($M121*T121))))","v":0.10844477540183307},{"$f":"IF(ISERROR((M121*S121)/P121),\"\",IF((M121*S121/P121)<=OUTLIERS!$E$3,\"\",IF((M121*S121/P121)>=OUTLIERS!$E$4,\"\",M121*S121/P121)))","v":""},{"$f":"IF(ISERROR(O121/N121),\"\",IF(O121/N121<=OUTLIERS!$F$3,\"\",IF(O121/N121>=OUTLIERS!$F$4,\"\",O121/N121)))","v":0.83354874201330897},{"$f":"IF(ISERROR(U121/X121),\"\",IF(U121/X121<=OUTLIERS!$G$3,\"\",IF(U121/X121>=OUTLIERS!$G$4,\"\",U121/X121)))","v":0},{"$f":"IF(ISERROR(Q121/Y121),\"\",IF(Q121/Y121<=OUTLIERS!$H$3,\"\",IF(Q121/Y121>=OUTLIERS!$H$4,\"\",Q121/Y121)))","v":0.1119848051550712},{"$f":"IF(ISERROR(W121),\"\",IF(W121<=OUTLIERS!$I$3,\"\",IF(W121>=OUTLIERS!$I$4,\"\",W121)))","v":0.5},44262160,24140160,20122000,"n/a",4800000,4800000,0,1,0,4800000,0.5,5229142,42862958]
[121,"FP035","GCF","SPREP","Adaptation",{"$f":"IF(ISERROR(P122/(M122*S122)),\"\",IF((P122/(M122*S122))<=OUTLIERS!$C$3,\"\",IF((P122/(M122*S122))>=OUTLIERS!$C$4,\"\",P122/(M122*S122))))","v":""},{"$f":"IF(ISERROR(Q122/($M122*T122)),\"\",IF((Q122/($M122*T122))<=OUTLIERS!$D$3,\"\",IF((Q122/($M122*T122))>=OUTLIERS!$D$4,\"\",Q122/($M122*T122))))","v":1.1966181871002696E-2},{"$f":"IF(ISERROR((M122*S122)/P122),\"\",IF((M122*S122/P122)<=OUTLIERS!$E$3,\"\",IF((M122*S122/P122)>=OUTLIERS!$E$4,\"\",M122*S122/P122)))","v":""},{"$f":"IF(ISERROR(O122/N122),\"\",IF(O122/N122<=OUTLIERS!$F$3,\"\",IF(O122/N122>=OUTLIERS!$F$4,\"\",O122/N122)))","v":0.20334783884932295},{"$f":"IF(ISERROR(U122/X122),\"\",IF(U122/X122<=OUTLIERS!$G$3,\"\",IF(U122/X122>=OUTLIERS!$G$4,\"\",U122/X122)))","v":""},{"$f":"IF(ISERROR(Q122/Y122),\"\",IF(Q122/Y122<=OUTLIERS!$H$3,\"\",IF(Q122/Y122>=OUTLIERS!$H$4,\"\",Q122/Y122)))","v":0.94383950420642615},{"$f":"IF(ISERROR(W122),\"\",IF(W122<=OUTLIERS!$I$3,\"\",IF(W122>=OUTLIERS!$I$4,\"\",W122)))","v":0.55000191769263218},21788905,18106905,3682000,"n/a",260730,260730,0,1,"n/a",260730,0.55000191769263218,154014,276244]
[122,"FP036","GCF","ADB","Cross-cutting",{"$f":"IF(ISERROR(P123/(M123*S123)),\"\",IF((P123/(M123*S123))<=OUTLIERS!$C$3,\"\",IF((P123/(M123*S123))>=OUTLIERS!$C$4,\"\",P123/(M123*S123))))","v":0.13416815742397137},{"$f":"IF(ISERROR(Q123/($M123*T123)),\"\",IF((Q123/($M123*T123))<=OUTLIERS!$D$3,\"\",IF((Q123/($M123*T123))>=OUTLIERS!$D$4,\"\",Q123/($M123*T123))))","v":""},{"$f":"IF(ISERROR((M123*S123)/P123),\"\",IF((M123*S123/P123)<=OUTLIERS!$E$3,\"\",IF((M123*S123/P123)>=OUTLIERS!$E$4,\"\",M123*S123/P123)))","v":7.4533333333333331},{"$f":"IF(ISERROR(O123/N123),\"\",IF(O123/N123<=OUTLIERS!$F$3,\"\",IF(O123/N123>=OUTLIERS!$F$4,\"\",O123/N123)))","v":0.52941176470588236},{"$f":"IF(ISERROR(U123/X123),\"\",IF(U123/X123<=OUTLIERS!$G$3,\"\",IF(U123/X123>=OUTLIERS!$G$4,\"\",U123/X123)))","v":0.25206420996431633},{"$f":"IF(ISERROR(Q123/Y123),\"\",IF(Q123/Y123<=OUTLIERS!$H$3,\"\",IF(Q123/Y123>=OUTLIERS!$H$4,\"\",Q123/Y123)))","v":""},{"$f":"IF(ISERROR(W123),\"\",IF(W123<=OUTLIERS!$I$3,\"\",IF(W123>=OUTLIERS!$I$4,\"\",W123)))","v":""},26000000,17000000,9000000,3000000,"",580000,0.86,0.14000000000000001,120000,580000,"n/a",476069.17307692306,1454657]
[123,"FP037","GCF","UNDP","Adaptation",{"$f":"IF(ISERROR(P124/(M124*S124)),\"\",IF((P124/(M124*S124))<=OUTLIERS!$C$3,\"\",IF((P124/(M124*S124))>=OUTLIERS!$C$4,\"\",P124/(M124*S124))))","v":""},{"$f":"IF(ISERROR(Q124/($M124*T124)),\"\",IF((Q124/($M124*T124))<=OUTLIERS!$D$3,\"\",IF((Q124/($M124*T124))>=OUTLIERS!$D$4,\"\",Q124/($M124*T124))))","v":9.5864514407888722E-4},{"$f":"IF(ISERROR((M124*S124)/P124),\"\",IF((M124*S124/P124)<=OUTLIERS!$E$3,\"\",IF((M124*S124/P124)>=OUTLIERS!$E$4,\"\",M124*S124/P124)))","v":""},{"$f":"IF(ISERROR(O124/N124),\"\",IF(O124/N124<=OUTLIERS!$F$3,\"\",IF(O124/N124>=OUTLIERS!$F$4,\"\",O124/N124)))","v":0.13860554642568521},{"$f":"IF(ISERROR(U124/X124),\"\",IF(U124/X124<=OUTLIERS!$G$3,\"\",IF(U124/X124>=OUTLIERS!$G$4,\"\",U124/X124)))","v":0},{"$f":"IF(ISERROR(Q124/Y124),\"\",IF(Q124/Y124<=OUTLIERS!$H$3,\"\",IF(Q124/Y124>=OUTLIERS!$H$4,\"\",Q124/Y124)))","v":0.32070861331704337},{"$f":"IF(ISERROR(W124),\"\",IF(W124<=OUTLIERS!$I$3,\"\",IF(W124>=OUTLIERS!$I$4,\"\",W124)))","v":""},65717748,57717748,8000000,"n/a",63000,63000,0,1,0,63000,"n/a",198018,196440]
[124,"FP038","GCF","EIB","Mitigation",{"$f":"IF(ISERROR(P125/(M125*S125)),\"\",IF((P125/(M125*S125))<=OUTLIERS!$C$3,\"\",IF((P125/(M125*S125))>=OUTLIERS!$C$4,\"\",P125/(M125*S125))))","v":1.0052529660130718},{"$f":"IF(ISERROR(Q125/($M125*T125)),\"\",IF((Q125/($M125*T125))<=OUTLIERS!$D$3,\"\",IF((Q125/($M125*T125))>=OUTLIERS!$D$4,\"\",Q125/($M125*T125))))","v":""},{"$f":"IF(ISERROR((M125*S125)/P125),\"\",IF((M125*S125/P125)<=OUTLIERS!$E$3,\"\",IF((M125*S125/P125)>=OUTLIERS!$E$4,\"\",M125*S125/P125)))","v":0.99477448344777764},{"$f":"IF(ISERROR(O125/N125),\"\",IF(O125/N125<=OUTLIERS!$F$3,\"\",IF(O125/N125>=OUTLIERS!$F$4,\"\",O125/N125)))","v":1.8867924528301887},{"$f":"IF(ISERROR(U125/X125),\"\",IF(U125/X125<=OUTLIERS!$G$3,\"\",IF(U125/X125>=OUTLIERS!$G$4,\"\",U125/X125)))","v":0.64711291627572987},{"$f":"IF(ISERROR(Q125/Y125),\"\",IF(Q125/Y125<=OUTLIERS!$H$3,\"\",IF(Q125/Y125>=OUTLIERS!$H$4,\"\",Q125/Y125)))","v":""},{"$f":"IF(ISERROR(W125),\"\",IF(W125<=OUTLIERS!$I$3,\"\",IF(W125>=OUTLIERS!$I$4,\"\",W125)))","v":""},765000000,265000000,500000000,769018519,"","",1,0,38700000,"n/a","n/a",59804091.413793117,24693721.551724143]
[125,"FP039","GCF","EBRD","Mitigation",{"$f":"IF(ISERROR(P126/(M126*S126)),\"\",IF((P126/(M126*S126))<=OUTLIERS!$C$3,\"\",IF((P126/(M126*S126))>=OUTLIERS!$C$4,\"\",P126/(M126*S126))))","v":1.8801552135054616E-2},{"$f":"IF(ISERROR(Q126/($M126*T126)),\"\",IF((Q126/($M126*T126))<=OUTLIERS!$D$3,\"\",IF((Q126/($M126*T126))>=OUTLIERS!$D$4,\"\",Q126/($M126*T126))))","v":""},{"$f":"IF(ISERROR((M126*S126)/P126),\"\",IF((M126*S126/P126)<=OUTLIERS!$E$3,\"\",IF((M126*S126/P126)>=OUTLIERS!$E$4,\"\",M126*S126/P126)))","v":53.187098214915281},{"$f":"IF(ISERROR(O126/N126),\"\",IF(O126/N126<=OUTLIERS!$F$3,\"\",IF(O126/N126>=OUTLIERS!$F$4,\"\",O126/N126)))","v":5.5093729799612152},{"$f":"IF(ISERROR(U126/X126),\"\",IF(U126/X126<=OUTLIERS!$G$3,\"\",IF(U126/X126>=OUTLIERS!$G$4,\"\",U126/X126)))","v":3.9326127833435223E-3},{"$f":"IF(ISERROR(Q126/Y126),\"\",IF(Q126/Y126<=OUTLIERS!$H$3,\"\",IF(Q126/Y126>=OUTLIERS!$H$4,\"\",Q126/Y126)))","v":""},{"$f":"IF(ISERROR(W126),\"\",IF(W126<=OUTLIERS!$I$3,\"\",IF(W126>=OUTLIERS!$I$4,\"\",W126)))","v":""},1007000000,154700000,852300000,18933163,"","",1,0,793971,"n/a","n/a",201894019,97553151]
[126,"FP040","GCF","EBRD","Cross-cutting",{"$f":"IF(ISERROR(P127/(M127*S127)),\"\",IF((P127/(M127*S127))<=OUTLIERS!$C$3,\"\",IF((P127/(M127*S127))>=OUTLIERS!$C$4,\"\",P127/(M127*S127))))","v":""},{"$f":"IF(ISERROR(Q127/($M127*T127)),\"\",IF((Q127/($M127*T127))<=OUTLIERS!$D$3,\"\",IF((Q127/($M127*T127))>=OUTLIERS!$D$4,\"\",Q127/($M127*T127))))","v":""},{"$f":"IF(ISERROR((M127*S127)/P127),\"\",IF((M127*S127/P127)<=OUTLIERS!$E$3,\"\",IF((M127*S127/P127)>=OUTLIERS!$E$4,\"\",M127*S127/P127)))","v":""},{"$f":"IF(ISERROR(O127/N127),\"\",IF(O127/N127<=OUTLIERS!$F$3,\"\",IF(O127/N127>=OUTLIERS!$F$4,\"\",O127/N127)))","v":1.66},{"$f":"IF(ISERROR(U127/X127),\"\",IF(U127/X127<=OUTLIERS!$G$3,\"\",IF(U127/X127>=OUTLIERS!$G$4,\"\",U127/X127)))","v":0},{"$f":"IF(ISERROR(Q127/Y127),\"\",IF(Q127/Y127<=OUTLIERS!$H$3,\"\",IF(Q127/Y127>=OUTLIERS!$H$4,\"\",Q127/Y127)))","v":""},{"$f":"IF(ISERROR(W127),\"\",IF(W127<=OUTLIERS!$I$3,\"\",IF(W127>=OUTLIERS!$I$4,\"\",W127)))","v":0.49},133000000,50000000,83000000,"n/a","",11000000,0,1,0,11000000,0.49,5188805,8921343]
[127,"FP041","GCF","KfW","Adaptation",{"$f":"IF(ISERROR(P128/(M128*S128)),\"\",IF((P128/(M128*S128))<=OUTLIERS!$C$3,\"\",IF((P128/(M128*S128))>=OUTLIERS!$C$4,\"\",P128/(M128*S128))))","v":""},{"$f":"IF(ISERROR(Q128/($M128*T128)),\"\",IF((Q128/($M128*T128))<=OUTLIERS!$D$3,\"\",IF((Q128/($M128*T128))>=OUTLIERS!$D$4,\"\",Q128/($M128*T128))))","v":1.8943270571617019E-2},{"$f":"IF(ISERROR((M128*S128)/P128),\"\",IF((M128*S128/P128)<=OUTLIERS!$E$3,\"\",IF((M128*S128/P128)>=OUTLIERS!$E$4,\"\",M128*S128/P128)))","v":""},{"$f":"IF(ISERROR(O128/N128),\"\",IF(O128/N128<=OUTLIERS!$F$3,\"\",IF(O128/N128>=OUTLIERS!$F$4,\"\",O128/N128)))","v":0.39629990263185438},{"$f":"IF(ISERROR(U128/X128),\"\",IF(U128/X128<=OUTLIERS!$G$3,\"\",IF(U128/X128>=OUTLIERS!$G$4,\"\",U128/X128)))","v":""},{"$f":"IF(ISERROR(Q128/Y128),\"\",IF(Q128/Y128<=OUTLIERS!$H$3,\"\",IF(Q128/Y128>=OUTLIERS!$H$4,\"\",Q128/Y128)))","v":5.2259623225739987E-2},{"$f":"IF(ISERROR(W128),\"\",IF(W128<=OUTLIERS!$I$3,\"\",IF(W128>=OUTLIERS!$I$4,\"\",W128)))","v":0.52},158103638.37,113230429.98999999,44873208.380000003,"n/a",2995000,2995000,0,0.99999999999999989,"n/a",2995000,0.52,11562051,57310019]
[128,"FP042","GCF","AFD","Adaptation",{"$f":"IF(ISERROR(P129/(M129*S129)),\"\",IF((P129/(M129*S129))<=OUTLIERS!$C$3,\"\",IF((P129/(M129*S129))>=OUTLIERS!$C$4,\"\",P129/(M129*S129))))","v":""},{"$f":"IF(ISERROR(Q129/($M129*T129)),\"\",IF((Q129/($M129*T129))<=OUTLIERS!$D$3,\"\",IF((Q129/($M129*T129))>=OUTLIERS!$D$4,\"\",Q129/($M129*T129))))","v":""},{"$f":"IF(ISERROR((M129*S129)/P129),\"\",IF((M129*S129/P129)<=OUTLIERS!$E$3,\"\",IF((M129*S129/P129)>=OUTLIERS!$E$4,\"\",M129*S129/P129)))","v":""},{"$f":"IF(ISERROR(O129/N129),\"\",IF(O129/N129<=OUTLIERS!$F$3,\"\",IF(O129/N129>=OUTLIERS!$F$4,\"\",O129/N129)))","v":2.8000000000000003},{"$f":"IF(ISERROR(U129/X129),\"\",IF(U129/X129<=OUTLIERS!$G$3,\"\",IF(U129/X129>=OUTLIERS!$G$4,\"\",U129/X129)))","v":""},{"$f":"IF(ISERROR(Q129/Y129),\"\",IF(Q129/Y129<=OUTLIERS!$H$3,\"\",IF(Q129/Y129>=OUTLIERS!$H$4,\"\",Q129/Y129)))","v":4.3369284138201962E-4},{"$f":"IF(ISERROR(W129),\"\",IF(W129<=OUTLIERS!$I$3,\"\",IF(W129>=OUTLIERS!$I$4,\"\",W129)))","v":""},83792723.269999996,22050716.649999999,61742006.619999997,"n/a",15500,15500,0,1,"n/a",15500,"n/a",59863775,35739580]
[129,"FP043","GCF","EBRD","Adaptation",{"$f":"IF(ISERROR(P130/(M130*S130)),\"\",IF((P130/(M130*S130))<=OUTLIERS!$C$3,\"\",IF((P130/(M130*S130))>=OUTLIERS!$C$4,\"\",P130/(M130*S130))))","v":""},{"$f":"IF(ISERROR(Q130/($M130*T130)),\"\",IF((Q130/($M130*T130))<=OUTLIERS!$D$3,\"\",IF((Q130/($M130*T130))>=OUTLIERS!$D$4,\"\",Q130/($M130*T130))))","v":9.4355736199921662E-3},{"$f":"IF(ISERROR((M130*S130)/P130),\"\",IF((M130*S130/P130)<=OUTLIERS!$E$3,\"\",IF((M130*S130/P130)>=OUTLIERS!$E$4,\"\",M130*S130/P130)))","v":""},{"$f":"IF(ISERROR(O130/N130),\"\",IF(O130/N130<=OUTLIERS!$F$3,\"\",IF(O130/N130>=OUTLIERS!$F$4,\"\",O130/N130)))","v":5.4644979671193656},{"$f":"IF(ISERROR(U130/X130),\"\",IF(U130/X130<=OUTLIERS!$G$3,\"\",IF(U130/X130>=OUTLIERS!$G$4,\"\",U130/X130)))","v":0},{"$f":"IF(ISERROR(Q130/Y130),\"\",IF(Q130/Y130<=OUTLIERS!$H$3,\"\",IF(Q130/Y130>=OUTLIERS!$H$4,\"\",Q130/Y130)))","v":6.0157394127183364E-2},{"$f":"IF(ISERROR(W130),\"\",IF(W130<=OUTLIERS!$I$3,\"\",IF(W130>=OUTLIERS!$I$4,\"\",W130)))","v":0.5},{"$f":"N130+O130","v":227861080.47999999},35248070.560000002,192613009.91999999,"n/a",2150000,{"$f":"IF(V130=\"n/a\",\"\",V130)","v":2150000},0,1,0,2150000,0.5,59863775,35739580]
[130,"FP044","GCF","WorldBank","Cross-cutting",{"$f":"IF(ISERROR(P131/(M131*S131)),\"\",IF((P131/(M131*S131))<=OUTLIERS!$C$3,\"\",IF((P131/(M131*S131))>=OUTLIERS!$C$4,\"\",P131/(M131*S131))))","v":1.1776885013913821E-2},{"$f":"IF(ISERROR(Q131/($M131*T131)),\"\",IF((Q131/($M131*T131))<=OUTLIERS!$D$3,\"\",IF((Q131/($M131*T131))>=OUTLIERS!$D$4,\"\",Q131/($M131*T131))))","v":""},{"$f":"IF(ISERROR((M131*S131)/P131),\"\",IF((M131*S131/P131)<=OUTLIERS!$E$3,\"\",IF((M131*S131/P131)>=OUTLIERS!$E$4,\"\",M131*S131/P131)))","v":84.912096774193543},{"$f":"IF(ISERROR(O131/N131),\"\",IF(O131/N131<=OUTLIERS!$F$3,\"\",IF(O131/N131>=OUTLIERS!$F$4,\"\",O131/N131)))","v":1.7206976744186047},{"$f":"IF(ISERROR(U131/X131),\"\",IF(U131/X131<=OUTLIERS!$G$3,\"\",IF(U131/X131>=OUTLIERS!$G$4,\"\",U131/X131)))","v":0.24543223343332424},{"$f":"IF(ISERROR(Q131/Y131),\"\",IF(Q131/Y131<=OUTLIERS!$H$3,\"\",IF(Q131/Y131>=OUTLIERS!$H$4,\"\",Q131/Y131)))","v":""},{"$f":"IF(ISERROR(W131),\"\",IF(W131<=OUTLIERS!$I$3,\"\",IF(W131>=OUTLIERS!$I$4,\"\",W131)))","v":0.48499999999999999},233980000,86000000,147980000,2480000,{"$f":"IF(E131=\"adaptation\",R131,\"\")","v":""},180000,0.9,0.1,49500,180000,0.48499999999999999,201685,611343]
[131,"FP045","GCF","NABARD","Adaptation",{"$f":"IF(ISERROR(P132/(M132*S132)),\"\",IF((P132/(M132*S132))<=OUTLIERS!$C$3,\"\",IF((P132/(M132*S132))>=OUTLIERS!$C$4,\"\",P132/(M132*S132))))","v":""},{"$f":"IF(ISERROR(Q132/($M132*T132)),\"\",IF((Q132/($M132*T132))<=OUTLIERS!$D$3,\"\",IF((Q132/($M132*T132))>=OUTLIERS!$D$4,\"\",Q132/($M132*T132))))","v":9.6033001196654186E-2},{"$f":"IF(ISERROR((M132*S132)/P132),\"\",IF((M132*S132/P132)<=OUTLIERS!$E$3,\"\",IF((M132*S132/P132)>=OUTLIERS!$E$4,\"\",M132*S132/P132)))","v":""},{"$f":"IF(ISERROR(O132/N132),\"\",IF(O132/N132<=OUTLIERS!$F$3,\"\",IF(O132/N132>=OUTLIERS!$F$4,\"\",O132/N132)))","v":3.8402654480891814},{"$f":"IF(ISERROR(U132/X132),\"\",IF(U132/X132<=OUTLIERS!$G$3,\"\",IF(U132/X132>=OUTLIERS!$G$4,\"\",U132/X132)))","v":1.1678103554539657E-6},{"$f":"IF(ISERROR(Q132/Y132),\"\",IF(Q132/Y132<=OUTLIERS!$H$3,\"\",IF(Q132/Y132>=OUTLIERS!$H$4,\"\",Q132/Y132)))","v":1.1925206832165006E-2},{"$f":"IF(ISERROR(W132),\"\",IF(W132<=OUTLIERS!$I$3,\"\",IF(W132>=OUTLIERS!$I$4,\"\",W132)))","v":0.5},166297000,34357000,131940000,"n/a",15970000,15970000,0,1,2614,15970000,0.5,2238377137,1339180127]
[132,"FP046","GCF","XacBank","Mitigation",{"$f":"IF(ISERROR(P133/(M133*S133)),\"\",IF((P133/(M133*S133))<=OUTLIERS!$C$3,\"\",IF((P133/(M133*S133))>=OUTLIERS!$C$4,\"\",P133/(M133*S133))))","v":1.7471458547398976E-2},{"$f":"IF(ISERROR(Q133/($M133*T133)),\"\",IF((Q133/($M133*T133))<=OUTLIERS!$D$3,\"\",IF((Q133/($M133*T133))>=OUTLIERS!$D$4,\"\",Q133/($M133*T133))))","v":""},{"$f":"IF(ISERROR((M133*S133)/P133),\"\",IF((M133*S133/P133)<=OUTLIERS!$E$3,\"\",IF((M133*S133/P133)>=OUTLIERS!$E$4,\"\",M133*S133/P133)))","v":57.236205969127454},{"$f":"IF(ISERROR(O133/N133),\"\",IF(O133/N133<=OUTLIERS!$F$3,\"\",IF(O133/N133>=OUTLIERS!$F$4,\"\",O133/N133)))","v":1.0296900017918971},{"$f":"IF(ISERROR(U133/X133),\"\",IF(U133/X133<=OUTLIERS!$G$3,\"\",IF(U133/X133>=OUTLIERS!$G$4,\"\",U133/X133)))","v":5.8878399597765035E-4},{"$f":"IF(ISERROR(Q133/Y133),\"\",IF(Q133/Y133<=OUTLIERS!$H$3,\"\",IF(Q133/Y133>=OUTLIERS!$H$4,\"\",Q133/Y133)))","v":""},{"$f":"IF(ISERROR(W133),\"\",IF(W133<=OUTLIERS!$I$3,\"\",IF(W133>=OUTLIERS!$I$4,\"\",W133)))","v":""},17556920,8650050,8906870,306745,"","",1,0,12270,"n/a","n/a",20839561,3075647]
[133,"FP047","GCF","EBRD","Mitigation",{"$f":"IF(ISERROR(P134/(M134*S134)),\"\",IF((P134/(M134*S134))<=OUTLIERS!$C$3,\"\",IF((P134/(M134*S134))>=OUTLIERS!$C$4,\"\",P134/(M134*S134))))","v":2.3087971274685818E-2},{"$f":"IF(ISERROR(Q134/($M134*T134)),\"\",IF((Q134/($M134*T134))<=OUTLIERS!$D$3,\"\",IF((Q134/($M134*T134))>=OUTLIERS!$D$4,\"\",Q134/($M134*T134))))","v":""},{"$f":"IF(ISERROR((M134*S134)/P134),\"\",IF((M134*S134/P134)<=OUTLIERS!$E$3,\"\",IF((M134*S134/P134)>=OUTLIERS!$E$4,\"\",M134*S134/P134)))","v":43.312597200622086},{"$f":"IF(ISERROR(O134/N134),\"\",IF(O134/N134<=OUTLIERS!$F$3,\"\",IF(O134/N134>=OUTLIERS!$F$4,\"\",O134/N134)))","v":4.0636363636363635},{"$f":"IF(ISERROR(U134/X134),\"\",IF(U134/X134<=OUTLIERS!$G$3,\"\",IF(U134/X134>=OUTLIERS!$G$4,\"\",U134/X134)))","v":2.5903795931879504E-3},{"$f":"IF(ISERROR(Q134/Y134),\"\",IF(Q134/Y134<=OUTLIERS!$H$3,\"\",IF(Q134/Y134>=OUTLIERS!$H$4,\"\",Q134/Y134)))","v":""},{"$f":"IF(ISERROR(W134),\"\",IF(W134<=OUTLIERS!$I$3,\"\",IF(W134>=OUTLIERS!$I$4,\"\",W134)))","v":""},557000000,110000000,447000000,12860000,"","",1,0,643229,"n/a","n/a",248314572,18037646]
[134,"FP048","GCF","IDB","Cross-cutting",{"$f":"IF(ISERROR(P135/(M135*S135)),\"\",IF((P135/(M135*S135))<=OUTLIERS!$C$3,\"\",IF((P135/(M135*S135))>=OUTLIERS!$C$4,\"\",P135/(M135*S135))))","v":0.14504115506329113},{"$f":"IF(ISERROR(Q135/($M135*T135)),\"\",IF((Q135/($M135*T135))<=OUTLIERS!$D$3,\"\",IF((Q135/($M135*T135))>=OUTLIERS!$D$4,\"\",Q135/($M135*T135))))","v":""},{"$f":"IF(ISERROR((M135*S135)/P135),\"\",IF((M135*S135/P135)<=OUTLIERS!$E$3,\"\",IF((M135*S135/P135)>=OUTLIERS!$E$4,\"\",M135*S135/P135)))","v":6.8945948449157983},{"$f":"IF(ISERROR(O135/N135),\"\",IF(O135/N135<=OUTLIERS!$F$3,\"\",IF(O135/N135>=OUTLIERS!$F$4,\"\",O135/N135)))","v":6.9},{"$f":"IF(ISERROR(U135/X135),\"\",IF(U135/X135<=OUTLIERS!$G$3,\"\",IF(U135/X135>=OUTLIERS!$G$4,\"\",U135/X135)))","v":3.7252673551823935E-3},{"$f":"IF(ISERROR(Q135/Y135),\"\",IF(Q135/Y135<=OUTLIERS!$H$3,\"\",IF(Q135/Y135>=OUTLIERS!$H$4,\"\",Q135/Y135)))","v":""},{"$f":"IF(ISERROR(W135),\"\",IF(W135<=OUTLIERS!$I$3,\"\",IF(W135>=OUTLIERS!$I$4,\"\",W135)))","v":0.5},158000000,20000000,138000000,9166601,"",802980,0.4,0.6,916660,802980,0.5,246065560.56299999,72252641.089000002]
[135,"FP049","GCF","WFP","Adaptation",{"$f":"IF(ISERROR(P136/(M136*S136)),\"\",IF((P136/(M136*S136))<=OUTLIERS!$C$3,\"\",IF((P136/(M136*S136))>=OUTLIERS!$C$4,\"\",P136/(M136*S136))))","v":""},{"$f":"IF(ISERROR(Q136/($M136*T136)),\"\",IF((Q136/($M136*T136))<=OUTLIERS!$D$3,\"\",IF((Q136/($M136*T136))>=OUTLIERS!$D$4,\"\",Q136/($M136*T136))))","v":5.2736905145990075E-2},{"$f":"IF(ISERROR((M136*S136)/P136),\"\",IF((M136*S136/P136)<=OUTLIERS!$E$3,\"\",IF((M136*S136/P136)>=OUTLIERS!$E$4,\"\",M136*S136/P136)))","v":""},{"$f":"IF(ISERROR(O136/N136),\"\",IF(O136/N136<=OUTLIERS!$F$3,\"\",IF(O136/N136>=OUTLIERS!$F$4,\"\",O136/N136)))","v":0},{"$f":"IF(ISERROR(U136/X136),\"\",IF(U136/X136<=OUTLIERS!$G$3,\"\",IF(U136/X136>=OUTLIERS!$G$4,\"\",U136/X136)))","v":""},{"$f":"IF(ISERROR(Q136/Y136),\"\",IF(Q136/Y136<=OUTLIERS!$H$3,\"\",IF(Q136/Y136>=OUTLIERS!$H$4,\"\",Q136/Y136)))","v":3.3216477366393264E-2},{"$f":"IF(ISERROR(W136),\"\",IF(W136<=OUTLIERS!$I$3,\"\",IF(W136>=OUTLIERS!$I$4,\"\",W136)))","v":0.5},9983521,9983521,0,"n/a",526500,526500,0,1,"n/a",526500,0.5,8855805,15850567]
[136,"FP050","GCF","WWF","Cross-cutting",{"$f":"IF(ISERROR(P137/(M137*S137)),\"\",IF((P137/(M137*S137))<=OUTLIERS!$C$3,\"\",IF((P137/(M137*S137))>=OUTLIERS!$C$4,\"\",P137/(M137*S137))))","v":0.8021899835917593},{"$f":"IF(ISERROR(Q137/($M137*T137)),\"\",IF((Q137/($M137*T137))<=OUTLIERS!$D$3,\"\",IF((Q137/($M137*T137))>=OUTLIERS!$D$4,\"\",Q137/($M137*T137))))","v":""},{"$f":"IF(ISERROR((M137*S137)/P137),\"\",IF((M137*S137/P137)<=OUTLIERS!$E$3,\"\",IF((M137*S137/P137)>=OUTLIERS!$E$4,\"\",M137*S137/P137)))","v":1.2465874923076923},{"$f":"IF(ISERROR(O137/N137),\"\",IF(O137/N137<=OUTLIERS!$F$3,\"\",IF(O137/N137>=OUTLIERS!$F$4,\"\",O137/N137)))","v":3.4529042313477465},{"$f":"IF(ISERROR(U137/X137),\"\",IF(U137/X137<=OUTLIERS!$G$3,\"\",IF(U137/X137>=OUTLIERS!$G$4,\"\",U137/X137)))","v":""},{"$f":"IF(ISERROR(Q137/Y137),\"\",IF(Q137/Y137<=OUTLIERS!$H$3,\"\",IF(Q137/Y137>=OUTLIERS!$H$4,\"\",Q137/Y137)))","v":""},{"$f":"IF(ISERROR(W137),\"\",IF(W137<=OUTLIERS!$I$3,\"\",IF(W137>=OUTLIERS!$I$4,\"\",W137)))","v":0.55000000000000004},118257354,26557354,91700000,35100000,"",145000,0.37,0.63,2510000,145000,0.55000000000000004,1001091,807610]
[137,"FP051","GCF","UNDP","Mitigation",{"$f":"IF(ISERROR(P138/(M138*S138)),\"\",IF((P138/(M138*S138))<=OUTLIERS!$C$3,\"\",IF((P138/(M138*S138))>=OUTLIERS!$C$4,\"\",P138/(M138*S138))))","v":1.6480939770669077E-2},{"$f":"IF(ISERROR(Q138/($M138*T138)),\"\",IF((Q138/($M138*T138))<=OUTLIERS!$D$3,\"\",IF((Q138/($M138*T138))>=OUTLIERS!$D$4,\"\",Q138/($M138*T138))))","v":""},{"$f":"IF(ISERROR((M138*S138)/P138),\"\",IF((M138*S138/P138)<=OUTLIERS!$E$3,\"\",IF((M138*S138/P138)>=OUTLIERS!$E$4,\"\",M138*S138/P138)))","v":60.676151597840764},{"$f":"IF(ISERROR(O138/N138),\"\",IF(O138/N138<=OUTLIERS!$F$3,\"\",IF(O138/N138>=OUTLIERS!$F$4,\"\",O138/N138)))","v":6.0658578346592877},{"$f":"IF(ISERROR(U138/X138),\"\",IF(U138/X138<=OUTLIERS!$G$3,\"\",IF(U138/X138>=OUTLIERS!$G$4,\"\",U138/X138)))","v":4.5427474745784657E-3},{"$f":"IF(ISERROR(Q138/Y138),\"\",IF(Q138/Y138<=OUTLIERS!$H$3,\"\",IF(Q138/Y138>=OUTLIERS!$H$4,\"\",Q138/Y138)))","v":""},{"$f":"IF(ISERROR(W138),\"\",IF(W138<=OUTLIERS!$I$3,\"\",IF(W138>=OUTLIERS!$I$4,\"\",W138)))","v":0.53333333333333333},122564370,17346000,105218370,2019976,"",150000,1,0,100999,150000,0.53333333333333333,22233021,3507017]
[138,"FP052","GCF","ADB","Cross-cutting",{"$f":"IF(ISERROR(P139/(M139*S139)),\"\",IF((P139/(M139*S139))<=OUTLIERS!$C$3,\"\",IF((P139/(M139*S139))>=OUTLIERS!$C$4,\"\",P139/(M139*S139))))","v":1.6423312883435584E-2},{"$f":"IF(ISERROR(Q139/($M139*T139)),\"\",IF((Q139/($M139*T139))<=OUTLIERS!$D$3,\"\",IF((Q139/($M139*T139))>=OUTLIERS!$D$4,\"\",Q139/($M139*T139))))","v":""},{"$f":"IF(ISERROR((M139*S139)/P139),\"\",IF((M139*S139/P139)<=OUTLIERS!$E$3,\"\",IF((M139*S139/P139)>=OUTLIERS!$E$4,\"\",M139*S139/P139)))","v":60.889054912215165},{"$f":"IF(ISERROR(O139/N139),\"\",IF(O139/N139<=OUTLIERS!$F$3,\"\",IF(O139/N139>=OUTLIERS!$F$4,\"\",O139/N139)))","v":1.4228911185432924},{"$f":"IF(ISERROR(U139/X139),\"\",IF(U139/X139<=OUTLIERS!$G$3,\"\",IF(U139/X139>=OUTLIERS!$G$4,\"\",U139/X139)))","v":0.22462293637641334},{"$f":"IF(ISERROR(Q139/Y139),\"\",IF(Q139/Y139<=OUTLIERS!$H$3,\"\",IF(Q139/Y139>=OUTLIERS!$H$4,\"\",Q139/Y139)))","v":""},{"$f":"IF(ISERROR(W139),\"\",IF(W139<=OUTLIERS!$I$3,\"\",IF(W139>=OUTLIERS!$I$4,\"\",W139)))","v":0.49},65200000,26910000,38290000,535400,"",11300,0.5,0.5,10708,11300,0.49,47671,13649]
[139,"FP053","GCF","UNDP","Adaptation",{"$f":"IF(ISERROR(P140/(M140*S140)),\"\",IF((P140/(M140*S140))<=OUTLIERS!$C$3,\"\",IF((P140/(M140*S140))>=OUTLIERS!$C$4,\"\",P140/(M140*S140))))","v":""},{"$f":"IF(ISERROR(Q140/($M140*T140)),\"\",IF((Q140/($M140*T140))<=OUTLIERS!$D$3,\"\",IF((Q140/($M140*T140))>=OUTLIERS!$D$4,\"\",Q140/($M140*T140))))","v":0.16796141904597126},{"$f":"IF(ISERROR((M140*S140)/P140),\"\",IF((M140*S140/P140)<=OUTLIERS!$E$3,\"\",IF((M140*S140/P140)>=OUTLIERS!$E$4,\"\",M140*S140/P140)))","v":""},{"$f":"IF(ISERROR(O140/N140),\"\",IF(O140/N140<=OUTLIERS!$F$3,\"\",IF(O140/N140>=OUTLIERS!$F$4,\"\",O140/N140)))","v":2.351679794040427},{"$f":"IF(ISERROR(U140/X140),\"\",IF(U140/X140<=OUTLIERS!$G$3,\"\",IF(U140/X140>=OUTLIERS!$G$4,\"\",U140/X140)))","v":0},{"$f":"IF(ISERROR(Q140/Y140),\"\",IF(Q140/Y140<=OUTLIERS!$H$3,\"\",IF(Q140/Y140>=OUTLIERS!$H$4,\"\",Q140/Y140)))","v":0.18111320668668099},{"$f":"IF(ISERROR(W140),\"\",IF(W140<=OUTLIERS!$I$3,\"\",IF(W140>=OUTLIERS!$I$4,\"\",W140)))","v":0.49},105191800,31384800,73807000,"n/a",17668164,17668164,0,1,0,17668164,0.49,201894019,97553151]
[140,"FP054","GCF","CAF","Adaptation",{"$f":"IF(ISERROR(P141/(M141*S141)),\"\",IF((P141/(M141*S141))<=OUTLIERS!$C$3,\"\",IF((P141/(M141*S141))>=OUTLIERS!$C$4,\"\",P141/(M141*S141))))","v":""},{"$f":"IF(ISERROR(Q141/($M141*T141)),\"\",IF((Q141/($M141*T141))<=OUTLIERS!$D$3,\"\",IF((Q141/($M141*T141))>=OUTLIERS!$D$4,\"\",Q141/($M141*T141))))","v":8.8652748608032891E-3},{"$f":"IF(ISERROR((M141*S141)/P141),\"\",IF((M141*S141/P141)<=OUTLIERS!$E$3,\"\",IF((M141*S141/P141)>=OUTLIERS!$E$4,\"\",M141*S141/P141)))","v":""},{"$f":"IF(ISERROR(O141/N141),\"\",IF(O141/N141<=OUTLIERS!$F$3,\"\",IF(O141/N141>=OUTLIERS!$F$4,\"\",O141/N141)))","v":4.387974216918229},{"$f":"IF(ISERROR(U141/X141),\"\",IF(U141/X141<=OUTLIERS!$G$3,\"\",IF(U141/X141>=OUTLIERS!$G$4,\"\",U141/X141)))","v":""},{"$f":"IF(ISERROR(Q141/Y141),\"\",IF(Q141/Y141<=OUTLIERS!$H$3,\"\",IF(Q141/Y141>=OUTLIERS!$H$4,\"\",Q141/Y141)))","v":6.3148458605253935E-2},{"$f":"IF(ISERROR(W141),\"\",IF(W141<=OUTLIERS!$I$3,\"\",IF(W141>=OUTLIERS!$I$4,\"\",W141)))","v":""},315348147,58528147,256820000,"n/a",2795648,2795648,0,1,"n/a",2795648,"n/a",204024546,44271041]
[141,"FP056","GCF","UNDP","Adaptation",{"$f":"IF(ISERROR(P142/(M142*S142)),\"\",IF((P142/(M142*S142))<=OUTLIERS!$C$3,\"\",IF((P142/(M142*S142))>=OUTLIERS!$C$4,\"\",P142/(M142*S142))))","v":""},{"$f":"IF(ISERROR(Q142/($M142*T142)),\"\",IF((Q142/($M142*T142))<=OUTLIERS!$D$3,\"\",IF((Q142/($M142*T142))>=OUTLIERS!$D$4,\"\",Q142/($M142*T142))))","v":3.4605809015349665E-3},{"$f":"IF(ISERROR((M142*S142)/P142),\"\",IF((M142*S142/P142)<=OUTLIERS!$E$3,\"\",IF((M142*S142/P142)>=OUTLIERS!$E$4,\"\",M142*S142/P142)))","v":""},{"$f":"IF(ISERROR(O142/N142),\"\",IF(O142/N142<=OUTLIERS!$F$3,\"\",IF(O142/N142>=OUTLIERS!$F$4,\"\",O142/N142)))","v":2.0448109127238738},{"$f":"IF(ISERROR(U142/X142),\"\",IF(U142/X142<=OUTLIERS!$G$3,\"\",IF(U142/X142>=OUTLIERS!$G$4,\"\",U142/X142)))","v":0},{"$f":"IF(ISERROR(Q142/Y142),\"\",IF(Q142/Y142<=OUTLIERS!$H$3,\"\",IF(Q142/Y142>=OUTLIERS!$H$4,\"\",Q142/Y142)))","v":8.2669910486192818E-3},{"$f":"IF(ISERROR(W142),\"\",IF(W142<=OUTLIERS!$I$3,\"\",IF(W142>=OUTLIERS!$I$4,\"\",W142)))","v":0.46989098305084748},117212980,38495980,78717000,"n/a",405625,405625,0,1,0,405625,0.46989098305084748,84091644,49065615]
[142,"FP058","GCF","MoFEC","Adaptation",{"$f":"IF(ISERROR(P143/(M143*S143)),\"\",IF((P143/(M143*S143))<=OUTLIERS!$C$3,\"\",IF((P143/(M143*S143))>=OUTLIERS!$C$4,\"\",P143/(M143*S143))))","v":""},{"$f":"IF(ISERROR(Q143/($M143*T143)),\"\",IF((Q143/($M143*T143))<=OUTLIERS!$D$3,\"\",IF((Q143/($M143*T143))>=OUTLIERS!$D$4,\"\",Q143/($M143*T143))))","v":2.6420685282921706E-2},{"$f":"IF(ISERROR((M143*S143)/P143),\"\",IF((M143*S143/P143)<=OUTLIERS!$E$3,\"\",IF((M143*S143/P143)>=OUTLIERS!$E$4,\"\",M143*S143/P143)))","v":""},{"$f":"IF(ISERROR(O143/N143),\"\",IF(O143/N143<=OUTLIERS!$F$3,\"\",IF(O143/N143>=OUTLIERS!$F$4,\"\",O143/N143)))","v":0.11017313405162558},{"$f":"IF(ISERROR(U143/X143),\"\",IF(U143/X143<=OUTLIERS!$G$3,\"\",IF(U143/X143>=OUTLIERS!$G$4,\"\",U143/X143)))","v":""},{"$f":"IF(ISERROR(Q143/Y143),\"\",IF(Q143/Y143<=OUTLIERS!$H$3,\"\",IF(Q143/Y143>=OUTLIERS!$H$4,\"\",Q143/Y143)))","v":1.2576526496387993E-2},{"$f":"IF(ISERROR(W143),\"\",IF(W143<=OUTLIERS!$I$3,\"\",IF(W143>=OUTLIERS!$I$4,\"\",W143)))","v":0.5},49960854,45002759,4958095,"n/a",1320000,1320000,0,1,"n/a",1320000,0.5,11598721,104957438]
[143,"FP059","GCF","GIZ","Adaptation",{"$f":"IF(ISERROR(P144/(M144*S144)),\"\",IF((P144/(M144*S144))<=OUTLIERS!$C$3,\"\",IF((P144/(M144*S144))>=OUTLIERS!$C$4,\"\",P144/(M144*S144))))","v":""},{"$f":"IF(ISERROR(Q144/($M144*T144)),\"\",IF((Q144/($M144*T144))<=OUTLIERS!$D$3,\"\",IF((Q144/($M144*T144))>=OUTLIERS!$D$4,\"\",Q144/($M144*T144))))","v":2.3143899736538303E-3},{"$f":"IF(ISERROR((M144*S144)/P144),\"\",IF((M144*S144/P144)<=OUTLIERS!$E$3,\"\",IF((M144*S144/P144)>=OUTLIERS!$E$4,\"\",M144*S144/P144)))","v":""},{"$f":"IF(ISERROR(O144/N144),\"\",IF(O144/N144<=OUTLIERS!$F$3,\"\",IF(O144/N144>=OUTLIERS!$F$4,\"\",O144/N144)))","v":0.19175352181131369},{"$f":"IF(ISERROR(U144/X144),\"\",IF(U144/X144<=OUTLIERS!$G$3,\"\",IF(U144/X144>=OUTLIERS!$G$4,\"\",U144/X144)))","v":0},{"$f":"IF(ISERROR(Q144/Y144),\"\",IF(Q144/Y144<=OUTLIERS!$H$3,\"\",IF(Q144/Y144>=OUTLIERS!$H$4,\"\",Q144/Y144)))","v":0.99528866218409462},{"$f":"IF(ISERROR(W144),\"\",IF(W144<=OUTLIERS!$I$3,\"\",IF(W144>=OUTLIERS!$I$4,\"\",W144)))","v":0.46410000000000001},46369454.25,38908594.270000003,7460859.9800000004,"n/a",107317,107317,0,1,0,107317,0.46410000000000001,242022,107825]
[144,"FP060","GCF","CCCCC","Cross-cutting",{"$f":"IF(ISERROR(P145/(M145*S145)),\"\",IF((P145/(M145*S145))<=OUTLIERS!$C$3,\"\",IF((P145/(M145*S145))>=OUTLIERS!$C$4,\"\",P145/(M145*S145))))","v":1.6959566685542129E-2},{"$f":"IF(ISERROR(Q145/($M145*T145)),\"\",IF((Q145/($M145*T145))<=OUTLIERS!$D$3,\"\",IF((Q145/($M145*T145))>=OUTLIERS!$D$4,\"\",Q145/($M145*T145))))","v":""},{"$f":"IF(ISERROR((M145*S145)/P145),\"\",IF((M145*S145/P145)<=OUTLIERS!$E$3,\"\",IF((M145*S145/P145)>=OUTLIERS!$E$4,\"\",M145*S145/P145)))","v":58.963770628201871},{"$f":"IF(ISERROR(O145/N145),\"\",IF(O145/N145<=OUTLIERS!$F$3,\"\",IF(O145/N145>=OUTLIERS!$F$4,\"\",O145/N145)))","v":0.63756542743509237},{"$f":"IF(ISERROR(U145/X145),\"\",IF(U145/X145<=OUTLIERS!$G$3,\"\",IF(U145/X145>=OUTLIERS!$G$4,\"\",U145/X145)))","v":5.767979698989901E-3},{"$f":"IF(ISERROR(Q145/Y145),\"\",IF(Q145/Y145<=OUTLIERS!$H$3,\"\",IF(Q145/Y145>=OUTLIERS!$H$4,\"\",Q145/Y145)))","v":""},{"$f":"IF(ISERROR(W145),\"\",IF(W145<=OUTLIERS!$I$3,\"\",IF(W145>=OUTLIERS!$I$4,\"\",W145)))","v":0.52099991139203117},45205010,27605010,17600000,220184,"",473998,0.28720000000000001,0.7128000000000001,7339.46,473998,0.52099991139203117,1272449,285719]
[145,"FP061","GCF","DOE_ATG","Adaptation",{"$f":"IF(ISERROR(P146/(M146*S146)),\"\",IF((P146/(M146*S146))<=OUTLIERS!$C$3,\"\",IF((P146/(M146*S146))>=OUTLIERS!$C$4,\"\",P146/(M146*S146))))","v":""},{"$f":"IF(ISERROR(Q146/($M146*T146)),\"\",IF((Q146/($M146*T146))<=OUTLIERS!$D$3,\"\",IF((Q146/($M146*T146))>=OUTLIERS!$D$4,\"\",Q146/($M146*T146))))","v":3.6421059347717436E-3},{"$f":"IF(ISERROR((M146*S146)/P146),\"\",IF((M146*S146/P146)<=OUTLIERS!$E$3,\"\",IF((M146*S146/P146)>=OUTLIERS!$E$4,\"\",M146*S146/P146)))","v":""},{"$f":"IF(ISERROR(O146/N146),\"\",IF(O146/N146<=OUTLIERS!$F$3,\"\",IF(O146/N146>=OUTLIERS!$F$4,\"\",O146/N146)))","v":0.128468},{"$f":"IF(ISERROR(U146/X146),\"\",IF(U146/X146<=OUTLIERS!$G$3,\"\",IF(U146/X146>=OUTLIERS!$G$4,\"\",U146/X146)))","v":""},{"$f":"IF(ISERROR(Q146/Y146),\"\",IF(Q146/Y146<=OUTLIERS!$H$3,\"\",IF(Q146/Y146>=OUTLIERS!$H$4,\"\",Q146/Y146)))","v":0.86903813759418114},{"$f":"IF(ISERROR(W146),\"\",IF(W146<=OUTLIERS!$I$3,\"\",IF(W146>=OUTLIERS!$I$4,\"\",W146)))","v":0.5},22569360,20000000,2569360,"n/a",82200,82200,0,1,"n/a",82200,0.5,303138.66666666663,94587.333333333328]
[146,"FP062","GCF","FAO","Cross-cutting",{"$f":"IF(ISERROR(P147/(M147*S147)),\"\",IF((P147/(M147*S147))<=OUTLIERS!$C$3,\"\",IF((P147/(M147*S147))>=OUTLIERS!$C$4,\"\",P147/(M147*S147))))","v":0.11034529457545572},{"$f":"IF(ISERROR(Q147/($M147*T147)),\"\",IF((Q147/($M147*T147))<=OUTLIERS!$D$3,\"\",IF((Q147/($M147*T147))>=OUTLIERS!$D$4,\"\",Q147/($M147*T147))))","v":""},{"$f":"IF(ISERROR((M147*S147)/P147),\"\",IF((M147*S147/P147)<=OUTLIERS!$E$3,\"\",IF((M147*S147/P147)>=OUTLIERS!$E$4,\"\",M147*S147/P147)))","v":9.0624616468460779},{"$f":"IF(ISERROR(O147/N147),\"\",IF(O147/N147<=OUTLIERS!$F$3,\"\",IF(O147/N147>=OUTLIERS!$F$4,\"\",O147/N147)))","v":2.6016017876188289},{"$f":"IF(ISERROR(U147/X147),\"\",IF(U147/X147<=OUTLIERS!$G$3,\"\",IF(U147/X147>=OUTLIERS!$G$4,\"\",U147/X147)))","v":4.5994123305364523E-2},{"$f":"IF(ISERROR(Q147/Y147),\"\",IF(Q147/Y147<=OUTLIERS!$H$3,\"\",IF(Q147/Y147>=OUTLIERS!$H$4,\"\",Q147/Y147)))","v":""},{"$f":"IF(ISERROR(W147),\"\",IF(W147<=OUTLIERS!$I$3,\"\",IF(W147>=OUTLIERS!$I$4,\"\",W147)))","v":0.5},90257495,25060376,65197119,7867997,"",807210,0.79,0.21000000000000002,262267,807210,0.5,5702185,6811297]
[147,"FP063","GCF","IDB","Mitigation",{"$f":"IF(ISERROR(P148/(M148*S148)),\"\",IF((P148/(M148*S148))<=OUTLIERS!$C$3,\"\",IF((P148/(M148*S148))>=OUTLIERS!$C$4,\"\",P148/(M148*S148))))","v":9.3137186046511625E-2},{"$f":"IF(ISERROR(Q148/($M148*T148)),\"\",IF((Q148/($M148*T148))<=OUTLIERS!$D$3,\"\",IF((Q148/($M148*T148))>=OUTLIERS!$D$4,\"\",Q148/($M148*T148))))","v":""},{"$f":"IF(ISERROR((M148*S148)/P148),\"\",IF((M148*S148/P148)<=OUTLIERS!$E$3,\"\",IF((M148*S148/P148)>=OUTLIERS!$E$4,\"\",M148*S148/P148)))","v":10.736850042909946},{"$f":"IF(ISERROR(O148/N148),\"\",IF(O148/N148<=OUTLIERS!$F$3,\"\",IF(O148/N148>=OUTLIERS!$F$4,\"\",O148/N148)))","v":0.86956521739130432},{"$f":"IF(ISERROR(U148/X148),\"\",IF(U148/X148<=OUTLIERS!$G$3,\"\",IF(U148/X148>=OUTLIERS!$G$4,\"\",U148/X148)))","v":4.7243819693678829E-2},{"$f":"IF(ISERROR(Q148/Y148),\"\",IF(Q148/Y148<=OUTLIERS!$H$3,\"\",IF(Q148/Y148>=OUTLIERS!$H$4,\"\",Q148/Y148)))","v":""},{"$f":"IF(ISERROR(W148),\"\",IF(W148<=OUTLIERS!$I$3,\"\",IF(W148>=OUTLIERS!$I$4,\"\",W148)))","v":""},43000000,23000000,20000000,4004899,"","",1,0,269393,"n/a","n/a",5702185,6811297]
[148,"FP064","GCF","IDB","Mitigation",{"$f":"IF(ISERROR(P149/(M149*S149)),\"\",IF((P149/(M149*S149))<=OUTLIERS!$C$3,\"\",IF((P149/(M149*S149))>=OUTLIERS!$C$4,\"\",P149/(M149*S149))))","v":5.5601696673786997E-2},{"$f":"IF(ISERROR(Q149/($M149*T149)),\"\",IF((Q149/($M149*T149))<=OUTLIERS!$D$3,\"\",IF((Q149/($M149*T149))>=OUTLIERS!$D$4,\"\",Q149/($M149*T149))))","v":""},{"$f":"IF(ISERROR((M149*S149)/P149),\"\",IF((M149*S149/P149)<=OUTLIERS!$E$3,\"\",IF((M149*S149/P149)>=OUTLIERS!$E$4,\"\",M149*S149/P149)))","v":17.985062683733577},{"$f":"IF(ISERROR(O149/N149),\"\",IF(O149/N149<=OUTLIERS!$F$3,\"\",IF(O149/N149>=OUTLIERS!$F$4,\"\",O149/N149)))","v":0.59077669902912622},{"$f":"IF(ISERROR(U149/X149),\"\",IF(U149/X149<=OUTLIERS!$G$3,\"\",IF(U149/X149>=OUTLIERS!$G$4,\"\",U149/X149)))","v":2.2326578293182429E-3},{"$f":"IF(ISERROR(Q149/Y149),\"\",IF(Q149/Y149<=OUTLIERS!$H$3,\"\",IF(Q149/Y149>=OUTLIERS!$H$4,\"\",Q149/Y149)))","v":""},{"$f":"IF(ISERROR(W149),\"\",IF(W149<=OUTLIERS!$I$3,\"\",IF(W149>=OUTLIERS!$I$4,\"\",W149)))","v":""},163850000,103000000,60850000,9110338,"","",1,0,455517,"n/a","n/a",204024546,44271041]
[149,"FP065","GCF","WorldBank","Mitigation",{"$f":"IF(ISERROR(P150/(M150*S150)),\"\",IF((P150/(M150*S150))<=OUTLIERS!$C$3,\"\",IF((P150/(M150*S150))>=OUTLIERS!$C$4,\"\",P150/(M150*S150))))","v":1.3300153139356815E-2},{"$f":"IF(ISERROR(Q150/($M150*T150)),\"\",IF((Q150/($M150*T150))<=OUTLIERS!$D$3,\"\",IF((Q150/($M150*T150))>=OUTLIERS!$D$4,\"\",Q150/($M150*T150))))","v":""},{"$f":"IF(ISERROR((M150*S150)/P150),\"\",IF((M150*S150/P150)<=OUTLIERS!$E$3,\"\",IF((M150*S150/P150)>=OUTLIERS!$E$4,\"\",M150*S150/P150)))","v":75.187104202648243},{"$f":"IF(ISERROR(O150/N150),\"\",IF(O150/N150<=OUTLIERS!$F$3,\"\",IF(O150/N150>=OUTLIERS!$F$4,\"\",O150/N150)))","v":5.6974358974358976},{"$f":"IF(ISERROR(U150/X150),\"\",IF(U150/X150<=OUTLIERS!$G$3,\"\",IF(U150/X150>=OUTLIERS!$G$4,\"\",U150/X150)))","v":3.9636988603573035E-3},{"$f":"IF(ISERROR(Q150/Y150),\"\",IF(Q150/Y150<=OUTLIERS!$H$3,\"\",IF(Q150/Y150>=OUTLIERS!$H$4,\"\",Q150/Y150)))","v":""},{"$f":"IF(ISERROR(W150),\"\",IF(W150<=OUTLIERS!$I$3,\"\",IF(W150>=OUTLIERS!$I$4,\"\",W150)))","v":""},1306000000,195000000,1111000000,17370000,"","",1,0,2100000,"n/a","n/a",529808160.00000006,209288278]
[150,"FP066","GCF","WorldBank","Adaptation",{"$f":"IF(ISERROR(P151/(M151*S151)),\"\",IF((P151/(M151*S151))<=OUTLIERS!$C$3,\"\",IF((P151/(M151*S151))>=OUTLIERS!$C$4,\"\",P151/(M151*S151))))","v":""},{"$f":"IF(ISERROR(Q151/($M151*T151)),\"\",IF((Q151/($M151*T151))<=OUTLIERS!$D$3,\"\",IF((Q151/($M151*T151))>=OUTLIERS!$D$4,\"\",Q151/($M151*T151))))","v":9.018603702612676E-4},{"$f":"IF(ISERROR((M151*S151)/P151),\"\",IF((M151*S151/P151)<=OUTLIERS!$E$3,\"\",IF((M151*S151/P151)>=OUTLIERS!$E$4,\"\",M151*S151/P151)))","v":""},{"$f":"IF(ISERROR(O151/N151),\"\",IF(O151/N151<=OUTLIERS!$F$3,\"\",IF(O151/N151>=OUTLIERS!$F$4,\"\",O151/N151)))","v":0.76524000000000003},{"$f":"IF(ISERROR(U151/X151),\"\",IF(U151/X151<=OUTLIERS!$G$3,\"\",IF(U151/X151>=OUTLIERS!$G$4,\"\",U151/X151)))","v":""},{"$f":"IF(ISERROR(Q151/Y151),\"\",IF(Q151/Y151<=OUTLIERS!$H$3,\"\",IF(Q151/Y151>=OUTLIERS!$H$4,\"\",Q151/Y151)))","v":0.74914826735934648},{"$f":"IF(ISERROR(W151),\"\",IF(W151<=OUTLIERS!$I$3,\"\",IF(W151>=OUTLIERS!$I$4,\"\",W151)))","v":0.52512562814070352},44131000,25000000,19131000,"n/a",39800,39800,0,1,"n/a",39800,0.52512562814070352,102676,53127]
[151,"FP067","GCF","WFP","Adaptation",{"$f":"IF(ISERROR(P152/(M152*S152)),\"\",IF((P152/(M152*S152))<=OUTLIERS!$C$3,\"\",IF((P152/(M152*S152))>=OUTLIERS!$C$4,\"\",P152/(M152*S152))))","v":""},{"$f":"IF(ISERROR(Q152/($M152*T152)),\"\",IF((Q152/($M152*T152))<=OUTLIERS!$D$3,\"\",IF((Q152/($M152*T152))>=OUTLIERS!$D$4,\"\",Q152/($M152*T152))))","v":1.2032499781910941E-2},{"$f":"IF(ISERROR((M152*S152)/P152),\"\",IF((M152*S152/P152)<=OUTLIERS!$E$3,\"\",IF((M152*S152/P152)>=OUTLIERS!$E$4,\"\",M152*S152/P152)))","v":""},{"$f":"IF(ISERROR(O152/N152),\"\",IF(O152/N152<=OUTLIERS!$F$3,\"\",IF(O152/N152>=OUTLIERS!$F$4,\"\",O152/N152)))","v":7.5418937183523174E-2},{"$f":"IF(ISERROR(U152/X152),\"\",IF(U152/X152<=OUTLIERS!$G$3,\"\",IF(U152/X152>=OUTLIERS!$G$4,\"\",U152/X152)))","v":""},{"$f":"IF(ISERROR(Q152/Y152),\"\",IF(Q152/Y152<=OUTLIERS!$H$3,\"\",IF(Q152/Y152>=OUTLIERS!$H$4,\"\",Q152/Y152)))","v":1.3450889625026188E-2},{"$f":"IF(ISERROR(W152),\"\",IF(W152<=OUTLIERS!$I$3,\"\",IF(W152>=OUTLIERS!$I$4,\"\",W152)))","v":0.52},9972990,9273586,699404,"n/a",120000,120000,0,1,"n/a",120000,0.52,5188805,8921343]
[152,"FP068","GCF","UNDP","Adaptation",{"$f":"IF(ISERROR(P153/(M153*S153)),\"\",IF((P153/(M153*S153))<=OUTLIERS!$C$3,\"\",IF((P153/(M153*S153))>=OUTLIERS!$C$4,\"\",P153/(M153*S153))))","v":""},{"$f":"IF(ISERROR(Q153/($M153*T153)),\"\",IF((Q153/($M153*T153))<=OUTLIERS!$D$3,\"\",IF((Q153/($M153*T153))>=OUTLIERS!$D$4,\"\",Q153/($M153*T153))))","v":5.2779365663724993E-2},{"$f":"IF(ISERROR((M153*S153)/P153),\"\",IF((M153*S153/P153)<=OUTLIERS!$E$3,\"\",IF((M153*S153/P153)>=OUTLIERS!$E$4,\"\",M153*S153/P153)))","v":""},{"$f":"IF(ISERROR(O153/N153),\"\",IF(O153/N153<=OUTLIERS!$F$3,\"\",IF(O153/N153>=OUTLIERS!$F$4,\"\",O153/N153)))","v":1.5982725846669268},{"$f":"IF(ISERROR(U153/X153),\"\",IF(U153/X153<=OUTLIERS!$G$3,\"\",IF(U153/X153>=OUTLIERS!$G$4,\"\",U153/X153)))","v":0},{"$f":"IF(ISERROR(Q153/Y153),\"\",IF(Q153/Y153<=OUTLIERS!$H$3,\"\",IF(Q153/Y153>=OUTLIERS!$H$4,\"\",Q153/Y153)))","v":0.99808990879987092},{"$f":"IF(ISERROR(W153),\"\",IF(W153<=OUTLIERS!$I$3,\"\",IF(W153>=OUTLIERS!$I$4,\"\",W153)))","v":0.52},70292622,27053598,43239024,"n/a",3710000,3710000,0,1,0,3710000,0.52,8987817,3717100]
[153,"FP069","GCF","UNDP","Adaptation",{"$f":"IF(ISERROR(P154/(M154*S154)),\"\",IF((P154/(M154*S154))<=OUTLIERS!$C$3,\"\",IF((P154/(M154*S154))>=OUTLIERS!$C$4,\"\",P154/(M154*S154))))","v":""},{"$f":"IF(ISERROR(Q154/($M154*T154)),\"\",IF((Q154/($M154*T154))<=OUTLIERS!$D$3,\"\",IF((Q154/($M154*T154))>=OUTLIERS!$D$4,\"\",Q154/($M154*T154))))","v":2.1808035172832019E-2},{"$f":"IF(ISERROR((M154*S154)/P154),\"\",IF((M154*S154/P154)<=OUTLIERS!$E$3,\"\",IF((M154*S154/P154)>=OUTLIERS!$E$4,\"\",M154*S154/P154)))","v":""},{"$f":"IF(ISERROR(O154/N154),\"\",IF(O154/N154<=OUTLIERS!$F$3,\"\",IF(O154/N154>=OUTLIERS!$F$4,\"\",O154/N154)))","v":0.32025620496397117},{"$f":"IF(ISERROR(U154/X154),\"\",IF(U154/X154<=OUTLIERS!$G$3,\"\",IF(U154/X154>=OUTLIERS!$G$4,\"\",U154/X154)))","v":0},{"$f":"IF(ISERROR(Q154/Y154),\"\",IF(Q154/Y154<=OUTLIERS!$H$3,\"\",IF(Q154/Y154>=OUTLIERS!$H$4,\"\",Q154/Y154)))","v":4.3677056389063223E-3},{"$f":"IF(ISERROR(W154),\"\",IF(W154<=OUTLIERS!$I$3,\"\",IF(W154>=OUTLIERS!$I$4,\"\",W154)))","v":0.5},32980000,24980000,8000000,"n/a",719229,719229,0,1,0,719229,0.5,73189653,164669751]
[154,"FP070","GCF","WorldBank","Cross-cutting",{"$f":"IF(ISERROR(P155/(M155*S155)),\"\",IF((P155/(M155*S155))<=OUTLIERS!$C$3,\"\",IF((P155/(M155*S155))>=OUTLIERS!$C$4,\"\",P155/(M155*S155))))","v":7.2249999999999995E-2},{"$f":"IF(ISERROR(Q155/($M155*T155)),\"\",IF((Q155/($M155*T155))<=OUTLIERS!$D$3,\"\",IF((Q155/($M155*T155))>=OUTLIERS!$D$4,\"\",Q155/($M155*T155))))","v":""},{"$f":"IF(ISERROR((M155*S155)/P155),\"\",IF((M155*S155/P155)<=OUTLIERS!$E$3,\"\",IF((M155*S155/P155)>=OUTLIERS!$E$4,\"\",M155*S155/P155)))","v":13.84083044982699},{"$f":"IF(ISERROR(O155/N155),\"\",IF(O155/N155<=OUTLIERS!$F$3,\"\",IF(O155/N155>=OUTLIERS!$F$4,\"\",O155/N155)))","v":1},{"$f":"IF(ISERROR(U155/X155),\"\",IF(U155/X155<=OUTLIERS!$G$3,\"\",IF(U155/X155>=OUTLIERS!$G$4,\"\",U155/X155)))","v":1.3161696503739401E-2},{"$f":"IF(ISERROR(Q155/Y155),\"\",IF(Q155/Y155<=OUTLIERS!$H$3,\"\",IF(Q155/Y155>=OUTLIERS!$H$4,\"\",Q155/Y155)))","v":""},{"$f":"IF(ISERROR(W155),\"\",IF(W155<=OUTLIERS!$I$3,\"\",IF(W155>=OUTLIERS!$I$4,\"\",W155)))","v":0.495},40000000,20000000,20000000,2890000,"",17600000,1,0,963300,17600000,0.495,73189653,164669751]
[155,"FP071","GCF","WorldBank","Mitigation",{"$f":"IF(ISERROR(P156/(M156*S156)),\"\",IF((P156/(M156*S156))<=OUTLIERS!$C$3,\"\",IF((P156/(M156*S156))>=OUTLIERS!$C$4,\"\",P156/(M156*S156))))","v":0.24135156878519709},{"$f":"IF(ISERROR(Q156/($M156*T156)),\"\",IF((Q156/($M156*T156))<=OUTLIERS!$D$3,\"\",IF((Q156/($M156*T156))>=OUTLIERS!$D$4,\"\",Q156/($M156*T156))))","v":""},{"$f":"IF(ISERROR((M156*S156)/P156),\"\",IF((M156*S156/P156)<=OUTLIERS!$E$3,\"\",IF((M156*S156/P156)>=OUTLIERS!$E$4,\"\",M156*S156/P156)))","v":4.1433333333333335},{"$f":"IF(ISERROR(O156/N156),\"\",IF(O156/N156<=OUTLIERS!$F$3,\"\",IF(O156/N156>=OUTLIERS!$F$4,\"\",O156/N156)))","v":4.7612977983777522},{"$f":"IF(ISERROR(U156/X156),\"\",IF(U156/X156<=OUTLIERS!$G$3,\"\",IF(U156/X156>=OUTLIERS!$G$4,\"\",U156/X156)))","v":7.1894671861304341E-2},{"$f":"IF(ISERROR(Q156/Y156),\"\",IF(Q156/Y156<=OUTLIERS!$H$3,\"\",IF(Q156/Y156>=OUTLIERS!$H$4,\"\",Q156/Y156)))","v":""},{"$f":"IF(ISERROR(W156),\"\",IF(W156<=OUTLIERS!$I$3,\"\",IF(W156>=OUTLIERS!$I$4,\"\",W156)))","v":""},497200000,86300000,410900000,120000000,"","",1,0,12000000,"n/a","n/a",166910839,95540800]
[156,"FP072","GCF","UNDP","Adaptation",{"$f":"IF(ISERROR(P157/(M157*S157)),\"\",IF((P157/(M157*S157))<=OUTLIERS!$C$3,\"\",IF((P157/(M157*S157))>=OUTLIERS!$C$4,\"\",P157/(M157*S157))))","v":""},{"$f":"IF(ISERROR(Q157/($M157*T157)),\"\",IF((Q157/($M157*T157))<=OUTLIERS!$D$3,\"\",IF((Q157/($M157*T157))>=OUTLIERS!$D$4,\"\",Q157/($M157*T157))))","v":2.874759049749033E-2},{"$f":"IF(ISERROR((M157*S157)/P157),\"\",IF((M157*S157/P157)<=OUTLIERS!$E$3,\"\",IF((M157*S157/P157)>=OUTLIERS!$E$4,\"\",M157*S157/P157)))","v":""},{"$f":"IF(ISERROR(O157/N157),\"\",IF(O157/N157<=OUTLIERS!$F$3,\"\",IF(O157/N157>=OUTLIERS!$F$4,\"\",O157/N157)))","v":3.2896562500000002},{"$f":"IF(ISERROR(U157/X157),\"\",IF(U157/X157<=OUTLIERS!$G$3,\"\",IF(U157/X157>=OUTLIERS!$G$4,\"\",U157/X157)))","v":0},{"$f":"IF(ISERROR(Q157/Y157),\"\",IF(Q157/Y157<=OUTLIERS!$H$3,\"\",IF(Q157/Y157>=OUTLIERS!$H$4,\"\",Q157/Y157)))","v":0.23084842574614794},{"$f":"IF(ISERROR(W157),\"\",IF(W157<=OUTLIERS!$I$3,\"\",IF(W157>=OUTLIERS!$I$4,\"\",W157)))","v":0.5},137269000,32000000,105269000,"n/a",3946153,3946153,0,1,0,3946153,0.5,4503076,17094130]
[157,"FP073","GCF","MINIRENA","Cross-cutting",{"$f":"IF(ISERROR(P158/(M158*S158)),\"\",IF((P158/(M158*S158))<=OUTLIERS!$C$3,\"\",IF((P158/(M158*S158))>=OUTLIERS!$C$4,\"\",P158/(M158*S158))))","v":2.7113004263129452E-2},{"$f":"IF(ISERROR(Q158/($M158*T158)),\"\",IF((Q158/($M158*T158))<=OUTLIERS!$D$3,\"\",IF((Q158/($M158*T158))>=OUTLIERS!$D$4,\"\",Q158/($M158*T158))))","v":""},{"$f":"IF(ISERROR((M158*S158)/P158),\"\",IF((M158*S158/P158)<=OUTLIERS!$E$3,\"\",IF((M158*S158/P158)>=OUTLIERS!$E$4,\"\",M158*S158/P158)))","v":36.882670407715914},{"$f":"IF(ISERROR(O158/N158),\"\",IF(O158/N158<=OUTLIERS!$F$3,\"\",IF(O158/N158>=OUTLIERS!$F$4,\"\",O158/N158)))","v":1.097716497204008E-2},{"$f":"IF(ISERROR(U158/X158),\"\",IF(U158/X158<=OUTLIERS!$G$3,\"\",IF(U158/X158>=OUTLIERS!$G$4,\"\",U158/X158)))","v":5.4326145022941544E-2},{"$f":"IF(ISERROR(Q158/Y158),\"\",IF(Q158/Y158<=OUTLIERS!$H$3,\"\",IF(Q158/Y158>=OUTLIERS!$H$4,\"\",Q158/Y158)))","v":""},{"$f":"IF(ISERROR(W158),\"\",IF(W158<=OUTLIERS!$I$3,\"\",IF(W158>=OUTLIERS!$I$4,\"\",W158)))","v":0.52},33154432,32794442,359990,273720,"",531465,0.30449999999999999,0.69550000000000001,45620,531465,0.52,839743,12208407]
[158,"FP074","GCF","WorldBank","Adaptation",{"$f":"IF(ISERROR(P159/(M159*S159)),\"\",IF((P159/(M159*S159))<=OUTLIERS!$C$3,\"\",IF((P159/(M159*S159))>=OUTLIERS!$C$4,\"\",P159/(M159*S159))))","v":""},{"$f":"IF(ISERROR(Q159/($M159*T159)),\"\",IF((Q159/($M159*T159))<=OUTLIERS!$D$3,\"\",IF((Q159/($M159*T159))>=OUTLIERS!$D$4,\"\",Q159/($M159*T159))))","v":0.28000000000000003},{"$f":"IF(ISERROR((M159*S159)/P159),\"\",IF((M159*S159/P159)<=OUTLIERS!$E$3,\"\",IF((M159*S159/P159)>=OUTLIERS!$E$4,\"\",M159*S159/P159)))","v":""},{"$f":"IF(ISERROR(O159/N159),\"\",IF(O159/N159<=OUTLIERS!$F$3,\"\",IF(O159/N159>=OUTLIERS!$F$4,\"\",O159/N159)))","v":0.1111111111111111},{"$f":"IF(ISERROR(U159/X159),\"\",IF(U159/X159<=OUTLIERS!$G$3,\"\",IF(U159/X159>=OUTLIERS!$G$4,\"\",U159/X159)))","v":""},{"$f":"IF(ISERROR(Q159/Y159),\"\",IF(Q159/Y159<=OUTLIERS!$H$3,\"\",IF(Q159/Y159>=OUTLIERS!$H$4,\"\",Q159/Y159)))","v":0.36470904398193088},{"$f":"IF(ISERROR(W159),\"\",IF(W159<=OUTLIERS!$I$3,\"\",IF(W159>=OUTLIERS!$I$4,\"\",W159)))","v":0.5},25000000,22500000,2500000,"n/a",7000000,7000000,0,1,"n/a",7000000,0.5,2849259,19193382]
[159,"FP075","GCF","ADB","Adaptation",{"$f":"IF(ISERROR(P160/(M160*S160)),\"\",IF((P160/(M160*S160))<=OUTLIERS!$C$3,\"\",IF((P160/(M160*S160))>=OUTLIERS!$C$4,\"\",P160/(M160*S160))))","v":""},{"$f":"IF(ISERROR(Q160/($M160*T160)),\"\",IF((Q160/($M160*T160))<=OUTLIERS!$D$3,\"\",IF((Q160/($M160*T160))>=OUTLIERS!$D$4,\"\",Q160/($M160*T160))))","v":0.87350000000000005},{"$f":"IF(ISERROR((M160*S160)/P160),\"\",IF((M160*S160/P160)<=OUTLIERS!$E$3,\"\",IF((M160*S160/P160)>=OUTLIERS!$E$4,\"\",M160*S160/P160)))","v":""},{"$f":"IF(ISERROR(O160/N160),\"\",IF(O160/N160<=OUTLIERS!$F$3,\"\",IF(O160/N160>=OUTLIERS!$F$4,\"\",O160/N160)))","v":1},{"$f":"IF(ISERROR(U160/X160),\"\",IF(U160/X160<=OUTLIERS!$G$3,\"\",IF(U160/X160>=OUTLIERS!$G$4,\"\",U160/X160)))","v":0},{"$f":"IF(ISERROR(Q160/Y160),\"\",IF(Q160/Y160<=OUTLIERS!$H$3,\"\",IF(Q160/Y160>=OUTLIERS!$H$4,\"\",Q160/Y160)))","v":0.97911267395503121},{"$f":"IF(ISERROR(W160),\"\",IF(W160<=OUTLIERS!$I$3,\"\",IF(W160>=OUTLIERS!$I$4,\"\",W160)))","v":0.5},10000000,5000000,5000000,"n/a",8735000,8735000,0,1,0,8735000,0.5,5188805,8921343]
[160,"FP076","GCF","ADB","Cross-cutting",{"$f":"IF(ISERROR(P161/(M161*S161)),\"\",IF((P161/(M161*S161))<=OUTLIERS!$C$3,\"\",IF((P161/(M161*S161))>=OUTLIERS!$C$4,\"\",P161/(M161*S161))))","v":7.0901871809415772E-3},{"$f":"IF(ISERROR(Q161/($M161*T161)),\"\",IF((Q161/($M161*T161))<=OUTLIERS!$D$3,\"\",IF((Q161/($M161*T161))>=OUTLIERS!$D$4,\"\",Q161/($M161*T161))))","v":""},{"$f":"IF(ISERROR((M161*S161)/P161),\"\",IF((M161*S161/P161)<=OUTLIERS!$E$3,\"\",IF((M161*S161/P161)>=OUTLIERS!$E$4,\"\",M161*S161/P161)))","v":141.04},{"$f":"IF(ISERROR(O161/N161),\"\",IF(O161/N161<=OUTLIERS!$F$3,\"\",IF(O161/N161>=OUTLIERS!$F$4,\"\",O161/N161)))","v":2.5259999999999998},{"$f":"IF(ISERROR(U161/X161),\"\",IF(U161/X161<=OUTLIERS!$G$3,\"\",IF(U161/X161>=OUTLIERS!$G$4,\"\",U161/X161)))","v":5.2356483026551768E-3},{"$f":"IF(ISERROR(Q161/Y161),\"\",IF(Q161/Y161<=OUTLIERS!$H$3,\"\",IF(Q161/Y161>=OUTLIERS!$H$4,\"\",Q161/Y161)))","v":""},{"$f":"IF(ISERROR(W161),\"\",IF(W161<=OUTLIERS!$I$3,\"\",IF(W161>=OUTLIERS!$I$4,\"\",W161)))","v":0.4},141040000,40000000,101040000,240000,"",1365000,0.24,0.76,35000,1365000,0.4,6684941,16005373]
[161,"FP077","GCF","ADB","Cross-cutting",{"$f":"IF(ISERROR(P162/(M162*S162)),\"\",IF((P162/(M162*S162))<=OUTLIERS!$C$3,\"\",IF((P162/(M162*S162))>=OUTLIERS!$C$4,\"\",P162/(M162*S162))))","v":4.6306528168050601E-2},{"$f":"IF(ISERROR(Q162/($M162*T162)),\"\",IF((Q162/($M162*T162))<=OUTLIERS!$D$3,\"\",IF((Q162/($M162*T162))>=OUTLIERS!$D$4,\"\",Q162/($M162*T162))))","v":""},{"$f":"IF(ISERROR((M162*S162)/P162),\"\",IF((M162*S162/P162)<=OUTLIERS!$E$3,\"\",IF((M162*S162/P162)>=OUTLIERS!$E$4,\"\",M162*S162/P162)))","v":21.595227272727271},{"$f":"IF(ISERROR(O162/N162),\"\",IF(O162/N162<=OUTLIERS!$F$3,\"\",IF(O162/N162>=OUTLIERS!$F$4,\"\",O162/N162)))","v":2.9318206896551726},{"$f":"IF(ISERROR(U162/X162),\"\",IF(U162/X162<=OUTLIERS!$G$3,\"\",IF(U162/X162>=OUTLIERS!$G$4,\"\",U162/X162)))","v":9.8087478906105554E-3},{"$f":"IF(ISERROR(Q162/Y162),\"\",IF(Q162/Y162<=OUTLIERS!$H$3,\"\",IF(Q162/Y162>=OUTLIERS!$H$4,\"\",Q162/Y162)))","v":""},{"$f":"IF(ISERROR(W162),\"\",IF(W162<=OUTLIERS!$I$3,\"\",IF(W162>=OUTLIERS!$I$4,\"\",W162)))","v":0.5},570114000,145000000,425114000,7920000,"",350000,0.3,0.7,204410,350000,0.5,20839561,3075647]
[162,"FP078","GCF","Acumen","Adaptation",{"$f":"IF(ISERROR(P163/(M163*S163)),\"\",IF((P163/(M163*S163))<=OUTLIERS!$C$3,\"\",IF((P163/(M163*S163))>=OUTLIERS!$C$4,\"\",P163/(M163*S163))))","v":""},{"$f":"IF(ISERROR(Q163/($M163*T163)),\"\",IF((Q163/($M163*T163))<=OUTLIERS!$D$3,\"\",IF((Q163/($M163*T163))>=OUTLIERS!$D$4,\"\",Q163/($M163*T163))))","v":0.17857142857142858},{"$f":"IF(ISERROR((M163*S163)/P163),\"\",IF((M163*S163/P163)<=OUTLIERS!$E$3,\"\",IF((M163*S163/P163)>=OUTLIERS!$E$4,\"\",M163*S163/P163)))","v":""},{"$f":"IF(ISERROR(O163/N163),\"\",IF(O163/N163<=OUTLIERS!$F$3,\"\",IF(O163/N163>=OUTLIERS!$F$4,\"\",O163/N163)))","v":1.1538461538461537},{"$f":"IF(ISERROR(U163/X163),\"\",IF(U163/X163<=OUTLIERS!$G$3,\"\",IF(U163/X163>=OUTLIERS!$G$4,\"\",U163/X163)))","v":0},{"$f":"IF(ISERROR(Q163/Y163),\"\",IF(Q163/Y163<=OUTLIERS!$H$3,\"\",IF(Q163/Y163>=OUTLIERS!$H$4,\"\",Q163/Y163)))","v":0.1142496340336681},{"$f":"IF(ISERROR(W163),\"\",IF(W163<=OUTLIERS!$I$3,\"\",IF(W163>=OUTLIERS!$I$4,\"\",W163)))","v":0.5},56000000,26000000,30000000,"n/a",10000000,10000000,0,1,0,10000000,0.5,38658736.333333336,87527632.666666672]
[163,"FP080","GCF","AfDB","Mitigation",{"$f":"IF(ISERROR(P164/(M164*S164)),\"\",IF((P164/(M164*S164))<=OUTLIERS!$C$3,\"\",IF((P164/(M164*S164))>=OUTLIERS!$C$4,\"\",P164/(M164*S164))))","v":2.5921636363636362E-2},{"$f":"IF(ISERROR(Q164/($M164*T164)),\"\",IF((Q164/($M164*T164))<=OUTLIERS!$D$3,\"\",IF((Q164/($M164*T164))>=OUTLIERS!$D$4,\"\",Q164/($M164*T164))))","v":""},{"$f":"IF(ISERROR((M164*S164)/P164),\"\",IF((M164*S164/P164)<=OUTLIERS!$E$3,\"\",IF((M164*S164/P164)>=OUTLIERS!$E$4,\"\",M164*S164/P164)))","v":38.577811445685946},{"$f":"IF(ISERROR(O164/N164),\"\",IF(O164/N164<=OUTLIERS!$F$3,\"\",IF(O164/N164>=OUTLIERS!$F$4,\"\",O164/N164)))","v":1.9333333333333333},{"$f":"IF(ISERROR(U164/X164),\"\",IF(U164/X164<=OUTLIERS!$G$3,\"\",IF(U164/X164>=OUTLIERS!$G$4,\"\",U164/X164)))","v":3.545960139247039E-2},{"$f":"IF(ISERROR(Q164/Y164),\"\",IF(Q164/Y164<=OUTLIERS!$H$3,\"\",IF(Q164/Y164>=OUTLIERS!$H$4,\"\",Q164/Y164)))","v":""},{"$f":"IF(ISERROR(W164),\"\",IF(W164<=OUTLIERS!$I$3,\"\",IF(W164>=OUTLIERS!$I$4,\"\",W164)))","v":""},154000000,52500000,101500000,3991932,"","",1,0,159677.28,"n/a","n/a",4503076,17094130]
[164,"FP081","GCF","NABARD","Mitigation",{"$f":"IF(ISERROR(P165/(M165*S165)),\"\",IF((P165/(M165*S165))<=OUTLIERS!$C$3,\"\",IF((P165/(M165*S165))>=OUTLIERS!$C$4,\"\",P165/(M165*S165))))","v":2.0848800000000001E-2},{"$f":"IF(ISERROR(Q165/($M165*T165)),\"\",IF((Q165/($M165*T165))<=OUTLIERS!$D$3,\"\",IF((Q165/($M165*T165))>=OUTLIERS!$D$4,\"\",Q165/($M165*T165))))","v":""},{"$f":"IF(ISERROR((M165*S165)/P165),\"\",IF((M165*S165/P165)<=OUTLIERS!$E$3,\"\",IF((M165*S165/P165)>=OUTLIERS!$E$4,\"\",M165*S165/P165)))","v":47.964391235946437},{"$f":"IF(ISERROR(O165/N165),\"\",IF(O165/N165<=OUTLIERS!$F$3,\"\",IF(O165/N165>=OUTLIERS!$F$4,\"\",O165/N165)))","v":1.5},{"$f":"IF(ISERROR(U165/X165),\"\",IF(U165/X165<=OUTLIERS!$G$3,\"\",IF(U165/X165>=OUTLIERS!$G$4,\"\",U165/X165)))","v":1.1642810127576817E-4},{"$f":"IF(ISERROR(Q165/Y165),\"\",IF(Q165/Y165<=OUTLIERS!$H$3,\"\",IF(Q165/Y165>=OUTLIERS!$H$4,\"\",Q165/Y165)))","v":""},{"$f":"IF(ISERROR(W165),\"\",IF(W165<=OUTLIERS!$I$3,\"\",IF(W165>=OUTLIERS!$I$4,\"\",W165)))","v":""},250000000,100000000,150000000,5212200,"","",1,0,260610,"n/a","n/a",2238377137,1339180127]
[165,"FP083","GCF","WorldBank","Mitigation",{"$f":"IF(ISERROR(P166/(M166*S166)),\"\",IF((P166/(M166*S166))<=OUTLIERS!$C$3,\"\",IF((P166/(M166*S166))>=OUTLIERS!$C$4,\"\",P166/(M166*S166))))","v":0.27365853658536587},{"$f":"IF(ISERROR(Q166/($M166*T166)),\"\",IF((Q166/($M166*T166))<=OUTLIERS!$D$3,\"\",IF((Q166/($M166*T166))>=OUTLIERS!$D$4,\"\",Q166/($M166*T166))))","v":""},{"$f":"IF(ISERROR((M166*S166)/P166),\"\",IF((M166*S166/P166)<=OUTLIERS!$E$3,\"\",IF((M166*S166/P166)>=OUTLIERS!$E$4,\"\",M166*S166/P166)))","v":3.6541889483065955},{"$f":"IF(ISERROR(O166/N166),\"\",IF(O166/N166<=OUTLIERS!$F$3,\"\",IF(O166/N166>=OUTLIERS!$F$4,\"\",O166/N166)))","v":3.1},{"$f":"IF(ISERROR(U166/X166),\"\",IF(U166/X166<=OUTLIERS!$G$3,\"\",IF(U166/X166>=OUTLIERS!$G$4,\"\",U166/X166)))","v":0.10685597547038356},{"$f":"IF(ISERROR(Q166/Y166),\"\",IF(Q166/Y166<=OUTLIERS!$H$3,\"\",IF(Q166/Y166>=OUTLIERS!$H$4,\"\",Q166/Y166)))","v":""},{"$f":"IF(ISERROR(W166),\"\",IF(W166<=OUTLIERS!$I$3,\"\",IF(W166>=OUTLIERS!$I$4,\"\",W166)))","v":""},410000000,100000000,310000000,112200000,"","",1,0,49600000,"n/a","n/a",464176194,263991379]
[166,"FP084","GCF","UNDP","Cross-cutting",{"$f":"IF(ISERROR(P167/(M167*S167)),\"\",IF((P167/(M167*S167))<=OUTLIERS!$C$3,\"\",IF((P167/(M167*S167))>=OUTLIERS!$C$4,\"\",P167/(M167*S167))))","v":9.4240664554282566E-2},{"$f":"IF(ISERROR(Q167/($M167*T167)),\"\",IF((Q167/($M167*T167))<=OUTLIERS!$D$3,\"\",IF((Q167/($M167*T167))>=OUTLIERS!$D$4,\"\",Q167/($M167*T167))))","v":""},{"$f":"IF(ISERROR((M167*S167)/P167),\"\",IF((M167*S167/P167)<=OUTLIERS!$E$3,\"\",IF((M167*S167/P167)>=OUTLIERS!$E$4,\"\",M167*S167/P167)))","v":10.611130606193896},{"$f":"IF(ISERROR(O167/N167),\"\",IF(O167/N167<=OUTLIERS!$F$3,\"\",IF(O167/N167>=OUTLIERS!$F$4,\"\",O167/N167)))","v":2.0002945281108286},{"$f":"IF(ISERROR(U167/X167),\"\",IF(U167/X167<=OUTLIERS!$G$3,\"\",IF(U167/X167>=OUTLIERS!$G$4,\"\",U167/X167)))","v":5.484598550025308E-5},{"$f":"IF(ISERROR(Q167/Y167),\"\",IF(Q167/Y167<=OUTLIERS!$H$3,\"\",IF(Q167/Y167>=OUTLIERS!$H$4,\"\",Q167/Y167)))","v":""},{"$f":"IF(ISERROR(W167),\"\",IF(W167<=OUTLIERS!$I$3,\"\",IF(W167>=OUTLIERS!$I$4,\"\",W167)))","v":0.5},130268606,43418606,86850000,3682980,"",10000000,0.3,0.7,122766,10000000,0.5,2238377137,1339180127]
[167,"FP085","GCF","ADB","Mitigation",{"$f":"IF(ISERROR(P168/(M168*S168)),\"\",IF((P168/(M168*S168))<=OUTLIERS!$C$3,\"\",IF((P168/(M168*S168))>=OUTLIERS!$C$4,\"\",P168/(M168*S168))))","v":4.4730077120822623E-3},{"$f":"IF(ISERROR(Q168/($M168*T168)),\"\",IF((Q168/($M168*T168))<=OUTLIERS!$D$3,\"\",IF((Q168/($M168*T168))>=OUTLIERS!$D$4,\"\",Q168/($M168*T168))))","v":""},{"$f":"IF(ISERROR((M168*S168)/P168),\"\",IF((M168*S168/P168)<=OUTLIERS!$E$3,\"\",IF((M168*S168/P168)>=OUTLIERS!$E$4,\"\",M168*S168/P168)))","v":223.56321839080459},{"$f":"IF(ISERROR(O168/N168),\"\",IF(O168/N168<=OUTLIERS!$F$3,\"\",IF(O168/N168>=OUTLIERS!$F$4,\"\",O168/N168)))","v":10.908163265306122},{"$f":"IF(ISERROR(U168/X168),\"\",IF(U168/X168<=OUTLIERS!$G$3,\"\",IF(U168/X168>=OUTLIERS!$G$4,\"\",U168/X168)))","v":5.231558081268947E-4},{"$f":"IF(ISERROR(Q168/Y168),\"\",IF(Q168/Y168<=OUTLIERS!$H$3,\"\",IF(Q168/Y168>=OUTLIERS!$H$4,\"\",Q168/Y168)))","v":""},{"$f":"IF(ISERROR(W168),\"\",IF(W168<=OUTLIERS!$I$3,\"\",IF(W168>=OUTLIERS!$I$4,\"\",W168)))","v":""},583500000,49000000,534500000,2610000,"","",1,0,87000,"n/a","n/a",166298450,197015955]
[168,"FP086","GCF","EBRD","Cross-cutting",{"$f":"IF(ISERROR(P169/(M169*S169)),\"\",IF((P169/(M169*S169))<=OUTLIERS!$C$3,\"\",IF((P169/(M169*S169))>=OUTLIERS!$C$4,\"\",P169/(M169*S169))))","v":3.3942752668045535E-2},{"$f":"IF(ISERROR(Q169/($M169*T169)),\"\",IF((Q169/($M169*T169))<=OUTLIERS!$D$3,\"\",IF((Q169/($M169*T169))>=OUTLIERS!$D$4,\"\",Q169/($M169*T169))))","v":""},{"$f":"IF(ISERROR((M169*S169)/P169),\"\",IF((M169*S169/P169)<=OUTLIERS!$E$3,\"\",IF((M169*S169/P169)>=OUTLIERS!$E$4,\"\",M169*S169/P169)))","v":29.461370142246075},{"$f":"IF(ISERROR(O169/N169),\"\",IF(O169/N169<=OUTLIERS!$F$3,\"\",IF(O169/N169>=OUTLIERS!$F$4,\"\",O169/N169)))","v":5.1034482758440936},{"$f":"IF(ISERROR(U169/X169),\"\",IF(U169/X169<=OUTLIERS!$G$3,\"\",IF(U169/X169>=OUTLIERS!$G$4,\"\",U169/X169)))","v":4.0310344040524949E-2},{"$f":"IF(ISERROR(Q169/Y169),\"\",IF(Q169/Y169<=OUTLIERS!$H$3,\"\",IF(Q169/Y169>=OUTLIERS!$H$4,\"\",Q169/Y169)))","v":""},{"$f":"IF(ISERROR(W169),\"\",IF(W169<=OUTLIERS!$I$3,\"\",IF(W169>=OUTLIERS!$I$4,\"\",W169)))","v":0.50700000000000001},585446527.00999999,95920617.420000002,489525909.58999997,11923000,"",23231000,0.6,0.4,656000,23231000,0.50700000000000001,16273738.555555556,5165145.7777777771]
[169,"FP087","GCF","IUCN","Adaptation",{"$f":"IF(ISERROR(P170/(M170*S170)),\"\",IF((P170/(M170*S170))<=OUTLIERS!$C$3,\"\",IF((P170/(M170*S170))>=OUTLIERS!$C$4,\"\",P170/(M170*S170))))","v":""},{"$f":"IF(ISERROR(Q170/($M170*T170)),\"\",IF((Q170/($M170*T170))<=OUTLIERS!$D$3,\"\",IF((Q170/($M170*T170))>=OUTLIERS!$D$4,\"\",Q170/($M170*T170))))","v":3.5055533808141062E-3},{"$f":"IF(ISERROR((M170*S170)/P170),\"\",IF((M170*S170/P170)<=OUTLIERS!$E$3,\"\",IF((M170*S170/P170)>=OUTLIERS!$E$4,\"\",M170*S170/P170)))","v":""},{"$f":"IF(ISERROR(O170/N170),\"\",IF(O170/N170<=OUTLIERS!$F$3,\"\",IF(O170/N170>=OUTLIERS!$F$4,\"\",O170/N170)))","v":0.7088116672759861},{"$f":"IF(ISERROR(U170/X170),\"\",IF(U170/X170<=OUTLIERS!$G$3,\"\",IF(U170/X170>=OUTLIERS!$G$4,\"\",U170/X170)))","v":0},{"$f":"IF(ISERROR(Q170/Y170),\"\",IF(Q170/Y170<=OUTLIERS!$H$3,\"\",IF(Q170/Y170>=OUTLIERS!$H$4,\"\",Q170/Y170)))","v":7.8044152060043389E-3},{"$f":"IF(ISERROR(W170),\"\",IF(W170<=OUTLIERS!$I$3,\"\",IF(W170>=OUTLIERS!$I$4,\"\",W170)))","v":0.3},37654540,22035512,15619028,"n/a",132000,132000,0,1,0,132000,0.3,18327666,16913503]
[170,"FP089","GCF","FAO","Cross-cutting",{"$f":"IF(ISERROR(P171/(M171*S171)),\"\",IF((P171/(M171*S171))<=OUTLIERS!$C$3,\"\",IF((P171/(M171*S171))>=OUTLIERS!$C$4,\"\",P171/(M171*S171))))","v":0.10653093054547726},{"$f":"IF(ISERROR(Q171/($M171*T171)),\"\",IF((Q171/($M171*T171))<=OUTLIERS!$D$3,\"\",IF((Q171/($M171*T171))>=OUTLIERS!$D$4,\"\",Q171/($M171*T171))))","v":""},{"$f":"IF(ISERROR((M171*S171)/P171),\"\",IF((M171*S171/P171)<=OUTLIERS!$E$3,\"\",IF((M171*S171/P171)>=OUTLIERS!$E$4,\"\",M171*S171/P171)))","v":9.3869451330203812},{"$f":"IF(ISERROR(O171/N171),\"\",IF(O171/N171<=OUTLIERS!$F$3,\"\",IF(O171/N171>=OUTLIERS!$F$4,\"\",O171/N171)))","v":2.5617606684278758},{"$f":"IF(ISERROR(U171/X171),\"\",IF(U171/X171<=OUTLIERS!$G$3,\"\",IF(U171/X171>=OUTLIERS!$G$4,\"\",U171/X171)))","v":3.3545587295182776E-2},{"$f":"IF(ISERROR(Q171/Y171),\"\",IF(Q171/Y171<=OUTLIERS!$H$3,\"\",IF(Q171/Y171>=OUTLIERS!$H$4,\"\",Q171/Y171)))","v":""},{"$f":"IF(ISERROR(W171),\"\",IF(W171<=OUTLIERS!$I$3,\"\",IF(W171>=OUTLIERS!$I$4,\"\",W171)))","v":0.52},127687738,35849612,91838126,4216835,"",1289618,0.31,0.69,210842,1289618,0.52,6285238,6377853]
[171,"FP090","GCF","ADB","Mitigation",{"$f":"IF(ISERROR(P172/(M172*S172)),\"\",IF((P172/(M172*S172))<=OUTLIERS!$C$3,\"\",IF((P172/(M172*S172))>=OUTLIERS!$C$4,\"\",P172/(M172*S172))))","v":7.1511554621848739E-3},{"$f":"IF(ISERROR(Q172/($M172*T172)),\"\",IF((Q172/($M172*T172))<=OUTLIERS!$D$3,\"\",IF((Q172/($M172*T172))>=OUTLIERS!$D$4,\"\",Q172/($M172*T172))))","v":""},{"$f":"IF(ISERROR((M172*S172)/P172),\"\",IF((M172*S172/P172)<=OUTLIERS!$E$3,\"\",IF((M172*S172/P172)>=OUTLIERS!$E$4,\"\",M172*S172/P172)))","v":139.83754167951938},{"$f":"IF(ISERROR(O172/N172),\"\",IF(O172/N172<=OUTLIERS!$F$3,\"\",IF(O172/N172>=OUTLIERS!$F$4,\"\",O172/N172)))","v":0.59197324414715724},{"$f":"IF(ISERROR(U172/X172),\"\",IF(U172/X172<=OUTLIERS!$G$3,\"\",IF(U172/X172>=OUTLIERS!$G$4,\"\",U172/X172)))","v":0.11251869664741222},{"$f":"IF(ISERROR(Q172/Y172),\"\",IF(Q172/Y172<=OUTLIERS!$H$3,\"\",IF(Q172/Y172>=OUTLIERS!$H$4,\"\",Q172/Y172)))","v":""},{"$f":"IF(ISERROR(W172),\"\",IF(W172<=OUTLIERS!$I$3,\"\",IF(W172>=OUTLIERS!$I$4,\"\",W172)))","v":0.49700000000000005},47600000,29900000,17700000,340395,"",96000,1,0,13616,96000,0.49700000000000005,121011,108020]
[172,"FP091","GCF","ADB","Cross-cutting",{"$f":"IF(ISERROR(P173/(M173*S173)),\"\",IF((P173/(M173*S173))<=OUTLIERS!$C$3,\"\",IF((P173/(M173*S173))>=OUTLIERS!$C$4,\"\",P173/(M173*S173))))","v":4.1616761515010864E-3},{"$f":"IF(ISERROR(Q173/($M173*T173)),\"\",IF((Q173/($M173*T173))<=OUTLIERS!$D$3,\"\",IF((Q173/($M173*T173))>=OUTLIERS!$D$4,\"\",Q173/($M173*T173))))","v":""},{"$f":"IF(ISERROR((M173*S173)/P173),\"\",IF((M173*S173/P173)<=OUTLIERS!$E$3,\"\",IF((M173*S173/P173)>=OUTLIERS!$E$4,\"\",M173*S173/P173)))","v":240.28779837645638},{"$f":"IF(ISERROR(O173/N173),\"\",IF(O173/N173<=OUTLIERS!$F$3,\"\",IF(O173/N173>=OUTLIERS!$F$4,\"\",O173/N173)))","v":1.0285972347474872},{"$f":"IF(ISERROR(U173/X173),\"\",IF(U173/X173<=OUTLIERS!$G$3,\"\",IF(U173/X173>=OUTLIERS!$G$4,\"\",U173/X173)))","v":7.1720752658849196E-2},{"$f":"IF(ISERROR(Q173/Y173),\"\",IF(Q173/Y173<=OUTLIERS!$H$3,\"\",IF(Q173/Y173>=OUTLIERS!$H$4,\"\",Q173/Y173)))","v":""},{"$f":"IF(ISERROR(W173),\"\",IF(W173<=OUTLIERS!$I$3,\"\",IF(W173>=OUTLIERS!$I$4,\"\",W173)))","v":0.51420591351247236},58080808,28631020,29449788,89434,"",62298,0.37,0.63,4471,62298,0.51420591351247236,62339,116398]
[173,"FP092","GCF","AfDB","Cross-cutting",{"$f":"IF(ISERROR(P174/(M174*S174)),\"\",IF((P174/(M174*S174))<=OUTLIERS!$C$3,\"\",IF((P174/(M174*S174))>=OUTLIERS!$C$4,\"\",P174/(M174*S174))))","v":0.11910320054120493},{"$f":"IF(ISERROR(Q174/($M174*T174)),\"\",IF((Q174/($M174*T174))<=OUTLIERS!$D$3,\"\",IF((Q174/($M174*T174))>=OUTLIERS!$D$4,\"\",Q174/($M174*T174))))","v":""},{"$f":"IF(ISERROR((M174*S174)/P174),\"\",IF((M174*S174/P174)<=OUTLIERS!$E$3,\"\",IF((M174*S174/P174)>=OUTLIERS!$E$4,\"\",M174*S174/P174)))","v":8.3960800000000013},{"$f":"IF(ISERROR(O174/N174),\"\",IF(O174/N174<=OUTLIERS!$F$3,\"\",IF(O174/N174>=OUTLIERS!$F$4,\"\",O174/N174)))","v":2.0970873786407767},{"$f":"IF(ISERROR(U174/X174),\"\",IF(U174/X174<=OUTLIERS!$G$3,\"\",IF(U174/X174>=OUTLIERS!$G$4,\"\",U174/X174)))","v":9.6762919404858913E-2},{"$f":"IF(ISERROR(Q174/Y174),\"\",IF(Q174/Y174<=OUTLIERS!$H$3,\"\",IF(Q174/Y174>=OUTLIERS!$H$4,\"\",Q174/Y174)))","v":""},{"$f":"IF(ISERROR(W174),\"\",IF(W174<=OUTLIERS!$I$3,\"\",IF(W174>=OUTLIERS!$I$4,\"\",W174)))","v":0.5},209902000,67774000,142128000,7000000,"",14000000,0.28000000000000003,0.72000000000000008,1400000,14000000,0.5,14468352.22222222,37471151.111111104]
[174,"FP093","GCF","AfDB","Mitigation",{"$f":"IF(ISERROR(P175/(M175*S175)),\"\",IF((P175/(M175*S175))<=OUTLIERS!$C$3,\"\",IF((P175/(M175*S175))>=OUTLIERS!$C$4,\"\",P175/(M175*S175))))","v":6.6578204399955565E-3},{"$f":"IF(ISERROR(Q175/($M175*T175)),\"\",IF((Q175/($M175*T175))<=OUTLIERS!$D$3,\"\",IF((Q175/($M175*T175))>=OUTLIERS!$D$4,\"\",Q175/($M175*T175))))","v":""},{"$f":"IF(ISERROR((M175*S175)/P175),\"\",IF((M175*S175/P175)<=OUTLIERS!$E$3,\"\",IF((M175*S175/P175)>=OUTLIERS!$E$4,\"\",M175*S175/P175)))","v":150.19930456410256},{"$f":"IF(ISERROR(O175/N175),\"\",IF(O175/N175<=OUTLIERS!$F$3,\"\",IF(O175/N175>=OUTLIERS!$F$4,\"\",O175/N175)))","v":1.1864197530389571},{"$f":"IF(ISERROR(U175/X175),\"\",IF(U175/X175<=OUTLIERS!$G$3,\"\",IF(U175/X175>=OUTLIERS!$G$4,\"\",U175/X175)))","v":4.0361371149481321E-3},{"$f":"IF(ISERROR(Q175/Y175),\"\",IF(Q175/Y175<=OUTLIERS!$H$3,\"\",IF(Q175/Y175>=OUTLIERS!$H$4,\"\",Q175/Y175)))","v":""},{"$f":"IF(ISERROR(W175),\"\",IF(W175<=OUTLIERS!$I$3,\"\",IF(W175>=OUTLIERS!$I$4,\"\",W175)))","v":0.5},58577728.780000001,26791620.73,31786108.050000001,390000,"",335000,1,0,11500,335000,0.5,2849259,19193382]
[175,"FP094","GCF","UNDP","Adaptation",{"$f":"IF(ISERROR(P176/(M176*S176)),\"\",IF((P176/(M176*S176))<=OUTLIERS!$C$3,\"\",IF((P176/(M176*S176))>=OUTLIERS!$C$4,\"\",P176/(M176*S176))))","v":""},{"$f":"IF(ISERROR(Q176/($M176*T176)),\"\",IF((Q176/($M176*T176))<=OUTLIERS!$D$3,\"\",IF((Q176/($M176*T176))>=OUTLIERS!$D$4,\"\",Q176/($M176*T176))))","v":2.0575625340578038E-2},{"$f":"IF(ISERROR((M176*S176)/P176),\"\",IF((M176*S176/P176)<=OUTLIERS!$E$3,\"\",IF((M176*S176/P176)>=OUTLIERS!$E$4,\"\",M176*S176/P176)))","v":""},{"$f":"IF(ISERROR(O176/N176),\"\",IF(O176/N176<=OUTLIERS!$F$3,\"\",IF(O176/N176>=OUTLIERS!$F$4,\"\",O176/N176)))","v":0.44923123216594885},{"$f":"IF(ISERROR(U176/X176),\"\",IF(U176/X176<=OUTLIERS!$G$3,\"\",IF(U176/X176>=OUTLIERS!$G$4,\"\",U176/X176)))","v":0},{"$f":"IF(ISERROR(Q176/Y176),\"\",IF(Q176/Y176<=OUTLIERS!$H$3,\"\",IF(Q176/Y176>=OUTLIERS!$H$4,\"\",Q176/Y176)))","v":""},{"$f":"IF(ISERROR(W176),\"\",IF(W176<=OUTLIERS!$I$3,\"\",IF(W176>=OUTLIERS!$I$4,\"\",W176)))","v":0.51},60751495,41919808,18831687,"n/a",1250000,1250000,0,1,0,1250000,0.51,154014,813912]
[176,"FP095","GCF","AFD","Cross-cutting",{"$f":"IF(ISERROR(P177/(M177*S177)),\"\",IF((P177/(M177*S177))<=OUTLIERS!$C$3,\"\",IF((P177/(M177*S177))>=OUTLIERS!$C$4,\"\",P177/(M177*S177))))","v":8.3338437978178873E-2},{"$f":"IF(ISERROR(Q177/($M177*T177)),\"\",IF((Q177/($M177*T177))<=OUTLIERS!$D$3,\"\",IF((Q177/($M177*T177))>=OUTLIERS!$D$4,\"\",Q177/($M177*T177))))","v":""},{"$f":"IF(ISERROR((M177*S177)/P177),\"\",IF((M177*S177/P177)<=OUTLIERS!$E$3,\"\",IF((M177*S177/P177)>=OUTLIERS!$E$4,\"\",M177*S177/P177)))","v":11.999264976166669},{"$f":"IF(ISERROR(O177/N177),\"\",IF(O177/N177<=OUTLIERS!$F$3,\"\",IF(O177/N177>=OUTLIERS!$F$4,\"\",O177/N177)))","v":1.7208333333405768},{"$f":"IF(ISERROR(U177/X177),\"\",IF(U177/X177<=OUTLIERS!$G$3,\"\",IF(U177/X177>=OUTLIERS!$G$4,\"\",U177/X177)))","v":3.1463298155241029E-2},{"$f":"IF(ISERROR(Q177/Y177),\"\",IF(Q177/Y177<=OUTLIERS!$H$3,\"\",IF(Q177/Y177>=OUTLIERS!$H$4,\"\",Q177/Y177)))","v":""},{"$f":"IF(ISERROR(W177),\"\",IF(W177<=OUTLIERS!$I$3,\"\",IF(W177>=OUTLIERS!$I$4,\"\",W177)))","v":0.5},719955898.57000005,264608599.78,455347298.79000002,36000000,"",1000000,0.60000000000000009,0.4,1800000,1000000,0.5,57209514.117647052,39948765.235294119]
[177,"FP096","GCF","AfDB","Mitigation",{"$f":"IF(ISERROR(P178/(M178*S178)),\"\",IF((P178/(M178*S178))<=OUTLIERS!$C$3,\"\",IF((P178/(M178*S178))>=OUTLIERS!$C$4,\"\",P178/(M178*S178))))","v":6.2921348314606742E-3},{"$f":"IF(ISERROR(Q178/($M178*T178)),\"\",IF((Q178/($M178*T178))<=OUTLIERS!$D$3,\"\",IF((Q178/($M178*T178))>=OUTLIERS!$D$4,\"\",Q178/($M178*T178))))","v":""},{"$f":"IF(ISERROR((M178*S178)/P178),\"\",IF((M178*S178/P178)<=OUTLIERS!$E$3,\"\",IF((M178*S178/P178)>=OUTLIERS!$E$4,\"\",M178*S178/P178)))","v":158.92857142857142},{"$f":"IF(ISERROR(O178/N178),\"\",IF(O178/N178<=OUTLIERS!$F$3,\"\",IF(O178/N178>=OUTLIERS!$F$4,\"\",O178/N178)))","v":3.2380952380952381},{"$f":"IF(ISERROR(U178/X178),\"\",IF(U178/X178<=OUTLIERS!$G$3,\"\",IF(U178/X178>=OUTLIERS!$G$4,\"\",U178/X178)))","v":5.9934611339029116E-3},{"$f":"IF(ISERROR(Q178/Y178),\"\",IF(Q178/Y178<=OUTLIERS!$H$3,\"\",IF(Q178/Y178>=OUTLIERS!$H$4,\"\",Q178/Y178)))","v":""},{"$f":"IF(ISERROR(W178),\"\",IF(W178<=OUTLIERS!$I$3,\"\",IF(W178>=OUTLIERS!$I$4,\"\",W178)))","v":""},89000000,21000000,68000000,560000,"","",1,0,28000,"n/a","n/a",4671758,81339988]
[178,"FP097","GCF","CABEI","Adaptation",{"$f":"IF(ISERROR(P179/(M179*S179)),\"\",IF((P179/(M179*S179))<=OUTLIERS!$C$3,\"\",IF((P179/(M179*S179))>=OUTLIERS!$C$4,\"\",P179/(M179*S179))))","v":""},{"$f":"IF(ISERROR(Q179/($M179*T179)),\"\",IF((Q179/($M179*T179))<=OUTLIERS!$D$3,\"\",IF((Q179/($M179*T179))>=OUTLIERS!$D$4,\"\",Q179/($M179*T179))))","v":2.49E-3},{"$f":"IF(ISERROR((M179*S179)/P179),\"\",IF((M179*S179/P179)<=OUTLIERS!$E$3,\"\",IF((M179*S179/P179)>=OUTLIERS!$E$4,\"\",M179*S179/P179)))","v":""},{"$f":"IF(ISERROR(O179/N179),\"\",IF(O179/N179<=OUTLIERS!$F$3,\"\",IF(O179/N179>=OUTLIERS!$F$4,\"\",O179/N179)))","v":0.80645161290322576},{"$f":"IF(ISERROR(U179/X179),\"\",IF(U179/X179<=OUTLIERS!$G$3,\"\",IF(U179/X179>=OUTLIERS!$G$4,\"\",U179/X179)))","v":""},{"$f":"IF(ISERROR(Q179/Y179),\"\",IF(Q179/Y179<=OUTLIERS!$H$3,\"\",IF(Q179/Y179>=OUTLIERS!$H$4,\"\",Q179/Y179)))","v":8.3361007033213464E-3},{"$f":"IF(ISERROR(W179),\"\",IF(W179<=OUTLIERS!$I$3,\"\",IF(W179>=OUTLIERS!$I$4,\"\",W179)))","v":0.33000573723465287},28000000,15500000,12500000,"n/a",69720,69720,0,1,"n/a",69720,0.33000573723465287,11006762.428571425,8363622.5714285709]
[179,"FP098","GCF","DBSA","Cross-cutting",{"$f":"IF(ISERROR(P180/(M180*S180)),\"\",IF((P180/(M180*S180))<=OUTLIERS!$C$3,\"\",IF((P180/(M180*S180))>=OUTLIERS!$C$4,\"\",P180/(M180*S180))))","v":0.24900902123382337},{"$f":"IF(ISERROR(Q180/($M180*T180)),\"\",IF((Q180/($M180*T180))<=OUTLIERS!$D$3,\"\",IF((Q180/($M180*T180))>=OUTLIERS!$D$4,\"\",Q180/($M180*T180))))","v":""},{"$f":"IF(ISERROR((M180*S180)/P180),\"\",IF((M180*S180/P180)<=OUTLIERS!$E$3,\"\",IF((M180*S180/P180)>=OUTLIERS!$E$4,\"\",M180*S180/P180)))","v":4.015918760874869},{"$f":"IF(ISERROR(O180/N180),\"\",IF(O180/N180<=OUTLIERS!$F$3,\"\",IF(O180/N180>=OUTLIERS!$F$4,\"\",O180/N180)))","v":2.0668944434454235},{"$f":"IF(ISERROR(U180/X180),\"\",IF(U180/X180<=OUTLIERS!$G$3,\"\",IF(U180/X180>=OUTLIERS!$G$4,\"\",U180/X180)))","v":1.9098751393834865E-2},{"$f":"IF(ISERROR(Q180/Y180),\"\",IF(Q180/Y180<=OUTLIERS!$H$3,\"\",IF(Q180/Y180>=OUTLIERS!$H$4,\"\",Q180/Y180)))","v":""},{"$f":"IF(ISERROR(W180),\"\",IF(W180<=OUTLIERS!$I$3,\"\",IF(W180>=OUTLIERS!$I$4,\"\",W180)))","v":0.50642321348931352},170550000,55610000,114940000,29727942,"",466384,0.7,0.3,2373963,466384,0.50642321348931352,124299382.25,15712885.75]
[180,"FP099","GCF","FMO","Mitigation",{"$f":"IF(ISERROR(P181/(M181*S181)),\"\",IF((P181/(M181*S181))<=OUTLIERS!$C$3,\"\",IF((P181/(M181*S181))>=OUTLIERS!$C$4,\"\",P181/(M181*S181))))","v":6.5404747413268405E-2},{"$f":"IF(ISERROR(Q181/($M181*T181)),\"\",IF((Q181/($M181*T181))<=OUTLIERS!$D$3,\"\",IF((Q181/($M181*T181))>=OUTLIERS!$D$4,\"\",Q181/($M181*T181))))","v":""},{"$f":"IF(ISERROR((M181*S181)/P181),\"\",IF((M181*S181/P181)<=OUTLIERS!$E$3,\"\",IF((M181*S181/P181)>=OUTLIERS!$E$4,\"\",M181*S181/P181)))","v":15.289410013028103},{"$f":"IF(ISERROR(O181/N181),\"\",IF(O181/N181<=OUTLIERS!$F$3,\"\",IF(O181/N181>=OUTLIERS!$F$4,\"\",O181/N181)))","v":7.2149999999999999},{"$f":"IF(ISERROR(U181/X181),\"\",IF(U181/X181<=OUTLIERS!$G$3,\"\",IF(U181/X181>=OUTLIERS!$G$4,\"\",U181/X181)))","v":2.8513275452765628E-2},{"$f":"IF(ISERROR(Q181/Y181),\"\",IF(Q181/Y181<=OUTLIERS!$H$3,\"\",IF(Q181/Y181>=OUTLIERS!$H$4,\"\",Q181/Y181)))","v":""},{"$f":"IF(ISERROR(W181),\"\",IF(W181<=OUTLIERS!$I$3,\"\",IF(W181>=OUTLIERS!$I$4,\"\",W181)))","v":""},821500000,100000000,721500000,53730000,"","",1,0,1745000,"n/a","n/a",61199563.090909109,60574881.181818187]
[181,"SAP001","GCF","EIF","Adaptation",{"$f":"IF(ISERROR(P182/(M182*S182)),\"\",IF((P182/(M182*S182))<=OUTLIERS!$C$3,\"\",IF((P182/(M182*S182))>=OUTLIERS!$C$4,\"\",P182/(M182*S182))))","v":""},{"$f":"IF(ISERROR(Q182/($M182*T182)),\"\",IF((Q182/($M182*T182))<=OUTLIERS!$D$3,\"\",IF((Q182/($M182*T182))>=OUTLIERS!$D$4,\"\",Q182/($M182*T182))))","v":4.4400000000000004E-3},{"$f":"IF(ISERROR((M182*S182)/P182),\"\",IF((M182*S182/P182)<=OUTLIERS!$E$3,\"\",IF((M182*S182/P182)>=OUTLIERS!$E$4,\"\",M182*S182/P182)))","v":""},{"$f":"IF(ISERROR(O182/N182),\"\",IF(O182/N182<=OUTLIERS!$F$3,\"\",IF(O182/N182>=OUTLIERS!$F$4,\"\",O182/N182)))","v":7.5268817204301078E-2},{"$f":"IF(ISERROR(U182/X182),\"\",IF(U182/X182<=OUTLIERS!$G$3,\"\",IF(U182/X182>=OUTLIERS!$G$4,\"\",U182/X182)))","v":""},{"$f":"IF(ISERROR(Q182/Y182),\"\",IF(Q182/Y182<=OUTLIERS!$H$3,\"\",IF(Q182/Y182>=OUTLIERS!$H$4,\"\",Q182/Y182)))","v":1.7523129346742473E-2},{"$f":"IF(ISERROR(W182),\"\",IF(W182<=OUTLIERS!$I$3,\"\",IF(W182>=OUTLIERS!$I$4,\"\",W182)))","v":0.5},10000000,9300000,700000,"n/a",44400,44400,0,1,"n/a",44400,0.5,3755008,2533794]
[182,"SAP002","GCF","WFP","Adaptation",{"$f":"IF(ISERROR(P183/(M183*S183)),\"\",IF((P183/(M183*S183))<=OUTLIERS!$C$3,\"\",IF((P183/(M183*S183))>=OUTLIERS!$C$4,\"\",P183/(M183*S183))))","v":""},{"$f":"IF(ISERROR(Q183/($M183*T183)),\"\",IF((Q183/($M183*T183))<=OUTLIERS!$D$3,\"\",IF((Q183/($M183*T183))>=OUTLIERS!$D$4,\"\",Q183/($M183*T183))))","v":8.321034215324917E-2},{"$f":"IF(ISERROR((M183*S183)/P183),\"\",IF((M183*S183/P183)<=OUTLIERS!$E$3,\"\",IF((M183*S183/P183)>=OUTLIERS!$E$4,\"\",M183*S183/P183)))","v":""},{"$f":"IF(ISERROR(O183/N183),\"\",IF(O183/N183<=OUTLIERS!$F$3,\"\",IF(O183/N183>=OUTLIERS!$F$4,\"\",O183/N183)))","v":0.12384603831948011},{"$f":"IF(ISERROR(U183/X183),\"\",IF(U183/X183<=OUTLIERS!$G$3,\"\",IF(U183/X183>=OUTLIERS!$G$4,\"\",U183/X183)))","v":""},{"$f":"IF(ISERROR(Q183/Y183),\"\",IF(Q183/Y183<=OUTLIERS!$H$3,\"\",IF(Q183/Y183>=OUTLIERS!$H$4,\"\",Q183/Y183)))","v":0.12932355075384988},{"$f":"IF(ISERROR(W183),\"\",IF(W183<=OUTLIERS!$I$3,\"\",IF(W183>=OUTLIERS!$I$4,\"\",W183)))","v":0.5},9638225,8576108,1062117,"n/a",802000,802000,0,1,"n/a",802000,0.5,9607540,6201500]
[183,"SAP003","GCF","UNEP","Adaptation",{"$f":"IF(ISERROR(P184/(M184*S184)),\"\",IF((P184/(M184*S184))<=OUTLIERS!$C$3,\"\",IF((P184/(M184*S184))>=OUTLIERS!$C$4,\"\",P184/(M184*S184))))","v":""},{"$f":"IF(ISERROR(Q184/($M184*T184)),\"\",IF((Q184/($M184*T184))<=OUTLIERS!$D$3,\"\",IF((Q184/($M184*T184))>=OUTLIERS!$D$4,\"\",Q184/($M184*T184))))","v":0.7457804470631636},{"$f":"IF(ISERROR((M184*S184)/P184),\"\",IF((M184*S184/P184)<=OUTLIERS!$E$3,\"\",IF((M184*S184/P184)>=OUTLIERS!$E$4,\"\",M184*S184/P184)))","v":""},{"$f":"IF(ISERROR(O184/N184),\"\",IF(O184/N184<=OUTLIERS!$F$3,\"\",IF(O184/N184>=OUTLIERS!$F$4,\"\",O184/N184)))","v":0},{"$f":"IF(ISERROR(U184/X184),\"\",IF(U184/X184<=OUTLIERS!$G$3,\"\",IF(U184/X184>=OUTLIERS!$G$4,\"\",U184/X184)))","v":""},{"$f":"IF(ISERROR(Q184/Y184),\"\",IF(Q184/Y184<=OUTLIERS!$H$3,\"\",IF(Q184/Y184>=OUTLIERS!$H$4,\"\",Q184/Y184)))","v":""},{"$f":"IF(ISERROR(W184),\"\",IF(W184<=OUTLIERS!$I$3,\"\",IF(W184>=OUTLIERS!$I$4,\"\",W184)))","v":0.4},2320388,2320388,0,"n/a",1730500,1730500,0,1,"n/a",1730500,0.4,31338182,1492584]
[184,"SAP004","GCF","XacBank","Mitigation",{"$f":"IF(ISERROR(P185/(M185*S185)),\"\",IF((P185/(M185*S185))<=OUTLIERS!$C$3,\"\",IF((P185/(M185*S185))>=OUTLIERS!$C$4,\"\",P185/(M185*S185))))","v":2.1840651162790697E-2},{"$f":"IF(ISERROR(Q185/($M185*T185)),\"\",IF((Q185/($M185*T185))<=OUTLIERS!$D$3,\"\",IF((Q185/($M185*T185))>=OUTLIERS!$D$4,\"\",Q185/($M185*T185))))","v":""},{"$f":"IF(ISERROR((M185*S185)/P185),\"\",IF((M185*S185/P185)<=OUTLIERS!$E$3,\"\",IF((M185*S185/P185)>=OUTLIERS!$E$4,\"\",M185*S185/P185)))","v":45.786180665880138},{"$f":"IF(ISERROR(O185/N185),\"\",IF(O185/N185<=OUTLIERS!$F$3,\"\",IF(O185/N185>=OUTLIERS!$F$4,\"\",O185/N185)))","v":1.1499999999999999},{"$f":"IF(ISERROR(U185/X185),\"\",IF(U185/X185<=OUTLIERS!$G$3,\"\",IF(U185/X185>=OUTLIERS!$G$4,\"\",U185/X185)))","v":2.2532624367663022E-3},{"$f":"IF(ISERROR(Q185/Y185),\"\",IF(Q185/Y185<=OUTLIERS!$H$3,\"\",IF(Q185/Y185>=OUTLIERS!$H$4,\"\",Q185/Y185)))","v":""},{"$f":"IF(ISERROR(W185),\"\",IF(W185<=OUTLIERS!$I$3,\"\",IF(W185>=OUTLIERS!$I$4,\"\",W185)))","v":""},21500000,10000000,11500000,469574,"","",1,0,46957,"n/a","n/a",20839561,3075647]
[185,5598,"GEF ","GEF","Mitigation",{"$f":"IF(ISERROR(P186/(M186*S186)),\"\",IF((P186/(M186*S186))<=OUTLIERS!$C$3,\"\",IF((P186/(M186*S186))>=OUTLIERS!$C$4,\"\",P186/(M186*S186))))","v":""},{"$f":"IF(ISERROR(Q186/($M186*T186)),\"\",IF((Q186/($M186*T186))<=OUTLIERS!$D$3,\"\",IF((Q186/($M186*T186))>=OUTLIERS!$D$4,\"\",Q186/($M186*T186))))","v":""},{"$f":"IF(ISERROR((M186*S186)/P186),\"\",IF((M186*S186/P186)<=OUTLIERS!$E$3,\"\",IF((M186*S186/P186)>=OUTLIERS!$E$4,\"\",M186*S186/P186)))","v":""},{"$f":"IF(ISERROR(O186/N186),\"\",IF(O186/N186<=OUTLIERS!$F$3,\"\",IF(O186/N186>=OUTLIERS!$F$4,\"\",O186/N186)))","v":0.15625},{"$f":"IF(ISERROR(U186/X186),\"\",IF(U186/X186<=OUTLIERS!$G$3,\"\",IF(U186/X186>=OUTLIERS!$G$4,\"\",U186/X186)))","v":""},{"$f":"IF(ISERROR(Q186/Y186),\"\",IF(Q186/Y186<=OUTLIERS!$H$3,\"\",IF(Q186/Y186>=OUTLIERS!$H$4,\"\",Q186/Y186)))","v":""},{"$f":"IF(ISERROR(W186),\"\",IF(W186<=OUTLIERS!$I$3,\"\",IF(W186>=OUTLIERS!$I$4,\"\",W186)))","v":""},{"$f":"N186+O186","v":407000},352000,55000,"n/a","","",1,0,"n/a","n/a","n/a",82562505,18054726]
[186,6912,"GEF ","UNDP","Adaptation",{"$f":"IF(ISERROR(P187/(M187*S187)),\"\",IF((P187/(M187*S187))<=OUTLIERS!$C$3,\"\",IF((P187/(M187*S187))>=OUTLIERS!$C$4,\"\",P187/(M187*S187))))","v":""},{"$f":"IF(ISERROR(Q187/($M187*T187)),\"\",IF((Q187/($M187*T187))<=OUTLIERS!$D$3,\"\",IF((Q187/($M187*T187))>=OUTLIERS!$D$4,\"\",Q187/($M187*T187))))","v":3.1636673307626218E-4},{"$f":"IF(ISERROR((M187*S187)/P187),\"\",IF((M187*S187/P187)<=OUTLIERS!$E$3,\"\",IF((M187*S187/P187)>=OUTLIERS!$E$4,\"\",M187*S187/P187)))","v":""},{"$f":"IF(ISERROR(O187/N187),\"\",IF(O187/N187<=OUTLIERS!$F$3,\"\",IF(O187/N187>=OUTLIERS!$F$4,\"\",O187/N187)))","v":4.3080042913337833},{"$f":"IF(ISERROR(U187/X187),\"\",IF(U187/X187<=OUTLIERS!$G$3,\"\",IF(U187/X187>=OUTLIERS!$G$4,\"\",U187/X187)))","v":""},{"$f":"IF(ISERROR(Q187/Y187),\"\",IF(Q187/Y187<=OUTLIERS!$H$3,\"\",IF(Q187/Y187>=OUTLIERS!$H$4,\"\",Q187/Y187)))","v":1.8429510807065137E-2},{"$f":"IF(ISERROR(W187),\"\",IF(W187<=OUTLIERS!$I$3,\"\",IF(W187>=OUTLIERS!$I$4,\"\",W187)))","v":0.66666666666666663},47413329,8932421,38480908,"n/a",15000,15000,0,1,"n/a",15000,0.66666666666666663,154014,813912]
[187,6913,"GEF ","UNDP","Mitigation",{"$f":"IF(ISERROR(P188/(M188*S188)),\"\",IF((P188/(M188*S188))<=OUTLIERS!$C$3,\"\",IF((P188/(M188*S188))>=OUTLIERS!$C$4,\"\",P188/(M188*S188))))","v":3.3943852775462444E-3},{"$f":"IF(ISERROR(Q188/($M188*T188)),\"\",IF((Q188/($M188*T188))<=OUTLIERS!$D$3,\"\",IF((Q188/($M188*T188))>=OUTLIERS!$D$4,\"\",Q188/($M188*T188))))","v":""},{"$f":"IF(ISERROR((M188*S188)/P188),\"\",IF((M188*S188/P188)<=OUTLIERS!$E$3,\"\",IF((M188*S188/P188)>=OUTLIERS!$E$4,\"\",M188*S188/P188)))","v":294.60415310394183},{"$f":"IF(ISERROR(O188/N188),\"\",IF(O188/N188<=OUTLIERS!$F$3,\"\",IF(O188/N188>=OUTLIERS!$F$4,\"\",O188/N188)))","v":21.777516500000001},{"$f":"IF(ISERROR(U188/X188),\"\",IF(U188/X188<=OUTLIERS!$G$3,\"\",IF(U188/X188>=OUTLIERS!$G$4,\"\",U188/X188)))","v":2.2045351490992171E-4},{"$f":"IF(ISERROR(Q188/Y188),\"\",IF(Q188/Y188<=OUTLIERS!$H$3,\"\",IF(Q188/Y188>=OUTLIERS!$H$4,\"\",Q188/Y188)))","v":""},{"$f":"IF(ISERROR(W188),\"\",IF(W188<=OUTLIERS!$I$3,\"\",IF(W188>=OUTLIERS!$I$4,\"\",W188)))","v":0.504},136665099,6000000,130665099,463894,"","",1,0,23194.7,"n/a",0.504,105213564,32387200]
[188,6914,"GEF ","UNDP","Adaptation",{"$f":"IF(ISERROR(P189/(M189*S189)),\"\",IF((P189/(M189*S189))<=OUTLIERS!$C$3,\"\",IF((P189/(M189*S189))>=OUTLIERS!$C$4,\"\",P189/(M189*S189))))","v":""},{"$f":"IF(ISERROR(Q189/($M189*T189)),\"\",IF((Q189/($M189*T189))<=OUTLIERS!$D$3,\"\",IF((Q189/($M189*T189))>=OUTLIERS!$D$4,\"\",Q189/($M189*T189))))","v":2.109704641350211E-4},{"$f":"IF(ISERROR((M189*S189)/P189),\"\",IF((M189*S189/P189)<=OUTLIERS!$E$3,\"\",IF((M189*S189/P189)>=OUTLIERS!$E$4,\"\",M189*S189/P189)))","v":""},{"$f":"IF(ISERROR(O189/N189),\"\",IF(O189/N189<=OUTLIERS!$F$3,\"\",IF(O189/N189>=OUTLIERS!$F$4,\"\",O189/N189)))","v":11.696428571428571},{"$f":"IF(ISERROR(U189/X189),\"\",IF(U189/X189<=OUTLIERS!$G$3,\"\",IF(U189/X189>=OUTLIERS!$G$4,\"\",U189/X189)))","v":""},{"$f":"IF(ISERROR(Q189/Y189),\"\",IF(Q189/Y189<=OUTLIERS!$H$3,\"\",IF(Q189/Y189>=OUTLIERS!$H$4,\"\",Q189/Y189)))","v":4.2217747828945284E-4},{"$f":"IF(ISERROR(W189),\"\",IF(W189<=OUTLIERS!$I$3,\"\",IF(W189>=OUTLIERS!$I$4,\"\",W189)))","v":0.5},71100000,5600000,65500000,"n/a",15000,15000,0,1,"n/a",15000,0.5,9809225,35530081]
[189,6915,"GEF ","WorldBank","Adaptation",{"$f":"IF(ISERROR(P190/(M190*S190)),\"\",IF((P190/(M190*S190))<=OUTLIERS!$C$3,\"\",IF((P190/(M190*S190))>=OUTLIERS!$C$4,\"\",P190/(M190*S190))))","v":""},{"$f":"IF(ISERROR(Q190/($M190*T190)),\"\",IF((Q190/($M190*T190))<=OUTLIERS!$D$3,\"\",IF((Q190/($M190*T190))>=OUTLIERS!$D$4,\"\",Q190/($M190*T190))))","v":""},{"$f":"IF(ISERROR((M190*S190)/P190),\"\",IF((M190*S190/P190)<=OUTLIERS!$E$3,\"\",IF((M190*S190/P190)>=OUTLIERS!$E$4,\"\",M190*S190/P190)))","v":""},{"$f":"IF(ISERROR(O190/N190),\"\",IF(O190/N190<=OUTLIERS!$F$3,\"\",IF(O190/N190>=OUTLIERS!$F$4,\"\",O190/N190)))","v":3},{"$f":"IF(ISERROR(U190/X190),\"\",IF(U190/X190<=OUTLIERS!$G$3,\"\",IF(U190/X190>=OUTLIERS!$G$4,\"\",U190/X190)))","v":""},{"$f":"IF(ISERROR(Q190/Y190),\"\",IF(Q190/Y190<=OUTLIERS!$H$3,\"\",IF(Q190/Y190>=OUTLIERS!$H$4,\"\",Q190/Y190)))","v":""},{"$f":"IF(ISERROR(W190),\"\",IF(W190<=OUTLIERS!$I$3,\"\",IF(W190>=OUTLIERS!$I$4,\"\",W190)))","v":""},20000000,5000000,15000000,"n/a","","",0,1,"n/a","n/a","n/a",248314572,18037646]
[190,6919,"GEF ","UNIDO","Mitigation",{"$f":"IF(ISERROR(P191/(M191*S191)),\"\",IF((P191/(M191*S191))<=OUTLIERS!$C$3,\"\",IF((P191/(M191*S191))>=OUTLIERS!$C$4,\"\",P191/(M191*S191))))","v":2.6346217463978253E-2},{"$f":"IF(ISERROR(Q191/($M191*T191)),\"\",IF((Q191/($M191*T191))<=OUTLIERS!$D$3,\"\",IF((Q191/($M191*T191))>=OUTLIERS!$D$4,\"\",Q191/($M191*T191))))","v":""},{"$f":"IF(ISERROR((M191*S191)/P191),\"\",IF((M191*S191/P191)<=OUTLIERS!$E$3,\"\",IF((M191*S191/P191)>=OUTLIERS!$E$4,\"\",M191*S191/P191)))","v":37.956112727272725},{"$f":"IF(ISERROR(O191/N191),\"\",IF(O191/N191<=OUTLIERS!$F$3,\"\",IF(O191/N191>=OUTLIERS!$F$4,\"\",O191/N191)))","v":8.3561286274509801},{"$f":"IF(ISERROR(U191/X191),\"\",IF(U191/X191<=OUTLIERS!$G$3,\"\",IF(U191/X191>=OUTLIERS!$G$4,\"\",U191/X191)))","v":1.0687988877489574E-5},{"$f":"IF(ISERROR(Q191/Y191),\"\",IF(Q191/Y191<=OUTLIERS!$H$3,\"\",IF(Q191/Y191>=OUTLIERS!$H$4,\"\",Q191/Y191)))","v":""},{"$f":"IF(ISERROR(W191),\"\",IF(W191<=OUTLIERS!$I$3,\"\",IF(W191>=OUTLIERS!$I$4,\"\",W191)))","v":0.25},83503448,8925000,74578448,2200000,"","",1,0,110000,"n/a",0.25,10291926878,1386395000]
[191,6923,"GEF ","UNDP","Adaptation",{"$f":"IF(ISERROR(P192/(M192*S192)),\"\",IF((P192/(M192*S192))<=OUTLIERS!$C$3,\"\",IF((P192/(M192*S192))>=OUTLIERS!$C$4,\"\",P192/(M192*S192))))","v":""},{"$f":"IF(ISERROR(Q192/($M192*T192)),\"\",IF((Q192/($M192*T192))<=OUTLIERS!$D$3,\"\",IF((Q192/($M192*T192))>=OUTLIERS!$D$4,\"\",Q192/($M192*T192))))","v":2.0930232558139536E-3},{"$f":"IF(ISERROR((M192*S192)/P192),\"\",IF((M192*S192/P192)<=OUTLIERS!$E$3,\"\",IF((M192*S192/P192)>=OUTLIERS!$E$4,\"\",M192*S192/P192)))","v":""},{"$f":"IF(ISERROR(O192/N192),\"\",IF(O192/N192<=OUTLIERS!$F$3,\"\",IF(O192/N192>=OUTLIERS!$F$4,\"\",O192/N192)))","v":3.0386740331491713},{"$f":"IF(ISERROR(U192/X192),\"\",IF(U192/X192<=OUTLIERS!$G$3,\"\",IF(U192/X192>=OUTLIERS!$G$4,\"\",U192/X192)))","v":""},{"$f":"IF(ISERROR(Q192/Y192),\"\",IF(Q192/Y192<=OUTLIERS!$H$3,\"\",IF(Q192/Y192>=OUTLIERS!$H$4,\"\",Q192/Y192)))","v":""},{"$f":"IF(ISERROR(W192),\"\",IF(W192<=OUTLIERS!$I$3,\"\",IF(W192>=OUTLIERS!$I$4,\"\",W192)))","v":0.6},36550000,9050000,27500000,"n/a",76500,76500,0,1,"n/a",76500,0.6,696730,""]
[192,6924,"GEF ","ADB","Adaptation",{"$f":"IF(ISERROR(P193/(M193*S193)),\"\",IF((P193/(M193*S193))<=OUTLIERS!$C$3,\"\",IF((P193/(M193*S193))>=OUTLIERS!$C$4,\"\",P193/(M193*S193))))","v":""},{"$f":"IF(ISERROR(Q193/($M193*T193)),\"\",IF((Q193/($M193*T193))<=OUTLIERS!$D$3,\"\",IF((Q193/($M193*T193))>=OUTLIERS!$D$4,\"\",Q193/($M193*T193))))","v":6.184568628157177E-3},{"$f":"IF(ISERROR((M193*S193)/P193),\"\",IF((M193*S193/P193)<=OUTLIERS!$E$3,\"\",IF((M193*S193/P193)>=OUTLIERS!$E$4,\"\",M193*S193/P193)))","v":""},{"$f":"IF(ISERROR(O193/N193),\"\",IF(O193/N193<=OUTLIERS!$F$3,\"\",IF(O193/N193>=OUTLIERS!$F$4,\"\",O193/N193)))","v":17.059465070594651},{"$f":"IF(ISERROR(U193/X193),\"\",IF(U193/X193<=OUTLIERS!$G$3,\"\",IF(U193/X193>=OUTLIERS!$G$4,\"\",U193/X193)))","v":""},{"$f":"IF(ISERROR(Q193/Y193),\"\",IF(Q193/Y193<=OUTLIERS!$H$3,\"\",IF(Q193/Y193>=OUTLIERS!$H$4,\"\",Q193/Y193)))","v":5.338033594024752E-3},{"$f":"IF(ISERROR(W193),\"\",IF(W193<=OUTLIERS!$I$3,\"\",IF(W193>=OUTLIERS!$I$4,\"\",W193)))","v":0.5},82463310,4566210,77897100,"n/a",510000,510000,0,1,"n/a",510000,0.5,166910839,95540800]
[193,6925,"GEF ","UNEP","Mitigation",{"$f":"IF(ISERROR(P194/(M194*S194)),\"\",IF((P194/(M194*S194))<=OUTLIERS!$C$3,\"\",IF((P194/(M194*S194))>=OUTLIERS!$C$4,\"\",P194/(M194*S194))))","v":""},{"$f":"IF(ISERROR(Q194/($M194*T194)),\"\",IF((Q194/($M194*T194))<=OUTLIERS!$D$3,\"\",IF((Q194/($M194*T194))>=OUTLIERS!$D$4,\"\",Q194/($M194*T194))))","v":""},{"$f":"IF(ISERROR((M194*S194)/P194),\"\",IF((M194*S194/P194)<=OUTLIERS!$E$3,\"\",IF((M194*S194/P194)>=OUTLIERS!$E$4,\"\",M194*S194/P194)))","v":""},{"$f":"IF(ISERROR(O194/N194),\"\",IF(O194/N194<=OUTLIERS!$F$3,\"\",IF(O194/N194>=OUTLIERS!$F$4,\"\",O194/N194)))","v":9.6667221667221664E-2},{"$f":"IF(ISERROR(U194/X194),\"\",IF(U194/X194<=OUTLIERS!$G$3,\"\",IF(U194/X194>=OUTLIERS!$G$4,\"\",U194/X194)))","v":""},{"$f":"IF(ISERROR(Q194/Y194),\"\",IF(Q194/Y194<=OUTLIERS!$H$3,\"\",IF(Q194/Y194>=OUTLIERS!$H$4,\"\",Q194/Y194)))","v":""},{"$f":"IF(ISERROR(W194),\"\",IF(W194<=OUTLIERS!$I$3,\"\",IF(W194>=OUTLIERS!$I$4,\"\",W194)))","v":""},15807800,14414400,1393400,"n/a","",{"$f":"IF(V194=\"n/a\",\"\",V194)","v":""},1,0,"n/a","n/a","n/a",4562030.076923077,13172106.815789474]
[194,6926,"GEF ","UNEP","Adaptation",{"$f":"IF(ISERROR(P195/(M195*S195)),\"\",IF((P195/(M195*S195))<=OUTLIERS!$C$3,\"\",IF((P195/(M195*S195))>=OUTLIERS!$C$4,\"\",P195/(M195*S195))))","v":""},{"$f":"IF(ISERROR(Q195/($M195*T195)),\"\",IF((Q195/($M195*T195))<=OUTLIERS!$D$3,\"\",IF((Q195/($M195*T195))>=OUTLIERS!$D$4,\"\",Q195/($M195*T195))))","v":""},{"$f":"IF(ISERROR((M195*S195)/P195),\"\",IF((M195*S195/P195)<=OUTLIERS!$E$3,\"\",IF((M195*S195/P195)>=OUTLIERS!$E$4,\"\",M195*S195/P195)))","v":""},{"$f":"IF(ISERROR(O195/N195),\"\",IF(O195/N195<=OUTLIERS!$F$3,\"\",IF(O195/N195>=OUTLIERS!$F$4,\"\",O195/N195)))","v":3.1818550000000001},{"$f":"IF(ISERROR(U195/X195),\"\",IF(U195/X195<=OUTLIERS!$G$3,\"\",IF(U195/X195>=OUTLIERS!$G$4,\"\",U195/X195)))","v":""},{"$f":"IF(ISERROR(Q195/Y195),\"\",IF(Q195/Y195<=OUTLIERS!$H$3,\"\",IF(Q195/Y195>=OUTLIERS!$H$4,\"\",Q195/Y195)))","v":""},{"$f":"IF(ISERROR(W195),\"\",IF(W195<=OUTLIERS!$I$3,\"\",IF(W195>=OUTLIERS!$I$4,\"\",W195)))","v":""},20909275,5000000,15909275,"n/a",{"$f":"IF(E195=\"adaptation\",R195,\"\")","v":""},"",0,1,"n/a","n/a","n/a",2467891,2233339]
[195,6927,"GEF ","IFAD","n/a",{"$f":"IF(ISERROR(P196/(M196*S196)),\"\",IF((P196/(M196*S196))<=OUTLIERS!$C$3,\"\",IF((P196/(M196*S196))>=OUTLIERS!$C$4,\"\",P196/(M196*S196))))","v":""},{"$f":"IF(ISERROR(Q196/($M196*T196)),\"\",IF((Q196/($M196*T196))<=OUTLIERS!$D$3,\"\",IF((Q196/($M196*T196))>=OUTLIERS!$D$4,\"\",Q196/($M196*T196))))","v":""},{"$f":"IF(ISERROR((M196*S196)/P196),\"\",IF((M196*S196/P196)<=OUTLIERS!$E$3,\"\",IF((M196*S196/P196)>=OUTLIERS!$E$4,\"\",M196*S196/P196)))","v":""},{"$f":"IF(ISERROR(O196/N196),\"\",IF(O196/N196<=OUTLIERS!$F$3,\"\",IF(O196/N196>=OUTLIERS!$F$4,\"\",O196/N196)))","v":4.8812852022529443},{"$f":"IF(ISERROR(U196/X196),\"\",IF(U196/X196<=OUTLIERS!$G$3,\"\",IF(U196/X196>=OUTLIERS!$G$4,\"\",U196/X196)))","v":0},{"$f":"IF(ISERROR(Q196/Y196),\"\",IF(Q196/Y196<=OUTLIERS!$H$3,\"\",IF(Q196/Y196>=OUTLIERS!$H$4,\"\",Q196/Y196)))","v":""},{"$f":"IF(ISERROR(W196),\"\",IF(W196<=OUTLIERS!$I$3,\"\",IF(W196>=OUTLIERS!$I$4,\"\",W196)))","v":""},45944600,7812000,38132600,"n/a","",280000,"n/a","n/a",0,280000,"n/a",201894019,97553151]
[196,6930,"GEF ","UNDP","Mitigation",{"$f":"IF(ISERROR(P197/(M197*S197)),\"\",IF((P197/(M197*S197))<=OUTLIERS!$C$3,\"\",IF((P197/(M197*S197))>=OUTLIERS!$C$4,\"\",P197/(M197*S197))))","v":0.3205773023273234},{"$f":"IF(ISERROR(Q197/($M197*T197)),\"\",IF((Q197/($M197*T197))<=OUTLIERS!$D$3,\"\",IF((Q197/($M197*T197))>=OUTLIERS!$D$4,\"\",Q197/($M197*T197))))","v":""},{"$f":"IF(ISERROR((M197*S197)/P197),\"\",IF((M197*S197/P197)<=OUTLIERS!$E$3,\"\",IF((M197*S197/P197)>=OUTLIERS!$E$4,\"\",M197*S197/P197)))","v":3.1193724344805811},{"$f":"IF(ISERROR(O197/N197),\"\",IF(O197/N197<=OUTLIERS!$F$3,\"\",IF(O197/N197>=OUTLIERS!$F$4,\"\",O197/N197)))","v":7.8478172768409902},{"$f":"IF(ISERROR(U197/X197),\"\",IF(U197/X197<=OUTLIERS!$G$3,\"\",IF(U197/X197>=OUTLIERS!$G$4,\"\",U197/X197)))","v":""},{"$f":"IF(ISERROR(Q197/Y197),\"\",IF(Q197/Y197<=OUTLIERS!$H$3,\"\",IF(Q197/Y197>=OUTLIERS!$H$4,\"\",Q197/Y197)))","v":""},{"$f":"IF(ISERROR(W197),\"\",IF(W197<=OUTLIERS!$I$3,\"\",IF(W197>=OUTLIERS!$I$4,\"\",W197)))","v":0.5},79032420,8932420,70100000,25336000,"","",1,0,"n/a","n/a",0.5,10291926878,1386395000]
[197,6931,"GEF ","UNDP","Cross-cutting",{"$f":"IF(ISERROR(P198/(M198*S198)),\"\",IF((P198/(M198*S198))<=OUTLIERS!$C$3,\"\",IF((P198/(M198*S198))>=OUTLIERS!$C$4,\"\",P198/(M198*S198))))","v":""},{"$f":"IF(ISERROR(Q198/($M198*T198)),\"\",IF((Q198/($M198*T198))<=OUTLIERS!$D$3,\"\",IF((Q198/($M198*T198))>=OUTLIERS!$D$4,\"\",Q198/($M198*T198))))","v":""},{"$f":"IF(ISERROR((M198*S198)/P198),\"\",IF((M198*S198/P198)<=OUTLIERS!$E$3,\"\",IF((M198*S198/P198)>=OUTLIERS!$E$4,\"\",M198*S198/P198)))","v":""},{"$f":"IF(ISERROR(O198/N198),\"\",IF(O198/N198<=OUTLIERS!$F$3,\"\",IF(O198/N198>=OUTLIERS!$F$4,\"\",O198/N198)))","v":1.0400000047542857},{"$f":"IF(ISERROR(U198/X198),\"\",IF(U198/X198<=OUTLIERS!$G$3,\"\",IF(U198/X198>=OUTLIERS!$G$4,\"\",U198/X198)))","v":""},{"$f":"IF(ISERROR(Q198/Y198),\"\",IF(Q198/Y198<=OUTLIERS!$H$3,\"\",IF(Q198/Y198>=OUTLIERS!$H$4,\"\",Q198/Y198)))","v":""},{"$f":"IF(ISERROR(W198),\"\",IF(W198<=OUTLIERS!$I$3,\"\",IF(W198>=OUTLIERS!$I$4,\"\",W198)))","v":""},137307692,67307692,70000000,"n/a","","","n/a","n/a","n/a","n/a","n/a","",""]
[198,6935,"GEF ","UNDP","Mitigation",{"$f":"IF(ISERROR(P199/(M199*S199)),\"\",IF((P199/(M199*S199))<=OUTLIERS!$C$3,\"\",IF((P199/(M199*S199))>=OUTLIERS!$C$4,\"\",P199/(M199*S199))))","v":""},{"$f":"IF(ISERROR(Q199/($M199*T199)),\"\",IF((Q199/($M199*T199))<=OUTLIERS!$D$3,\"\",IF((Q199/($M199*T199))>=OUTLIERS!$D$4,\"\",Q199/($M199*T199))))","v":""},{"$f":"IF(ISERROR((M199*S199)/P199),\"\",IF((M199*S199/P199)<=OUTLIERS!$E$3,\"\",IF((M199*S199/P199)>=OUTLIERS!$E$4,\"\",M199*S199/P199)))","v":""},{"$f":"IF(ISERROR(O199/N199),\"\",IF(O199/N199<=OUTLIERS!$F$3,\"\",IF(O199/N199>=OUTLIERS!$F$4,\"\",O199/N199)))","v":0.27840909090909088},{"$f":"IF(ISERROR(U199/X199),\"\",IF(U199/X199<=OUTLIERS!$G$3,\"\",IF(U199/X199>=OUTLIERS!$G$4,\"\",U199/X199)))","v":""},{"$f":"IF(ISERROR(Q199/Y199),\"\",IF(Q199/Y199<=OUTLIERS!$H$3,\"\",IF(Q199/Y199>=OUTLIERS!$H$4,\"\",Q199/Y199)))","v":""},{"$f":"IF(ISERROR(W199),\"\",IF(W199<=OUTLIERS!$I$3,\"\",IF(W199>=OUTLIERS!$I$4,\"\",W199)))","v":""},450000,352000,98000,"n/a","","",1,0,"n/a","n/a","n/a",26450071,9702353]
[199,6936,"GEF ","UNDP","Mitigation",{"$f":"IF(ISERROR(P200/(M200*S200)),\"\",IF((P200/(M200*S200))<=OUTLIERS!$C$3,\"\",IF((P200/(M200*S200))>=OUTLIERS!$C$4,\"\",P200/(M200*S200))))","v":""},{"$f":"IF(ISERROR(Q200/($M200*T200)),\"\",IF((Q200/($M200*T200))<=OUTLIERS!$D$3,\"\",IF((Q200/($M200*T200))>=OUTLIERS!$D$4,\"\",Q200/($M200*T200))))","v":""},{"$f":"IF(ISERROR((M200*S200)/P200),\"\",IF((M200*S200/P200)<=OUTLIERS!$E$3,\"\",IF((M200*S200/P200)>=OUTLIERS!$E$4,\"\",M200*S200/P200)))","v":""},{"$f":"IF(ISERROR(O200/N200),\"\",IF(O200/N200<=OUTLIERS!$F$3,\"\",IF(O200/N200>=OUTLIERS!$F$4,\"\",O200/N200)))","v":8.5227272727272721E-2},{"$f":"IF(ISERROR(U200/X200),\"\",IF(U200/X200<=OUTLIERS!$G$3,\"\",IF(U200/X200>=OUTLIERS!$G$4,\"\",U200/X200)))","v":""},{"$f":"IF(ISERROR(Q200/Y200),\"\",IF(Q200/Y200<=OUTLIERS!$H$3,\"\",IF(Q200/Y200>=OUTLIERS!$H$4,\"\",Q200/Y200)))","v":""},{"$f":"IF(ISERROR(W200),\"\",IF(W200<=OUTLIERS!$I$3,\"\",IF(W200>=OUTLIERS!$I$4,\"\",W200)))","v":""},382000,352000,30000,"n/a","","",1,0,"n/a","n/a","n/a",201894019,97553151]
[200,6937,"GEF ","UNDP","Cross-cutting",{"$f":"IF(ISERROR(P201/(M201*S201)),\"\",IF((P201/(M201*S201))<=OUTLIERS!$C$3,\"\",IF((P201/(M201*S201))>=OUTLIERS!$C$4,\"\",P201/(M201*S201))))","v":""},{"$f":"IF(ISERROR(Q201/($M201*T201)),\"\",IF((Q201/($M201*T201))<=OUTLIERS!$D$3,\"\",IF((Q201/($M201*T201))>=OUTLIERS!$D$4,\"\",Q201/($M201*T201))))","v":""},{"$f":"IF(ISERROR((M201*S201)/P201),\"\",IF((M201*S201/P201)<=OUTLIERS!$E$3,\"\",IF((M201*S201/P201)>=OUTLIERS!$E$4,\"\",M201*S201/P201)))","v":""},{"$f":"IF(ISERROR(O201/N201),\"\",IF(O201/N201<=OUTLIERS!$F$3,\"\",IF(O201/N201>=OUTLIERS!$F$4,\"\",O201/N201)))","v":0.10819327731092437},{"$f":"IF(ISERROR(U201/X201),\"\",IF(U201/X201<=OUTLIERS!$G$3,\"\",IF(U201/X201>=OUTLIERS!$G$4,\"\",U201/X201)))","v":""},{"$f":"IF(ISERROR(Q201/Y201),\"\",IF(Q201/Y201<=OUTLIERS!$H$3,\"\",IF(Q201/Y201>=OUTLIERS!$H$4,\"\",Q201/Y201)))","v":""},{"$f":"IF(ISERROR(W201),\"\",IF(W201<=OUTLIERS!$I$3,\"\",IF(W201>=OUTLIERS!$I$4,\"\",W201)))","v":""},1055000,952000,103000,"n/a","","","n/a","n/a","n/a","n/a","n/a",7033306,2291661]
[201,6938,"GEF ","UNDP","Cross-cutting",{"$f":"IF(ISERROR(P202/(M202*S202)),\"\",IF((P202/(M202*S202))<=OUTLIERS!$C$3,\"\",IF((P202/(M202*S202))>=OUTLIERS!$C$4,\"\",P202/(M202*S202))))","v":""},{"$f":"IF(ISERROR(Q202/($M202*T202)),\"\",IF((Q202/($M202*T202))<=OUTLIERS!$D$3,\"\",IF((Q202/($M202*T202))>=OUTLIERS!$D$4,\"\",Q202/($M202*T202))))","v":""},{"$f":"IF(ISERROR((M202*S202)/P202),\"\",IF((M202*S202/P202)<=OUTLIERS!$E$3,\"\",IF((M202*S202/P202)>=OUTLIERS!$E$4,\"\",M202*S202/P202)))","v":""},{"$f":"IF(ISERROR(O202/N202),\"\",IF(O202/N202<=OUTLIERS!$F$3,\"\",IF(O202/N202>=OUTLIERS!$F$4,\"\",O202/N202)))","v":0.14726890756302521},{"$f":"IF(ISERROR(U202/X202),\"\",IF(U202/X202<=OUTLIERS!$G$3,\"\",IF(U202/X202>=OUTLIERS!$G$4,\"\",U202/X202)))","v":""},{"$f":"IF(ISERROR(Q202/Y202),\"\",IF(Q202/Y202<=OUTLIERS!$H$3,\"\",IF(Q202/Y202>=OUTLIERS!$H$4,\"\",Q202/Y202)))","v":""},{"$f":"IF(ISERROR(W202),\"\",IF(W202<=OUTLIERS!$I$3,\"\",IF(W202>=OUTLIERS!$I$4,\"\",W202)))","v":""},1092200,952000,140200,"n/a","","","n/a","n/a","n/a","n/a","n/a",46273873,1369125]
[202,6942,"GEF ","EBRD","Mitigation",{"$f":"IF(ISERROR(P203/(M203*S203)),\"\",IF((P203/(M203*S203))<=OUTLIERS!$C$3,\"\",IF((P203/(M203*S203))>=OUTLIERS!$C$4,\"\",P203/(M203*S203))))","v":2.9798657718120805E-2},{"$f":"IF(ISERROR(Q203/($M203*T203)),\"\",IF((Q203/($M203*T203))<=OUTLIERS!$D$3,\"\",IF((Q203/($M203*T203))>=OUTLIERS!$D$4,\"\",Q203/($M203*T203))))","v":""},{"$f":"IF(ISERROR((M203*S203)/P203),\"\",IF((M203*S203/P203)<=OUTLIERS!$E$3,\"\",IF((M203*S203/P203)>=OUTLIERS!$E$4,\"\",M203*S203/P203)))","v":33.558558558558559},{"$f":"IF(ISERROR(O203/N203),\"\",IF(O203/N203<=OUTLIERS!$F$3,\"\",IF(O203/N203>=OUTLIERS!$F$4,\"\",O203/N203)))","v":6.45},{"$f":"IF(ISERROR(U203/X203),\"\",IF(U203/X203<=OUTLIERS!$G$3,\"\",IF(U203/X203>=OUTLIERS!$G$4,\"\",U203/X203)))","v":6.8368098151951788E-4},{"$f":"IF(ISERROR(Q203/Y203),\"\",IF(Q203/Y203<=OUTLIERS!$H$3,\"\",IF(Q203/Y203>=OUTLIERS!$H$4,\"\",Q203/Y203)))","v":""},{"$f":"IF(ISERROR(W203),\"\",IF(W203<=OUTLIERS!$I$3,\"\",IF(W203>=OUTLIERS!$I$4,\"\",W203)))","v":""},52150000,7000000,45150000,1554000,"","",1,0,155400,"n/a","n/a",227298995,44831159]
[203,6945,"GEF ","UNDP","Adaptation",{"$f":"IF(ISERROR(P204/(M204*S204)),\"\",IF((P204/(M204*S204))<=OUTLIERS!$C$3,\"\",IF((P204/(M204*S204))>=OUTLIERS!$C$4,\"\",P204/(M204*S204))))","v":""},{"$f":"IF(ISERROR(Q204/($M204*T204)),\"\",IF((Q204/($M204*T204))<=OUTLIERS!$D$3,\"\",IF((Q204/($M204*T204))>=OUTLIERS!$D$4,\"\",Q204/($M204*T204))))","v":""},{"$f":"IF(ISERROR((M204*S204)/P204),\"\",IF((M204*S204/P204)<=OUTLIERS!$E$3,\"\",IF((M204*S204/P204)>=OUTLIERS!$E$4,\"\",M204*S204/P204)))","v":""},{"$f":"IF(ISERROR(O204/N204),\"\",IF(O204/N204<=OUTLIERS!$F$3,\"\",IF(O204/N204>=OUTLIERS!$F$4,\"\",O204/N204)))","v":5.3317898000000001},{"$f":"IF(ISERROR(U204/X204),\"\",IF(U204/X204<=OUTLIERS!$G$3,\"\",IF(U204/X204>=OUTLIERS!$G$4,\"\",U204/X204)))","v":""},{"$f":"IF(ISERROR(Q204/Y204),\"\",IF(Q204/Y204<=OUTLIERS!$H$3,\"\",IF(Q204/Y204>=OUTLIERS!$H$4,\"\",Q204/Y204)))","v":""},{"$f":"IF(ISERROR(W204),\"\",IF(W204<=OUTLIERS!$I$3,\"\",IF(W204>=OUTLIERS!$I$4,\"\",W204)))","v":""},31658949,5000000,26658949,"n/a","","",0,1,"n/a","n/a","n/a",7759372,4905769]
[204,6947,"GEF ","WorldBank","Cross-cutting",{"$f":"IF(ISERROR(P205/(M205*S205)),\"\",IF((P205/(M205*S205))<=OUTLIERS!$C$3,\"\",IF((P205/(M205*S205))>=OUTLIERS!$C$4,\"\",P205/(M205*S205))))","v":""},{"$f":"IF(ISERROR(Q205/($M205*T205)),\"\",IF((Q205/($M205*T205))<=OUTLIERS!$D$3,\"\",IF((Q205/($M205*T205))>=OUTLIERS!$D$4,\"\",Q205/($M205*T205))))","v":""},{"$f":"IF(ISERROR((M205*S205)/P205),\"\",IF((M205*S205/P205)<=OUTLIERS!$E$3,\"\",IF((M205*S205/P205)>=OUTLIERS!$E$4,\"\",M205*S205/P205)))","v":""},{"$f":"IF(ISERROR(O205/N205),\"\",IF(O205/N205<=OUTLIERS!$F$3,\"\",IF(O205/N205>=OUTLIERS!$F$4,\"\",O205/N205)))","v":14.860610148606101},{"$f":"IF(ISERROR(U205/X205),\"\",IF(U205/X205<=OUTLIERS!$G$3,\"\",IF(U205/X205>=OUTLIERS!$G$4,\"\",U205/X205)))","v":""},{"$f":"IF(ISERROR(Q205/Y205),\"\",IF(Q205/Y205<=OUTLIERS!$H$3,\"\",IF(Q205/Y205>=OUTLIERS!$H$4,\"\",Q205/Y205)))","v":""},{"$f":"IF(ISERROR(W205),\"\",IF(W205<=OUTLIERS!$I$3,\"\",IF(W205>=OUTLIERS!$I$4,\"\",W205)))","v":""},43453726,2739726,40714000,422124,"","","n/a","n/a","n/a","n/a","n/a",63497772,9507875]
[205,6951,"GEF ","EBRD","Adaptation",{"$f":"IF(ISERROR(P206/(M206*S206)),\"\",IF((P206/(M206*S206))<=OUTLIERS!$C$3,\"\",IF((P206/(M206*S206))>=OUTLIERS!$C$4,\"\",P206/(M206*S206))))","v":""},{"$f":"IF(ISERROR(Q206/($M206*T206)),\"\",IF((Q206/($M206*T206))<=OUTLIERS!$D$3,\"\",IF((Q206/($M206*T206))>=OUTLIERS!$D$4,\"\",Q206/($M206*T206))))","v":""},{"$f":"IF(ISERROR((M206*S206)/P206),\"\",IF((M206*S206/P206)<=OUTLIERS!$E$3,\"\",IF((M206*S206/P206)>=OUTLIERS!$E$4,\"\",M206*S206/P206)))","v":""},{"$f":"IF(ISERROR(O206/N206),\"\",IF(O206/N206<=OUTLIERS!$F$3,\"\",IF(O206/N206>=OUTLIERS!$F$4,\"\",O206/N206)))","v":7.8964017921763938},{"$f":"IF(ISERROR(U206/X206),\"\",IF(U206/X206<=OUTLIERS!$G$3,\"\",IF(U206/X206>=OUTLIERS!$G$4,\"\",U206/X206)))","v":""},{"$f":"IF(ISERROR(Q206/Y206),\"\",IF(Q206/Y206<=OUTLIERS!$H$3,\"\",IF(Q206/Y206>=OUTLIERS!$H$4,\"\",Q206/Y206)))","v":""},{"$f":"IF(ISERROR(W206),\"\",IF(W206<=OUTLIERS!$I$3,\"\",IF(W206>=OUTLIERS!$I$4,\"\",W206)))","v":""},55092694,6192694,48900000,"n/a","","",0,1,"n/a","n/a","n/a",59863775,35739580]
[206,6955,"GEF ","FAO","Adaptation",{"$f":"IF(ISERROR(P207/(M207*S207)),\"\",IF((P207/(M207*S207))<=OUTLIERS!$C$3,\"\",IF((P207/(M207*S207))>=OUTLIERS!$C$4,\"\",P207/(M207*S207))))","v":""},{"$f":"IF(ISERROR(Q207/($M207*T207)),\"\",IF((Q207/($M207*T207))<=OUTLIERS!$D$3,\"\",IF((Q207/($M207*T207))>=OUTLIERS!$D$4,\"\",Q207/($M207*T207))))","v":""},{"$f":"IF(ISERROR((M207*S207)/P207),\"\",IF((M207*S207/P207)<=OUTLIERS!$E$3,\"\",IF((M207*S207/P207)>=OUTLIERS!$E$4,\"\",M207*S207/P207)))","v":""},{"$f":"IF(ISERROR(O207/N207),\"\",IF(O207/N207<=OUTLIERS!$F$3,\"\",IF(O207/N207>=OUTLIERS!$F$4,\"\",O207/N207)))","v":6.2951176000000002},{"$f":"IF(ISERROR(U207/X207),\"\",IF(U207/X207<=OUTLIERS!$G$3,\"\",IF(U207/X207>=OUTLIERS!$G$4,\"\",U207/X207)))","v":""},{"$f":"IF(ISERROR(Q207/Y207),\"\",IF(Q207/Y207<=OUTLIERS!$H$3,\"\",IF(Q207/Y207>=OUTLIERS!$H$4,\"\",Q207/Y207)))","v":""},{"$f":"IF(ISERROR(W207),\"\",IF(W207<=OUTLIERS!$I$3,\"\",IF(W207>=OUTLIERS!$I$4,\"\",W207)))","v":""},18237794,2500000,15737794,"n/a","","",0,1,"n/a","n/a","n/a",82562505,18054726]
[207,6956,"GEF ","UNDP","Cross-cutting",{"$f":"IF(ISERROR(P208/(M208*S208)),\"\",IF((P208/(M208*S208))<=OUTLIERS!$C$3,\"\",IF((P208/(M208*S208))>=OUTLIERS!$C$4,\"\",P208/(M208*S208))))","v":""},{"$f":"IF(ISERROR(Q208/($M208*T208)),\"\",IF((Q208/($M208*T208))<=OUTLIERS!$D$3,\"\",IF((Q208/($M208*T208))>=OUTLIERS!$D$4,\"\",Q208/($M208*T208))))","v":""},{"$f":"IF(ISERROR((M208*S208)/P208),\"\",IF((M208*S208/P208)<=OUTLIERS!$E$3,\"\",IF((M208*S208/P208)>=OUTLIERS!$E$4,\"\",M208*S208/P208)))","v":""},{"$f":"IF(ISERROR(O208/N208),\"\",IF(O208/N208<=OUTLIERS!$F$3,\"\",IF(O208/N208>=OUTLIERS!$F$4,\"\",O208/N208)))","v":1.4326822805383013},{"$f":"IF(ISERROR(U208/X208),\"\",IF(U208/X208<=OUTLIERS!$G$3,\"\",IF(U208/X208>=OUTLIERS!$G$4,\"\",U208/X208)))","v":""},{"$f":"IF(ISERROR(Q208/Y208),\"\",IF(Q208/Y208<=OUTLIERS!$H$3,\"\",IF(Q208/Y208>=OUTLIERS!$H$4,\"\",Q208/Y208)))","v":""},{"$f":"IF(ISERROR(W208),\"\",IF(W208<=OUTLIERS!$I$3,\"\",IF(W208>=OUTLIERS!$I$4,\"\",W208)))","v":""},6916702,2843241,4073461,"n/a","","","n/a","n/a","n/a","n/a","n/a",201894019,97553151]
[208,6960,"GEF ","UNDP","Adaptation",{"$f":"IF(ISERROR(P209/(M209*S209)),\"\",IF((P209/(M209*S209))<=OUTLIERS!$C$3,\"\",IF((P209/(M209*S209))>=OUTLIERS!$C$4,\"\",P209/(M209*S209))))","v":""},{"$f":"IF(ISERROR(Q209/($M209*T209)),\"\",IF((Q209/($M209*T209))<=OUTLIERS!$D$3,\"\",IF((Q209/($M209*T209))>=OUTLIERS!$D$4,\"\",Q209/($M209*T209))))","v":1.6752981517650083E-3},{"$f":"IF(ISERROR((M209*S209)/P209),\"\",IF((M209*S209/P209)<=OUTLIERS!$E$3,\"\",IF((M209*S209/P209)>=OUTLIERS!$E$4,\"\",M209*S209/P209)))","v":""},{"$f":"IF(ISERROR(O209/N209),\"\",IF(O209/N209<=OUTLIERS!$F$3,\"\",IF(O209/N209>=OUTLIERS!$F$4,\"\",O209/N209)))","v":6.837697740933649},{"$f":"IF(ISERROR(U209/X209),\"\",IF(U209/X209<=OUTLIERS!$G$3,\"\",IF(U209/X209>=OUTLIERS!$G$4,\"\",U209/X209)))","v":""},{"$f":"IF(ISERROR(Q209/Y209),\"\",IF(Q209/Y209<=OUTLIERS!$H$3,\"\",IF(Q209/Y209>=OUTLIERS!$H$4,\"\",Q209/Y209)))","v":6.9467660633110891E-3},{"$f":"IF(ISERROR(W209),\"\",IF(W209<=OUTLIERS!$I$3,\"\",IF(W209>=OUTLIERS!$I$4,\"\",W209)))","v":0.5},23876347,3046347,20830000,"n/a",40000,40000,0,1,"n/a",40000,0.5,68422553,5758075]
[209,6967,"GEF ","UNDP","Adaptation",{"$f":"IF(ISERROR(P210/(M210*S210)),\"\",IF((P210/(M210*S210))<=OUTLIERS!$C$3,\"\",IF((P210/(M210*S210))>=OUTLIERS!$C$4,\"\",P210/(M210*S210))))","v":""},{"$f":"IF(ISERROR(Q210/($M210*T210)),\"\",IF((Q210/($M210*T210))<=OUTLIERS!$D$3,\"\",IF((Q210/($M210*T210))>=OUTLIERS!$D$4,\"\",Q210/($M210*T210))))","v":3.2880970885394872E-3},{"$f":"IF(ISERROR((M210*S210)/P210),\"\",IF((M210*S210/P210)<=OUTLIERS!$E$3,\"\",IF((M210*S210/P210)>=OUTLIERS!$E$4,\"\",M210*S210/P210)))","v":""},{"$f":"IF(ISERROR(O210/N210),\"\",IF(O210/N210<=OUTLIERS!$F$3,\"\",IF(O210/N210>=OUTLIERS!$F$4,\"\",O210/N210)))","v":1.6648080293133662},{"$f":"IF(ISERROR(U210/X210),\"\",IF(U210/X210<=OUTLIERS!$G$3,\"\",IF(U210/X210>=OUTLIERS!$G$4,\"\",U210/X210)))","v":""},{"$f":"IF(ISERROR(Q210/Y210),\"\",IF(Q210/Y210<=OUTLIERS!$H$3,\"\",IF(Q210/Y210>=OUTLIERS!$H$4,\"\",Q210/Y210)))","v":5.2402193734949973E-4},{"$f":"IF(ISERROR(W210),\"\",IF(W210<=OUTLIERS!$I$3,\"\",IF(W210>=OUTLIERS!$I$4,\"\",W210)))","v":0.5},16727000,6277000,10450000,"n/a",55000,55000,0,1,"n/a",55000,0.5,11598721,104957438]
[210,6968,"GEF ","UNDP","Adaptation",{"$f":"IF(ISERROR(P211/(M211*S211)),\"\",IF((P211/(M211*S211))<=OUTLIERS!$C$3,\"\",IF((P211/(M211*S211))>=OUTLIERS!$C$4,\"\",P211/(M211*S211))))","v":""},{"$f":"IF(ISERROR(Q211/($M211*T211)),\"\",IF((Q211/($M211*T211))<=OUTLIERS!$D$3,\"\",IF((Q211/($M211*T211))>=OUTLIERS!$D$4,\"\",Q211/($M211*T211))))","v":3.8597543414813735E-3},{"$f":"IF(ISERROR((M211*S211)/P211),\"\",IF((M211*S211/P211)<=OUTLIERS!$E$3,\"\",IF((M211*S211/P211)>=OUTLIERS!$E$4,\"\",M211*S211/P211)))","v":""},{"$f":"IF(ISERROR(O211/N211),\"\",IF(O211/N211<=OUTLIERS!$F$3,\"\",IF(O211/N211>=OUTLIERS!$F$4,\"\",O211/N211)))","v":4.8321904761904761},{"$f":"IF(ISERROR(U211/X211),\"\",IF(U211/X211<=OUTLIERS!$G$3,\"\",IF(U211/X211>=OUTLIERS!$G$4,\"\",U211/X211)))","v":""},{"$f":"IF(ISERROR(Q211/Y211),\"\",IF(Q211/Y211<=OUTLIERS!$H$3,\"\",IF(Q211/Y211>=OUTLIERS!$H$4,\"\",Q211/Y211)))","v":8.7248357281217697E-3},{"$f":"IF(ISERROR(W211),\"\",IF(W211<=OUTLIERS!$I$3,\"\",IF(W211>=OUTLIERS!$I$4,\"\",W211)))","v":0.51},33680900,5775000,27905900,"n/a",130000,130000,0,1,"n/a",130000,0.51,729733,14899994]
[211,6971,"GEF ","UNDP","Cross-cutting",{"$f":"IF(ISERROR(P212/(M212*S212)),\"\",IF((P212/(M212*S212))<=OUTLIERS!$C$3,\"\",IF((P212/(M212*S212))>=OUTLIERS!$C$4,\"\",P212/(M212*S212))))","v":""},{"$f":"IF(ISERROR(Q212/($M212*T212)),\"\",IF((Q212/($M212*T212))<=OUTLIERS!$D$3,\"\",IF((Q212/($M212*T212))>=OUTLIERS!$D$4,\"\",Q212/($M212*T212))))","v":""},{"$f":"IF(ISERROR((M212*S212)/P212),\"\",IF((M212*S212/P212)<=OUTLIERS!$E$3,\"\",IF((M212*S212/P212)>=OUTLIERS!$E$4,\"\",M212*S212/P212)))","v":""},{"$f":"IF(ISERROR(O212/N212),\"\",IF(O212/N212<=OUTLIERS!$F$3,\"\",IF(O212/N212>=OUTLIERS!$F$4,\"\",O212/N212)))","v":2.4285714285714284},{"$f":"IF(ISERROR(U212/X212),\"\",IF(U212/X212<=OUTLIERS!$G$3,\"\",IF(U212/X212>=OUTLIERS!$G$4,\"\",U212/X212)))","v":""},{"$f":"IF(ISERROR(Q212/Y212),\"\",IF(Q212/Y212<=OUTLIERS!$H$3,\"\",IF(Q212/Y212>=OUTLIERS!$H$4,\"\",Q212/Y212)))","v":""},{"$f":"IF(ISERROR(W212),\"\",IF(W212<=OUTLIERS!$I$3,\"\",IF(W212>=OUTLIERS!$I$4,\"\",W212)))","v":""},3600000,1050000,2550000,"n/a","","","n/a","n/a","n/a","n/a","n/a",1411795,18541980]
[212,6972,"GEF ","UNEP","Cross-cutting",{"$f":"IF(ISERROR(P213/(M213*S213)),\"\",IF((P213/(M213*S213))<=OUTLIERS!$C$3,\"\",IF((P213/(M213*S213))>=OUTLIERS!$C$4,\"\",P213/(M213*S213))))","v":""},{"$f":"IF(ISERROR(Q213/($M213*T213)),\"\",IF((Q213/($M213*T213))<=OUTLIERS!$D$3,\"\",IF((Q213/($M213*T213))>=OUTLIERS!$D$4,\"\",Q213/($M213*T213))))","v":""},{"$f":"IF(ISERROR((M213*S213)/P213),\"\",IF((M213*S213/P213)<=OUTLIERS!$E$3,\"\",IF((M213*S213/P213)>=OUTLIERS!$E$4,\"\",M213*S213/P213)))","v":""},{"$f":"IF(ISERROR(O213/N213),\"\",IF(O213/N213<=OUTLIERS!$F$3,\"\",IF(O213/N213>=OUTLIERS!$F$4,\"\",O213/N213)))","v":2.9342723004694836E-2},{"$f":"IF(ISERROR(U213/X213),\"\",IF(U213/X213<=OUTLIERS!$G$3,\"\",IF(U213/X213>=OUTLIERS!$G$4,\"\",U213/X213)))","v":""},{"$f":"IF(ISERROR(Q213/Y213),\"\",IF(Q213/Y213<=OUTLIERS!$H$3,\"\",IF(Q213/Y213>=OUTLIERS!$H$4,\"\",Q213/Y213)))","v":""},{"$f":"IF(ISERROR(W213),\"\",IF(W213<=OUTLIERS!$I$3,\"\",IF(W213>=OUTLIERS!$I$4,\"\",W213)))","v":""},877000,852000,25000,"n/a","","","n/a","n/a","n/a","n/a","n/a",6318241,8251162]
[213,6973,"GEF ","UNDP","Cross-cutting",{"$f":"IF(ISERROR(P214/(M214*S214)),\"\",IF((P214/(M214*S214))<=OUTLIERS!$C$3,\"\",IF((P214/(M214*S214))>=OUTLIERS!$C$4,\"\",P214/(M214*S214))))","v":""},{"$f":"IF(ISERROR(Q214/($M214*T214)),\"\",IF((Q214/($M214*T214))<=OUTLIERS!$D$3,\"\",IF((Q214/($M214*T214))>=OUTLIERS!$D$4,\"\",Q214/($M214*T214))))","v":""},{"$f":"IF(ISERROR((M214*S214)/P214),\"\",IF((M214*S214/P214)<=OUTLIERS!$E$3,\"\",IF((M214*S214/P214)>=OUTLIERS!$E$4,\"\",M214*S214/P214)))","v":""},{"$f":"IF(ISERROR(O214/N214),\"\",IF(O214/N214<=OUTLIERS!$F$3,\"\",IF(O214/N214>=OUTLIERS!$F$4,\"\",O214/N214)))","v":1.2153333333333334},{"$f":"IF(ISERROR(U214/X214),\"\",IF(U214/X214<=OUTLIERS!$G$3,\"\",IF(U214/X214>=OUTLIERS!$G$4,\"\",U214/X214)))","v":""},{"$f":"IF(ISERROR(Q214/Y214),\"\",IF(Q214/Y214<=OUTLIERS!$H$3,\"\",IF(Q214/Y214>=OUTLIERS!$H$4,\"\",Q214/Y214)))","v":""},{"$f":"IF(ISERROR(W214),\"\",IF(W214<=OUTLIERS!$I$3,\"\",IF(W214>=OUTLIERS!$I$4,\"\",W214)))","v":""},2326100,1050000,1276100,"n/a","","","n/a","n/a","n/a","n/a","n/a",2009516,777859]
[214,6974,"GEF ","AfDB","Mitigation",{"$f":"IF(ISERROR(P215/(M215*S215)),\"\",IF((P215/(M215*S215))<=OUTLIERS!$C$3,\"\",IF((P215/(M215*S215))>=OUTLIERS!$C$4,\"\",P215/(M215*S215))))","v":""},{"$f":"IF(ISERROR(Q215/($M215*T215)),\"\",IF((Q215/($M215*T215))<=OUTLIERS!$D$3,\"\",IF((Q215/($M215*T215))>=OUTLIERS!$D$4,\"\",Q215/($M215*T215))))","v":""},{"$f":"IF(ISERROR((M215*S215)/P215),\"\",IF((M215*S215/P215)<=OUTLIERS!$E$3,\"\",IF((M215*S215/P215)>=OUTLIERS!$E$4,\"\",M215*S215/P215)))","v":""},{"$f":"IF(ISERROR(O215/N215),\"\",IF(O215/N215<=OUTLIERS!$F$3,\"\",IF(O215/N215>=OUTLIERS!$F$4,\"\",O215/N215)))","v":58.687456336874561},{"$f":"IF(ISERROR(U215/X215),\"\",IF(U215/X215<=OUTLIERS!$G$3,\"\",IF(U215/X215>=OUTLIERS!$G$4,\"\",U215/X215)))","v":2.1545553580498119E-3},{"$f":"IF(ISERROR(Q215/Y215),\"\",IF(Q215/Y215<=OUTLIERS!$H$3,\"\",IF(Q215/Y215>=OUTLIERS!$H$4,\"\",Q215/Y215)))","v":""},{"$f":"IF(ISERROR(W215),\"\",IF(W215<=OUTLIERS!$I$3,\"\",IF(W215>=OUTLIERS!$I$4,\"\",W215)))","v":""},109018184,1826484,107191700,13612.5,"","",1,0,13613,"n/a","n/a",6318241,11175692]
[215,6976,"GEF ","UNDP","n/a",{"$f":"IF(ISERROR(P216/(M216*S216)),\"\",IF((P216/(M216*S216))<=OUTLIERS!$C$3,\"\",IF((P216/(M216*S216))>=OUTLIERS!$C$4,\"\",P216/(M216*S216))))","v":""},{"$f":"IF(ISERROR(Q216/($M216*T216)),\"\",IF((Q216/($M216*T216))<=OUTLIERS!$D$3,\"\",IF((Q216/($M216*T216))>=OUTLIERS!$D$4,\"\",Q216/($M216*T216))))","v":""},{"$f":"IF(ISERROR((M216*S216)/P216),\"\",IF((M216*S216/P216)<=OUTLIERS!$E$3,\"\",IF((M216*S216/P216)>=OUTLIERS!$E$4,\"\",M216*S216/P216)))","v":""},{"$f":"IF(ISERROR(O216/N216),\"\",IF(O216/N216<=OUTLIERS!$F$3,\"\",IF(O216/N216>=OUTLIERS!$F$4,\"\",O216/N216)))","v":1.3700284090909092},{"$f":"IF(ISERROR(U216/X216),\"\",IF(U216/X216<=OUTLIERS!$G$3,\"\",IF(U216/X216>=OUTLIERS!$G$4,\"\",U216/X216)))","v":""},{"$f":"IF(ISERROR(Q216/Y216),\"\",IF(Q216/Y216<=OUTLIERS!$H$3,\"\",IF(Q216/Y216>=OUTLIERS!$H$4,\"\",Q216/Y216)))","v":""},{"$f":"IF(ISERROR(W216),\"\",IF(W216<=OUTLIERS!$I$3,\"\",IF(W216>=OUTLIERS!$I$4,\"\",W216)))","v":""},834250,352000,482250,"n/a","","","n/a","n/a","n/a","n/a","n/a",96280752,190886311]
[216,6980,"GEF ","WorldBank","Mitigation",{"$f":"IF(ISERROR(P217/(M217*S217)),\"\",IF((P217/(M217*S217))<=OUTLIERS!$C$3,\"\",IF((P217/(M217*S217))>=OUTLIERS!$C$4,\"\",P217/(M217*S217))))","v":1.9436345966958212E-2},{"$f":"IF(ISERROR(Q217/($M217*T217)),\"\",IF((Q217/($M217*T217))<=OUTLIERS!$D$3,\"\",IF((Q217/($M217*T217))>=OUTLIERS!$D$4,\"\",Q217/($M217*T217))))","v":""},{"$f":"IF(ISERROR((M217*S217)/P217),\"\",IF((M217*S217/P217)<=OUTLIERS!$E$3,\"\",IF((M217*S217/P217)>=OUTLIERS!$E$4,\"\",M217*S217/P217)))","v":51.45},{"$f":"IF(ISERROR(O217/N217),\"\",IF(O217/N217<=OUTLIERS!$F$3,\"\",IF(O217/N217>=OUTLIERS!$F$4,\"\",O217/N217)))","v":41.875},{"$f":"IF(ISERROR(U217/X217),\"\",IF(U217/X217<=OUTLIERS!$G$3,\"\",IF(U217/X217>=OUTLIERS!$G$4,\"\",U217/X217)))","v":""},{"$f":"IF(ISERROR(Q217/Y217),\"\",IF(Q217/Y217<=OUTLIERS!$H$3,\"\",IF(Q217/Y217>=OUTLIERS!$H$4,\"\",Q217/Y217)))","v":""},{"$f":"IF(ISERROR(W217),\"\",IF(W217<=OUTLIERS!$I$3,\"\",IF(W217>=OUTLIERS!$I$4,\"\",W217)))","v":""},51450000,1200000,50250000,1000000,"","",1,0,"n/a","n/a","n/a","",""]
[217,6982,"GEF ","UNDP","Cross-cutting",{"$f":"IF(ISERROR(P218/(M218*S218)),\"\",IF((P218/(M218*S218))<=OUTLIERS!$C$3,\"\",IF((P218/(M218*S218))>=OUTLIERS!$C$4,\"\",P218/(M218*S218))))","v":""},{"$f":"IF(ISERROR(Q218/($M218*T218)),\"\",IF((Q218/($M218*T218))<=OUTLIERS!$D$3,\"\",IF((Q218/($M218*T218))>=OUTLIERS!$D$4,\"\",Q218/($M218*T218))))","v":""},{"$f":"IF(ISERROR((M218*S218)/P218),\"\",IF((M218*S218/P218)<=OUTLIERS!$E$3,\"\",IF((M218*S218/P218)>=OUTLIERS!$E$4,\"\",M218*S218/P218)))","v":""},{"$f":"IF(ISERROR(O218/N218),\"\",IF(O218/N218<=OUTLIERS!$F$3,\"\",IF(O218/N218>=OUTLIERS!$F$4,\"\",O218/N218)))","v":1.9145019999999999},{"$f":"IF(ISERROR(U218/X218),\"\",IF(U218/X218<=OUTLIERS!$G$3,\"\",IF(U218/X218>=OUTLIERS!$G$4,\"\",U218/X218)))","v":""},{"$f":"IF(ISERROR(Q218/Y218),\"\",IF(Q218/Y218<=OUTLIERS!$H$3,\"\",IF(Q218/Y218>=OUTLIERS!$H$4,\"\",Q218/Y218)))","v":""},{"$f":"IF(ISERROR(W218),\"\",IF(W218<=OUTLIERS!$I$3,\"\",IF(W218>=OUTLIERS!$I$4,\"\",W218)))","v":""},2914502,1000000,1914502,"n/a","","","n/a","n/a","n/a","n/a","n/a",7513420.3571428554,15504358.538461538]
[218,6983,"GEF ","FAO","Adaptation",{"$f":"IF(ISERROR(P219/(M219*S219)),\"\",IF((P219/(M219*S219))<=OUTLIERS!$C$3,\"\",IF((P219/(M219*S219))>=OUTLIERS!$C$4,\"\",P219/(M219*S219))))","v":""},{"$f":"IF(ISERROR(Q219/($M219*T219)),\"\",IF((Q219/($M219*T219))<=OUTLIERS!$D$3,\"\",IF((Q219/($M219*T219))>=OUTLIERS!$D$4,\"\",Q219/($M219*T219))))","v":0.10365394088956874},{"$f":"IF(ISERROR((M219*S219)/P219),\"\",IF((M219*S219/P219)<=OUTLIERS!$E$3,\"\",IF((M219*S219/P219)>=OUTLIERS!$E$4,\"\",M219*S219/P219)))","v":""},{"$f":"IF(ISERROR(O219/N219),\"\",IF(O219/N219<=OUTLIERS!$F$3,\"\",IF(O219/N219>=OUTLIERS!$F$4,\"\",O219/N219)))","v":4.1506306666666664},{"$f":"IF(ISERROR(U219/X219),\"\",IF(U219/X219<=OUTLIERS!$G$3,\"\",IF(U219/X219>=OUTLIERS!$G$4,\"\",U219/X219)))","v":""},{"$f":"IF(ISERROR(Q219/Y219),\"\",IF(Q219/Y219<=OUTLIERS!$H$3,\"\",IF(Q219/Y219>=OUTLIERS!$H$4,\"\",Q219/Y219)))","v":0.10796848302161116},{"$f":"IF(ISERROR(W219),\"\",IF(W219<=OUTLIERS!$I$3,\"\",IF(W219>=OUTLIERS!$I$4,\"\",W219)))","v":""},30903784,6000000,24903784,"n/a",3203299,3203299,0,1,"n/a",3203299,"n/a",8426766,29668834]
[219,6984,"GEF ","UNDP","Adaptation",{"$f":"IF(ISERROR(P220/(M220*S220)),\"\",IF((P220/(M220*S220))<=OUTLIERS!$C$3,\"\",IF((P220/(M220*S220))>=OUTLIERS!$C$4,\"\",P220/(M220*S220))))","v":""},{"$f":"IF(ISERROR(Q220/($M220*T220)),\"\",IF((Q220/($M220*T220))<=OUTLIERS!$D$3,\"\",IF((Q220/($M220*T220))>=OUTLIERS!$D$4,\"\",Q220/($M220*T220))))","v":""},{"$f":"IF(ISERROR((M220*S220)/P220),\"\",IF((M220*S220/P220)<=OUTLIERS!$E$3,\"\",IF((M220*S220/P220)>=OUTLIERS!$E$4,\"\",M220*S220/P220)))","v":""},{"$f":"IF(ISERROR(O220/N220),\"\",IF(O220/N220<=OUTLIERS!$F$3,\"\",IF(O220/N220>=OUTLIERS!$F$4,\"\",O220/N220)))","v":3.0068444444444444},{"$f":"IF(ISERROR(U220/X220),\"\",IF(U220/X220<=OUTLIERS!$G$3,\"\",IF(U220/X220>=OUTLIERS!$G$4,\"\",U220/X220)))","v":""},{"$f":"IF(ISERROR(Q220/Y220),\"\",IF(Q220/Y220<=OUTLIERS!$H$3,\"\",IF(Q220/Y220>=OUTLIERS!$H$4,\"\",Q220/Y220)))","v":""},{"$f":"IF(ISERROR(W220),\"\",IF(W220<=OUTLIERS!$I$3,\"\",IF(W220>=OUTLIERS!$I$4,\"\",W220)))","v":0.5},36061600,9000000,27061600,"n/a","","",0,1,"n/a","n/a",0.5,18660140.666666668,45250867.000000007]
[220,6986,"GEF ","UNEP","Adaptation",{"$f":"IF(ISERROR(P221/(M221*S221)),\"\",IF((P221/(M221*S221))<=OUTLIERS!$C$3,\"\",IF((P221/(M221*S221))>=OUTLIERS!$C$4,\"\",P221/(M221*S221))))","v":""},{"$f":"IF(ISERROR(Q221/($M221*T221)),\"\",IF((Q221/($M221*T221))<=OUTLIERS!$D$3,\"\",IF((Q221/($M221*T221))>=OUTLIERS!$D$4,\"\",Q221/($M221*T221))))","v":1.1799897340893134E-3},{"$f":"IF(ISERROR((M221*S221)/P221),\"\",IF((M221*S221/P221)<=OUTLIERS!$E$3,\"\",IF((M221*S221/P221)>=OUTLIERS!$E$4,\"\",M221*S221/P221)))","v":""},{"$f":"IF(ISERROR(O221/N221),\"\",IF(O221/N221<=OUTLIERS!$F$3,\"\",IF(O221/N221>=OUTLIERS!$F$4,\"\",O221/N221)))","v":4.6497666666666664},{"$f":"IF(ISERROR(U221/X221),\"\",IF(U221/X221<=OUTLIERS!$G$3,\"\",IF(U221/X221>=OUTLIERS!$G$4,\"\",U221/X221)))","v":""},{"$f":"IF(ISERROR(Q221/Y221),\"\",IF(Q221/Y221<=OUTLIERS!$H$3,\"\",IF(Q221/Y221>=OUTLIERS!$H$4,\"\",Q221/Y221)))","v":3.2764307415373683E-3},{"$f":"IF(ISERROR(W221),\"\",IF(W221<=OUTLIERS!$I$3,\"\",IF(W221>=OUTLIERS!$I$4,\"\",W221)))","v":0.51800000000000002},33898600,6000000,27898600,"n/a",40000,40000,0,1,"n/a",40000,0.51800000000000002,839743,12208407]
[221,6988,"GEF ","UNDP","Adaptation",{"$f":"IF(ISERROR(P222/(M222*S222)),\"\",IF((P222/(M222*S222))<=OUTLIERS!$C$3,\"\",IF((P222/(M222*S222))>=OUTLIERS!$C$4,\"\",P222/(M222*S222))))","v":""},{"$f":"IF(ISERROR(Q222/($M222*T222)),\"\",IF((Q222/($M222*T222))<=OUTLIERS!$D$3,\"\",IF((Q222/($M222*T222))>=OUTLIERS!$D$4,\"\",Q222/($M222*T222))))","v":1.5942332896461337E-3},{"$f":"IF(ISERROR((M222*S222)/P222),\"\",IF((M222*S222/P222)<=OUTLIERS!$E$3,\"\",IF((M222*S222/P222)>=OUTLIERS!$E$4,\"\",M222*S222/P222)))","v":""},{"$f":"IF(ISERROR(O222/N222),\"\",IF(O222/N222<=OUTLIERS!$F$3,\"\",IF(O222/N222>=OUTLIERS!$F$4,\"\",O222/N222)))","v":2.1791666666666667},{"$f":"IF(ISERROR(U222/X222),\"\",IF(U222/X222<=OUTLIERS!$G$3,\"\",IF(U222/X222>=OUTLIERS!$G$4,\"\",U222/X222)))","v":""},{"$f":"IF(ISERROR(Q222/Y222),\"\",IF(Q222/Y222<=OUTLIERS!$H$3,\"\",IF(Q222/Y222>=OUTLIERS!$H$4,\"\",Q222/Y222)))","v":3.2676385052676032E-2},{"$f":"IF(ISERROR(W222),\"\",IF(W222<=OUTLIERS!$I$3,\"\",IF(W222>=OUTLIERS!$I$4,\"\",W222)))","v":0.5},38150000,12000000,26150000,"n/a",60820,60820,0,1,"n/a",60820,0.5,271358,1861283]
[222,6989,"GEF ","UNDP","Adaptation",{"$f":"IF(ISERROR(P223/(M223*S223)),\"\",IF((P223/(M223*S223))<=OUTLIERS!$C$3,\"\",IF((P223/(M223*S223))>=OUTLIERS!$C$4,\"\",P223/(M223*S223))))","v":""},{"$f":"IF(ISERROR(Q223/($M223*T223)),\"\",IF((Q223/($M223*T223))<=OUTLIERS!$D$3,\"\",IF((Q223/($M223*T223))>=OUTLIERS!$D$4,\"\",Q223/($M223*T223))))","v":2.1276595744680851E-3},{"$f":"IF(ISERROR((M223*S223)/P223),\"\",IF((M223*S223/P223)<=OUTLIERS!$E$3,\"\",IF((M223*S223/P223)>=OUTLIERS!$E$4,\"\",M223*S223/P223)))","v":""},{"$f":"IF(ISERROR(O223/N223),\"\",IF(O223/N223<=OUTLIERS!$F$3,\"\",IF(O223/N223>=OUTLIERS!$F$4,\"\",O223/N223)))","v":5.7142857142857144},{"$f":"IF(ISERROR(U223/X223),\"\",IF(U223/X223<=OUTLIERS!$G$3,\"\",IF(U223/X223>=OUTLIERS!$G$4,\"\",U223/X223)))","v":""},{"$f":"IF(ISERROR(Q223/Y223),\"\",IF(Q223/Y223<=OUTLIERS!$H$3,\"\",IF(Q223/Y223>=OUTLIERS!$H$4,\"\",Q223/Y223)))","v":3.4123871975695066E-3},{"$f":"IF(ISERROR(W223),\"\",IF(W223<=OUTLIERS!$I$3,\"\",IF(W223>=OUTLIERS!$I$4,\"\",W223)))","v":""},47000000,7000000,40000000,"n/a",100000,100000,0,1,"n/a",100000,"n/a",8030730,29304998]
[223,6991,"GEF ","UNDP","Adaptation",{"$f":"IF(ISERROR(P224/(M224*S224)),\"\",IF((P224/(M224*S224))<=OUTLIERS!$C$3,\"\",IF((P224/(M224*S224))>=OUTLIERS!$C$4,\"\",P224/(M224*S224))))","v":""},{"$f":"IF(ISERROR(Q224/($M224*T224)),\"\",IF((Q224/($M224*T224))<=OUTLIERS!$D$3,\"\",IF((Q224/($M224*T224))>=OUTLIERS!$D$4,\"\",Q224/($M224*T224))))","v":""},{"$f":"IF(ISERROR((M224*S224)/P224),\"\",IF((M224*S224/P224)<=OUTLIERS!$E$3,\"\",IF((M224*S224/P224)>=OUTLIERS!$E$4,\"\",M224*S224/P224)))","v":""},{"$f":"IF(ISERROR(O224/N224),\"\",IF(O224/N224<=OUTLIERS!$F$3,\"\",IF(O224/N224>=OUTLIERS!$F$4,\"\",O224/N224)))","v":3.0888030888030888},{"$f":"IF(ISERROR(U224/X224),\"\",IF(U224/X224<=OUTLIERS!$G$3,\"\",IF(U224/X224>=OUTLIERS!$G$4,\"\",U224/X224)))","v":""},{"$f":"IF(ISERROR(Q224/Y224),\"\",IF(Q224/Y224<=OUTLIERS!$H$3,\"\",IF(Q224/Y224>=OUTLIERS!$H$4,\"\",Q224/Y224)))","v":""},{"$f":"IF(ISERROR(W224),\"\",IF(W224<=OUTLIERS!$I$3,\"\",IF(W224>=OUTLIERS!$I$4,\"\",W224)))","v":""},11913750,2913750,9000000,"n/a","","",0,1,"n/a","n/a","n/a",8855805,15850567]
[224,6993,"GEF ","UNIDO","Cross-cutting",{"$f":"IF(ISERROR(P225/(M225*S225)),\"\",IF((P225/(M225*S225))<=OUTLIERS!$C$3,\"\",IF((P225/(M225*S225))>=OUTLIERS!$C$4,\"\",P225/(M225*S225))))","v":""},{"$f":"IF(ISERROR(Q225/($M225*T225)),\"\",IF((Q225/($M225*T225))<=OUTLIERS!$D$3,\"\",IF((Q225/($M225*T225))>=OUTLIERS!$D$4,\"\",Q225/($M225*T225))))","v":""},{"$f":"IF(ISERROR((M225*S225)/P225),\"\",IF((M225*S225/P225)<=OUTLIERS!$E$3,\"\",IF((M225*S225/P225)>=OUTLIERS!$E$4,\"\",M225*S225/P225)))","v":""},{"$f":"IF(ISERROR(O225/N225),\"\",IF(O225/N225<=OUTLIERS!$F$3,\"\",IF(O225/N225>=OUTLIERS!$F$4,\"\",O225/N225)))","v":1},{"$f":"IF(ISERROR(U225/X225),\"\",IF(U225/X225<=OUTLIERS!$G$3,\"\",IF(U225/X225>=OUTLIERS!$G$4,\"\",U225/X225)))","v":""},{"$f":"IF(ISERROR(Q225/Y225),\"\",IF(Q225/Y225<=OUTLIERS!$H$3,\"\",IF(Q225/Y225>=OUTLIERS!$H$4,\"\",Q225/Y225)))","v":""},{"$f":"IF(ISERROR(W225),\"\",IF(W225<=OUTLIERS!$I$3,\"\",IF(W225>=OUTLIERS!$I$4,\"\",W225)))","v":""},3800000,1900000,1900000,"n/a","","","n/a","n/a","n/a","n/a","n/a","",""]
[225,7993,"GEF ","UNDP","Mitigation",{"$f":"IF(ISERROR(P226/(M226*S226)),\"\",IF((P226/(M226*S226))<=OUTLIERS!$C$3,\"\",IF((P226/(M226*S226))>=OUTLIERS!$C$4,\"\",P226/(M226*S226))))","v":0.17301032505313607},{"$f":"IF(ISERROR(Q226/($M226*T226)),\"\",IF((Q226/($M226*T226))<=OUTLIERS!$D$3,\"\",IF((Q226/($M226*T226))>=OUTLIERS!$D$4,\"\",Q226/($M226*T226))))","v":""},{"$f":"IF(ISERROR((M226*S226)/P226),\"\",IF((M226*S226/P226)<=OUTLIERS!$E$3,\"\",IF((M226*S226/P226)>=OUTLIERS!$E$4,\"\",M226*S226/P226)))","v":5.7800018564954057},{"$f":"IF(ISERROR(O226/N226),\"\",IF(O226/N226<=OUTLIERS!$F$3,\"\",IF(O226/N226>=OUTLIERS!$F$4,\"\",O226/N226)))","v":3.3375856473028063},{"$f":"IF(ISERROR(U226/X226),\"\",IF(U226/X226<=OUTLIERS!$G$3,\"\",IF(U226/X226>=OUTLIERS!$G$4,\"\",U226/X226)))","v":2.5194403671360312E-3},{"$f":"IF(ISERROR(Q226/Y226),\"\",IF(Q226/Y226<=OUTLIERS!$H$3,\"\",IF(Q226/Y226>=OUTLIERS!$H$4,\"\",Q226/Y226)))","v":""},{"$f":"IF(ISERROR(W226),\"\",IF(W226<=OUTLIERS!$I$3,\"\",IF(W226>=OUTLIERS!$I$4,\"\",W226)))","v":0.5},18493561,4263561,14230000,3199577,"","",1,0,159978.85,"n/a",0.5,63497772,9507875]
[226,7997,"GEF ","FAO","Adaptation",{"$f":"IF(ISERROR(P227/(M227*S227)),\"\",IF((P227/(M227*S227))<=OUTLIERS!$C$3,\"\",IF((P227/(M227*S227))>=OUTLIERS!$C$4,\"\",P227/(M227*S227))))","v":""},{"$f":"IF(ISERROR(Q227/($M227*T227)),\"\",IF((Q227/($M227*T227))<=OUTLIERS!$D$3,\"\",IF((Q227/($M227*T227))>=OUTLIERS!$D$4,\"\",Q227/($M227*T227))))","v":""},{"$f":"IF(ISERROR((M227*S227)/P227),\"\",IF((M227*S227/P227)<=OUTLIERS!$E$3,\"\",IF((M227*S227/P227)>=OUTLIERS!$E$4,\"\",M227*S227/P227)))","v":""},{"$f":"IF(ISERROR(O227/N227),\"\",IF(O227/N227<=OUTLIERS!$F$3,\"\",IF(O227/N227>=OUTLIERS!$F$4,\"\",O227/N227)))","v":4.2500301299377163},{"$f":"IF(ISERROR(U227/X227),\"\",IF(U227/X227<=OUTLIERS!$G$3,\"\",IF(U227/X227>=OUTLIERS!$G$4,\"\",U227/X227)))","v":""},{"$f":"IF(ISERROR(Q227/Y227),\"\",IF(Q227/Y227<=OUTLIERS!$H$3,\"\",IF(Q227/Y227>=OUTLIERS!$H$4,\"\",Q227/Y227)))","v":""},{"$f":"IF(ISERROR(W227),\"\",IF(W227<=OUTLIERS!$I$3,\"\",IF(W227>=OUTLIERS!$I$4,\"\",W227)))","v":""},36156107,6886838,29269269,"n/a","","",0,1,"n/a","n/a","n/a",5229142,42862958]
[227,8001,"GEF ","UNDP","Adaptation",{"$f":"IF(ISERROR(P228/(M228*S228)),\"\",IF((P228/(M228*S228))<=OUTLIERS!$C$3,\"\",IF((P228/(M228*S228))>=OUTLIERS!$C$4,\"\",P228/(M228*S228))))","v":""},{"$f":"IF(ISERROR(Q228/($M228*T228)),\"\",IF((Q228/($M228*T228))<=OUTLIERS!$D$3,\"\",IF((Q228/($M228*T228))>=OUTLIERS!$D$4,\"\",Q228/($M228*T228))))","v":""},{"$f":"IF(ISERROR((M228*S228)/P228),\"\",IF((M228*S228/P228)<=OUTLIERS!$E$3,\"\",IF((M228*S228/P228)>=OUTLIERS!$E$4,\"\",M228*S228/P228)))","v":""},{"$f":"IF(ISERROR(O228/N228),\"\",IF(O228/N228<=OUTLIERS!$F$3,\"\",IF(O228/N228>=OUTLIERS!$F$4,\"\",O228/N228)))","v":3.0476190476190474},{"$f":"IF(ISERROR(U228/X228),\"\",IF(U228/X228<=OUTLIERS!$G$3,\"\",IF(U228/X228>=OUTLIERS!$G$4,\"\",U228/X228)))","v":""},{"$f":"IF(ISERROR(Q228/Y228),\"\",IF(Q228/Y228<=OUTLIERS!$H$3,\"\",IF(Q228/Y228>=OUTLIERS!$H$4,\"\",Q228/Y228)))","v":""},{"$f":"IF(ISERROR(W228),\"\",IF(W228<=OUTLIERS!$I$3,\"\",IF(W228>=OUTLIERS!$I$4,\"\",W228)))","v":0.3},21250000,5250000,16000000,"n/a","","",0,1,"n/a","n/a",0.3,729733,14899994]
[228,8004,"GEF ","UNEP","Cross-cutting",{"$f":"IF(ISERROR(P229/(M229*S229)),\"\",IF((P229/(M229*S229))<=OUTLIERS!$C$3,\"\",IF((P229/(M229*S229))>=OUTLIERS!$C$4,\"\",P229/(M229*S229))))","v":""},{"$f":"IF(ISERROR(Q229/($M229*T229)),\"\",IF((Q229/($M229*T229))<=OUTLIERS!$D$3,\"\",IF((Q229/($M229*T229))>=OUTLIERS!$D$4,\"\",Q229/($M229*T229))))","v":""},{"$f":"IF(ISERROR((M229*S229)/P229),\"\",IF((M229*S229/P229)<=OUTLIERS!$E$3,\"\",IF((M229*S229/P229)>=OUTLIERS!$E$4,\"\",M229*S229/P229)))","v":""},{"$f":"IF(ISERROR(O229/N229),\"\",IF(O229/N229<=OUTLIERS!$F$3,\"\",IF(O229/N229>=OUTLIERS!$F$4,\"\",O229/N229)))","v":0.1},{"$f":"IF(ISERROR(U229/X229),\"\",IF(U229/X229<=OUTLIERS!$G$3,\"\",IF(U229/X229>=OUTLIERS!$G$4,\"\",U229/X229)))","v":""},{"$f":"IF(ISERROR(Q229/Y229),\"\",IF(Q229/Y229<=OUTLIERS!$H$3,\"\",IF(Q229/Y229>=OUTLIERS!$H$4,\"\",Q229/Y229)))","v":""},{"$f":"IF(ISERROR(W229),\"\",IF(W229<=OUTLIERS!$I$3,\"\",IF(W229>=OUTLIERS!$I$4,\"\",W229)))","v":""},1980000,1800000,180000,"n/a","","","n/a","n/a","n/a","n/a","n/a",60430937.666666664,21106890.5]
[229,8009,"GEF ","UNEP","Adaptation",{"$f":"IF(ISERROR(P230/(M230*S230)),\"\",IF((P230/(M230*S230))<=OUTLIERS!$C$3,\"\",IF((P230/(M230*S230))>=OUTLIERS!$C$4,\"\",P230/(M230*S230))))","v":""},{"$f":"IF(ISERROR(Q230/($M230*T230)),\"\",IF((Q230/($M230*T230))<=OUTLIERS!$D$3,\"\",IF((Q230/($M230*T230))>=OUTLIERS!$D$4,\"\",Q230/($M230*T230))))","v":""},{"$f":"IF(ISERROR((M230*S230)/P230),\"\",IF((M230*S230/P230)<=OUTLIERS!$E$3,\"\",IF((M230*S230/P230)>=OUTLIERS!$E$4,\"\",M230*S230/P230)))","v":""},{"$f":"IF(ISERROR(O230/N230),\"\",IF(O230/N230<=OUTLIERS!$F$3,\"\",IF(O230/N230>=OUTLIERS!$F$4,\"\",O230/N230)))","v":2.4322809040959843},{"$f":"IF(ISERROR(U230/X230),\"\",IF(U230/X230<=OUTLIERS!$G$3,\"\",IF(U230/X230>=OUTLIERS!$G$4,\"\",U230/X230)))","v":""},{"$f":"IF(ISERROR(Q230/Y230),\"\",IF(Q230/Y230<=OUTLIERS!$H$3,\"\",IF(Q230/Y230>=OUTLIERS!$H$4,\"\",Q230/Y230)))","v":""},{"$f":"IF(ISERROR(W230),\"\",IF(W230<=OUTLIERS!$I$3,\"\",IF(W230>=OUTLIERS!$I$4,\"\",W230)))","v":""},21426700,6242700,15184000,"n/a","","",0,1,"n/a","n/a","n/a",8030730,29304998]
[230,8010,"GEF ","UNEP","Adaptation",{"$f":"IF(ISERROR(P231/(M231*S231)),\"\",IF((P231/(M231*S231))<=OUTLIERS!$C$3,\"\",IF((P231/(M231*S231))>=OUTLIERS!$C$4,\"\",P231/(M231*S231))))","v":""},{"$f":"IF(ISERROR(Q231/($M231*T231)),\"\",IF((Q231/($M231*T231))<=OUTLIERS!$D$3,\"\",IF((Q231/($M231*T231))>=OUTLIERS!$D$4,\"\",Q231/($M231*T231))))","v":2.148006497461894E-4},{"$f":"IF(ISERROR((M231*S231)/P231),\"\",IF((M231*S231/P231)<=OUTLIERS!$E$3,\"\",IF((M231*S231/P231)>=OUTLIERS!$E$4,\"\",M231*S231/P231)))","v":""},{"$f":"IF(ISERROR(O231/N231),\"\",IF(O231/N231<=OUTLIERS!$F$3,\"\",IF(O231/N231>=OUTLIERS!$F$4,\"\",O231/N231)))","v":2.9604942460072037},{"$f":"IF(ISERROR(U231/X231),\"\",IF(U231/X231<=OUTLIERS!$G$3,\"\",IF(U231/X231>=OUTLIERS!$G$4,\"\",U231/X231)))","v":""},{"$f":"IF(ISERROR(Q231/Y231),\"\",IF(Q231/Y231<=OUTLIERS!$H$3,\"\",IF(Q231/Y231>=OUTLIERS!$H$4,\"\",Q231/Y231)))","v":4.6022526185666838E-4},{"$f":"IF(ISERROR(W231),\"\",IF(W231<=OUTLIERS!$I$3,\"\",IF(W231>=OUTLIERS!$I$4,\"\",W231)))","v":0.3},23277397,5877397,17400000,"n/a",5000,5000,0,1,"n/a",5000,0.3,440040,10864245]
[231,8013,"GEF ","AfDB","Adaptation",{"$f":"IF(ISERROR(P232/(M232*S232)),\"\",IF((P232/(M232*S232))<=OUTLIERS!$C$3,\"\",IF((P232/(M232*S232))>=OUTLIERS!$C$4,\"\",P232/(M232*S232))))","v":""},{"$f":"IF(ISERROR(Q232/($M232*T232)),\"\",IF((Q232/($M232*T232))<=OUTLIERS!$D$3,\"\",IF((Q232/($M232*T232))>=OUTLIERS!$D$4,\"\",Q232/($M232*T232))))","v":""},{"$f":"IF(ISERROR((M232*S232)/P232),\"\",IF((M232*S232/P232)<=OUTLIERS!$E$3,\"\",IF((M232*S232/P232)>=OUTLIERS!$E$4,\"\",M232*S232/P232)))","v":""},{"$f":"IF(ISERROR(O232/N232),\"\",IF(O232/N232<=OUTLIERS!$F$3,\"\",IF(O232/N232>=OUTLIERS!$F$4,\"\",O232/N232)))","v":14.942311329676565},{"$f":"IF(ISERROR(U232/X232),\"\",IF(U232/X232<=OUTLIERS!$G$3,\"\",IF(U232/X232>=OUTLIERS!$G$4,\"\",U232/X232)))","v":""},{"$f":"IF(ISERROR(Q232/Y232),\"\",IF(Q232/Y232<=OUTLIERS!$H$3,\"\",IF(Q232/Y232>=OUTLIERS!$H$4,\"\",Q232/Y232)))","v":""},{"$f":"IF(ISERROR(W232),\"\",IF(W232<=OUTLIERS!$I$3,\"\",IF(W232>=OUTLIERS!$I$4,\"\",W232)))","v":""},42143500,2643500,39500000,"n/a","","",0,1,"n/a","n/a","n/a",1276116,18622104]
[232,8014,"GEF ","AfDB","Adaptation",{"$f":"IF(ISERROR(P233/(M233*S233)),\"\",IF((P233/(M233*S233))<=OUTLIERS!$C$3,\"\",IF((P233/(M233*S233))>=OUTLIERS!$C$4,\"\",P233/(M233*S233))))","v":""},{"$f":"IF(ISERROR(Q233/($M233*T233)),\"\",IF((Q233/($M233*T233))<=OUTLIERS!$D$3,\"\",IF((Q233/($M233*T233))>=OUTLIERS!$D$4,\"\",Q233/($M233*T233))))","v":3.8770047922548523E-3},{"$f":"IF(ISERROR((M233*S233)/P233),\"\",IF((M233*S233/P233)<=OUTLIERS!$E$3,\"\",IF((M233*S233/P233)>=OUTLIERS!$E$4,\"\",M233*S233/P233)))","v":""},{"$f":"IF(ISERROR(O233/N233),\"\",IF(O233/N233<=OUTLIERS!$F$3,\"\",IF(O233/N233>=OUTLIERS!$F$4,\"\",O233/N233)))","v":3.9060642496620406},{"$f":"IF(ISERROR(U233/X233),\"\",IF(U233/X233<=OUTLIERS!$G$3,\"\",IF(U233/X233>=OUTLIERS!$G$4,\"\",U233/X233)))","v":""},{"$f":"IF(ISERROR(Q233/Y233),\"\",IF(Q233/Y233<=OUTLIERS!$H$3,\"\",IF(Q233/Y233>=OUTLIERS!$H$4,\"\",Q233/Y233)))","v":3.7611844865468251E-2},{"$f":"IF(ISERROR(W233),\"\",IF(W233<=OUTLIERS!$I$3,\"\",IF(W233>=OUTLIERS!$I$4,\"\",W233)))","v":0.52},21666210,4416210,17250000,"n/a",84000,84000,0,1,"n/a",84000,0.52,2467891,2233339]
[233,8015,"GEF ","UNDP","Adaptation",{"$f":"IF(ISERROR(P234/(M234*S234)),\"\",IF((P234/(M234*S234))<=OUTLIERS!$C$3,\"\",IF((P234/(M234*S234))>=OUTLIERS!$C$4,\"\",P234/(M234*S234))))","v":""},{"$f":"IF(ISERROR(Q234/($M234*T234)),\"\",IF((Q234/($M234*T234))<=OUTLIERS!$D$3,\"\",IF((Q234/($M234*T234))>=OUTLIERS!$D$4,\"\",Q234/($M234*T234))))","v":2.4018023124552663E-3},{"$f":"IF(ISERROR((M234*S234)/P234),\"\",IF((M234*S234/P234)<=OUTLIERS!$E$3,\"\",IF((M234*S234/P234)>=OUTLIERS!$E$4,\"\",M234*S234/P234)))","v":""},{"$f":"IF(ISERROR(O234/N234),\"\",IF(O234/N234<=OUTLIERS!$F$3,\"\",IF(O234/N234>=OUTLIERS!$F$4,\"\",O234/N234)))","v":1.0817699999999999},{"$f":"IF(ISERROR(U234/X234),\"\",IF(U234/X234<=OUTLIERS!$G$3,\"\",IF(U234/X234>=OUTLIERS!$G$4,\"\",U234/X234)))","v":""},{"$f":"IF(ISERROR(Q234/Y234),\"\",IF(Q234/Y234<=OUTLIERS!$H$3,\"\",IF(Q234/Y234>=OUTLIERS!$H$4,\"\",Q234/Y234)))","v":2.1133133244827769E-3},{"$f":"IF(ISERROR(W234),\"\",IF(W234<=OUTLIERS!$I$3,\"\",IF(W234>=OUTLIERS!$I$4,\"\",W234)))","v":""},4163540,2000000,2163540,"n/a",10000,10000,0,1,"n/a",10000,"n/a",935085,4731906]
[234,8016,"GEF ","UNDP","Cross-cutting",{"$f":"IF(ISERROR(P235/(M235*S235)),\"\",IF((P235/(M235*S235))<=OUTLIERS!$C$3,\"\",IF((P235/(M235*S235))>=OUTLIERS!$C$4,\"\",P235/(M235*S235))))","v":""},{"$f":"IF(ISERROR(Q235/($M235*T235)),\"\",IF((Q235/($M235*T235))<=OUTLIERS!$D$3,\"\",IF((Q235/($M235*T235))>=OUTLIERS!$D$4,\"\",Q235/($M235*T235))))","v":""},{"$f":"IF(ISERROR((M235*S235)/P235),\"\",IF((M235*S235/P235)<=OUTLIERS!$E$3,\"\",IF((M235*S235/P235)>=OUTLIERS!$E$4,\"\",M235*S235/P235)))","v":""},{"$f":"IF(ISERROR(O235/N235),\"\",IF(O235/N235<=OUTLIERS!$F$3,\"\",IF(O235/N235>=OUTLIERS!$F$4,\"\",O235/N235)))","v":0.35},{"$f":"IF(ISERROR(U235/X235),\"\",IF(U235/X235<=OUTLIERS!$G$3,\"\",IF(U235/X235>=OUTLIERS!$G$4,\"\",U235/X235)))","v":""},{"$f":"IF(ISERROR(Q235/Y235),\"\",IF(Q235/Y235<=OUTLIERS!$H$3,\"\",IF(Q235/Y235>=OUTLIERS!$H$4,\"\",Q235/Y235)))","v":""},{"$f":"IF(ISERROR(W235),\"\",IF(W235<=OUTLIERS!$I$3,\"\",IF(W235>=OUTLIERS!$I$4,\"\",W235)))","v":""},270000,200000,70000,"n/a","","","n/a","n/a","n/a","n/a","n/a",608722,14742523]
[235,8018,"GEF ","UNDP","Adaptation",{"$f":"IF(ISERROR(P236/(M236*S236)),\"\",IF((P236/(M236*S236))<=OUTLIERS!$C$3,\"\",IF((P236/(M236*S236))>=OUTLIERS!$C$4,\"\",P236/(M236*S236))))","v":""},{"$f":"IF(ISERROR(Q236/($M236*T236)),\"\",IF((Q236/($M236*T236))<=OUTLIERS!$D$3,\"\",IF((Q236/($M236*T236))>=OUTLIERS!$D$4,\"\",Q236/($M236*T236))))","v":""},{"$f":"IF(ISERROR((M236*S236)/P236),\"\",IF((M236*S236/P236)<=OUTLIERS!$E$3,\"\",IF((M236*S236/P236)>=OUTLIERS!$E$4,\"\",M236*S236/P236)))","v":""},{"$f":"IF(ISERROR(O236/N236),\"\",IF(O236/N236<=OUTLIERS!$F$3,\"\",IF(O236/N236>=OUTLIERS!$F$4,\"\",O236/N236)))","v":4.257703081232493},{"$f":"IF(ISERROR(U236/X236),\"\",IF(U236/X236<=OUTLIERS!$G$3,\"\",IF(U236/X236>=OUTLIERS!$G$4,\"\",U236/X236)))","v":""},{"$f":"IF(ISERROR(Q236/Y236),\"\",IF(Q236/Y236<=OUTLIERS!$H$3,\"\",IF(Q236/Y236>=OUTLIERS!$H$4,\"\",Q236/Y236)))","v":""},{"$f":"IF(ISERROR(W236),\"\",IF(W236<=OUTLIERS!$I$3,\"\",IF(W236>=OUTLIERS!$I$4,\"\",W236)))","v":""},93850000,17850000,76000000,"n/a","","",0,1,"n/a","n/a","n/a",107259.75,253794.25]
[236,8020,"GEF ","UNDP","Adaptation",{"$f":"IF(ISERROR(P237/(M237*S237)),\"\",IF((P237/(M237*S237))<=OUTLIERS!$C$3,\"\",IF((P237/(M237*S237))>=OUTLIERS!$C$4,\"\",P237/(M237*S237))))","v":""},{"$f":"IF(ISERROR(Q237/($M237*T237)),\"\",IF((Q237/($M237*T237))<=OUTLIERS!$D$3,\"\",IF((Q237/($M237*T237))>=OUTLIERS!$D$4,\"\",Q237/($M237*T237))))","v":""},{"$f":"IF(ISERROR((M237*S237)/P237),\"\",IF((M237*S237/P237)<=OUTLIERS!$E$3,\"\",IF((M237*S237/P237)>=OUTLIERS!$E$4,\"\",M237*S237/P237)))","v":""},{"$f":"IF(ISERROR(O237/N237),\"\",IF(O237/N237<=OUTLIERS!$F$3,\"\",IF(O237/N237>=OUTLIERS!$F$4,\"\",O237/N237)))","v":3.0252100840336134},{"$f":"IF(ISERROR(U237/X237),\"\",IF(U237/X237<=OUTLIERS!$G$3,\"\",IF(U237/X237>=OUTLIERS!$G$4,\"\",U237/X237)))","v":""},{"$f":"IF(ISERROR(Q237/Y237),\"\",IF(Q237/Y237<=OUTLIERS!$H$3,\"\",IF(Q237/Y237>=OUTLIERS!$H$4,\"\",Q237/Y237)))","v":""},{"$f":"IF(ISERROR(W237),\"\",IF(W237<=OUTLIERS!$I$3,\"\",IF(W237>=OUTLIERS!$I$4,\"\",W237)))","v":""},35925000,8925000,27000000,"n/a","","",0,1,"n/a","n/a","n/a",2126860,21477348]
[237,8021,"GEF ","AfDB","Cross-cutting",{"$f":"IF(ISERROR(P238/(M238*S238)),\"\",IF((P238/(M238*S238))<=OUTLIERS!$C$3,\"\",IF((P238/(M238*S238))>=OUTLIERS!$C$4,\"\",P238/(M238*S238))))","v":""},{"$f":"IF(ISERROR(Q238/($M238*T238)),\"\",IF((Q238/($M238*T238))<=OUTLIERS!$D$3,\"\",IF((Q238/($M238*T238))>=OUTLIERS!$D$4,\"\",Q238/($M238*T238))))","v":""},{"$f":"IF(ISERROR((M238*S238)/P238),\"\",IF((M238*S238/P238)<=OUTLIERS!$E$3,\"\",IF((M238*S238/P238)>=OUTLIERS!$E$4,\"\",M238*S238/P238)))","v":""},{"$f":"IF(ISERROR(O238/N238),\"\",IF(O238/N238<=OUTLIERS!$F$3,\"\",IF(O238/N238>=OUTLIERS!$F$4,\"\",O238/N238)))","v":3.0664361317528575},{"$f":"IF(ISERROR(U238/X238),\"\",IF(U238/X238<=OUTLIERS!$G$3,\"\",IF(U238/X238>=OUTLIERS!$G$4,\"\",U238/X238)))","v":2.88691552174558E-2},{"$f":"IF(ISERROR(Q238/Y238),\"\",IF(Q238/Y238<=OUTLIERS!$H$3,\"\",IF(Q238/Y238>=OUTLIERS!$H$4,\"\",Q238/Y238)))","v":""},{"$f":"IF(ISERROR(W238),\"\",IF(W238<=OUTLIERS!$I$3,\"\",IF(W238>=OUTLIERS!$I$4,\"\",W238)))","v":0.5},29824247,7334247,22490000,2600000,"",70000,"n/a","n/a",130000,70000,0.5,4503076,17094130]
[238,8022,"GEF ","UNEP","Adaptation",{"$f":"IF(ISERROR(P239/(M239*S239)),\"\",IF((P239/(M239*S239))<=OUTLIERS!$C$3,\"\",IF((P239/(M239*S239))>=OUTLIERS!$C$4,\"\",P239/(M239*S239))))","v":""},{"$f":"IF(ISERROR(Q239/($M239*T239)),\"\",IF((Q239/($M239*T239))<=OUTLIERS!$D$3,\"\",IF((Q239/($M239*T239))>=OUTLIERS!$D$4,\"\",Q239/($M239*T239))))","v":""},{"$f":"IF(ISERROR((M239*S239)/P239),\"\",IF((M239*S239/P239)<=OUTLIERS!$E$3,\"\",IF((M239*S239/P239)>=OUTLIERS!$E$4,\"\",M239*S239/P239)))","v":""},{"$f":"IF(ISERROR(O239/N239),\"\",IF(O239/N239<=OUTLIERS!$F$3,\"\",IF(O239/N239>=OUTLIERS!$F$4,\"\",O239/N239)))","v":11.258189981393027},{"$f":"IF(ISERROR(U239/X239),\"\",IF(U239/X239<=OUTLIERS!$G$3,\"\",IF(U239/X239>=OUTLIERS!$G$4,\"\",U239/X239)))","v":""},{"$f":"IF(ISERROR(Q239/Y239),\"\",IF(Q239/Y239<=OUTLIERS!$H$3,\"\",IF(Q239/Y239>=OUTLIERS!$H$4,\"\",Q239/Y239)))","v":""},{"$f":"IF(ISERROR(W239),\"\",IF(W239<=OUTLIERS!$I$3,\"\",IF(W239>=OUTLIERS!$I$4,\"\",W239)))","v":""},43552969,3552969,40000000,"n/a","","",0,1,"n/a","n/a","n/a",1954511,6858160]
[239,8023,"GEF ","UNDP","Adaptation",{"$f":"IF(ISERROR(P240/(M240*S240)),\"\",IF((P240/(M240*S240))<=OUTLIERS!$C$3,\"\",IF((P240/(M240*S240))>=OUTLIERS!$C$4,\"\",P240/(M240*S240))))","v":""},{"$f":"IF(ISERROR(Q240/($M240*T240)),\"\",IF((Q240/($M240*T240))<=OUTLIERS!$D$3,\"\",IF((Q240/($M240*T240))>=OUTLIERS!$D$4,\"\",Q240/($M240*T240))))","v":""},{"$f":"IF(ISERROR((M240*S240)/P240),\"\",IF((M240*S240/P240)<=OUTLIERS!$E$3,\"\",IF((M240*S240/P240)>=OUTLIERS!$E$4,\"\",M240*S240/P240)))","v":""},{"$f":"IF(ISERROR(O240/N240),\"\",IF(O240/N240<=OUTLIERS!$F$3,\"\",IF(O240/N240>=OUTLIERS!$F$4,\"\",O240/N240)))","v":6.1028659999999997},{"$f":"IF(ISERROR(U240/X240),\"\",IF(U240/X240<=OUTLIERS!$G$3,\"\",IF(U240/X240>=OUTLIERS!$G$4,\"\",U240/X240)))","v":""},{"$f":"IF(ISERROR(Q240/Y240),\"\",IF(Q240/Y240<=OUTLIERS!$H$3,\"\",IF(Q240/Y240>=OUTLIERS!$H$4,\"\",Q240/Y240)))","v":""},{"$f":"IF(ISERROR(W240),\"\",IF(W240<=OUTLIERS!$I$3,\"\",IF(W240>=OUTLIERS!$I$4,\"\",W240)))","v":""},35514330,5000000,30514330,"n/a","","",0,1,"n/a","n/a","n/a",2449556,12717176]
[240,8024,"GEF ","UNEP","Cross-cutting",{"$f":"IF(ISERROR(P241/(M241*S241)),\"\",IF((P241/(M241*S241))<=OUTLIERS!$C$3,\"\",IF((P241/(M241*S241))>=OUTLIERS!$C$4,\"\",P241/(M241*S241))))","v":""},{"$f":"IF(ISERROR(Q241/($M241*T241)),\"\",IF((Q241/($M241*T241))<=OUTLIERS!$D$3,\"\",IF((Q241/($M241*T241))>=OUTLIERS!$D$4,\"\",Q241/($M241*T241))))","v":""},{"$f":"IF(ISERROR((M241*S241)/P241),\"\",IF((M241*S241/P241)<=OUTLIERS!$E$3,\"\",IF((M241*S241/P241)>=OUTLIERS!$E$4,\"\",M241*S241/P241)))","v":""},{"$f":"IF(ISERROR(O241/N241),\"\",IF(O241/N241<=OUTLIERS!$F$3,\"\",IF(O241/N241>=OUTLIERS!$F$4,\"\",O241/N241)))","v":0.1},{"$f":"IF(ISERROR(U241/X241),\"\",IF(U241/X241<=OUTLIERS!$G$3,\"\",IF(U241/X241>=OUTLIERS!$G$4,\"\",U241/X241)))","v":""},{"$f":"IF(ISERROR(Q241/Y241),\"\",IF(Q241/Y241<=OUTLIERS!$H$3,\"\",IF(Q241/Y241>=OUTLIERS!$H$4,\"\",Q241/Y241)))","v":""},{"$f":"IF(ISERROR(W241),\"\",IF(W241<=OUTLIERS!$I$3,\"\",IF(W241>=OUTLIERS!$I$4,\"\",W241)))","v":""},1980000,1800000,180000,"n/a","","","n/a","n/a","n/a","n/a","n/a",12262040.555555554,12627614.222222222]
[241,8028,"GEF ","UNDP","Adaptation",{"$f":"IF(ISERROR(P242/(M242*S242)),\"\",IF((P242/(M242*S242))<=OUTLIERS!$C$3,\"\",IF((P242/(M242*S242))>=OUTLIERS!$C$4,\"\",P242/(M242*S242))))","v":""},{"$f":"IF(ISERROR(Q242/($M242*T242)),\"\",IF((Q242/($M242*T242))<=OUTLIERS!$D$3,\"\",IF((Q242/($M242*T242))>=OUTLIERS!$D$4,\"\",Q242/($M242*T242))))","v":""},{"$f":"IF(ISERROR((M242*S242)/P242),\"\",IF((M242*S242/P242)<=OUTLIERS!$E$3,\"\",IF((M242*S242/P242)>=OUTLIERS!$E$4,\"\",M242*S242/P242)))","v":""},{"$f":"IF(ISERROR(O242/N242),\"\",IF(O242/N242<=OUTLIERS!$F$3,\"\",IF(O242/N242>=OUTLIERS!$F$4,\"\",O242/N242)))","v":2.3947457819046543},{"$f":"IF(ISERROR(U242/X242),\"\",IF(U242/X242<=OUTLIERS!$G$3,\"\",IF(U242/X242>=OUTLIERS!$G$4,\"\",U242/X242)))","v":""},{"$f":"IF(ISERROR(Q242/Y242),\"\",IF(Q242/Y242<=OUTLIERS!$H$3,\"\",IF(Q242/Y242>=OUTLIERS!$H$4,\"\",Q242/Y242)))","v":""},{"$f":"IF(ISERROR(W242),\"\",IF(W242<=OUTLIERS!$I$3,\"\",IF(W242>=OUTLIERS!$I$4,\"\",W242)))","v":""},29979000,8831000,21148000,"n/a","","",0,1,"n/a","n/a","n/a",608722,14742523]
[242,8030,"GEF ","UNDP","Cross-cutting",{"$f":"IF(ISERROR(P243/(M243*S243)),\"\",IF((P243/(M243*S243))<=OUTLIERS!$C$3,\"\",IF((P243/(M243*S243))>=OUTLIERS!$C$4,\"\",P243/(M243*S243))))","v":""},{"$f":"IF(ISERROR(Q243/($M243*T243)),\"\",IF((Q243/($M243*T243))<=OUTLIERS!$D$3,\"\",IF((Q243/($M243*T243))>=OUTLIERS!$D$4,\"\",Q243/($M243*T243))))","v":""},{"$f":"IF(ISERROR((M243*S243)/P243),\"\",IF((M243*S243/P243)<=OUTLIERS!$E$3,\"\",IF((M243*S243/P243)>=OUTLIERS!$E$4,\"\",M243*S243/P243)))","v":""},{"$f":"IF(ISERROR(O243/N243),\"\",IF(O243/N243<=OUTLIERS!$F$3,\"\",IF(O243/N243>=OUTLIERS!$F$4,\"\",O243/N243)))","v":9.3896713615023469E-2},{"$f":"IF(ISERROR(U243/X243),\"\",IF(U243/X243<=OUTLIERS!$G$3,\"\",IF(U243/X243>=OUTLIERS!$G$4,\"\",U243/X243)))","v":""},{"$f":"IF(ISERROR(Q243/Y243),\"\",IF(Q243/Y243<=OUTLIERS!$H$3,\"\",IF(Q243/Y243>=OUTLIERS!$H$4,\"\",Q243/Y243)))","v":""},{"$f":"IF(ISERROR(W243),\"\",IF(W243<=OUTLIERS!$I$3,\"\",IF(W243>=OUTLIERS!$I$4,\"\",W243)))","v":""},932000,852000,80000,"n/a","","","n/a","n/a","n/a","n/a","n/a",8800800,4098587]
[243,8032,"GEF ","UNDP","Adaptation",{"$f":"IF(ISERROR(P244/(M244*S244)),\"\",IF((P244/(M244*S244))<=OUTLIERS!$C$3,\"\",IF((P244/(M244*S244))>=OUTLIERS!$C$4,\"\",P244/(M244*S244))))","v":""},{"$f":"IF(ISERROR(Q244/($M244*T244)),\"\",IF((Q244/($M244*T244))<=OUTLIERS!$D$3,\"\",IF((Q244/($M244*T244))>=OUTLIERS!$D$4,\"\",Q244/($M244*T244))))","v":8.5392681018927675E-4},{"$f":"IF(ISERROR((M244*S244)/P244),\"\",IF((M244*S244/P244)<=OUTLIERS!$E$3,\"\",IF((M244*S244/P244)>=OUTLIERS!$E$4,\"\",M244*S244/P244)))","v":""},{"$f":"IF(ISERROR(O244/N244),\"\",IF(O244/N244<=OUTLIERS!$F$3,\"\",IF(O244/N244>=OUTLIERS!$F$4,\"\",O244/N244)))","v":4.2441319473598771},{"$f":"IF(ISERROR(U244/X244),\"\",IF(U244/X244<=OUTLIERS!$G$3,\"\",IF(U244/X244>=OUTLIERS!$G$4,\"\",U244/X244)))","v":""},{"$f":"IF(ISERROR(Q244/Y244),\"\",IF(Q244/Y244<=OUTLIERS!$H$3,\"\",IF(Q244/Y244>=OUTLIERS!$H$4,\"\",Q244/Y244)))","v":1.0420258399483739E-3},{"$f":"IF(ISERROR(W244),\"\",IF(W244<=OUTLIERS!$I$3,\"\",IF(W244>=OUTLIERS!$I$4,\"\",W244)))","v":""},23421211,4466175,18955036,"n/a",20000,20000,0,1,"n/a",20000,"n/a",2849259,19193382]
[244,8033,"GEF ","IUCN","Adaptation",{"$f":"IF(ISERROR(P245/(M245*S245)),\"\",IF((P245/(M245*S245))<=OUTLIERS!$C$3,\"\",IF((P245/(M245*S245))>=OUTLIERS!$C$4,\"\",P245/(M245*S245))))","v":""},{"$f":"IF(ISERROR(Q245/($M245*T245)),\"\",IF((Q245/($M245*T245))<=OUTLIERS!$D$3,\"\",IF((Q245/($M245*T245))>=OUTLIERS!$D$4,\"\",Q245/($M245*T245))))","v":""},{"$f":"IF(ISERROR((M245*S245)/P245),\"\",IF((M245*S245/P245)<=OUTLIERS!$E$3,\"\",IF((M245*S245/P245)>=OUTLIERS!$E$4,\"\",M245*S245/P245)))","v":""},{"$f":"IF(ISERROR(O245/N245),\"\",IF(O245/N245<=OUTLIERS!$F$3,\"\",IF(O245/N245>=OUTLIERS!$F$4,\"\",O245/N245)))","v":1.0113400435370652},{"$f":"IF(ISERROR(U245/X245),\"\",IF(U245/X245<=OUTLIERS!$G$3,\"\",IF(U245/X245>=OUTLIERS!$G$4,\"\",U245/X245)))","v":""},{"$f":"IF(ISERROR(Q245/Y245),\"\",IF(Q245/Y245<=OUTLIERS!$H$3,\"\",IF(Q245/Y245>=OUTLIERS!$H$4,\"\",Q245/Y245)))","v":""},{"$f":"IF(ISERROR(W245),\"\",IF(W245<=OUTLIERS!$I$3,\"\",IF(W245>=OUTLIERS!$I$4,\"\",W245)))","v":""},8949542,4449542,4500000,"n/a","","",0,1,"n/a","n/a","n/a",2709913,4420184]
[245,8034,"GEF ","UNEP","Adaptation",{"$f":"IF(ISERROR(P246/(M246*S246)),\"\",IF((P246/(M246*S246))<=OUTLIERS!$C$3,\"\",IF((P246/(M246*S246))>=OUTLIERS!$C$4,\"\",P246/(M246*S246))))","v":""},{"$f":"IF(ISERROR(Q246/($M246*T246)),\"\",IF((Q246/($M246*T246))<=OUTLIERS!$D$3,\"\",IF((Q246/($M246*T246))>=OUTLIERS!$D$4,\"\",Q246/($M246*T246))))","v":""},{"$f":"IF(ISERROR((M246*S246)/P246),\"\",IF((M246*S246/P246)<=OUTLIERS!$E$3,\"\",IF((M246*S246/P246)>=OUTLIERS!$E$4,\"\",M246*S246/P246)))","v":""},{"$f":"IF(ISERROR(O246/N246),\"\",IF(O246/N246<=OUTLIERS!$F$3,\"\",IF(O246/N246>=OUTLIERS!$F$4,\"\",O246/N246)))","v":2.8536782538399352},{"$f":"IF(ISERROR(U246/X246),\"\",IF(U246/X246<=OUTLIERS!$G$3,\"\",IF(U246/X246>=OUTLIERS!$G$4,\"\",U246/X246)))","v":""},{"$f":"IF(ISERROR(Q246/Y246),\"\",IF(Q246/Y246<=OUTLIERS!$H$3,\"\",IF(Q246/Y246>=OUTLIERS!$H$4,\"\",Q246/Y246)))","v":""},{"$f":"IF(ISERROR(W246),\"\",IF(W246<=OUTLIERS!$I$3,\"\",IF(W246>=OUTLIERS!$I$4,\"\",W246)))","v":""},23835000,6185000,17650000,"n/a","","",0,1,"n/a","n/a","n/a",4503076,17094130]
[246,8035,"GEF ","UNEP","Adaptation",{"$f":"IF(ISERROR(P247/(M247*S247)),\"\",IF((P247/(M247*S247))<=OUTLIERS!$C$3,\"\",IF((P247/(M247*S247))>=OUTLIERS!$C$4,\"\",P247/(M247*S247))))","v":""},{"$f":"IF(ISERROR(Q247/($M247*T247)),\"\",IF((Q247/($M247*T247))<=OUTLIERS!$D$3,\"\",IF((Q247/($M247*T247))>=OUTLIERS!$D$4,\"\",Q247/($M247*T247))))","v":""},{"$f":"IF(ISERROR((M247*S247)/P247),\"\",IF((M247*S247/P247)<=OUTLIERS!$E$3,\"\",IF((M247*S247/P247)>=OUTLIERS!$E$4,\"\",M247*S247/P247)))","v":""},{"$f":"IF(ISERROR(O247/N247),\"\",IF(O247/N247<=OUTLIERS!$F$3,\"\",IF(O247/N247>=OUTLIERS!$F$4,\"\",O247/N247)))","v":4.0229885057471266},{"$f":"IF(ISERROR(U247/X247),\"\",IF(U247/X247<=OUTLIERS!$G$3,\"\",IF(U247/X247>=OUTLIERS!$G$4,\"\",U247/X247)))","v":""},{"$f":"IF(ISERROR(Q247/Y247),\"\",IF(Q247/Y247<=OUTLIERS!$H$3,\"\",IF(Q247/Y247>=OUTLIERS!$H$4,\"\",Q247/Y247)))","v":""},{"$f":"IF(ISERROR(W247),\"\",IF(W247<=OUTLIERS!$I$3,\"\",IF(W247>=OUTLIERS!$I$4,\"\",W247)))","v":""},21850000,4350000,17500000,"n/a","","",0,1,"n/a","n/a","n/a",5229142,42862958]
[247,8036,"GEF ","UNDP","Adaptation",{"$f":"IF(ISERROR(P248/(M248*S248)),\"\",IF((P248/(M248*S248))<=OUTLIERS!$C$3,\"\",IF((P248/(M248*S248))>=OUTLIERS!$C$4,\"\",P248/(M248*S248))))","v":""},{"$f":"IF(ISERROR(Q248/($M248*T248)),\"\",IF((Q248/($M248*T248))<=OUTLIERS!$D$3,\"\",IF((Q248/($M248*T248))>=OUTLIERS!$D$4,\"\",Q248/($M248*T248))))","v":""},{"$f":"IF(ISERROR((M248*S248)/P248),\"\",IF((M248*S248/P248)<=OUTLIERS!$E$3,\"\",IF((M248*S248/P248)>=OUTLIERS!$E$4,\"\",M248*S248/P248)))","v":""},{"$f":"IF(ISERROR(O248/N248),\"\",IF(O248/N248<=OUTLIERS!$F$3,\"\",IF(O248/N248>=OUTLIERS!$F$4,\"\",O248/N248)))","v":3.6315789473684212},{"$f":"IF(ISERROR(U248/X248),\"\",IF(U248/X248<=OUTLIERS!$G$3,\"\",IF(U248/X248>=OUTLIERS!$G$4,\"\",U248/X248)))","v":""},{"$f":"IF(ISERROR(Q248/Y248),\"\",IF(Q248/Y248<=OUTLIERS!$H$3,\"\",IF(Q248/Y248>=OUTLIERS!$H$4,\"\",Q248/Y248)))","v":""},{"$f":"IF(ISERROR(W248),\"\",IF(W248<=OUTLIERS!$I$3,\"\",IF(W248>=OUTLIERS!$I$4,\"\",W248)))","v":""},26400000,5700000,20700000,"n/a","","",0,1,"n/a","n/a","n/a",73189653,164669751]
[248,9036,"GEF ","UNDP","Mitigation",{"$f":"IF(ISERROR(P249/(M249*S249)),\"\",IF((P249/(M249*S249))<=OUTLIERS!$C$3,\"\",IF((P249/(M249*S249))>=OUTLIERS!$C$4,\"\",P249/(M249*S249))))","v":""},{"$f":"IF(ISERROR(Q249/($M249*T249)),\"\",IF((Q249/($M249*T249))<=OUTLIERS!$D$3,\"\",IF((Q249/($M249*T249))>=OUTLIERS!$D$4,\"\",Q249/($M249*T249))))","v":""},{"$f":"IF(ISERROR((M249*S249)/P249),\"\",IF((M249*S249/P249)<=OUTLIERS!$E$3,\"\",IF((M249*S249/P249)>=OUTLIERS!$E$4,\"\",M249*S249/P249)))","v":""},{"$f":"IF(ISERROR(O249/N249),\"\",IF(O249/N249<=OUTLIERS!$F$3,\"\",IF(O249/N249>=OUTLIERS!$F$4,\"\",O249/N249)))","v":0.14204545454545456},{"$f":"IF(ISERROR(U249/X249),\"\",IF(U249/X249<=OUTLIERS!$G$3,\"\",IF(U249/X249>=OUTLIERS!$G$4,\"\",U249/X249)))","v":""},{"$f":"IF(ISERROR(Q249/Y249),\"\",IF(Q249/Y249<=OUTLIERS!$H$3,\"\",IF(Q249/Y249>=OUTLIERS!$H$4,\"\",Q249/Y249)))","v":""},{"$f":"IF(ISERROR(W249),\"\",IF(W249<=OUTLIERS!$I$3,\"\",IF(W249>=OUTLIERS!$I$4,\"\",W249)))","v":""},402000,352000,50000,"n/a","","",1,0,"n/a","n/a","n/a",3755008,2533794]
[249,9037,"GEF ","WorldBank","Mitigation",{"$f":"IF(ISERROR(P250/(M250*S250)),\"\",IF((P250/(M250*S250))<=OUTLIERS!$C$3,\"\",IF((P250/(M250*S250))>=OUTLIERS!$C$4,\"\",P250/(M250*S250))))","v":""},{"$f":"IF(ISERROR(Q250/($M250*T250)),\"\",IF((Q250/($M250*T250))<=OUTLIERS!$D$3,\"\",IF((Q250/($M250*T250))>=OUTLIERS!$D$4,\"\",Q250/($M250*T250))))","v":""},{"$f":"IF(ISERROR((M250*S250)/P250),\"\",IF((M250*S250/P250)<=OUTLIERS!$E$3,\"\",IF((M250*S250/P250)>=OUTLIERS!$E$4,\"\",M250*S250/P250)))","v":""},{"$f":"IF(ISERROR(O250/N250),\"\",IF(O250/N250<=OUTLIERS!$F$3,\"\",IF(O250/N250>=OUTLIERS!$F$4,\"\",O250/N250)))","v":2.9200000292000001},{"$f":"IF(ISERROR(U250/X250),\"\",IF(U250/X250<=OUTLIERS!$G$3,\"\",IF(U250/X250>=OUTLIERS!$G$4,\"\",U250/X250)))","v":""},{"$f":"IF(ISERROR(Q250/Y250),\"\",IF(Q250/Y250<=OUTLIERS!$H$3,\"\",IF(Q250/Y250>=OUTLIERS!$H$4,\"\",Q250/Y250)))","v":""},{"$f":"IF(ISERROR(W250),\"\",IF(W250<=OUTLIERS!$I$3,\"\",IF(W250>=OUTLIERS!$I$4,\"\",W250)))","v":""},{"$f":"N250+O250","v":16109589},4109589,12000000,"n/a","","",1,0,"n/a","n/a","n/a",9607540,6201500]
[250,9038,"GEF ","UNEP","Mitigation",{"$f":"IF(ISERROR(P251/(M251*S251)),\"\",IF((P251/(M251*S251))<=OUTLIERS!$C$3,\"\",IF((P251/(M251*S251))>=OUTLIERS!$C$4,\"\",P251/(M251*S251))))","v":4.165163819363985E-3},{"$f":"IF(ISERROR(Q251/($M251*T251)),\"\",IF((Q251/($M251*T251))<=OUTLIERS!$D$3,\"\",IF((Q251/($M251*T251))>=OUTLIERS!$D$4,\"\",Q251/($M251*T251))))","v":""},{"$f":"IF(ISERROR((M251*S251)/P251),\"\",IF((M251*S251/P251)<=OUTLIERS!$E$3,\"\",IF((M251*S251/P251)>=OUTLIERS!$E$4,\"\",M251*S251/P251)))","v":240.08659523809524},{"$f":"IF(ISERROR(O251/N251),\"\",IF(O251/N251<=OUTLIERS!$F$3,\"\",IF(O251/N251>=OUTLIERS!$F$4,\"\",O251/N251)))","v":15.66339523116253},{"$f":"IF(ISERROR(U251/X251),\"\",IF(U251/X251<=OUTLIERS!$G$3,\"\",IF(U251/X251>=OUTLIERS!$G$4,\"\",U251/X251)))","v":2.7047504008599196E-3},{"$f":"IF(ISERROR(Q251/Y251),\"\",IF(Q251/Y251<=OUTLIERS!$H$3,\"\",IF(Q251/Y251>=OUTLIERS!$H$4,\"\",Q251/Y251)))","v":""},{"$f":"IF(ISERROR(W251),\"\",IF(W251<=OUTLIERS!$I$3,\"\",IF(W251>=OUTLIERS!$I$4,\"\",W251)))","v":""},40334548,2420548,37914000,168000,"","",1,0,17000,"n/a","n/a",6285238,6377853]
[251,9040,"GEF ","UNDP","Mitigation",{"$f":"IF(ISERROR(P252/(M252*S252)),\"\",IF((P252/(M252*S252))<=OUTLIERS!$C$3,\"\",IF((P252/(M252*S252))>=OUTLIERS!$C$4,\"\",P252/(M252*S252))))","v":3.4683535234491379E-2},{"$f":"IF(ISERROR(Q252/($M252*T252)),\"\",IF((Q252/($M252*T252))<=OUTLIERS!$D$3,\"\",IF((Q252/($M252*T252))>=OUTLIERS!$D$4,\"\",Q252/($M252*T252))))","v":""},{"$f":"IF(ISERROR((M252*S252)/P252),\"\",IF((M252*S252/P252)<=OUTLIERS!$E$3,\"\",IF((M252*S252/P252)>=OUTLIERS!$E$4,\"\",M252*S252/P252)))","v":28.832124327555292},{"$f":"IF(ISERROR(O252/N252),\"\",IF(O252/N252<=OUTLIERS!$F$3,\"\",IF(O252/N252>=OUTLIERS!$F$4,\"\",O252/N252)))","v":8.1887517436656552},{"$f":"IF(ISERROR(U252/X252),\"\",IF(U252/X252<=OUTLIERS!$G$3,\"\",IF(U252/X252>=OUTLIERS!$G$4,\"\",U252/X252)))","v":0.40734933187892008},{"$f":"IF(ISERROR(Q252/Y252),\"\",IF(Q252/Y252<=OUTLIERS!$H$3,\"\",IF(Q252/Y252>=OUTLIERS!$H$4,\"\",Q252/Y252)))","v":""},{"$f":"IF(ISERROR(W252),\"\",IF(W252<=OUTLIERS!$I$3,\"\",IF(W252>=OUTLIERS!$I$4,\"\",W252)))","v":0.28000000000000003},54265662,5905662,48360000,1882125,"",10800,1,0,62737.5,10800,0.28000000000000003,154014,813912]
[252,9041,"GEF ","UNEP","Adaptation",{"$f":"IF(ISERROR(P253/(M253*S253)),\"\",IF((P253/(M253*S253))<=OUTLIERS!$C$3,\"\",IF((P253/(M253*S253))>=OUTLIERS!$C$4,\"\",P253/(M253*S253))))","v":""},{"$f":"IF(ISERROR(Q253/($M253*T253)),\"\",IF((Q253/($M253*T253))<=OUTLIERS!$D$3,\"\",IF((Q253/($M253*T253))>=OUTLIERS!$D$4,\"\",Q253/($M253*T253))))","v":""},{"$f":"IF(ISERROR((M253*S253)/P253),\"\",IF((M253*S253/P253)<=OUTLIERS!$E$3,\"\",IF((M253*S253/P253)>=OUTLIERS!$E$4,\"\",M253*S253/P253)))","v":""},{"$f":"IF(ISERROR(O253/N253),\"\",IF(O253/N253<=OUTLIERS!$F$3,\"\",IF(O253/N253>=OUTLIERS!$F$4,\"\",O253/N253)))","v":5.0420168067226889},{"$f":"IF(ISERROR(U253/X253),\"\",IF(U253/X253<=OUTLIERS!$G$3,\"\",IF(U253/X253>=OUTLIERS!$G$4,\"\",U253/X253)))","v":""},{"$f":"IF(ISERROR(Q253/Y253),\"\",IF(Q253/Y253<=OUTLIERS!$H$3,\"\",IF(Q253/Y253>=OUTLIERS!$H$4,\"\",Q253/Y253)))","v":""},{"$f":"IF(ISERROR(W253),\"\",IF(W253<=OUTLIERS!$I$3,\"\",IF(W253>=OUTLIERS!$I$4,\"\",W253)))","v":""},53925000,8925000,45000000,"n/a","","",0,1,"n/a","n/a","n/a",62339,116398]
[253,9042,"GEF ","UNDP","Mitigation",{"$f":"IF(ISERROR(P254/(M254*S254)),\"\",IF((P254/(M254*S254))<=OUTLIERS!$C$3,\"\",IF((P254/(M254*S254))>=OUTLIERS!$C$4,\"\",P254/(M254*S254))))","v":4.6981744726287411E-3},{"$f":"IF(ISERROR(Q254/($M254*T254)),\"\",IF((Q254/($M254*T254))<=OUTLIERS!$D$3,\"\",IF((Q254/($M254*T254))>=OUTLIERS!$D$4,\"\",Q254/($M254*T254))))","v":""},{"$f":"IF(ISERROR((M254*S254)/P254),\"\",IF((M254*S254/P254)<=OUTLIERS!$E$3,\"\",IF((M254*S254/P254)>=OUTLIERS!$E$4,\"\",M254*S254/P254)))","v":212.84863000000001},{"$f":"IF(ISERROR(O254/N254),\"\",IF(O254/N254<=OUTLIERS!$F$3,\"\",IF(O254/N254>=OUTLIERS!$F$4,\"\",O254/N254)))","v":15.126569954608925},{"$f":"IF(ISERROR(U254/X254),\"\",IF(U254/X254<=OUTLIERS!$G$3,\"\",IF(U254/X254>=OUTLIERS!$G$4,\"\",U254/X254)))","v":2.0275277441827695E-3},{"$f":"IF(ISERROR(Q254/Y254),\"\",IF(Q254/Y254<=OUTLIERS!$H$3,\"\",IF(Q254/Y254>=OUTLIERS!$H$4,\"\",Q254/Y254)))","v":""},{"$f":"IF(ISERROR(W254),\"\",IF(W254<=OUTLIERS!$I$3,\"\",IF(W254>=OUTLIERS!$I$4,\"\",W254)))","v":0.4},42569726,2639726,39930000,200000,"",20000,1,0,10000,20000,0.4,4932115,3549750]
[254,9043,"GEF ","AfDB","Mitigation",{"$f":"IF(ISERROR(P255/(M255*S255)),\"\",IF((P255/(M255*S255))<=OUTLIERS!$C$3,\"\",IF((P255/(M255*S255))>=OUTLIERS!$C$4,\"\",P255/(M255*S255))))","v":6.1854838709677418E-3},{"$f":"IF(ISERROR(Q255/($M255*T255)),\"\",IF((Q255/($M255*T255))<=OUTLIERS!$D$3,\"\",IF((Q255/($M255*T255))>=OUTLIERS!$D$4,\"\",Q255/($M255*T255))))","v":""},{"$f":"IF(ISERROR((M255*S255)/P255),\"\",IF((M255*S255/P255)<=OUTLIERS!$E$3,\"\",IF((M255*S255/P255)>=OUTLIERS!$E$4,\"\",M255*S255/P255)))","v":161.66883963494132},{"$f":"IF(ISERROR(O255/N255),\"\",IF(O255/N255<=OUTLIERS!$F$3,\"\",IF(O255/N255>=OUTLIERS!$F$4,\"\",O255/N255)))","v":61},{"$f":"IF(ISERROR(U255/X255),\"\",IF(U255/X255<=OUTLIERS!$G$3,\"\",IF(U255/X255>=OUTLIERS!$G$4,\"\",U255/X255)))","v":""},{"$f":"IF(ISERROR(Q255/Y255),\"\",IF(Q255/Y255<=OUTLIERS!$H$3,\"\",IF(Q255/Y255>=OUTLIERS!$H$4,\"\",Q255/Y255)))","v":""},{"$f":"IF(ISERROR(W255),\"\",IF(W255<=OUTLIERS!$I$3,\"\",IF(W255>=OUTLIERS!$I$4,\"\",W255)))","v":""},620000000,10000000,610000000,3835000,"","",1,0,383500,"n/a","n/a","",""]
[255,9044,"GEF ","UNDP","Cross-cutting",{"$f":"IF(ISERROR(P256/(M256*S256)),\"\",IF((P256/(M256*S256))<=OUTLIERS!$C$3,\"\",IF((P256/(M256*S256))>=OUTLIERS!$C$4,\"\",P256/(M256*S256))))","v":""},{"$f":"IF(ISERROR(Q256/($M256*T256)),\"\",IF((Q256/($M256*T256))<=OUTLIERS!$D$3,\"\",IF((Q256/($M256*T256))>=OUTLIERS!$D$4,\"\",Q256/($M256*T256))))","v":""},{"$f":"IF(ISERROR((M256*S256)/P256),\"\",IF((M256*S256/P256)<=OUTLIERS!$E$3,\"\",IF((M256*S256/P256)>=OUTLIERS!$E$4,\"\",M256*S256/P256)))","v":""},{"$f":"IF(ISERROR(O256/N256),\"\",IF(O256/N256<=OUTLIERS!$F$3,\"\",IF(O256/N256>=OUTLIERS!$F$4,\"\",O256/N256)))","v":1.7996791663329863},{"$f":"IF(ISERROR(U256/X256),\"\",IF(U256/X256<=OUTLIERS!$G$3,\"\",IF(U256/X256>=OUTLIERS!$G$4,\"\",U256/X256)))","v":""},{"$f":"IF(ISERROR(Q256/Y256),\"\",IF(Q256/Y256<=OUTLIERS!$H$3,\"\",IF(Q256/Y256>=OUTLIERS!$H$4,\"\",Q256/Y256)))","v":""},{"$f":"IF(ISERROR(W256),\"\",IF(W256<=OUTLIERS!$I$3,\"\",IF(W256>=OUTLIERS!$I$4,\"\",W256)))","v":""},8949656,3196672,5752984,"n/a","","","n/a","n/a","n/a","n/a","n/a",61744946,32165485]
[256,9047,"GEF ","EBRD","Mitigation",{"$f":"IF(ISERROR(P257/(M257*S257)),\"\",IF((P257/(M257*S257))<=OUTLIERS!$C$3,\"\",IF((P257/(M257*S257))>=OUTLIERS!$C$4,\"\",P257/(M257*S257))))","v":1.5271659324522761E-2},{"$f":"IF(ISERROR(Q257/($M257*T257)),\"\",IF((Q257/($M257*T257))<=OUTLIERS!$D$3,\"\",IF((Q257/($M257*T257))>=OUTLIERS!$D$4,\"\",Q257/($M257*T257))))","v":""},{"$f":"IF(ISERROR((M257*S257)/P257),\"\",IF((M257*S257/P257)<=OUTLIERS!$E$3,\"\",IF((M257*S257/P257)>=OUTLIERS!$E$4,\"\",M257*S257/P257)))","v":65.480769230769226},{"$f":"IF(ISERROR(O257/N257),\"\",IF(O257/N257<=OUTLIERS!$F$3,\"\",IF(O257/N257>=OUTLIERS!$F$4,\"\",O257/N257)))","v":10.35},{"$f":"IF(ISERROR(U257/X257),\"\",IF(U257/X257<=OUTLIERS!$G$3,\"\",IF(U257/X257>=OUTLIERS!$G$4,\"\",U257/X257)))","v":3.8302462131985385E-3},{"$f":"IF(ISERROR(Q257/Y257),\"\",IF(Q257/Y257<=OUTLIERS!$H$3,\"\",IF(Q257/Y257>=OUTLIERS!$H$4,\"\",Q257/Y257)))","v":""},{"$f":"IF(ISERROR(W257),\"\",IF(W257<=OUTLIERS!$I$3,\"\",IF(W257>=OUTLIERS!$I$4,\"\",W257)))","v":""},170250000,15000000,155250000,2600000,"","",1,0,260000,"n/a","n/a",67880753.75,20361210.4375]
[257,9048,"GEF ","UNEP","Mitigation",{"$f":"IF(ISERROR(P258/(M258*S258)),\"\",IF((P258/(M258*S258))<=OUTLIERS!$C$3,\"\",IF((P258/(M258*S258))>=OUTLIERS!$C$4,\"\",P258/(M258*S258))))","v":0.15480180917032538},{"$f":"IF(ISERROR(Q258/($M258*T258)),\"\",IF((Q258/($M258*T258))<=OUTLIERS!$D$3,\"\",IF((Q258/($M258*T258))>=OUTLIERS!$D$4,\"\",Q258/($M258*T258))))","v":""},{"$f":"IF(ISERROR((M258*S258)/P258),\"\",IF((M258*S258/P258)<=OUTLIERS!$E$3,\"\",IF((M258*S258/P258)>=OUTLIERS!$E$4,\"\",M258*S258/P258)))","v":6.4598728229314144},{"$f":"IF(ISERROR(O258/N258),\"\",IF(O258/N258<=OUTLIERS!$F$3,\"\",IF(O258/N258>=OUTLIERS!$F$4,\"\",O258/N258)))","v":7.0664495015316202},{"$f":"IF(ISERROR(U258/X258),\"\",IF(U258/X258<=OUTLIERS!$G$3,\"\",IF(U258/X258>=OUTLIERS!$G$4,\"\",U258/X258)))","v":3.5888625133753974E-2},{"$f":"IF(ISERROR(Q258/Y258),\"\",IF(Q258/Y258<=OUTLIERS!$H$3,\"\",IF(Q258/Y258>=OUTLIERS!$H$4,\"\",Q258/Y258)))","v":""},{"$f":"IF(ISERROR(W258),\"\",IF(W258<=OUTLIERS!$I$3,\"\",IF(W258>=OUTLIERS!$I$4,\"\",W258)))","v":0.67},53780011,6667123,47112888,8325243,"",{"$f":"IF(V258=\"n/a\",\"\",V258)","v":16250},1,0,416262.15,16250,0.67,11598721,104957438]
[258,9052,"GEF ","ADB","Adaptation",{"$f":"IF(ISERROR(P259/(M259*S259)),\"\",IF((P259/(M259*S259))<=OUTLIERS!$C$3,\"\",IF((P259/(M259*S259))>=OUTLIERS!$C$4,\"\",P259/(M259*S259))))","v":""},{"$f":"IF(ISERROR(Q259/($M259*T259)),\"\",IF((Q259/($M259*T259))<=OUTLIERS!$D$3,\"\",IF((Q259/($M259*T259))>=OUTLIERS!$D$4,\"\",Q259/($M259*T259))))","v":""},{"$f":"IF(ISERROR((M259*S259)/P259),\"\",IF((M259*S259/P259)<=OUTLIERS!$E$3,\"\",IF((M259*S259/P259)>=OUTLIERS!$E$4,\"\",M259*S259/P259)))","v":""},{"$f":"IF(ISERROR(O259/N259),\"\",IF(O259/N259<=OUTLIERS!$F$3,\"\",IF(O259/N259>=OUTLIERS!$F$4,\"\",O259/N259)))","v":18.333333333333332},{"$f":"IF(ISERROR(U259/X259),\"\",IF(U259/X259<=OUTLIERS!$G$3,\"\",IF(U259/X259>=OUTLIERS!$G$4,\"\",U259/X259)))","v":""},{"$f":"IF(ISERROR(Q259/Y259),\"\",IF(Q259/Y259<=OUTLIERS!$H$3,\"\",IF(Q259/Y259>=OUTLIERS!$H$4,\"\",Q259/Y259)))","v":""},{"$f":"IF(ISERROR(W259),\"\",IF(W259<=OUTLIERS!$I$3,\"\",IF(W259>=OUTLIERS!$I$4,\"\",W259)))","v":""},58000000,3000000,55000000,"n/a",{"$f":"IF(E259=\"adaptation\",R259,\"\")","v":""},"",0,1,"n/a","n/a","n/a",469376,1296311]
[259,9053,"GEF ","UNIDO","Mitigation",{"$f":"IF(ISERROR(P260/(M260*S260)),\"\",IF((P260/(M260*S260))<=OUTLIERS!$C$3,\"\",IF((P260/(M260*S260))>=OUTLIERS!$C$4,\"\",P260/(M260*S260))))","v":7.9397210976158341E-3},{"$f":"IF(ISERROR(Q260/($M260*T260)),\"\",IF((Q260/($M260*T260))<=OUTLIERS!$D$3,\"\",IF((Q260/($M260*T260))>=OUTLIERS!$D$4,\"\",Q260/($M260*T260))))","v":""},{"$f":"IF(ISERROR((M260*S260)/P260),\"\",IF((M260*S260/P260)<=OUTLIERS!$E$3,\"\",IF((M260*S260/P260)>=OUTLIERS!$E$4,\"\",M260*S260/P260)))","v":125.94900849858357},{"$f":"IF(ISERROR(O260/N260),\"\",IF(O260/N260<=OUTLIERS!$F$3,\"\",IF(O260/N260>=OUTLIERS!$F$4,\"\",O260/N260)))","v":6.41},{"$f":"IF(ISERROR(U260/X260),\"\",IF(U260/X260<=OUTLIERS!$G$3,\"\",IF(U260/X260>=OUTLIERS!$G$4,\"\",U260/X260)))","v":1.7301839750203391E-4},{"$f":"IF(ISERROR(Q260/Y260),\"\",IF(Q260/Y260<=OUTLIERS!$H$3,\"\",IF(Q260/Y260>=OUTLIERS!$H$4,\"\",Q260/Y260)))","v":""},{"$f":"IF(ISERROR(W260),\"\",IF(W260<=OUTLIERS!$I$3,\"\",IF(W260>=OUTLIERS!$I$4,\"\",W260)))","v":""},44460000,6000000,38460000,353000,"","",1,0,35300,"n/a","n/a",204024546,44271041]
[260,9056,"GEF ","UNIDO","Mitigation",{"$f":"IF(ISERROR(P261/(M261*S261)),\"\",IF((P261/(M261*S261))<=OUTLIERS!$C$3,\"\",IF((P261/(M261*S261))>=OUTLIERS!$C$4,\"\",P261/(M261*S261))))","v":7.935690310672653E-3},{"$f":"IF(ISERROR(Q261/($M261*T261)),\"\",IF((Q261/($M261*T261))<=OUTLIERS!$D$3,\"\",IF((Q261/($M261*T261))>=OUTLIERS!$D$4,\"\",Q261/($M261*T261))))","v":""},{"$f":"IF(ISERROR((M261*S261)/P261),\"\",IF((M261*S261/P261)<=OUTLIERS!$E$3,\"\",IF((M261*S261/P261)>=OUTLIERS!$E$4,\"\",M261*S261/P261)))","v":126.01298196517413},{"$f":"IF(ISERROR(O261/N261),\"\",IF(O261/N261<=OUTLIERS!$F$3,\"\",IF(O261/N261>=OUTLIERS!$F$4,\"\",O261/N261)))","v":4.1456237640105256},{"$f":"IF(ISERROR(U261/X261),\"\",IF(U261/X261<=OUTLIERS!$G$3,\"\",IF(U261/X261>=OUTLIERS!$G$4,\"\",U261/X261)))","v":7.3084265066812107E-3},{"$f":"IF(ISERROR(Q261/Y261),\"\",IF(Q261/Y261<=OUTLIERS!$H$3,\"\",IF(Q261/Y261>=OUTLIERS!$H$4,\"\",Q261/Y261)))","v":""},{"$f":"IF(ISERROR(W261),\"\",IF(W261<=OUTLIERS!$I$3,\"\",IF(W261>=OUTLIERS!$I$4,\"\",W261)))","v":""},8105155,1575155,6530000,64320,"","",1,0,3216,"n/a","n/a",440040,10864245]
[261,9057,"GEF ","UNIDO","Mitigation",{"$f":"IF(ISERROR(P262/(M262*S262)),\"\",IF((P262/(M262*S262))<=OUTLIERS!$C$3,\"\",IF((P262/(M262*S262))>=OUTLIERS!$C$4,\"\",P262/(M262*S262))))","v":8.1814201630258845E-3},{"$f":"IF(ISERROR(Q262/($M262*T262)),\"\",IF((Q262/($M262*T262))<=OUTLIERS!$D$3,\"\",IF((Q262/($M262*T262))>=OUTLIERS!$D$4,\"\",Q262/($M262*T262))))","v":""},{"$f":"IF(ISERROR((M262*S262)/P262),\"\",IF((M262*S262/P262)<=OUTLIERS!$E$3,\"\",IF((M262*S262/P262)>=OUTLIERS!$E$4,\"\",M262*S262/P262)))","v":122.22816822429907},{"$f":"IF(ISERROR(O262/N262),\"\",IF(O262/N262<=OUTLIERS!$F$3,\"\",IF(O262/N262>=OUTLIERS!$F$4,\"\",O262/N262)))","v":8.3417242857142853},{"$f":"IF(ISERROR(U262/X262),\"\",IF(U262/X262<=OUTLIERS!$G$3,\"\",IF(U262/X262>=OUTLIERS!$G$4,\"\",U262/X262)))","v":1.0097994715672177E-4},{"$f":"IF(ISERROR(Q262/Y262),\"\",IF(Q262/Y262<=OUTLIERS!$H$3,\"\",IF(Q262/Y262>=OUTLIERS!$H$4,\"\",Q262/Y262)))","v":""},{"$f":"IF(ISERROR(W262),\"\",IF(W262<=OUTLIERS!$I$3,\"\",IF(W262>=OUTLIERS!$I$4,\"\",W262)))","v":""},65392070,7000000,58392070,535000,"","",1,0,53500,"n/a","n/a",529808160.00000006,209288278]
[262,9067,"GEF ","ADB","Mitigation",{"$f":"IF(ISERROR(P263/(M263*S263)),\"\",IF((P263/(M263*S263))<=OUTLIERS!$C$3,\"\",IF((P263/(M263*S263))>=OUTLIERS!$C$4,\"\",P263/(M263*S263))))","v":3.7394504722781247E-3},{"$f":"IF(ISERROR(Q263/($M263*T263)),\"\",IF((Q263/($M263*T263))<=OUTLIERS!$D$3,\"\",IF((Q263/($M263*T263))>=OUTLIERS!$D$4,\"\",Q263/($M263*T263))))","v":""},{"$f":"IF(ISERROR((M263*S263)/P263),\"\",IF((M263*S263/P263)<=OUTLIERS!$E$3,\"\",IF((M263*S263/P263)>=OUTLIERS!$E$4,\"\",M263*S263/P263)))","v":267.41897169473305},{"$f":"IF(ISERROR(O263/N263),\"\",IF(O263/N263<=OUTLIERS!$F$3,\"\",IF(O263/N263>=OUTLIERS!$F$4,\"\",O263/N263)))","v":6.0004867921289744},{"$f":"IF(ISERROR(U263/X263),\"\",IF(U263/X263<=OUTLIERS!$G$3,\"\",IF(U263/X263>=OUTLIERS!$G$4,\"\",U263/X263)))","v":2.6636363636363635E-2},{"$f":"IF(ISERROR(Q263/Y263),\"\",IF(Q263/Y263<=OUTLIERS!$H$3,\"\",IF(Q263/Y263>=OUTLIERS!$H$4,\"\",Q263/Y263)))","v":""},{"$f":"IF(ISERROR(W263),\"\",IF(W263<=OUTLIERS!$I$3,\"\",IF(W263>=OUTLIERS!$I$4,\"\",W263)))","v":0.51},29854654,4264654,25590000,111640,"","",1,0,2930,"n/a",0.51,110000,""]
[263,9070,"GEF ","IFAD","Cross-cutting",{"$f":"IF(ISERROR(P264/(M264*S264)),\"\",IF((P264/(M264*S264))<=OUTLIERS!$C$3,\"\",IF((P264/(M264*S264))>=OUTLIERS!$C$4,\"\",P264/(M264*S264))))","v":""},{"$f":"IF(ISERROR(Q264/($M264*T264)),\"\",IF((Q264/($M264*T264))<=OUTLIERS!$D$3,\"\",IF((Q264/($M264*T264))>=OUTLIERS!$D$4,\"\",Q264/($M264*T264))))","v":""},{"$f":"IF(ISERROR((M264*S264)/P264),\"\",IF((M264*S264/P264)<=OUTLIERS!$E$3,\"\",IF((M264*S264/P264)>=OUTLIERS!$E$4,\"\",M264*S264/P264)))","v":""},{"$f":"IF(ISERROR(O264/N264),\"\",IF(O264/N264<=OUTLIERS!$F$3,\"\",IF(O264/N264>=OUTLIERS!$F$4,\"\",O264/N264)))","v":""},{"$f":"IF(ISERROR(U264/X264),\"\",IF(U264/X264<=OUTLIERS!$G$3,\"\",IF(U264/X264>=OUTLIERS!$G$4,\"\",U264/X264)))","v":""},{"$f":"IF(ISERROR(Q264/Y264),\"\",IF(Q264/Y264<=OUTLIERS!$H$3,\"\",IF(Q264/Y264>=OUTLIERS!$H$4,\"\",Q264/Y264)))","v":""},{"$f":"IF(ISERROR(W264),\"\",IF(W264<=OUTLIERS!$I$3,\"\",IF(W264>=OUTLIERS!$I$4,\"\",W264)))","v":""},805361640,0,805361640,15000000,"",2300000,"n/a","n/a","n/a",2300000,"n/a",14181205.75,46827093.083333328]
[264,9071,"GEF ","WorldBank","Cross-cutting",{"$f":"IF(ISERROR(P265/(M265*S265)),\"\",IF((P265/(M265*S265))<=OUTLIERS!$C$3,\"\",IF((P265/(M265*S265))>=OUTLIERS!$C$4,\"\",P265/(M265*S265))))","v":""},{"$f":"IF(ISERROR(Q265/($M265*T265)),\"\",IF((Q265/($M265*T265))<=OUTLIERS!$D$3,\"\",IF((Q265/($M265*T265))>=OUTLIERS!$D$4,\"\",Q265/($M265*T265))))","v":""},{"$f":"IF(ISERROR((M265*S265)/P265),\"\",IF((M265*S265/P265)<=OUTLIERS!$E$3,\"\",IF((M265*S265/P265)>=OUTLIERS!$E$4,\"\",M265*S265/P265)))","v":""},{"$f":"IF(ISERROR(O265/N265),\"\",IF(O265/N265<=OUTLIERS!$F$3,\"\",IF(O265/N265>=OUTLIERS!$F$4,\"\",O265/N265)))","v":131.44314192672562},{"$f":"IF(ISERROR(U265/X265),\"\",IF(U265/X265<=OUTLIERS!$G$3,\"\",IF(U265/X265>=OUTLIERS!$G$4,\"\",U265/X265)))","v":2.6855824072916632E-4},{"$f":"IF(ISERROR(Q265/Y265),\"\",IF(Q265/Y265<=OUTLIERS!$H$3,\"\",IF(Q265/Y265>=OUTLIERS!$H$4,\"\",Q265/Y265)))","v":""},{"$f":"IF(ISERROR(W265),\"\",IF(W265<=OUTLIERS!$I$3,\"\",IF(W265>=OUTLIERS!$I$4,\"\",W265)))","v":""},709178326,5354587,703823739,548187,"","","n/a","n/a",54818.7,"n/a","n/a",204122204,121630036.42105263]
[265,9072,"GEF ","UNDP","Mitigation",{"$f":"IF(ISERROR(P266/(M266*S266)),\"\",IF((P266/(M266*S266))<=OUTLIERS!$C$3,\"\",IF((P266/(M266*S266))>=OUTLIERS!$C$4,\"\",P266/(M266*S266))))","v":0.18049026733758147},{"$f":"IF(ISERROR(Q266/($M266*T266)),\"\",IF((Q266/($M266*T266))<=OUTLIERS!$D$3,\"\",IF((Q266/($M266*T266))>=OUTLIERS!$D$4,\"\",Q266/($M266*T266))))","v":""},{"$f":"IF(ISERROR((M266*S266)/P266),\"\",IF((M266*S266/P266)<=OUTLIERS!$E$3,\"\",IF((M266*S266/P266)>=OUTLIERS!$E$4,\"\",M266*S266/P266)))","v":5.5404649499999996},{"$f":"IF(ISERROR(O266/N266),\"\",IF(O266/N266<=OUTLIERS!$F$3,\"\",IF(O266/N266>=OUTLIERS!$F$4,\"\",O266/N266)))","v":""},{"$f":"IF(ISERROR(U266/X266),\"\",IF(U266/X266<=OUTLIERS!$G$3,\"\",IF(U266/X266>=OUTLIERS!$G$4,\"\",U266/X266)))","v":""},{"$f":"IF(ISERROR(Q266/Y266),\"\",IF(Q266/Y266<=OUTLIERS!$H$3,\"\",IF(Q266/Y266>=OUTLIERS!$H$4,\"\",Q266/Y266)))","v":""},{"$f":"IF(ISERROR(W266),\"\",IF(W266<=OUTLIERS!$I$3,\"\",IF(W266>=OUTLIERS!$I$4,\"\",W266)))","v":""},443237196,37196,443200000,80000000,"","",1,0,"n/a","n/a","n/a","",""]
[266,9077,"GEF ","WorldBank","Cross-cutting",{"$f":"IF(ISERROR(P267/(M267*S267)),\"\",IF((P267/(M267*S267))<=OUTLIERS!$C$3,\"\",IF((P267/(M267*S267))>=OUTLIERS!$C$4,\"\",P267/(M267*S267))))","v":""},{"$f":"IF(ISERROR(Q267/($M267*T267)),\"\",IF((Q267/($M267*T267))<=OUTLIERS!$D$3,\"\",IF((Q267/($M267*T267))>=OUTLIERS!$D$4,\"\",Q267/($M267*T267))))","v":""},{"$f":"IF(ISERROR((M267*S267)/P267),\"\",IF((M267*S267/P267)<=OUTLIERS!$E$3,\"\",IF((M267*S267/P267)>=OUTLIERS!$E$4,\"\",M267*S267/P267)))","v":""},{"$f":"IF(ISERROR(O267/N267),\"\",IF(O267/N267<=OUTLIERS!$F$3,\"\",IF(O267/N267>=OUTLIERS!$F$4,\"\",O267/N267)))","v":""},{"$f":"IF(ISERROR(U267/X267),\"\",IF(U267/X267<=OUTLIERS!$G$3,\"\",IF(U267/X267>=OUTLIERS!$G$4,\"\",U267/X267)))","v":""},{"$f":"IF(ISERROR(Q267/Y267),\"\",IF(Q267/Y267<=OUTLIERS!$H$3,\"\",IF(Q267/Y267>=OUTLIERS!$H$4,\"\",Q267/Y267)))","v":""},{"$f":"IF(ISERROR(W267),\"\",IF(W267<=OUTLIERS!$I$3,\"\",IF(W267>=OUTLIERS!$I$4,\"\",W267)))","v":""},1478922662,275229,1478647433,100118756,"","","n/a","n/a","n/a","n/a","n/a",1320657715.545455,302457363.63636357]
[267,9081,"GEF ","UNDP","Mitigation",{"$f":"IF(ISERROR(P268/(M268*S268)),\"\",IF((P268/(M268*S268))<=OUTLIERS!$C$3,\"\",IF((P268/(M268*S268))>=OUTLIERS!$C$4,\"\",P268/(M268*S268))))","v":9.636220006232471E-2},{"$f":"IF(ISERROR(Q268/($M268*T268)),\"\",IF((Q268/($M268*T268))<=OUTLIERS!$D$3,\"\",IF((Q268/($M268*T268))>=OUTLIERS!$D$4,\"\",Q268/($M268*T268))))","v":""},{"$f":"IF(ISERROR((M268*S268)/P268),\"\",IF((M268*S268/P268)<=OUTLIERS!$E$3,\"\",IF((M268*S268/P268)>=OUTLIERS!$E$4,\"\",M268*S268/P268)))","v":10.377513167541053},{"$f":"IF(ISERROR(O268/N268),\"\",IF(O268/N268<=OUTLIERS!$F$3,\"\",IF(O268/N268>=OUTLIERS!$F$4,\"\",O268/N268)))","v":7.5573333333333332},{"$f":"IF(ISERROR(U268/X268),\"\",IF(U268/X268<=OUTLIERS!$G$3,\"\",IF(U268/X268>=OUTLIERS!$G$4,\"\",U268/X268)))","v":7.4480462271411764E-4},{"$f":"IF(ISERROR(Q268/Y268),\"\",IF(Q268/Y268<=OUTLIERS!$H$3,\"\",IF(Q268/Y268>=OUTLIERS!$H$4,\"\",Q268/Y268)))","v":""},{"$f":"IF(ISERROR(W268),\"\",IF(W268<=OUTLIERS!$I$3,\"\",IF(W268>=OUTLIERS!$I$4,\"\",W268)))","v":0.5},32090000,3750000,28340000,3092263,"","",1,0,257688.58333333334,"n/a",0.5,345981450,80745020]
[268,9083,"GEF ","UNEP","Mitigation",{"$f":"IF(ISERROR(P269/(M269*S269)),\"\",IF((P269/(M269*S269))<=OUTLIERS!$C$3,\"\",IF((P269/(M269*S269))>=OUTLIERS!$C$4,\"\",P269/(M269*S269))))","v":0.60179782631816814},{"$f":"IF(ISERROR(Q269/($M269*T269)),\"\",IF((Q269/($M269*T269))<=OUTLIERS!$D$3,\"\",IF((Q269/($M269*T269))>=OUTLIERS!$D$4,\"\",Q269/($M269*T269))))","v":""},{"$f":"IF(ISERROR((M269*S269)/P269),\"\",IF((M269*S269/P269)<=OUTLIERS!$E$3,\"\",IF((M269*S269/P269)>=OUTLIERS!$E$4,\"\",M269*S269/P269)))","v":1.6616876237623763},{"$f":"IF(ISERROR(O269/N269),\"\",IF(O269/N269<=OUTLIERS!$F$3,\"\",IF(O269/N269>=OUTLIERS!$F$4,\"\",O269/N269)))","v":8.3815321320666651},{"$f":"IF(ISERROR(U269/X269),\"\",IF(U269/X269<=OUTLIERS!$G$3,\"\",IF(U269/X269>=OUTLIERS!$G$4,\"\",U269/X269)))","v":5.9481269706676526E-2},{"$f":"IF(ISERROR(Q269/Y269),\"\",IF(Q269/Y269<=OUTLIERS!$H$3,\"\",IF(Q269/Y269>=OUTLIERS!$H$4,\"\",Q269/Y269)))","v":""},{"$f":"IF(ISERROR(W269),\"\",IF(W269<=OUTLIERS!$I$3,\"\",IF(W269>=OUTLIERS!$I$4,\"\",W269)))","v":""},167830450,17889450,149941000,101000000,"","",1,0,10100000,"n/a","n/a",169801351.75,58392842.75]
[269,9085,"GEF ","DBSA","Mitigation",{"$f":"IF(ISERROR(P270/(M270*S270)),\"\",IF((P270/(M270*S270))<=OUTLIERS!$C$3,\"\",IF((P270/(M270*S270))>=OUTLIERS!$C$4,\"\",P270/(M270*S270))))","v":1.5061139616066737E-2},{"$f":"IF(ISERROR(Q270/($M270*T270)),\"\",IF((Q270/($M270*T270))<=OUTLIERS!$D$3,\"\",IF((Q270/($M270*T270))>=OUTLIERS!$D$4,\"\",Q270/($M270*T270))))","v":""},{"$f":"IF(ISERROR((M270*S270)/P270),\"\",IF((M270*S270/P270)<=OUTLIERS!$E$3,\"\",IF((M270*S270/P270)>=OUTLIERS!$E$4,\"\",M270*S270/P270)))","v":66.396038114754091},{"$f":"IF(ISERROR(O270/N270),\"\",IF(O270/N270<=OUTLIERS!$F$3,\"\",IF(O270/N270>=OUTLIERS!$F$4,\"\",O270/N270)))","v":9.8004221999999999},{"$f":"IF(ISERROR(U270/X270),\"\",IF(U270/X270<=OUTLIERS!$G$3,\"\",IF(U270/X270>=OUTLIERS!$G$4,\"\",U270/X270)))","v":2.4871596643444521E-4},{"$f":"IF(ISERROR(Q270/Y270),\"\",IF(Q270/Y270<=OUTLIERS!$H$3,\"\",IF(Q270/Y270>=OUTLIERS!$H$4,\"\",Q270/Y270)))","v":""},{"$f":"IF(ISERROR(W270),\"\",IF(W270<=OUTLIERS!$I$3,\"\",IF(W270>=OUTLIERS!$I$4,\"\",W270)))","v":""},162006333,15000000,147006333,2440000,"","",1,0,121814.08,"n/a","n/a",489771854,56717156]
[270,9086,"GEF ","UNDP","Mitigation",{"$f":"IF(ISERROR(P271/(M271*S271)),\"\",IF((P271/(M271*S271))<=OUTLIERS!$C$3,\"\",IF((P271/(M271*S271))>=OUTLIERS!$C$4,\"\",P271/(M271*S271))))","v":""},{"$f":"IF(ISERROR(Q271/($M271*T271)),\"\",IF((Q271/($M271*T271))<=OUTLIERS!$D$3,\"\",IF((Q271/($M271*T271))>=OUTLIERS!$D$4,\"\",Q271/($M271*T271))))","v":""},{"$f":"IF(ISERROR((M271*S271)/P271),\"\",IF((M271*S271/P271)<=OUTLIERS!$E$3,\"\",IF((M271*S271/P271)>=OUTLIERS!$E$4,\"\",M271*S271/P271)))","v":""},{"$f":"IF(ISERROR(O271/N271),\"\",IF(O271/N271<=OUTLIERS!$F$3,\"\",IF(O271/N271>=OUTLIERS!$F$4,\"\",O271/N271)))","v":3.2988656362062012},{"$f":"IF(ISERROR(U271/X271),\"\",IF(U271/X271<=OUTLIERS!$G$3,\"\",IF(U271/X271>=OUTLIERS!$G$4,\"\",U271/X271)))","v":""},{"$f":"IF(ISERROR(Q271/Y271),\"\",IF(Q271/Y271<=OUTLIERS!$H$3,\"\",IF(Q271/Y271>=OUTLIERS!$H$4,\"\",Q271/Y271)))","v":""},{"$f":"IF(ISERROR(W271),\"\",IF(W271<=OUTLIERS!$I$3,\"\",IF(W271>=OUTLIERS!$I$4,\"\",W271)))","v":""},15311029,3561644,11749385,842,"","",1,0,"n/a","n/a","n/a",464176194,263991379]
[271,9087,"GEF ","UNEP","Cross-cutting",{"$f":"IF(ISERROR(P272/(M272*S272)),\"\",IF((P272/(M272*S272))<=OUTLIERS!$C$3,\"\",IF((P272/(M272*S272))>=OUTLIERS!$C$4,\"\",P272/(M272*S272))))","v":""},{"$f":"IF(ISERROR(Q272/($M272*T272)),\"\",IF((Q272/($M272*T272))<=OUTLIERS!$D$3,\"\",IF((Q272/($M272*T272))>=OUTLIERS!$D$4,\"\",Q272/($M272*T272))))","v":""},{"$f":"IF(ISERROR((M272*S272)/P272),\"\",IF((M272*S272/P272)<=OUTLIERS!$E$3,\"\",IF((M272*S272/P272)>=OUTLIERS!$E$4,\"\",M272*S272/P272)))","v":""},{"$f":"IF(ISERROR(O272/N272),\"\",IF(O272/N272<=OUTLIERS!$F$3,\"\",IF(O272/N272>=OUTLIERS!$F$4,\"\",O272/N272)))","v":0.10625},{"$f":"IF(ISERROR(U272/X272),\"\",IF(U272/X272<=OUTLIERS!$G$3,\"\",IF(U272/X272>=OUTLIERS!$G$4,\"\",U272/X272)))","v":""},{"$f":"IF(ISERROR(Q272/Y272),\"\",IF(Q272/Y272<=OUTLIERS!$H$3,\"\",IF(Q272/Y272>=OUTLIERS!$H$4,\"\",Q272/Y272)))","v":""},{"$f":"IF(ISERROR(W272),\"\",IF(W272<=OUTLIERS!$I$3,\"\",IF(W272>=OUTLIERS!$I$4,\"\",W272)))","v":""},1770000,1600000,170000,"n/a","","","n/a","n/a","n/a","n/a","n/a",4981415.7777777771,13975218.222222222]
[272,9088,"GEF ","UNDP","Cross-cutting",{"$f":"IF(ISERROR(P273/(M273*S273)),\"\",IF((P273/(M273*S273))<=OUTLIERS!$C$3,\"\",IF((P273/(M273*S273))>=OUTLIERS!$C$4,\"\",P273/(M273*S273))))","v":""},{"$f":"IF(ISERROR(Q273/($M273*T273)),\"\",IF((Q273/($M273*T273))<=OUTLIERS!$D$3,\"\",IF((Q273/($M273*T273))>=OUTLIERS!$D$4,\"\",Q273/($M273*T273))))","v":""},{"$f":"IF(ISERROR((M273*S273)/P273),\"\",IF((M273*S273/P273)<=OUTLIERS!$E$3,\"\",IF((M273*S273/P273)>=OUTLIERS!$E$4,\"\",M273*S273/P273)))","v":""},{"$f":"IF(ISERROR(O273/N273),\"\",IF(O273/N273<=OUTLIERS!$F$3,\"\",IF(O273/N273>=OUTLIERS!$F$4,\"\",O273/N273)))","v":2.2029981167608286},{"$f":"IF(ISERROR(U273/X273),\"\",IF(U273/X273<=OUTLIERS!$G$3,\"\",IF(U273/X273>=OUTLIERS!$G$4,\"\",U273/X273)))","v":""},{"$f":"IF(ISERROR(Q273/Y273),\"\",IF(Q273/Y273<=OUTLIERS!$H$3,\"\",IF(Q273/Y273>=OUTLIERS!$H$4,\"\",Q273/Y273)))","v":""},{"$f":"IF(ISERROR(W273),\"\",IF(W273<=OUTLIERS!$I$3,\"\",IF(W273>=OUTLIERS!$I$4,\"\",W273)))","v":""},7440965,2323125,5117840,322907,"","","n/a","n/a","n/a","n/a","n/a",7759372,4905769]
[273,9089,"GEF ","FAO","Mitigation",{"$f":"IF(ISERROR(P274/(M274*S274)),\"\",IF((P274/(M274*S274))<=OUTLIERS!$C$3,\"\",IF((P274/(M274*S274))>=OUTLIERS!$C$4,\"\",P274/(M274*S274))))","v":6.0577157562677647E-2},{"$f":"IF(ISERROR(Q274/($M274*T274)),\"\",IF((Q274/($M274*T274))<=OUTLIERS!$D$3,\"\",IF((Q274/($M274*T274))>=OUTLIERS!$D$4,\"\",Q274/($M274*T274))))","v":""},{"$f":"IF(ISERROR((M274*S274)/P274),\"\",IF((M274*S274/P274)<=OUTLIERS!$E$3,\"\",IF((M274*S274/P274)>=OUTLIERS!$E$4,\"\",M274*S274/P274)))","v":16.507872608009471},{"$f":"IF(ISERROR(O274/N274),\"\",IF(O274/N274<=OUTLIERS!$F$3,\"\",IF(O274/N274>=OUTLIERS!$F$4,\"\",O274/N274)))","v":7.9947710570080908},{"$f":"IF(ISERROR(U274/X274),\"\",IF(U274/X274<=OUTLIERS!$G$3,\"\",IF(U274/X274>=OUTLIERS!$G$4,\"\",U274/X274)))","v":2.3684762727602502E-3},{"$f":"IF(ISERROR(Q274/Y274),\"\",IF(Q274/Y274<=OUTLIERS!$H$3,\"\",IF(Q274/Y274>=OUTLIERS!$H$4,\"\",Q274/Y274)))","v":""},{"$f":"IF(ISERROR(W274),\"\",IF(W274<=OUTLIERS!$I$3,\"\",IF(W274>=OUTLIERS!$I$4,\"\",W274)))","v":""},29454799,3274658,26180141,1784288,"","",1,0,89214.399999999994,"n/a","n/a",37667424,7022268]
[274,9093,"GEF ","UNDP","Cross-cutting",{"$f":"IF(ISERROR(P275/(M275*S275)),\"\",IF((P275/(M275*S275))<=OUTLIERS!$C$3,\"\",IF((P275/(M275*S275))>=OUTLIERS!$C$4,\"\",P275/(M275*S275))))","v":""},{"$f":"IF(ISERROR(Q275/($M275*T275)),\"\",IF((Q275/($M275*T275))<=OUTLIERS!$D$3,\"\",IF((Q275/($M275*T275))>=OUTLIERS!$D$4,\"\",Q275/($M275*T275))))","v":""},{"$f":"IF(ISERROR((M275*S275)/P275),\"\",IF((M275*S275/P275)<=OUTLIERS!$E$3,\"\",IF((M275*S275/P275)>=OUTLIERS!$E$4,\"\",M275*S275/P275)))","v":""},{"$f":"IF(ISERROR(O275/N275),\"\",IF(O275/N275<=OUTLIERS!$F$3,\"\",IF(O275/N275>=OUTLIERS!$F$4,\"\",O275/N275)))","v":1.3215446213534379},{"$f":"IF(ISERROR(U275/X275),\"\",IF(U275/X275<=OUTLIERS!$G$3,\"\",IF(U275/X275>=OUTLIERS!$G$4,\"\",U275/X275)))","v":""},{"$f":"IF(ISERROR(Q275/Y275),\"\",IF(Q275/Y275<=OUTLIERS!$H$3,\"\",IF(Q275/Y275>=OUTLIERS!$H$4,\"\",Q275/Y275)))","v":""},{"$f":"IF(ISERROR(W275),\"\",IF(W275<=OUTLIERS!$I$3,\"\",IF(W275>=OUTLIERS!$I$4,\"\",W275)))","v":""},5797078,2497078,3300000,"n/a","","","n/a","n/a","n/a","n/a","n/a",18393672,21444000]
[275,9094,"GEF ","FAO","Cross-cutting",{"$f":"IF(ISERROR(P276/(M276*S276)),\"\",IF((P276/(M276*S276))<=OUTLIERS!$C$3,\"\",IF((P276/(M276*S276))>=OUTLIERS!$C$4,\"\",P276/(M276*S276))))","v":""},{"$f":"IF(ISERROR(Q276/($M276*T276)),\"\",IF((Q276/($M276*T276))<=OUTLIERS!$D$3,\"\",IF((Q276/($M276*T276))>=OUTLIERS!$D$4,\"\",Q276/($M276*T276))))","v":""},{"$f":"IF(ISERROR((M276*S276)/P276),\"\",IF((M276*S276/P276)<=OUTLIERS!$E$3,\"\",IF((M276*S276/P276)>=OUTLIERS!$E$4,\"\",M276*S276/P276)))","v":""},{"$f":"IF(ISERROR(O276/N276),\"\",IF(O276/N276<=OUTLIERS!$F$3,\"\",IF(O276/N276>=OUTLIERS!$F$4,\"\",O276/N276)))","v":5.9666281030053447},{"$f":"IF(ISERROR(U276/X276),\"\",IF(U276/X276<=OUTLIERS!$G$3,\"\",IF(U276/X276>=OUTLIERS!$G$4,\"\",U276/X276)))","v":3.296162146566267E-3},{"$f":"IF(ISERROR(Q276/Y276),\"\",IF(Q276/Y276<=OUTLIERS!$H$3,\"\",IF(Q276/Y276>=OUTLIERS!$H$4,\"\",Q276/Y276)))","v":""},{"$f":"IF(ISERROR(W276),\"\",IF(W276<=OUTLIERS!$I$3,\"\",IF(W276>=OUTLIERS!$I$4,\"\",W276)))","v":""},75759705,10874659,64885046,8600000,"",665294,"n/a","n/a",430000,665294,"n/a",130454747.33333333,25341797.333333328]
[276,9103,"GEF ","IFAD","Cross-cutting",{"$f":"IF(ISERROR(P277/(M277*S277)),\"\",IF((P277/(M277*S277))<=OUTLIERS!$C$3,\"\",IF((P277/(M277*S277))>=OUTLIERS!$C$4,\"\",P277/(M277*S277))))","v":""},{"$f":"IF(ISERROR(Q277/($M277*T277)),\"\",IF((Q277/($M277*T277))<=OUTLIERS!$D$3,\"\",IF((Q277/($M277*T277))>=OUTLIERS!$D$4,\"\",Q277/($M277*T277))))","v":""},{"$f":"IF(ISERROR((M277*S277)/P277),\"\",IF((M277*S277/P277)<=OUTLIERS!$E$3,\"\",IF((M277*S277/P277)>=OUTLIERS!$E$4,\"\",M277*S277/P277)))","v":""},{"$f":"IF(ISERROR(O277/N277),\"\",IF(O277/N277<=OUTLIERS!$F$3,\"\",IF(O277/N277>=OUTLIERS!$F$4,\"\",O277/N277)))","v":4.5852173913043481},{"$f":"IF(ISERROR(U277/X277),\"\",IF(U277/X277<=OUTLIERS!$G$3,\"\",IF(U277/X277>=OUTLIERS!$G$4,\"\",U277/X277)))","v":1.502301964968726E-3},{"$f":"IF(ISERROR(Q277/Y277),\"\",IF(Q277/Y277<=OUTLIERS!$H$3,\"\",IF(Q277/Y277>=OUTLIERS!$H$4,\"\",Q277/Y277)))","v":""},{"$f":"IF(ISERROR(W277),\"\",IF(W277<=OUTLIERS!$I$3,\"\",IF(W277>=OUTLIERS!$I$4,\"\",W277)))","v":0.4},25692000,4600000,21092000,100428,"",46000,"n/a","n/a",10042.799999999999,46000,0.4,6684941,16005373]
[277,9105,"GEF ","UNEP","Cross-cutting",{"$f":"IF(ISERROR(P278/(M278*S278)),\"\",IF((P278/(M278*S278))<=OUTLIERS!$C$3,\"\",IF((P278/(M278*S278))>=OUTLIERS!$C$4,\"\",P278/(M278*S278))))","v":""},{"$f":"IF(ISERROR(Q278/($M278*T278)),\"\",IF((Q278/($M278*T278))<=OUTLIERS!$D$3,\"\",IF((Q278/($M278*T278))>=OUTLIERS!$D$4,\"\",Q278/($M278*T278))))","v":""},{"$f":"IF(ISERROR((M278*S278)/P278),\"\",IF((M278*S278/P278)<=OUTLIERS!$E$3,\"\",IF((M278*S278/P278)>=OUTLIERS!$E$4,\"\",M278*S278/P278)))","v":""},{"$f":"IF(ISERROR(O278/N278),\"\",IF(O278/N278<=OUTLIERS!$F$3,\"\",IF(O278/N278>=OUTLIERS!$F$4,\"\",O278/N278)))","v":0.1},{"$f":"IF(ISERROR(U278/X278),\"\",IF(U278/X278<=OUTLIERS!$G$3,\"\",IF(U278/X278>=OUTLIERS!$G$4,\"\",U278/X278)))","v":""},{"$f":"IF(ISERROR(Q278/Y278),\"\",IF(Q278/Y278<=OUTLIERS!$H$3,\"\",IF(Q278/Y278>=OUTLIERS!$H$4,\"\",Q278/Y278)))","v":""},{"$f":"IF(ISERROR(W278),\"\",IF(W278<=OUTLIERS!$I$3,\"\",IF(W278>=OUTLIERS!$I$4,\"\",W278)))","v":""},1980000,1800000,180000,"n/a","","","n/a","n/a","n/a","n/a","n/a",14967471.666666668,9628041.666666666]
[278,9107,"GEF ","ADB","Adaptation",{"$f":"IF(ISERROR(P279/(M279*S279)),\"\",IF((P279/(M279*S279))<=OUTLIERS!$C$3,\"\",IF((P279/(M279*S279))>=OUTLIERS!$C$4,\"\",P279/(M279*S279))))","v":""},{"$f":"IF(ISERROR(Q279/($M279*T279)),\"\",IF((Q279/($M279*T279))<=OUTLIERS!$D$3,\"\",IF((Q279/($M279*T279))>=OUTLIERS!$D$4,\"\",Q279/($M279*T279))))","v":""},{"$f":"IF(ISERROR((M279*S279)/P279),\"\",IF((M279*S279/P279)<=OUTLIERS!$E$3,\"\",IF((M279*S279/P279)>=OUTLIERS!$E$4,\"\",M279*S279/P279)))","v":""},{"$f":"IF(ISERROR(O279/N279),\"\",IF(O279/N279<=OUTLIERS!$F$3,\"\",IF(O279/N279>=OUTLIERS!$F$4,\"\",O279/N279)))","v":31.146666978133336},{"$f":"IF(ISERROR(U279/X279),\"\",IF(U279/X279<=OUTLIERS!$G$3,\"\",IF(U279/X279>=OUTLIERS!$G$4,\"\",U279/X279)))","v":""},{"$f":"IF(ISERROR(Q279/Y279),\"\",IF(Q279/Y279<=OUTLIERS!$H$3,\"\",IF(Q279/Y279>=OUTLIERS!$H$4,\"\",Q279/Y279)))","v":""},{"$f":"IF(ISERROR(W279),\"\",IF(W279<=OUTLIERS!$I$3,\"\",IF(W279>=OUTLIERS!$I$4,\"\",W279)))","v":""},132109589,4109589,128000000,"n/a","","",0,1,"n/a","n/a","n/a",18393672,21444000]
[279,9108,"GEF ","UNDP","Cross-cutting",{"$f":"IF(ISERROR(P280/(M280*S280)),\"\",IF((P280/(M280*S280))<=OUTLIERS!$C$3,\"\",IF((P280/(M280*S280))>=OUTLIERS!$C$4,\"\",P280/(M280*S280))))","v":""},{"$f":"IF(ISERROR(Q280/($M280*T280)),\"\",IF((Q280/($M280*T280))<=OUTLIERS!$D$3,\"\",IF((Q280/($M280*T280))>=OUTLIERS!$D$4,\"\",Q280/($M280*T280))))","v":""},{"$f":"IF(ISERROR((M280*S280)/P280),\"\",IF((M280*S280/P280)<=OUTLIERS!$E$3,\"\",IF((M280*S280/P280)>=OUTLIERS!$E$4,\"\",M280*S280/P280)))","v":""},{"$f":"IF(ISERROR(O280/N280),\"\",IF(O280/N280<=OUTLIERS!$F$3,\"\",IF(O280/N280>=OUTLIERS!$F$4,\"\",O280/N280)))","v":0.58685446009389675},{"$f":"IF(ISERROR(U280/X280),\"\",IF(U280/X280<=OUTLIERS!$G$3,\"\",IF(U280/X280>=OUTLIERS!$G$4,\"\",U280/X280)))","v":""},{"$f":"IF(ISERROR(Q280/Y280),\"\",IF(Q280/Y280<=OUTLIERS!$H$3,\"\",IF(Q280/Y280>=OUTLIERS!$H$4,\"\",Q280/Y280)))","v":""},{"$f":"IF(ISERROR(W280),\"\",IF(W280<=OUTLIERS!$I$3,\"\",IF(W280>=OUTLIERS!$I$4,\"\",W280)))","v":""},1352000,852000,500000,"n/a","","","n/a","n/a","n/a","n/a","n/a",15364730,40533330]
[280,9110,"GEF ","UNEP","Mitigation",{"$f":"IF(ISERROR(P281/(M281*S281)),\"\",IF((P281/(M281*S281))<=OUTLIERS!$C$3,\"\",IF((P281/(M281*S281))>=OUTLIERS!$C$4,\"\",P281/(M281*S281))))","v":""},{"$f":"IF(ISERROR(Q281/($M281*T281)),\"\",IF((Q281/($M281*T281))<=OUTLIERS!$D$3,\"\",IF((Q281/($M281*T281))>=OUTLIERS!$D$4,\"\",Q281/($M281*T281))))","v":""},{"$f":"IF(ISERROR((M281*S281)/P281),\"\",IF((M281*S281/P281)<=OUTLIERS!$E$3,\"\",IF((M281*S281/P281)>=OUTLIERS!$E$4,\"\",M281*S281/P281)))","v":""},{"$f":"IF(ISERROR(O281/N281),\"\",IF(O281/N281<=OUTLIERS!$F$3,\"\",IF(O281/N281>=OUTLIERS!$F$4,\"\",O281/N281)))","v":8.5227272727272721E-2},{"$f":"IF(ISERROR(U281/X281),\"\",IF(U281/X281<=OUTLIERS!$G$3,\"\",IF(U281/X281>=OUTLIERS!$G$4,\"\",U281/X281)))","v":""},{"$f":"IF(ISERROR(Q281/Y281),\"\",IF(Q281/Y281<=OUTLIERS!$H$3,\"\",IF(Q281/Y281>=OUTLIERS!$H$4,\"\",Q281/Y281)))","v":""},{"$f":"IF(ISERROR(W281),\"\",IF(W281<=OUTLIERS!$I$3,\"\",IF(W281>=OUTLIERS!$I$4,\"\",W281)))","v":""},382000,352000,30000,"n/a","","",1,0,"n/a","n/a","n/a",5192472,2025137]
[281,9112,"GEF ","UNDP","Mitigation",{"$f":"IF(ISERROR(P282/(M282*S282)),\"\",IF((P282/(M282*S282))<=OUTLIERS!$C$3,\"\",IF((P282/(M282*S282))>=OUTLIERS!$C$4,\"\",P282/(M282*S282))))","v":1.5538976381813594E-2},{"$f":"IF(ISERROR(Q282/($M282*T282)),\"\",IF((Q282/($M282*T282))<=OUTLIERS!$D$3,\"\",IF((Q282/($M282*T282))>=OUTLIERS!$D$4,\"\",Q282/($M282*T282))))","v":""},{"$f":"IF(ISERROR((M282*S282)/P282),\"\",IF((M282*S282/P282)<=OUTLIERS!$E$3,\"\",IF((M282*S282/P282)>=OUTLIERS!$E$4,\"\",M282*S282/P282)))","v":64.354303361344535},{"$f":"IF(ISERROR(O282/N282),\"\",IF(O282/N282<=OUTLIERS!$F$3,\"\",IF(O282/N282>=OUTLIERS!$F$4,\"\",O282/N282)))","v":171.43413619261418},{"$f":"IF(ISERROR(U282/X282),\"\",IF(U282/X282<=OUTLIERS!$G$3,\"\",IF(U282/X282>=OUTLIERS!$G$4,\"\",U282/X282)))","v":""},{"$f":"IF(ISERROR(Q282/Y282),\"\",IF(Q282/Y282<=OUTLIERS!$H$3,\"\",IF(Q282/Y282>=OUTLIERS!$H$4,\"\",Q282/Y282)))","v":""},{"$f":"IF(ISERROR(W282),\"\",IF(W282<=OUTLIERS!$I$3,\"\",IF(W282>=OUTLIERS!$I$4,\"\",W282)))","v":""},306326484,1776484,304550000,4760000,"",3000,1,0,476000,3000,"n/a","",""]
[282,9113,"GEF ","AfDB","Adaptation",{"$f":"IF(ISERROR(P283/(M283*S283)),\"\",IF((P283/(M283*S283))<=OUTLIERS!$C$3,\"\",IF((P283/(M283*S283))>=OUTLIERS!$C$4,\"\",P283/(M283*S283))))","v":""},{"$f":"IF(ISERROR(Q283/($M283*T283)),\"\",IF((Q283/($M283*T283))<=OUTLIERS!$D$3,\"\",IF((Q283/($M283*T283))>=OUTLIERS!$D$4,\"\",Q283/($M283*T283))))","v":9.7444764409741985E-4},{"$f":"IF(ISERROR((M283*S283)/P283),\"\",IF((M283*S283/P283)<=OUTLIERS!$E$3,\"\",IF((M283*S283/P283)>=OUTLIERS!$E$4,\"\",M283*S283/P283)))","v":""},{"$f":"IF(ISERROR(O283/N283),\"\",IF(O283/N283<=OUTLIERS!$F$3,\"\",IF(O283/N283>=OUTLIERS!$F$4,\"\",O283/N283)))","v":4.8591594328009844},{"$f":"IF(ISERROR(U283/X283),\"\",IF(U283/X283<=OUTLIERS!$G$3,\"\",IF(U283/X283>=OUTLIERS!$G$4,\"\",U283/X283)))","v":""},{"$f":"IF(ISERROR(Q283/Y283),\"\",IF(Q283/Y283<=OUTLIERS!$H$3,\"\",IF(Q283/Y283>=OUTLIERS!$H$4,\"\",Q283/Y283)))","v":9.7882316091363358E-2},{"$f":"IF(ISERROR(W283),\"\",IF(W283<=OUTLIERS!$I$3,\"\",IF(W283>=OUTLIERS!$I$4,\"\",W283)))","v":0.375},20524448,3502968,17021480,"n/a",20000,20000,0,1,"n/a",20000,0.375,113677,204327]
[283,9114,"GEF ","UNDP","Cross-cutting",{"$f":"IF(ISERROR(P284/(M284*S284)),\"\",IF((P284/(M284*S284))<=OUTLIERS!$C$3,\"\",IF((P284/(M284*S284))>=OUTLIERS!$C$4,\"\",P284/(M284*S284))))","v":""},{"$f":"IF(ISERROR(Q284/($M284*T284)),\"\",IF((Q284/($M284*T284))<=OUTLIERS!$D$3,\"\",IF((Q284/($M284*T284))>=OUTLIERS!$D$4,\"\",Q284/($M284*T284))))","v":""},{"$f":"IF(ISERROR((M284*S284)/P284),\"\",IF((M284*S284/P284)<=OUTLIERS!$E$3,\"\",IF((M284*S284/P284)>=OUTLIERS!$E$4,\"\",M284*S284/P284)))","v":""},{"$f":"IF(ISERROR(O284/N284),\"\",IF(O284/N284<=OUTLIERS!$F$3,\"\",IF(O284/N284>=OUTLIERS!$F$4,\"\",O284/N284)))","v":1.0315789473684212},{"$f":"IF(ISERROR(U284/X284),\"\",IF(U284/X284<=OUTLIERS!$G$3,\"\",IF(U284/X284>=OUTLIERS!$G$4,\"\",U284/X284)))","v":""},{"$f":"IF(ISERROR(Q284/Y284),\"\",IF(Q284/Y284<=OUTLIERS!$H$3,\"\",IF(Q284/Y284>=OUTLIERS!$H$4,\"\",Q284/Y284)))","v":""},{"$f":"IF(ISERROR(W284),\"\",IF(W284<=OUTLIERS!$I$3,\"\",IF(W284>=OUTLIERS!$I$4,\"\",W284)))","v":""},1930000,950000,980000,"n/a","","","n/a","n/a","n/a","n/a","n/a",37667424,7022268]
[284,9115,"GEF ","WorldBank","Mitigation",{"$f":"IF(ISERROR(P285/(M285*S285)),\"\",IF((P285/(M285*S285))<=OUTLIERS!$C$3,\"\",IF((P285/(M285*S285))>=OUTLIERS!$C$4,\"\",P285/(M285*S285))))","v":6.8105515587529974E-2},{"$f":"IF(ISERROR(Q285/($M285*T285)),\"\",IF((Q285/($M285*T285))<=OUTLIERS!$D$3,\"\",IF((Q285/($M285*T285))>=OUTLIERS!$D$4,\"\",Q285/($M285*T285))))","v":""},{"$f":"IF(ISERROR((M285*S285)/P285),\"\",IF((M285*S285/P285)<=OUTLIERS!$E$3,\"\",IF((M285*S285/P285)>=OUTLIERS!$E$4,\"\",M285*S285/P285)))","v":14.683098591549296},{"$f":"IF(ISERROR(O285/N285),\"\",IF(O285/N285<=OUTLIERS!$F$3,\"\",IF(O285/N285>=OUTLIERS!$F$4,\"\",O285/N285)))","v":15.68},{"$f":"IF(ISERROR(U285/X285),\"\",IF(U285/X285<=OUTLIERS!$G$3,\"\",IF(U285/X285>=OUTLIERS!$G$4,\"\",U285/X285)))","v":6.1183663374171236E-4},{"$f":"IF(ISERROR(Q285/Y285),\"\",IF(Q285/Y285<=OUTLIERS!$H$3,\"\",IF(Q285/Y285>=OUTLIERS!$H$4,\"\",Q285/Y285)))","v":""},{"$f":"IF(ISERROR(W285),\"\",IF(W285<=OUTLIERS!$I$3,\"\",IF(W285>=OUTLIERS!$I$4,\"\",W285)))","v":0.49999914097465015},104250000,6250000,98000000,7100000,"",582055,1,0,284000,582055,0.49999914097465015,464176194,263991379]
[285,9116,"GEF ","AfDB","Mitigation",{"$f":"IF(ISERROR(P286/(M286*S286)),\"\",IF((P286/(M286*S286))<=OUTLIERS!$C$3,\"\",IF((P286/(M286*S286))>=OUTLIERS!$C$4,\"\",P286/(M286*S286))))","v":""},{"$f":"IF(ISERROR(Q286/($M286*T286)),\"\",IF((Q286/($M286*T286))<=OUTLIERS!$D$3,\"\",IF((Q286/($M286*T286))>=OUTLIERS!$D$4,\"\",Q286/($M286*T286))))","v":""},{"$f":"IF(ISERROR((M286*S286)/P286),\"\",IF((M286*S286/P286)<=OUTLIERS!$E$3,\"\",IF((M286*S286/P286)>=OUTLIERS!$E$4,\"\",M286*S286/P286)))","v":""},{"$f":"IF(ISERROR(O286/N286),\"\",IF(O286/N286<=OUTLIERS!$F$3,\"\",IF(O286/N286>=OUTLIERS!$F$4,\"\",O286/N286)))","v":23.767379251704622},{"$f":"IF(ISERROR(U286/X286),\"\",IF(U286/X286<=OUTLIERS!$G$3,\"\",IF(U286/X286>=OUTLIERS!$G$4,\"\",U286/X286)))","v":2.6056650728087069E-5},{"$f":"IF(ISERROR(Q286/Y286),\"\",IF(Q286/Y286<=OUTLIERS!$H$3,\"\",IF(Q286/Y286>=OUTLIERS!$H$4,\"\",Q286/Y286)))","v":""},{"$f":"IF(ISERROR(W286),\"\",IF(W286<=OUTLIERS!$I$3,\"\",IF(W286>=OUTLIERS!$I$4,\"\",W286)))","v":""},42760484,1726484,41034000,6412.5,"","",1,0,182.5,"n/a","n/a",7003970,24053727]
[286,9123,"GEF ","WorldBank","Cross-cutting",{"$f":"IF(ISERROR(P287/(M287*S287)),\"\",IF((P287/(M287*S287))<=OUTLIERS!$C$3,\"\",IF((P287/(M287*S287))>=OUTLIERS!$C$4,\"\",P287/(M287*S287))))","v":""},{"$f":"IF(ISERROR(Q287/($M287*T287)),\"\",IF((Q287/($M287*T287))<=OUTLIERS!$D$3,\"\",IF((Q287/($M287*T287))>=OUTLIERS!$D$4,\"\",Q287/($M287*T287))))","v":""},{"$f":"IF(ISERROR((M287*S287)/P287),\"\",IF((M287*S287/P287)<=OUTLIERS!$E$3,\"\",IF((M287*S287/P287)>=OUTLIERS!$E$4,\"\",M287*S287/P287)))","v":""},{"$f":"IF(ISERROR(O287/N287),\"\",IF(O287/N287<=OUTLIERS!$F$3,\"\",IF(O287/N287>=OUTLIERS!$F$4,\"\",O287/N287)))","v":5.9410732276859521},{"$f":"IF(ISERROR(U287/X287),\"\",IF(U287/X287<=OUTLIERS!$G$3,\"\",IF(U287/X287>=OUTLIERS!$G$4,\"\",U287/X287)))","v":""},{"$f":"IF(ISERROR(Q287/Y287),\"\",IF(Q287/Y287<=OUTLIERS!$H$3,\"\",IF(Q287/Y287>=OUTLIERS!$H$4,\"\",Q287/Y287)))","v":""},{"$f":"IF(ISERROR(W287),\"\",IF(W287<=OUTLIERS!$I$3,\"\",IF(W287>=OUTLIERS!$I$4,\"\",W287)))","v":""},60495597,8715597,51780000,26953,"","","n/a","n/a","n/a","n/a","n/a",8855805,15850567]
[287,9127,"GEF ","UNDP","Cross-cutting",{"$f":"IF(ISERROR(P288/(M288*S288)),\"\",IF((P288/(M288*S288))<=OUTLIERS!$C$3,\"\",IF((P288/(M288*S288))>=OUTLIERS!$C$4,\"\",P288/(M288*S288))))","v":""},{"$f":"IF(ISERROR(Q288/($M288*T288)),\"\",IF((Q288/($M288*T288))<=OUTLIERS!$D$3,\"\",IF((Q288/($M288*T288))>=OUTLIERS!$D$4,\"\",Q288/($M288*T288))))","v":""},{"$f":"IF(ISERROR((M288*S288)/P288),\"\",IF((M288*S288/P288)<=OUTLIERS!$E$3,\"\",IF((M288*S288/P288)>=OUTLIERS!$E$4,\"\",M288*S288/P288)))","v":""},{"$f":"IF(ISERROR(O288/N288),\"\",IF(O288/N288<=OUTLIERS!$F$3,\"\",IF(O288/N288>=OUTLIERS!$F$4,\"\",O288/N288)))","v":32.074756576699691},{"$f":"IF(ISERROR(U288/X288),\"\",IF(U288/X288<=OUTLIERS!$G$3,\"\",IF(U288/X288>=OUTLIERS!$G$4,\"\",U288/X288)))","v":""},{"$f":"IF(ISERROR(Q288/Y288),\"\",IF(Q288/Y288<=OUTLIERS!$H$3,\"\",IF(Q288/Y288>=OUTLIERS!$H$4,\"\",Q288/Y288)))","v":""},{"$f":"IF(ISERROR(W288),\"\",IF(W288<=OUTLIERS!$I$3,\"\",IF(W288>=OUTLIERS!$I$4,\"\",W288)))","v":""},247833120,7493120,240340000,1227442,"","","n/a","n/a","n/a","n/a","n/a",5702185,6811297]
[288,9130,"GEF ","AfDB","Cross-cutting",{"$f":"IF(ISERROR(P289/(M289*S289)),\"\",IF((P289/(M289*S289))<=OUTLIERS!$C$3,\"\",IF((P289/(M289*S289))>=OUTLIERS!$C$4,\"\",P289/(M289*S289))))","v":""},{"$f":"IF(ISERROR(Q289/($M289*T289)),\"\",IF((Q289/($M289*T289))<=OUTLIERS!$D$3,\"\",IF((Q289/($M289*T289))>=OUTLIERS!$D$4,\"\",Q289/($M289*T289))))","v":""},{"$f":"IF(ISERROR((M289*S289)/P289),\"\",IF((M289*S289/P289)<=OUTLIERS!$E$3,\"\",IF((M289*S289/P289)>=OUTLIERS!$E$4,\"\",M289*S289/P289)))","v":""},{"$f":"IF(ISERROR(O289/N289),\"\",IF(O289/N289<=OUTLIERS!$F$3,\"\",IF(O289/N289>=OUTLIERS!$F$4,\"\",O289/N289)))","v":6.2995183065767106},{"$f":"IF(ISERROR(U289/X289),\"\",IF(U289/X289<=OUTLIERS!$G$3,\"\",IF(U289/X289>=OUTLIERS!$G$4,\"\",U289/X289)))","v":1.6369391989355549E-2},{"$f":"IF(ISERROR(Q289/Y289),\"\",IF(Q289/Y289<=OUTLIERS!$H$3,\"\",IF(Q289/Y289>=OUTLIERS!$H$4,\"\",Q289/Y289)))","v":""},{"$f":"IF(ISERROR(W289),\"\",IF(W289<=OUTLIERS!$I$3,\"\",IF(W289>=OUTLIERS!$I$4,\"\",W289)))","v":""},38355954,5254587,33101367,909000,"","","n/a","n/a",180800,"n/a","n/a",11045004,24294750]
[289,9131,"GEF ","UNDP","Adaptation",{"$f":"IF(ISERROR(P290/(M290*S290)),\"\",IF((P290/(M290*S290))<=OUTLIERS!$C$3,\"\",IF((P290/(M290*S290))>=OUTLIERS!$C$4,\"\",P290/(M290*S290))))","v":""},{"$f":"IF(ISERROR(Q290/($M290*T290)),\"\",IF((Q290/($M290*T290))<=OUTLIERS!$D$3,\"\",IF((Q290/($M290*T290))>=OUTLIERS!$D$4,\"\",Q290/($M290*T290))))","v":1.5608194093789985E-2},{"$f":"IF(ISERROR((M290*S290)/P290),\"\",IF((M290*S290/P290)<=OUTLIERS!$E$3,\"\",IF((M290*S290/P290)>=OUTLIERS!$E$4,\"\",M290*S290/P290)))","v":""},{"$f":"IF(ISERROR(O290/N290),\"\",IF(O290/N290<=OUTLIERS!$F$3,\"\",IF(O290/N290>=OUTLIERS!$F$4,\"\",O290/N290)))","v":3.100550276560551},{"$f":"IF(ISERROR(U290/X290),\"\",IF(U290/X290<=OUTLIERS!$G$3,\"\",IF(U290/X290>=OUTLIERS!$G$4,\"\",U290/X290)))","v":""},{"$f":"IF(ISERROR(Q290/Y290),\"\",IF(Q290/Y290<=OUTLIERS!$H$3,\"\",IF(Q290/Y290>=OUTLIERS!$H$4,\"\",Q290/Y290)))","v":8.4316069917808132E-3},{"$f":"IF(ISERROR(W290),\"\",IF(W290<=OUTLIERS!$I$3,\"\",IF(W290>=OUTLIERS!$I$4,\"\",W290)))","v":0.5},28831010,7031010,21800000,"n/a",450000,450000,0,1,"n/a",450000,0.5,21631633,53370609]
[290,9132,"GEF ","IFAD","Cross-cutting",{"$f":"IF(ISERROR(P291/(M291*S291)),\"\",IF((P291/(M291*S291))<=OUTLIERS!$C$3,\"\",IF((P291/(M291*S291))>=OUTLIERS!$C$4,\"\",P291/(M291*S291))))","v":""},{"$f":"IF(ISERROR(Q291/($M291*T291)),\"\",IF((Q291/($M291*T291))<=OUTLIERS!$D$3,\"\",IF((Q291/($M291*T291))>=OUTLIERS!$D$4,\"\",Q291/($M291*T291))))","v":""},{"$f":"IF(ISERROR((M291*S291)/P291),\"\",IF((M291*S291/P291)<=OUTLIERS!$E$3,\"\",IF((M291*S291/P291)>=OUTLIERS!$E$4,\"\",M291*S291/P291)))","v":""},{"$f":"IF(ISERROR(O291/N291),\"\",IF(O291/N291<=OUTLIERS!$F$3,\"\",IF(O291/N291>=OUTLIERS!$F$4,\"\",O291/N291)))","v":7.4010723644043432},{"$f":"IF(ISERROR(U291/X291),\"\",IF(U291/X291<=OUTLIERS!$G$3,\"\",IF(U291/X291>=OUTLIERS!$G$4,\"\",U291/X291)))","v":""},{"$f":"IF(ISERROR(Q291/Y291),\"\",IF(Q291/Y291<=OUTLIERS!$H$3,\"\",IF(Q291/Y291>=OUTLIERS!$H$4,\"\",Q291/Y291)))","v":""},{"$f":"IF(ISERROR(W291),\"\",IF(W291<=OUTLIERS!$I$3,\"\",IF(W291>=OUTLIERS!$I$4,\"\",W291)))","v":0.3},60117763,7155963,52961800,915247,"",30000,"n/a","n/a","n/a",30000,0.3,11562051,57310019]
[291,9133,"GEF ","IFAD","Cross-cutting",{"$f":"IF(ISERROR(P292/(M292*S292)),\"\",IF((P292/(M292*S292))<=OUTLIERS!$C$3,\"\",IF((P292/(M292*S292))>=OUTLIERS!$C$4,\"\",P292/(M292*S292))))","v":""},{"$f":"IF(ISERROR(Q292/($M292*T292)),\"\",IF((Q292/($M292*T292))<=OUTLIERS!$D$3,\"\",IF((Q292/($M292*T292))>=OUTLIERS!$D$4,\"\",Q292/($M292*T292))))","v":""},{"$f":"IF(ISERROR((M292*S292)/P292),\"\",IF((M292*S292/P292)<=OUTLIERS!$E$3,\"\",IF((M292*S292/P292)>=OUTLIERS!$E$4,\"\",M292*S292/P292)))","v":""},{"$f":"IF(ISERROR(O292/N292),\"\",IF(O292/N292<=OUTLIERS!$F$3,\"\",IF(O292/N292>=OUTLIERS!$F$4,\"\",O292/N292)))","v":6.6564887105258084},{"$f":"IF(ISERROR(U292/X292),\"\",IF(U292/X292<=OUTLIERS!$G$3,\"\",IF(U292/X292>=OUTLIERS!$G$4,\"\",U292/X292)))","v":0.18048913513405654},{"$f":"IF(ISERROR(Q292/Y292),\"\",IF(Q292/Y292<=OUTLIERS!$H$3,\"\",IF(Q292/Y292>=OUTLIERS!$H$4,\"\",Q292/Y292)))","v":""},{"$f":"IF(ISERROR(W292),\"\",IF(W292<=OUTLIERS!$I$3,\"\",IF(W292>=OUTLIERS!$I$4,\"\",W292)))","v":""},55211009,7211009,48000000,1302528,"",90000,"n/a","n/a",217088,90000,"n/a",1202776,1367254]
[292,9134,"GEF ","IFAD","Cross-cutting",{"$f":"IF(ISERROR(P293/(M293*S293)),\"\",IF((P293/(M293*S293))<=OUTLIERS!$C$3,\"\",IF((P293/(M293*S293))>=OUTLIERS!$C$4,\"\",P293/(M293*S293))))","v":""},{"$f":"IF(ISERROR(Q293/($M293*T293)),\"\",IF((Q293/($M293*T293))<=OUTLIERS!$D$3,\"\",IF((Q293/($M293*T293))>=OUTLIERS!$D$4,\"\",Q293/($M293*T293))))","v":""},{"$f":"IF(ISERROR((M293*S293)/P293),\"\",IF((M293*S293/P293)<=OUTLIERS!$E$3,\"\",IF((M293*S293/P293)>=OUTLIERS!$E$4,\"\",M293*S293/P293)))","v":""},{"$f":"IF(ISERROR(O293/N293),\"\",IF(O293/N293<=OUTLIERS!$F$3,\"\",IF(O293/N293>=OUTLIERS!$F$4,\"\",O293/N293)))","v":3.9537822133264999},{"$f":"IF(ISERROR(U293/X293),\"\",IF(U293/X293<=OUTLIERS!$G$3,\"\",IF(U293/X293>=OUTLIERS!$G$4,\"\",U293/X293)))","v":1.2361006895100634E-5},{"$f":"IF(ISERROR(Q293/Y293),\"\",IF(Q293/Y293<=OUTLIERS!$H$3,\"\",IF(Q293/Y293>=OUTLIERS!$H$4,\"\",Q293/Y293)))","v":""},{"$f":"IF(ISERROR(W293),\"\",IF(W293<=OUTLIERS!$I$3,\"\",IF(W293>=OUTLIERS!$I$4,\"\",W293)))","v":0.4},35763583,7219450,28544133,1642,"",52500,"n/a","n/a",109.46666666666667,52500,0.4,8855805,15850567]
[293,9136,"GEF ","IFAD","n/a",{"$f":"IF(ISERROR(P294/(M294*S294)),\"\",IF((P294/(M294*S294))<=OUTLIERS!$C$3,\"\",IF((P294/(M294*S294))>=OUTLIERS!$C$4,\"\",P294/(M294*S294))))","v":""},{"$f":"IF(ISERROR(Q294/($M294*T294)),\"\",IF((Q294/($M294*T294))<=OUTLIERS!$D$3,\"\",IF((Q294/($M294*T294))>=OUTLIERS!$D$4,\"\",Q294/($M294*T294))))","v":""},{"$f":"IF(ISERROR((M294*S294)/P294),\"\",IF((M294*S294/P294)<=OUTLIERS!$E$3,\"\",IF((M294*S294/P294)>=OUTLIERS!$E$4,\"\",M294*S294/P294)))","v":""},{"$f":"IF(ISERROR(O294/N294),\"\",IF(O294/N294<=OUTLIERS!$F$3,\"\",IF(O294/N294>=OUTLIERS!$F$4,\"\",O294/N294)))","v":7.8989872482165078},{"$f":"IF(ISERROR(U294/X294),\"\",IF(U294/X294<=OUTLIERS!$G$3,\"\",IF(U294/X294>=OUTLIERS!$G$4,\"\",U294/X294)))","v":8.1411564465926293E-3},{"$f":"IF(ISERROR(Q294/Y294),\"\",IF(Q294/Y294<=OUTLIERS!$H$3,\"\",IF(Q294/Y294>=OUTLIERS!$H$4,\"\",Q294/Y294)))","v":""},{"$f":"IF(ISERROR(W294),\"\",IF(W294<=OUTLIERS!$I$3,\"\",IF(W294>=OUTLIERS!$I$4,\"\",W294)))","v":0.3},67956422,7636422,60320000,346302,"",157000,"n/a","n/a",17315.099999999999,157000,0.3,2126860,21477348]
[294,9137,"GEF ","UNDP, FAO","Cross-cutting",{"$f":"IF(ISERROR(P295/(M295*S295)),\"\",IF((P295/(M295*S295))<=OUTLIERS!$C$3,\"\",IF((P295/(M295*S295))>=OUTLIERS!$C$4,\"\",P295/(M295*S295))))","v":""},{"$f":"IF(ISERROR(Q295/($M295*T295)),\"\",IF((Q295/($M295*T295))<=OUTLIERS!$D$3,\"\",IF((Q295/($M295*T295))>=OUTLIERS!$D$4,\"\",Q295/($M295*T295))))","v":""},{"$f":"IF(ISERROR((M295*S295)/P295),\"\",IF((M295*S295/P295)<=OUTLIERS!$E$3,\"\",IF((M295*S295/P295)>=OUTLIERS!$E$4,\"\",M295*S295/P295)))","v":""},{"$f":"IF(ISERROR(O295/N295),\"\",IF(O295/N295<=OUTLIERS!$F$3,\"\",IF(O295/N295>=OUTLIERS!$F$4,\"\",O295/N295)))","v":8.1238750884171758},{"$f":"IF(ISERROR(U295/X295),\"\",IF(U295/X295<=OUTLIERS!$G$3,\"\",IF(U295/X295>=OUTLIERS!$G$4,\"\",U295/X295)))","v":6.126052801778953E-3},{"$f":"IF(ISERROR(Q295/Y295),\"\",IF(Q295/Y295<=OUTLIERS!$H$3,\"\",IF(Q295/Y295>=OUTLIERS!$H$4,\"\",Q295/Y295)))","v":""},{"$f":"IF(ISERROR(W295),\"\",IF(W295<=OUTLIERS!$I$3,\"\",IF(W295>=OUTLIERS!$I$4,\"\",W295)))","v":""},65139450,7139450,58000000,480508,"","","n/a","n/a",32034,"n/a","n/a",5229142,42862958]
[295,9138,"GEF ","IFAD","Cross-cutting",{"$f":"IF(ISERROR(P296/(M296*S296)),\"\",IF((P296/(M296*S296))<=OUTLIERS!$C$3,\"\",IF((P296/(M296*S296))>=OUTLIERS!$C$4,\"\",P296/(M296*S296))))","v":""},{"$f":"IF(ISERROR(Q296/($M296*T296)),\"\",IF((Q296/($M296*T296))<=OUTLIERS!$D$3,\"\",IF((Q296/($M296*T296))>=OUTLIERS!$D$4,\"\",Q296/($M296*T296))))","v":""},{"$f":"IF(ISERROR((M296*S296)/P296),\"\",IF((M296*S296/P296)<=OUTLIERS!$E$3,\"\",IF((M296*S296/P296)>=OUTLIERS!$E$4,\"\",M296*S296/P296)))","v":""},{"$f":"IF(ISERROR(O296/N296),\"\",IF(O296/N296<=OUTLIERS!$F$3,\"\",IF(O296/N296>=OUTLIERS!$F$4,\"\",O296/N296)))","v":12.213171029531594},{"$f":"IF(ISERROR(U296/X296),\"\",IF(U296/X296<=OUTLIERS!$G$3,\"\",IF(U296/X296>=OUTLIERS!$G$4,\"\",U296/X296)))","v":6.9543050945211876E-2},{"$f":"IF(ISERROR(Q296/Y296),\"\",IF(Q296/Y296<=OUTLIERS!$H$3,\"\",IF(Q296/Y296>=OUTLIERS!$H$4,\"\",Q296/Y296)))","v":""},{"$f":"IF(ISERROR(W296),\"\",IF(W296<=OUTLIERS!$I$3,\"\",IF(W296>=OUTLIERS!$I$4,\"\",W296)))","v":""},94552963,7155963,87397000,1774907,"",146009,"n/a","n/a",88745,146009,"n/a",1276116,18622104]
[296,9139,"GEF ","IFAD","Cross-cutting",{"$f":"IF(ISERROR(P297/(M297*S297)),\"\",IF((P297/(M297*S297))<=OUTLIERS!$C$3,\"\",IF((P297/(M297*S297))>=OUTLIERS!$C$4,\"\",P297/(M297*S297))))","v":""},{"$f":"IF(ISERROR(Q297/($M297*T297)),\"\",IF((Q297/($M297*T297))<=OUTLIERS!$D$3,\"\",IF((Q297/($M297*T297))>=OUTLIERS!$D$4,\"\",Q297/($M297*T297))))","v":""},{"$f":"IF(ISERROR((M297*S297)/P297),\"\",IF((M297*S297/P297)<=OUTLIERS!$E$3,\"\",IF((M297*S297/P297)>=OUTLIERS!$E$4,\"\",M297*S297/P297)))","v":""},{"$f":"IF(ISERROR(O297/N297),\"\",IF(O297/N297<=OUTLIERS!$F$3,\"\",IF(O297/N297>=OUTLIERS!$F$4,\"\",O297/N297)))","v":8.4770520291009159},{"$f":"IF(ISERROR(U297/X297),\"\",IF(U297/X297<=OUTLIERS!$G$3,\"\",IF(U297/X297>=OUTLIERS!$G$4,\"\",U297/X297)))","v":""},{"$f":"IF(ISERROR(Q297/Y297),\"\",IF(Q297/Y297<=OUTLIERS!$H$3,\"\",IF(Q297/Y297>=OUTLIERS!$H$4,\"\",Q297/Y297)))","v":""},{"$f":"IF(ISERROR(W297),\"\",IF(W297<=OUTLIERS!$I$3,\"\",IF(W297>=OUTLIERS!$I$4,\"\",W297)))","v":""},68252165,7201835,61050330,1646000,"","","n/a","n/a","n/a","n/a","n/a",14286632,49699862]
[297,9140,"GEF ","IFAD","Cross-cutting",{"$f":"IF(ISERROR(P298/(M298*S298)),\"\",IF((P298/(M298*S298))<=OUTLIERS!$C$3,\"\",IF((P298/(M298*S298))>=OUTLIERS!$C$4,\"\",P298/(M298*S298))))","v":""},{"$f":"IF(ISERROR(Q298/($M298*T298)),\"\",IF((Q298/($M298*T298))<=OUTLIERS!$D$3,\"\",IF((Q298/($M298*T298))>=OUTLIERS!$D$4,\"\",Q298/($M298*T298))))","v":""},{"$f":"IF(ISERROR((M298*S298)/P298),\"\",IF((M298*S298/P298)<=OUTLIERS!$E$3,\"\",IF((M298*S298/P298)>=OUTLIERS!$E$4,\"\",M298*S298/P298)))","v":""},{"$f":"IF(ISERROR(O298/N298),\"\",IF(O298/N298<=OUTLIERS!$F$3,\"\",IF(O298/N298>=OUTLIERS!$F$4,\"\",O298/N298)))","v":7.8570387397087371},{"$f":"IF(ISERROR(U298/X298),\"\",IF(U298/X298<=OUTLIERS!$G$3,\"\",IF(U298/X298>=OUTLIERS!$G$4,\"\",U298/X298)))","v":""},{"$f":"IF(ISERROR(Q298/Y298),\"\",IF(Q298/Y298<=OUTLIERS!$H$3,\"\",IF(Q298/Y298>=OUTLIERS!$H$4,\"\",Q298/Y298)))","v":""},{"$f":"IF(ISERROR(W298),\"\",IF(W298<=OUTLIERS!$I$3,\"\",IF(W298>=OUTLIERS!$I$4,\"\",W298)))","v":""},95883538,10825688,85057850,15000000,"",2500000,"n/a","n/a",2500000,2500000,"n/a","",""]
[298,9142,"GEF ","UNEP","Cross-cutting",{"$f":"IF(ISERROR(P299/(M299*S299)),\"\",IF((P299/(M299*S299))<=OUTLIERS!$C$3,\"\",IF((P299/(M299*S299))>=OUTLIERS!$C$4,\"\",P299/(M299*S299))))","v":""},{"$f":"IF(ISERROR(Q299/($M299*T299)),\"\",IF((Q299/($M299*T299))<=OUTLIERS!$D$3,\"\",IF((Q299/($M299*T299))>=OUTLIERS!$D$4,\"\",Q299/($M299*T299))))","v":""},{"$f":"IF(ISERROR((M299*S299)/P299),\"\",IF((M299*S299/P299)<=OUTLIERS!$E$3,\"\",IF((M299*S299/P299)>=OUTLIERS!$E$4,\"\",M299*S299/P299)))","v":""},{"$f":"IF(ISERROR(O299/N299),\"\",IF(O299/N299<=OUTLIERS!$F$3,\"\",IF(O299/N299>=OUTLIERS!$F$4,\"\",O299/N299)))","v":8.6434246135984711},{"$f":"IF(ISERROR(U299/X299),\"\",IF(U299/X299<=OUTLIERS!$G$3,\"\",IF(U299/X299>=OUTLIERS!$G$4,\"\",U299/X299)))","v":7.1819580883767428E-4},{"$f":"IF(ISERROR(Q299/Y299),\"\",IF(Q299/Y299<=OUTLIERS!$H$3,\"\",IF(Q299/Y299>=OUTLIERS!$H$4,\"\",Q299/Y299)))","v":""},{"$f":"IF(ISERROR(W299),\"\",IF(W299<=OUTLIERS!$I$3,\"\",IF(W299>=OUTLIERS!$I$4,\"\",W299)))","v":""},218286438,22635780,195650658,3802710,"",120000,"n/a","n/a",380506,120000,"n/a",529808160.00000006,209288278]
[299,9143,"GEF ","UNDP","Cross-cutting",{"$f":"IF(ISERROR(P300/(M300*S300)),\"\",IF((P300/(M300*S300))<=OUTLIERS!$C$3,\"\",IF((P300/(M300*S300))>=OUTLIERS!$C$4,\"\",P300/(M300*S300))))","v":""},{"$f":"IF(ISERROR(Q300/($M300*T300)),\"\",IF((Q300/($M300*T300))<=OUTLIERS!$D$3,\"\",IF((Q300/($M300*T300))>=OUTLIERS!$D$4,\"\",Q300/($M300*T300))))","v":""},{"$f":"IF(ISERROR((M300*S300)/P300),\"\",IF((M300*S300/P300)<=OUTLIERS!$E$3,\"\",IF((M300*S300/P300)>=OUTLIERS!$E$4,\"\",M300*S300/P300)))","v":""},{"$f":"IF(ISERROR(O300/N300),\"\",IF(O300/N300<=OUTLIERS!$F$3,\"\",IF(O300/N300>=OUTLIERS!$F$4,\"\",O300/N300)))","v":7.9838082765479133},{"$f":"IF(ISERROR(U300/X300),\"\",IF(U300/X300<=OUTLIERS!$G$3,\"\",IF(U300/X300>=OUTLIERS!$G$4,\"\",U300/X300)))","v":""},{"$f":"IF(ISERROR(Q300/Y300),\"\",IF(Q300/Y300<=OUTLIERS!$H$3,\"\",IF(Q300/Y300>=OUTLIERS!$H$4,\"\",Q300/Y300)))","v":""},{"$f":"IF(ISERROR(W300),\"\",IF(W300<=OUTLIERS!$I$3,\"\",IF(W300>=OUTLIERS!$I$4,\"\",W300)))","v":""},64139450,7139450,57000000,"n/a","","","n/a","n/a","n/a","n/a","n/a",96280752,190886311]
[300,9145,"GEF ","DBSA","Cross-cutting",{"$f":"IF(ISERROR(P301/(M301*S301)),\"\",IF((P301/(M301*S301))<=OUTLIERS!$C$3,\"\",IF((P301/(M301*S301))>=OUTLIERS!$C$4,\"\",P301/(M301*S301))))","v":""},{"$f":"IF(ISERROR(Q301/($M301*T301)),\"\",IF((Q301/($M301*T301))<=OUTLIERS!$D$3,\"\",IF((Q301/($M301*T301))>=OUTLIERS!$D$4,\"\",Q301/($M301*T301))))","v":""},{"$f":"IF(ISERROR((M301*S301)/P301),\"\",IF((M301*S301/P301)<=OUTLIERS!$E$3,\"\",IF((M301*S301/P301)>=OUTLIERS!$E$4,\"\",M301*S301/P301)))","v":""},{"$f":"IF(ISERROR(O301/N301),\"\",IF(O301/N301<=OUTLIERS!$F$3,\"\",IF(O301/N301>=OUTLIERS!$F$4,\"\",O301/N301)))","v":15.375843411686223},{"$f":"IF(ISERROR(U301/X301),\"\",IF(U301/X301<=OUTLIERS!$G$3,\"\",IF(U301/X301>=OUTLIERS!$G$4,\"\",U301/X301)))","v":2.4168306988378162E-4},{"$f":"IF(ISERROR(Q301/Y301),\"\",IF(Q301/Y301<=OUTLIERS!$H$3,\"\",IF(Q301/Y301>=OUTLIERS!$H$4,\"\",Q301/Y301)))","v":""},{"$f":"IF(ISERROR(W301),\"\",IF(W301<=OUTLIERS!$I$3,\"\",IF(W301>=OUTLIERS!$I$4,\"\",W301)))","v":""},132532501,8093171,124439330,3300000,"","","n/a","n/a",118369.56521739128,"n/a","n/a",489771854,56717156]
[301,9146,"GEF ","ADB","Mitigation",{"$f":"IF(ISERROR(P302/(M302*S302)),\"\",IF((P302/(M302*S302))<=OUTLIERS!$C$3,\"\",IF((P302/(M302*S302))>=OUTLIERS!$C$4,\"\",P302/(M302*S302))))","v":2.0564567633158767E-2},{"$f":"IF(ISERROR(Q302/($M302*T302)),\"\",IF((Q302/($M302*T302))<=OUTLIERS!$D$3,\"\",IF((Q302/($M302*T302))>=OUTLIERS!$D$4,\"\",Q302/($M302*T302))))","v":""},{"$f":"IF(ISERROR((M302*S302)/P302),\"\",IF((M302*S302/P302)<=OUTLIERS!$E$3,\"\",IF((M302*S302/P302)>=OUTLIERS!$E$4,\"\",M302*S302/P302)))","v":48.627329192546583},{"$f":"IF(ISERROR(O302/N302),\"\",IF(O302/N302<=OUTLIERS!$F$3,\"\",IF(O302/N302>=OUTLIERS!$F$4,\"\",O302/N302)))","v":41.548913043478258},{"$f":"IF(ISERROR(U302/X302),\"\",IF(U302/X302<=OUTLIERS!$G$3,\"\",IF(U302/X302>=OUTLIERS!$G$4,\"\",U302/X302)))","v":4.1186772548223061E-2},{"$f":"IF(ISERROR(Q302/Y302),\"\",IF(Q302/Y302<=OUTLIERS!$H$3,\"\",IF(Q302/Y302>=OUTLIERS!$H$4,\"\",Q302/Y302)))","v":""},{"$f":"IF(ISERROR(W302),\"\",IF(W302<=OUTLIERS!$I$3,\"\",IF(W302>=OUTLIERS!$I$4,\"\",W302)))","v":""},78290000,1840000,76450000,1610000,"","",1,0,80500,"n/a","n/a",1954511,6858160]
[302,9147,"GEF ","UNIDO","Mitigation",{"$f":"IF(ISERROR(P303/(M303*S303)),\"\",IF((P303/(M303*S303))<=OUTLIERS!$C$3,\"\",IF((P303/(M303*S303))>=OUTLIERS!$C$4,\"\",P303/(M303*S303))))","v":3.6954537129954786E-2},{"$f":"IF(ISERROR(Q303/($M303*T303)),\"\",IF((Q303/($M303*T303))<=OUTLIERS!$D$3,\"\",IF((Q303/($M303*T303))>=OUTLIERS!$D$4,\"\",Q303/($M303*T303))))","v":""},{"$f":"IF(ISERROR((M303*S303)/P303),\"\",IF((M303*S303/P303)<=OUTLIERS!$E$3,\"\",IF((M303*S303/P303)>=OUTLIERS!$E$4,\"\",M303*S303/P303)))","v":27.060276698457553},{"$f":"IF(ISERROR(O303/N303),\"\",IF(O303/N303<=OUTLIERS!$F$3,\"\",IF(O303/N303>=OUTLIERS!$F$4,\"\",O303/N303)))","v":7.3502348768826575},{"$f":"IF(ISERROR(U303/X303),\"\",IF(U303/X303<=OUTLIERS!$G$3,\"\",IF(U303/X303>=OUTLIERS!$G$4,\"\",U303/X303)))","v":1.8011591613961744E-4},{"$f":"IF(ISERROR(Q303/Y303),\"\",IF(Q303/Y303<=OUTLIERS!$H$3,\"\",IF(Q303/Y303>=OUTLIERS!$H$4,\"\",Q303/Y303)))","v":""},{"$f":"IF(ISERROR(W303),\"\",IF(W303<=OUTLIERS!$I$3,\"\",IF(W303>=OUTLIERS!$I$4,\"\",W303)))","v":""},22982293,2752293,20230000,849300,"","",1,0,43736,"n/a","n/a",242821406,31624264]
[303,9151,"GEF ","UNDP","Mitigation",{"$f":"IF(ISERROR(P304/(M304*S304)),\"\",IF((P304/(M304*S304))<=OUTLIERS!$C$3,\"\",IF((P304/(M304*S304))>=OUTLIERS!$C$4,\"\",P304/(M304*S304))))","v":9.0048256185127681E-3},{"$f":"IF(ISERROR(Q304/($M304*T304)),\"\",IF((Q304/($M304*T304))<=OUTLIERS!$D$3,\"\",IF((Q304/($M304*T304))>=OUTLIERS!$D$4,\"\",Q304/($M304*T304))))","v":""},{"$f":"IF(ISERROR((M304*S304)/P304),\"\",IF((M304*S304/P304)<=OUTLIERS!$E$3,\"\",IF((M304*S304/P304)>=OUTLIERS!$E$4,\"\",M304*S304/P304)))","v":111.0515675},{"$f":"IF(ISERROR(O304/N304),\"\",IF(O304/N304<=OUTLIERS!$F$3,\"\",IF(O304/N304>=OUTLIERS!$F$4,\"\",O304/N304)))","v":17.742880590717299},{"$f":"IF(ISERROR(U304/X304),\"\",IF(U304/X304<=OUTLIERS!$G$3,\"\",IF(U304/X304>=OUTLIERS!$G$4,\"\",U304/X304)))","v":8.9956286192506183E-4},{"$f":"IF(ISERROR(Q304/Y304),\"\",IF(Q304/Y304<=OUTLIERS!$H$3,\"\",IF(Q304/Y304>=OUTLIERS!$H$4,\"\",Q304/Y304)))","v":""},{"$f":"IF(ISERROR(W304),\"\",IF(W304<=OUTLIERS!$I$3,\"\",IF(W304>=OUTLIERS!$I$4,\"\",W304)))","v":0.6},44420627,2370000,42050627,400000,"",15000,1,0,20000,15000,0.6,22233021,3507017]
[304,9153,"GEF ","FAO","Mitigation",{"$f":"IF(ISERROR(P305/(M305*S305)),\"\",IF((P305/(M305*S305))<=OUTLIERS!$C$3,\"\",IF((P305/(M305*S305))>=OUTLIERS!$C$4,\"\",P305/(M305*S305))))","v":4.7448936984628015E-2},{"$f":"IF(ISERROR(Q305/($M305*T305)),\"\",IF((Q305/($M305*T305))<=OUTLIERS!$D$3,\"\",IF((Q305/($M305*T305))>=OUTLIERS!$D$4,\"\",Q305/($M305*T305))))","v":""},{"$f":"IF(ISERROR((M305*S305)/P305),\"\",IF((M305*S305/P305)<=OUTLIERS!$E$3,\"\",IF((M305*S305/P305)>=OUTLIERS!$E$4,\"\",M305*S305/P305)))","v":21.075287741935483},{"$f":"IF(ISERROR(O305/N305),\"\",IF(O305/N305<=OUTLIERS!$F$3,\"\",IF(O305/N305>=OUTLIERS!$F$4,\"\",O305/N305)))","v":6.8083451374689794},{"$f":"IF(ISERROR(U305/X305),\"\",IF(U305/X305<=OUTLIERS!$G$3,\"\",IF(U305/X305>=OUTLIERS!$G$4,\"\",U305/X305)))","v":5.743054979191615E-3},{"$f":"IF(ISERROR(Q305/Y305),\"\",IF(Q305/Y305<=OUTLIERS!$H$3,\"\",IF(Q305/Y305>=OUTLIERS!$H$4,\"\",Q305/Y305)))","v":""},{"$f":"IF(ISERROR(W305),\"\",IF(W305<=OUTLIERS!$I$3,\"\",IF(W305>=OUTLIERS!$I$4,\"\",W305)))","v":""},16333348,2091781,14241567,775000,"","",1,0,38750,"n/a","n/a",6747280,3456750]
[305,9159,"GEF ","UNDP","Mitigation",{"$f":"IF(ISERROR(P306/(M306*S306)),\"\",IF((P306/(M306*S306))<=OUTLIERS!$C$3,\"\",IF((P306/(M306*S306))>=OUTLIERS!$C$4,\"\",P306/(M306*S306))))","v":0.47799761841256905},{"$f":"IF(ISERROR(Q306/($M306*T306)),\"\",IF((Q306/($M306*T306))<=OUTLIERS!$D$3,\"\",IF((Q306/($M306*T306))>=OUTLIERS!$D$4,\"\",Q306/($M306*T306))))","v":""},{"$f":"IF(ISERROR((M306*S306)/P306),\"\",IF((M306*S306/P306)<=OUTLIERS!$E$3,\"\",IF((M306*S306/P306)>=OUTLIERS!$E$4,\"\",M306*S306/P306)))","v":2.0920606326889279},{"$f":"IF(ISERROR(O306/N306),\"\",IF(O306/N306<=OUTLIERS!$F$3,\"\",IF(O306/N306>=OUTLIERS!$F$4,\"\",O306/N306)))","v":6.6178385729141667},{"$f":"IF(ISERROR(U306/X306),\"\",IF(U306/X306<=OUTLIERS!$G$3,\"\",IF(U306/X306>=OUTLIERS!$G$4,\"\",U306/X306)))","v":0.36769600006203657},{"$f":"IF(ISERROR(Q306/Y306),\"\",IF(Q306/Y306<=OUTLIERS!$H$3,\"\",IF(Q306/Y306>=OUTLIERS!$H$4,\"\",Q306/Y306)))","v":""},{"$f":"IF(ISERROR(W306),\"\",IF(W306<=OUTLIERS!$I$3,\"\",IF(W306>=OUTLIERS!$I$4,\"\",W306)))","v":""},23807650,3125250,20682400,11380000,"","",1,0,1138000,"n/a","n/a",3094948,5260750]
[306,9162,"GEF ","WorldBank","Cross-cutting",{"$f":"IF(ISERROR(P307/(M307*S307)),\"\",IF((P307/(M307*S307))<=OUTLIERS!$C$3,\"\",IF((P307/(M307*S307))>=OUTLIERS!$C$4,\"\",P307/(M307*S307))))","v":""},{"$f":"IF(ISERROR(Q307/($M307*T307)),\"\",IF((Q307/($M307*T307))<=OUTLIERS!$D$3,\"\",IF((Q307/($M307*T307))>=OUTLIERS!$D$4,\"\",Q307/($M307*T307))))","v":""},{"$f":"IF(ISERROR((M307*S307)/P307),\"\",IF((M307*S307/P307)<=OUTLIERS!$E$3,\"\",IF((M307*S307/P307)>=OUTLIERS!$E$4,\"\",M307*S307/P307)))","v":""},{"$f":"IF(ISERROR(O307/N307),\"\",IF(O307/N307<=OUTLIERS!$F$3,\"\",IF(O307/N307>=OUTLIERS!$F$4,\"\",O307/N307)))","v":0.59838356652562541},{"$f":"IF(ISERROR(U307/X307),\"\",IF(U307/X307<=OUTLIERS!$G$3,\"\",IF(U307/X307>=OUTLIERS!$G$4,\"\",U307/X307)))","v":""},{"$f":"IF(ISERROR(Q307/Y307),\"\",IF(Q307/Y307<=OUTLIERS!$H$3,\"\",IF(Q307/Y307>=OUTLIERS!$H$4,\"\",Q307/Y307)))","v":""},{"$f":"IF(ISERROR(W307),\"\",IF(W307<=OUTLIERS!$I$3,\"\",IF(W307>=OUTLIERS!$I$4,\"\",W307)))","v":""},14424312,9024312,5400000,"n/a","","","n/a","n/a","n/a","n/a","n/a","",""]
[307,9166,"GEF ","FAO","Adaptation",{"$f":"IF(ISERROR(P308/(M308*S308)),\"\",IF((P308/(M308*S308))<=OUTLIERS!$C$3,\"\",IF((P308/(M308*S308))>=OUTLIERS!$C$4,\"\",P308/(M308*S308))))","v":""},{"$f":"IF(ISERROR(Q308/($M308*T308)),\"\",IF((Q308/($M308*T308))<=OUTLIERS!$D$3,\"\",IF((Q308/($M308*T308))>=OUTLIERS!$D$4,\"\",Q308/($M308*T308))))","v":""},{"$f":"IF(ISERROR((M308*S308)/P308),\"\",IF((M308*S308/P308)<=OUTLIERS!$E$3,\"\",IF((M308*S308/P308)>=OUTLIERS!$E$4,\"\",M308*S308/P308)))","v":""},{"$f":"IF(ISERROR(O308/N308),\"\",IF(O308/N308<=OUTLIERS!$F$3,\"\",IF(O308/N308>=OUTLIERS!$F$4,\"\",O308/N308)))","v":4.4681285428741617},{"$f":"IF(ISERROR(U308/X308),\"\",IF(U308/X308<=OUTLIERS!$G$3,\"\",IF(U308/X308>=OUTLIERS!$G$4,\"\",U308/X308)))","v":""},{"$f":"IF(ISERROR(Q308/Y308),\"\",IF(Q308/Y308<=OUTLIERS!$H$3,\"\",IF(Q308/Y308>=OUTLIERS!$H$4,\"\",Q308/Y308)))","v":""},{"$f":"IF(ISERROR(W308),\"\",IF(W308<=OUTLIERS!$I$3,\"\",IF(W308>=OUTLIERS!$I$4,\"\",W308)))","v":""},22150913,4050913,18100000,"n/a","","",0,1,"n/a","n/a","n/a",729733,14899994]
[308,9167,"GEF ","UNDP","Cross-cutting",{"$f":"IF(ISERROR(P309/(M309*S309)),\"\",IF((P309/(M309*S309))<=OUTLIERS!$C$3,\"\",IF((P309/(M309*S309))>=OUTLIERS!$C$4,\"\",P309/(M309*S309))))","v":""},{"$f":"IF(ISERROR(Q309/($M309*T309)),\"\",IF((Q309/($M309*T309))<=OUTLIERS!$D$3,\"\",IF((Q309/($M309*T309))>=OUTLIERS!$D$4,\"\",Q309/($M309*T309))))","v":""},{"$f":"IF(ISERROR((M309*S309)/P309),\"\",IF((M309*S309/P309)<=OUTLIERS!$E$3,\"\",IF((M309*S309/P309)>=OUTLIERS!$E$4,\"\",M309*S309/P309)))","v":""},{"$f":"IF(ISERROR(O309/N309),\"\",IF(O309/N309<=OUTLIERS!$F$3,\"\",IF(O309/N309>=OUTLIERS!$F$4,\"\",O309/N309)))","v":1.4299097155415295},{"$f":"IF(ISERROR(U309/X309),\"\",IF(U309/X309<=OUTLIERS!$G$3,\"\",IF(U309/X309>=OUTLIERS!$G$4,\"\",U309/X309)))","v":""},{"$f":"IF(ISERROR(Q309/Y309),\"\",IF(Q309/Y309<=OUTLIERS!$H$3,\"\",IF(Q309/Y309>=OUTLIERS!$H$4,\"\",Q309/Y309)))","v":""},{"$f":"IF(ISERROR(W309),\"\",IF(W309<=OUTLIERS!$I$3,\"\",IF(W309>=OUTLIERS!$I$4,\"\",W309)))","v":""},10762612,4429223,6333389,"n/a","","","n/a","n/a","n/a","n/a","n/a",480270657,129163276]
[309,9169,"GEF ","UNDP","Cross-cutting",{"$f":"IF(ISERROR(P310/(M310*S310)),\"\",IF((P310/(M310*S310))<=OUTLIERS!$C$3,\"\",IF((P310/(M310*S310))>=OUTLIERS!$C$4,\"\",P310/(M310*S310))))","v":""},{"$f":"IF(ISERROR(Q310/($M310*T310)),\"\",IF((Q310/($M310*T310))<=OUTLIERS!$D$3,\"\",IF((Q310/($M310*T310))>=OUTLIERS!$D$4,\"\",Q310/($M310*T310))))","v":""},{"$f":"IF(ISERROR((M310*S310)/P310),\"\",IF((M310*S310/P310)<=OUTLIERS!$E$3,\"\",IF((M310*S310/P310)>=OUTLIERS!$E$4,\"\",M310*S310/P310)))","v":""},{"$f":"IF(ISERROR(O310/N310),\"\",IF(O310/N310<=OUTLIERS!$F$3,\"\",IF(O310/N310>=OUTLIERS!$F$4,\"\",O310/N310)))","v":0.374},{"$f":"IF(ISERROR(U310/X310),\"\",IF(U310/X310<=OUTLIERS!$G$3,\"\",IF(U310/X310>=OUTLIERS!$G$4,\"\",U310/X310)))","v":""},{"$f":"IF(ISERROR(Q310/Y310),\"\",IF(Q310/Y310<=OUTLIERS!$H$3,\"\",IF(Q310/Y310>=OUTLIERS!$H$4,\"\",Q310/Y310)))","v":""},{"$f":"IF(ISERROR(W310),\"\",IF(W310<=OUTLIERS!$I$3,\"\",IF(W310>=OUTLIERS!$I$4,\"\",W310)))","v":""},687000,500000,187000,"n/a","","","n/a","n/a","n/a","n/a","n/a",18393672,21444000]
[310,9171,"GEF ","UNEP","Cross-cutting",{"$f":"IF(ISERROR(P311/(M311*S311)),\"\",IF((P311/(M311*S311))<=OUTLIERS!$C$3,\"\",IF((P311/(M311*S311))>=OUTLIERS!$C$4,\"\",P311/(M311*S311))))","v":""},{"$f":"IF(ISERROR(Q311/($M311*T311)),\"\",IF((Q311/($M311*T311))<=OUTLIERS!$D$3,\"\",IF((Q311/($M311*T311))>=OUTLIERS!$D$4,\"\",Q311/($M311*T311))))","v":""},{"$f":"IF(ISERROR((M311*S311)/P311),\"\",IF((M311*S311/P311)<=OUTLIERS!$E$3,\"\",IF((M311*S311/P311)>=OUTLIERS!$E$4,\"\",M311*S311/P311)))","v":""},{"$f":"IF(ISERROR(O311/N311),\"\",IF(O311/N311<=OUTLIERS!$F$3,\"\",IF(O311/N311>=OUTLIERS!$F$4,\"\",O311/N311)))","v":0.11737089201877934},{"$f":"IF(ISERROR(U311/X311),\"\",IF(U311/X311<=OUTLIERS!$G$3,\"\",IF(U311/X311>=OUTLIERS!$G$4,\"\",U311/X311)))","v":""},{"$f":"IF(ISERROR(Q311/Y311),\"\",IF(Q311/Y311<=OUTLIERS!$H$3,\"\",IF(Q311/Y311>=OUTLIERS!$H$4,\"\",Q311/Y311)))","v":""},{"$f":"IF(ISERROR(W311),\"\",IF(W311<=OUTLIERS!$I$3,\"\",IF(W311>=OUTLIERS!$I$4,\"\",W311)))","v":""},952000,852000,100000,"n/a","","","n/a","n/a","n/a","n/a","n/a",14466315,28833629]
[311,9178,"GEF ","FAO","Cross-cutting",{"$f":"IF(ISERROR(P312/(M312*S312)),\"\",IF((P312/(M312*S312))<=OUTLIERS!$C$3,\"\",IF((P312/(M312*S312))>=OUTLIERS!$C$4,\"\",P312/(M312*S312))))","v":""},{"$f":"IF(ISERROR(Q312/($M312*T312)),\"\",IF((Q312/($M312*T312))<=OUTLIERS!$D$3,\"\",IF((Q312/($M312*T312))>=OUTLIERS!$D$4,\"\",Q312/($M312*T312))))","v":""},{"$f":"IF(ISERROR((M312*S312)/P312),\"\",IF((M312*S312/P312)<=OUTLIERS!$E$3,\"\",IF((M312*S312/P312)>=OUTLIERS!$E$4,\"\",M312*S312/P312)))","v":""},{"$f":"IF(ISERROR(O312/N312),\"\",IF(O312/N312<=OUTLIERS!$F$3,\"\",IF(O312/N312>=OUTLIERS!$F$4,\"\",O312/N312)))","v":6.0909570016481149},{"$f":"IF(ISERROR(U312/X312),\"\",IF(U312/X312<=OUTLIERS!$G$3,\"\",IF(U312/X312>=OUTLIERS!$G$4,\"\",U312/X312)))","v":""},{"$f":"IF(ISERROR(Q312/Y312),\"\",IF(Q312/Y312<=OUTLIERS!$H$3,\"\",IF(Q312/Y312>=OUTLIERS!$H$4,\"\",Q312/Y312)))","v":""},{"$f":"IF(ISERROR(W312),\"\",IF(W312<=OUTLIERS!$I$3,\"\",IF(W312>=OUTLIERS!$I$4,\"\",W312)))","v":""},52447058,7396330,45050728,126133,"","","n/a","n/a","n/a","n/a","n/a",440040,10864245]
[312,9179,"GEF ","UNDP","Mitigation",{"$f":"IF(ISERROR(P313/(M313*S313)),\"\",IF((P313/(M313*S313))<=OUTLIERS!$C$3,\"\",IF((P313/(M313*S313))>=OUTLIERS!$C$4,\"\",P313/(M313*S313))))","v":8.674651672715127},{"$f":"IF(ISERROR(Q313/($M313*T313)),\"\",IF((Q313/($M313*T313))<=OUTLIERS!$D$3,\"\",IF((Q313/($M313*T313))>=OUTLIERS!$D$4,\"\",Q313/($M313*T313))))","v":""},{"$f":"IF(ISERROR((M313*S313)/P313),\"\",IF((M313*S313/P313)<=OUTLIERS!$E$3,\"\",IF((M313*S313/P313)>=OUTLIERS!$E$4,\"\",M313*S313/P313)))","v":0.11527840399002494},{"$f":"IF(ISERROR(O313/N313),\"\",IF(O313/N313<=OUTLIERS!$F$3,\"\",IF(O313/N313>=OUTLIERS!$F$4,\"\",O313/N313)))","v":1.3238570083105416},{"$f":"IF(ISERROR(U313/X313),\"\",IF(U313/X313<=OUTLIERS!$G$3,\"\",IF(U313/X313>=OUTLIERS!$G$4,\"\",U313/X313)))","v":""},{"$f":"IF(ISERROR(Q313/Y313),\"\",IF(Q313/Y313<=OUTLIERS!$H$3,\"\",IF(Q313/Y313>=OUTLIERS!$H$4,\"\",Q313/Y313)))","v":""},{"$f":"IF(ISERROR(W313),\"\",IF(W313<=OUTLIERS!$I$3,\"\",IF(W313>=OUTLIERS!$I$4,\"\",W313)))","v":""},{"$f":"N313+O313","v":9245328},3978441,5266887,80200000,"","",1,0,8020000,"n/a","n/a","",""]
[313,9180,"GEF ","UNDP","Mitigation",{"$f":"IF(ISERROR(P314/(M314*S314)),\"\",IF((P314/(M314*S314))<=OUTLIERS!$C$3,\"\",IF((P314/(M314*S314))>=OUTLIERS!$C$4,\"\",P314/(M314*S314))))","v":0.36589854355144508},{"$f":"IF(ISERROR(Q314/($M314*T314)),\"\",IF((Q314/($M314*T314))<=OUTLIERS!$D$3,\"\",IF((Q314/($M314*T314))>=OUTLIERS!$D$4,\"\",Q314/($M314*T314))))","v":""},{"$f":"IF(ISERROR((M314*S314)/P314),\"\",IF((M314*S314/P314)<=OUTLIERS!$E$3,\"\",IF((M314*S314/P314)>=OUTLIERS!$E$4,\"\",M314*S314/P314)))","v":2.7329980335365853},{"$f":"IF(ISERROR(O314/N314),\"\",IF(O314/N314<=OUTLIERS!$F$3,\"\",IF(O314/N314>=OUTLIERS!$F$4,\"\",O314/N314)))","v":11.292904344456197},{"$f":"IF(ISERROR(U314/X314),\"\",IF(U314/X314<=OUTLIERS!$G$3,\"\",IF(U314/X314>=OUTLIERS!$G$4,\"\",U314/X314)))","v":""},{"$f":"IF(ISERROR(Q314/Y314),\"\",IF(Q314/Y314<=OUTLIERS!$H$3,\"\",IF(Q314/Y314>=OUTLIERS!$H$4,\"\",Q314/Y314)))","v":""},{"$f":"IF(ISERROR(W314),\"\",IF(W314<=OUTLIERS!$I$3,\"\",IF(W314>=OUTLIERS!$I$4,\"\",W314)))","v":""},179284671,14584403,164700268,65600000,"",6000,1,0,6563751,6000,"n/a","",""]
[314,9182,"GEF ","WWF","Mitigation",{"$f":"IF(ISERROR(P315/(M315*S315)),\"\",IF((P315/(M315*S315))<=OUTLIERS!$C$3,\"\",IF((P315/(M315*S315))>=OUTLIERS!$C$4,\"\",P315/(M315*S315))))","v":2.3001798525308694},{"$f":"IF(ISERROR(Q315/($M315*T315)),\"\",IF((Q315/($M315*T315))<=OUTLIERS!$D$3,\"\",IF((Q315/($M315*T315))>=OUTLIERS!$D$4,\"\",Q315/($M315*T315))))","v":""},{"$f":"IF(ISERROR((M315*S315)/P315),\"\",IF((M315*S315/P315)<=OUTLIERS!$E$3,\"\",IF((M315*S315/P315)>=OUTLIERS!$E$4,\"\",M315*S315/P315)))","v":0.43474861276595744},{"$f":"IF(ISERROR(O315/N315),\"\",IF(O315/N315<=OUTLIERS!$F$3,\"\",IF(O315/N315>=OUTLIERS!$F$4,\"\",O315/N315)))","v":4.8393474667526286},{"$f":"IF(ISERROR(U315/X315),\"\",IF(U315/X315<=OUTLIERS!$G$3,\"\",IF(U315/X315>=OUTLIERS!$G$4,\"\",U315/X315)))","v":""},{"$f":"IF(ISERROR(Q315/Y315),\"\",IF(Q315/Y315<=OUTLIERS!$H$3,\"\",IF(Q315/Y315>=OUTLIERS!$H$4,\"\",Q315/Y315)))","v":""},{"$f":"IF(ISERROR(W315),\"\",IF(W315<=OUTLIERS!$I$3,\"\",IF(W315>=OUTLIERS!$I$4,\"\",W315)))","v":""},51082962,8748060,42334902,117500000,"","",1,0,"n/a","n/a","n/a","",""]
[315,9190,"GEF ","FAO","Mitigation",{"$f":"IF(ISERROR(P316/(M316*S316)),\"\",IF((P316/(M316*S316))<=OUTLIERS!$C$3,\"\",IF((P316/(M316*S316))>=OUTLIERS!$C$4,\"\",P316/(M316*S316))))","v":0.18855050529502029},{"$f":"IF(ISERROR(Q316/($M316*T316)),\"\",IF((Q316/($M316*T316))<=OUTLIERS!$D$3,\"\",IF((Q316/($M316*T316))>=OUTLIERS!$D$4,\"\",Q316/($M316*T316))))","v":""},{"$f":"IF(ISERROR((M316*S316)/P316),\"\",IF((M316*S316/P316)<=OUTLIERS!$E$3,\"\",IF((M316*S316/P316)>=OUTLIERS!$E$4,\"\",M316*S316/P316)))","v":5.3036187754327404},{"$f":"IF(ISERROR(O316/N316),\"\",IF(O316/N316<=OUTLIERS!$F$3,\"\",IF(O316/N316>=OUTLIERS!$F$4,\"\",O316/N316)))","v":5.8569238439760243},{"$f":"IF(ISERROR(U316/X316),\"\",IF(U316/X316<=OUTLIERS!$G$3,\"\",IF(U316/X316>=OUTLIERS!$G$4,\"\",U316/X316)))","v":1.9581253801078348E-3},{"$f":"IF(ISERROR(Q316/Y316),\"\",IF(Q316/Y316<=OUTLIERS!$H$3,\"\",IF(Q316/Y316>=OUTLIERS!$H$4,\"\",Q316/Y316)))","v":""},{"$f":"IF(ISERROR(W316),\"\",IF(W316<=OUTLIERS!$I$3,\"\",IF(W316>=OUTLIERS!$I$4,\"\",W316)))","v":""},21853174,3187023,18666151,4120427,"","",1,0,206021.35,"n/a","n/a",105213564,32387200]
[316,9191,"GEF ","UNDP","Mitigation",{"$f":"IF(ISERROR(P317/(M317*S317)),\"\",IF((P317/(M317*S317))<=OUTLIERS!$C$3,\"\",IF((P317/(M317*S317))>=OUTLIERS!$C$4,\"\",P317/(M317*S317))))","v":2.1659207249312144E-3},{"$f":"IF(ISERROR(Q317/($M317*T317)),\"\",IF((Q317/($M317*T317))<=OUTLIERS!$D$3,\"\",IF((Q317/($M317*T317))>=OUTLIERS!$D$4,\"\",Q317/($M317*T317))))","v":""},{"$f":"IF(ISERROR((M317*S317)/P317),\"\",IF((M317*S317/P317)<=OUTLIERS!$E$3,\"\",IF((M317*S317/P317)>=OUTLIERS!$E$4,\"\",M317*S317/P317)))","v":461.69741509433965},{"$f":"IF(ISERROR(O317/N317),\"\",IF(O317/N317<=OUTLIERS!$F$3,\"\",IF(O317/N317>=OUTLIERS!$F$4,\"\",O317/N317)))","v":8.7104453517769898},{"$f":"IF(ISERROR(U317/X317),\"\",IF(U317/X317<=OUTLIERS!$G$3,\"\",IF(U317/X317>=OUTLIERS!$G$4,\"\",U317/X317)))","v":""},{"$f":"IF(ISERROR(Q317/Y317),\"\",IF(Q317/Y317<=OUTLIERS!$H$3,\"\",IF(Q317/Y317>=OUTLIERS!$H$4,\"\",Q317/Y317)))","v":""},{"$f":"IF(ISERROR(W317),\"\",IF(W317<=OUTLIERS!$I$3,\"\",IF(W317>=OUTLIERS!$I$4,\"\",W317)))","v":""},24469963,2519963,21950000,53000,"","",1,0,"n/a","n/a","n/a",5188805,8921343]
[317,9192,"GEF ","UNDP","Mitigation",{"$f":"IF(ISERROR(P318/(M318*S318)),\"\",IF((P318/(M318*S318))<=OUTLIERS!$C$3,\"\",IF((P318/(M318*S318))>=OUTLIERS!$C$4,\"\",P318/(M318*S318))))","v":8.285302593659942E-3},{"$f":"IF(ISERROR(Q318/($M318*T318)),\"\",IF((Q318/($M318*T318))<=OUTLIERS!$D$3,\"\",IF((Q318/($M318*T318))>=OUTLIERS!$D$4,\"\",Q318/($M318*T318))))","v":""},{"$f":"IF(ISERROR((M318*S318)/P318),\"\",IF((M318*S318/P318)<=OUTLIERS!$E$3,\"\",IF((M318*S318/P318)>=OUTLIERS!$E$4,\"\",M318*S318/P318)))","v":120.69565217391305},{"$f":"IF(ISERROR(O318/N318),\"\",IF(O318/N318<=OUTLIERS!$F$3,\"\",IF(O318/N318>=OUTLIERS!$F$4,\"\",O318/N318)))","v":11.310421286031042},{"$f":"IF(ISERROR(U318/X318),\"\",IF(U318/X318<=OUTLIERS!$G$3,\"\",IF(U318/X318>=OUTLIERS!$G$4,\"\",U318/X318)))","v":""},{"$f":"IF(ISERROR(Q318/Y318),\"\",IF(Q318/Y318<=OUTLIERS!$H$3,\"\",IF(Q318/Y318>=OUTLIERS!$H$4,\"\",Q318/Y318)))","v":""},{"$f":"IF(ISERROR(W318),\"\",IF(W318<=OUTLIERS!$I$3,\"\",IF(W318>=OUTLIERS!$I$4,\"\",W318)))","v":0.5},55520000,4510000,51010000,460000,"",28500,1,0,"n/a",28500,0.5,248314572,18037646]
[318,9194,"GEF ","UNIDO","Adaptation",{"$f":"IF(ISERROR(P319/(M319*S319)),\"\",IF((P319/(M319*S319))<=OUTLIERS!$C$3,\"\",IF((P319/(M319*S319))>=OUTLIERS!$C$4,\"\",P319/(M319*S319))))","v":""},{"$f":"IF(ISERROR(Q319/($M319*T319)),\"\",IF((Q319/($M319*T319))<=OUTLIERS!$D$3,\"\",IF((Q319/($M319*T319))>=OUTLIERS!$D$4,\"\",Q319/($M319*T319))))","v":""},{"$f":"IF(ISERROR((M319*S319)/P319),\"\",IF((M319*S319/P319)<=OUTLIERS!$E$3,\"\",IF((M319*S319/P319)>=OUTLIERS!$E$4,\"\",M319*S319/P319)))","v":""},{"$f":"IF(ISERROR(O319/N319),\"\",IF(O319/N319<=OUTLIERS!$F$3,\"\",IF(O319/N319>=OUTLIERS!$F$4,\"\",O319/N319)))","v":2.5},{"$f":"IF(ISERROR(U319/X319),\"\",IF(U319/X319<=OUTLIERS!$G$3,\"\",IF(U319/X319>=OUTLIERS!$G$4,\"\",U319/X319)))","v":""},{"$f":"IF(ISERROR(Q319/Y319),\"\",IF(Q319/Y319<=OUTLIERS!$H$3,\"\",IF(Q319/Y319>=OUTLIERS!$H$4,\"\",Q319/Y319)))","v":""},{"$f":"IF(ISERROR(W319),\"\",IF(W319<=OUTLIERS!$I$3,\"\",IF(W319>=OUTLIERS!$I$4,\"\",W319)))","v":""},7700000,2200000,5500000,"n/a","","",0,1,"n/a","n/a","n/a",513380,2100568]
[319,9199,"GEF ","UNDP","Cross-cutting",{"$f":"IF(ISERROR(P320/(M320*S320)),\"\",IF((P320/(M320*S320))<=OUTLIERS!$C$3,\"\",IF((P320/(M320*S320))>=OUTLIERS!$C$4,\"\",P320/(M320*S320))))","v":""},{"$f":"IF(ISERROR(Q320/($M320*T320)),\"\",IF((Q320/($M320*T320))<=OUTLIERS!$D$3,\"\",IF((Q320/($M320*T320))>=OUTLIERS!$D$4,\"\",Q320/($M320*T320))))","v":""},{"$f":"IF(ISERROR((M320*S320)/P320),\"\",IF((M320*S320/P320)<=OUTLIERS!$E$3,\"\",IF((M320*S320/P320)>=OUTLIERS!$E$4,\"\",M320*S320/P320)))","v":""},{"$f":"IF(ISERROR(O320/N320),\"\",IF(O320/N320<=OUTLIERS!$F$3,\"\",IF(O320/N320>=OUTLIERS!$F$4,\"\",O320/N320)))","v":3.0521888400217541},{"$f":"IF(ISERROR(U320/X320),\"\",IF(U320/X320<=OUTLIERS!$G$3,\"\",IF(U320/X320>=OUTLIERS!$G$4,\"\",U320/X320)))","v":0.35744722507744053},{"$f":"IF(ISERROR(Q320/Y320),\"\",IF(Q320/Y320<=OUTLIERS!$H$3,\"\",IF(Q320/Y320>=OUTLIERS!$H$4,\"\",Q320/Y320)))","v":""},{"$f":"IF(ISERROR(W320),\"\",IF(W320<=OUTLIERS!$I$3,\"\",IF(W320>=OUTLIERS!$I$4,\"\",W320)))","v":0.48340248962655602},56597424,13967124,42630300,3578372,"",96400,"n/a","n/a",357837.2,96400,0.48340248962655602,1001091,807610]
[320,9201,"GEF ","FAO","Adaptation",{"$f":"IF(ISERROR(P321/(M321*S321)),\"\",IF((P321/(M321*S321))<=OUTLIERS!$C$3,\"\",IF((P321/(M321*S321))>=OUTLIERS!$C$4,\"\",P321/(M321*S321))))","v":""},{"$f":"IF(ISERROR(Q321/($M321*T321)),\"\",IF((Q321/($M321*T321))<=OUTLIERS!$D$3,\"\",IF((Q321/($M321*T321))>=OUTLIERS!$D$4,\"\",Q321/($M321*T321))))","v":""},{"$f":"IF(ISERROR((M321*S321)/P321),\"\",IF((M321*S321/P321)<=OUTLIERS!$E$3,\"\",IF((M321*S321/P321)>=OUTLIERS!$E$4,\"\",M321*S321/P321)))","v":""},{"$f":"IF(ISERROR(O321/N321),\"\",IF(O321/N321<=OUTLIERS!$F$3,\"\",IF(O321/N321>=OUTLIERS!$F$4,\"\",O321/N321)))","v":3.6829885057471263},{"$f":"IF(ISERROR(U321/X321),\"\",IF(U321/X321<=OUTLIERS!$G$3,\"\",IF(U321/X321>=OUTLIERS!$G$4,\"\",U321/X321)))","v":""},{"$f":"IF(ISERROR(Q321/Y321),\"\",IF(Q321/Y321<=OUTLIERS!$H$3,\"\",IF(Q321/Y321>=OUTLIERS!$H$4,\"\",Q321/Y321)))","v":""},{"$f":"IF(ISERROR(W321),\"\",IF(W321<=OUTLIERS!$I$3,\"\",IF(W321>=OUTLIERS!$I$4,\"\",W321)))","v":""},20371000,4350000,16021000,"n/a","","",0,1,"n/a","n/a","n/a",6684941,16005373]
[321,9204,"GEF ","UNDP","Mitigation",{"$f":"IF(ISERROR(P322/(M322*S322)),\"\",IF((P322/(M322*S322))<=OUTLIERS!$C$3,\"\",IF((P322/(M322*S322))>=OUTLIERS!$C$4,\"\",P322/(M322*S322))))","v":0.29324104644088422},{"$f":"IF(ISERROR(Q322/($M322*T322)),\"\",IF((Q322/($M322*T322))<=OUTLIERS!$D$3,\"\",IF((Q322/($M322*T322))>=OUTLIERS!$D$4,\"\",Q322/($M322*T322))))","v":""},{"$f":"IF(ISERROR((M322*S322)/P322),\"\",IF((M322*S322/P322)<=OUTLIERS!$E$3,\"\",IF((M322*S322/P322)>=OUTLIERS!$E$4,\"\",M322*S322/P322)))","v":3.4101637957481321},{"$f":"IF(ISERROR(O322/N322),\"\",IF(O322/N322<=OUTLIERS!$F$3,\"\",IF(O322/N322>=OUTLIERS!$F$4,\"\",O322/N322)))","v":8.3390151515151523},{"$f":"IF(ISERROR(U322/X322),\"\",IF(U322/X322<=OUTLIERS!$G$3,\"\",IF(U322/X322>=OUTLIERS!$G$4,\"\",U322/X322)))","v":1.1389159724120714E-2},{"$f":"IF(ISERROR(Q322/Y322),\"\",IF(Q322/Y322<=OUTLIERS!$H$3,\"\",IF(Q322/Y322>=OUTLIERS!$H$4,\"\",Q322/Y322)))","v":""},{"$f":"IF(ISERROR(W322),\"\",IF(W322<=OUTLIERS!$I$3,\"\",IF(W322>=OUTLIERS!$I$4,\"\",W322)))","v":""},24655000,2640000,22015000,7229858,"",{"$f":"IF(V322=\"n/a\",\"\",V322)","v":""},1,0,301244.08333333331,"n/a","n/a",26450071,9702353]
[322,9205,"GEF ","UNDP","Cross-cutting",{"$f":"IF(ISERROR(P323/(M323*S323)),\"\",IF((P323/(M323*S323))<=OUTLIERS!$C$3,\"\",IF((P323/(M323*S323))>=OUTLIERS!$C$4,\"\",P323/(M323*S323))))","v":""},{"$f":"IF(ISERROR(Q323/($M323*T323)),\"\",IF((Q323/($M323*T323))<=OUTLIERS!$D$3,\"\",IF((Q323/($M323*T323))>=OUTLIERS!$D$4,\"\",Q323/($M323*T323))))","v":""},{"$f":"IF(ISERROR((M323*S323)/P323),\"\",IF((M323*S323/P323)<=OUTLIERS!$E$3,\"\",IF((M323*S323/P323)>=OUTLIERS!$E$4,\"\",M323*S323/P323)))","v":""},{"$f":"IF(ISERROR(O323/N323),\"\",IF(O323/N323<=OUTLIERS!$F$3,\"\",IF(O323/N323>=OUTLIERS!$F$4,\"\",O323/N323)))","v":1.7746740606387226},{"$f":"IF(ISERROR(U323/X323),\"\",IF(U323/X323<=OUTLIERS!$G$3,\"\",IF(U323/X323>=OUTLIERS!$G$4,\"\",U323/X323)))","v":""},{"$f":"IF(ISERROR(Q323/Y323),\"\",IF(Q323/Y323<=OUTLIERS!$H$3,\"\",IF(Q323/Y323>=OUTLIERS!$H$4,\"\",Q323/Y323)))","v":""},{"$f":"IF(ISERROR(W323),\"\",IF(W323<=OUTLIERS!$I$3,\"\",IF(W323>=OUTLIERS!$I$4,\"\",W323)))","v":""},7352126,2649726,4702400,"n/a",{"$f":"IF(E323=\"adaptation\",R323,\"\")","v":""},"","n/a","n/a","n/a","n/a","n/a",248314572,18037646]
[323,9206,"GEF ","UNIDO","Mitigation",{"$f":"IF(ISERROR(P324/(M324*S324)),\"\",IF((P324/(M324*S324))<=OUTLIERS!$C$3,\"\",IF((P324/(M324*S324))>=OUTLIERS!$C$4,\"\",P324/(M324*S324))))","v":6.2996836600921801E-3},{"$f":"IF(ISERROR(Q324/($M324*T324)),\"\",IF((Q324/($M324*T324))<=OUTLIERS!$D$3,\"\",IF((Q324/($M324*T324))>=OUTLIERS!$D$4,\"\",Q324/($M324*T324))))","v":""},{"$f":"IF(ISERROR((M324*S324)/P324),\"\",IF((M324*S324/P324)<=OUTLIERS!$E$3,\"\",IF((M324*S324/P324)>=OUTLIERS!$E$4,\"\",M324*S324/P324)))","v":158.73812939765415},{"$f":"IF(ISERROR(O324/N324),\"\",IF(O324/N324<=OUTLIERS!$F$3,\"\",IF(O324/N324>=OUTLIERS!$F$4,\"\",O324/N324)))","v":10.806466699076324},{"$f":"IF(ISERROR(U324/X324),\"\",IF(U324/X324<=OUTLIERS!$G$3,\"\",IF(U324/X324>=OUTLIERS!$G$4,\"\",U324/X324)))","v":4.9556606624937374E-4},{"$f":"IF(ISERROR(Q324/Y324),\"\",IF(Q324/Y324<=OUTLIERS!$H$3,\"\",IF(Q324/Y324>=OUTLIERS!$H$4,\"\",Q324/Y324)))","v":""},{"$f":"IF(ISERROR(W324),\"\",IF(W324<=OUTLIERS!$I$3,\"\",IF(W324>=OUTLIERS!$I$4,\"\",W324)))","v":""},48571804,4114000,44457804,305987,"","",1,0,30598.7,"n/a","n/a",61744946,32165485]
[324,9209,"GEF ","UNDP","Cross-cutting",{"$f":"IF(ISERROR(P325/(M325*S325)),\"\",IF((P325/(M325*S325))<=OUTLIERS!$C$3,\"\",IF((P325/(M325*S325))>=OUTLIERS!$C$4,\"\",P325/(M325*S325))))","v":""},{"$f":"IF(ISERROR(Q325/($M325*T325)),\"\",IF((Q325/($M325*T325))<=OUTLIERS!$D$3,\"\",IF((Q325/($M325*T325))>=OUTLIERS!$D$4,\"\",Q325/($M325*T325))))","v":""},{"$f":"IF(ISERROR((M325*S325)/P325),\"\",IF((M325*S325/P325)<=OUTLIERS!$E$3,\"\",IF((M325*S325/P325)>=OUTLIERS!$E$4,\"\",M325*S325/P325)))","v":""},{"$f":"IF(ISERROR(O325/N325),\"\",IF(O325/N325<=OUTLIERS!$F$3,\"\",IF(O325/N325>=OUTLIERS!$F$4,\"\",O325/N325)))","v":1.0400000047542857},{"$f":"IF(ISERROR(U325/X325),\"\",IF(U325/X325<=OUTLIERS!$G$3,\"\",IF(U325/X325>=OUTLIERS!$G$4,\"\",U325/X325)))","v":""},{"$f":"IF(ISERROR(Q325/Y325),\"\",IF(Q325/Y325<=OUTLIERS!$H$3,\"\",IF(Q325/Y325>=OUTLIERS!$H$4,\"\",Q325/Y325)))","v":""},{"$f":"IF(ISERROR(W325),\"\",IF(W325<=OUTLIERS!$I$3,\"\",IF(W325>=OUTLIERS!$I$4,\"\",W325)))","v":""},137307692,67307692,70000000,"n/a","","","n/a","n/a","n/a","n/a","n/a","",""]
[325,9210,"GEF ","UNDP","Mitigation",{"$f":"IF(ISERROR(P326/(M326*S326)),\"\",IF((P326/(M326*S326))<=OUTLIERS!$C$3,\"\",IF((P326/(M326*S326))>=OUTLIERS!$C$4,\"\",P326/(M326*S326))))","v":4.2245131306104739E-3},{"$f":"IF(ISERROR(Q326/($M326*T326)),\"\",IF((Q326/($M326*T326))<=OUTLIERS!$D$3,\"\",IF((Q326/($M326*T326))>=OUTLIERS!$D$4,\"\",Q326/($M326*T326))))","v":""},{"$f":"IF(ISERROR((M326*S326)/P326),\"\",IF((M326*S326/P326)<=OUTLIERS!$E$3,\"\",IF((M326*S326/P326)>=OUTLIERS!$E$4,\"\",M326*S326/P326)))","v":236.7136683169671},{"$f":"IF(ISERROR(O326/N326),\"\",IF(O326/N326<=OUTLIERS!$F$3,\"\",IF(O326/N326>=OUTLIERS!$F$4,\"\",O326/N326)))","v":6.9759404247867538},{"$f":"IF(ISERROR(U326/X326),\"\",IF(U326/X326<=OUTLIERS!$G$3,\"\",IF(U326/X326>=OUTLIERS!$G$4,\"\",U326/X326)))","v":6.9913955291326952E-4},{"$f":"IF(ISERROR(Q326/Y326),\"\",IF(Q326/Y326<=OUTLIERS!$H$3,\"\",IF(Q326/Y326>=OUTLIERS!$H$4,\"\",Q326/Y326)))","v":""},{"$f":"IF(ISERROR(W326),\"\",IF(W326<=OUTLIERS!$I$3,\"\",IF(W326>=OUTLIERS!$I$4,\"\",W326)))","v":""},17308030,2170030,15138000,73118,"","",1,0,3655.9,"n/a","n/a",5229142,42862958]
[326,9213,"GEF ","WorldBank","Mitigation",{"$f":"IF(ISERROR(P327/(M327*S327)),\"\",IF((P327/(M327*S327))<=OUTLIERS!$C$3,\"\",IF((P327/(M327*S327))>=OUTLIERS!$C$4,\"\",P327/(M327*S327))))","v":7.9050810983850896E-3},{"$f":"IF(ISERROR(Q327/($M327*T327)),\"\",IF((Q327/($M327*T327))<=OUTLIERS!$D$3,\"\",IF((Q327/($M327*T327))>=OUTLIERS!$D$4,\"\",Q327/($M327*T327))))","v":""},{"$f":"IF(ISERROR((M327*S327)/P327),\"\",IF((M327*S327/P327)<=OUTLIERS!$E$3,\"\",IF((M327*S327/P327)>=OUTLIERS!$E$4,\"\",M327*S327/P327)))","v":126.500916},{"$f":"IF(ISERROR(O327/N327),\"\",IF(O327/N327<=OUTLIERS!$F$3,\"\",IF(O327/N327>=OUTLIERS!$F$4,\"\",O327/N327)))","v":6.8567527462412698},{"$f":"IF(ISERROR(U327/X327),\"\",IF(U327/X327<=OUTLIERS!$G$3,\"\",IF(U327/X327>=OUTLIERS!$G$4,\"\",U327/X327)))","v":""},{"$f":"IF(ISERROR(Q327/Y327),\"\",IF(Q327/Y327<=OUTLIERS!$H$3,\"\",IF(Q327/Y327>=OUTLIERS!$H$4,\"\",Q327/Y327)))","v":""},{"$f":"IF(ISERROR(W327),\"\",IF(W327<=OUTLIERS!$I$3,\"\",IF(W327>=OUTLIERS!$I$4,\"\",W327)))","v":""},63250458,8050458,55200000,500000,"","",1,0,"n/a","n/a","n/a",4503076,17094130]
[327,9218,"GEF ","UNIDO","Mitigation",{"$f":"IF(ISERROR(P328/(M328*S328)),\"\",IF((P328/(M328*S328))<=OUTLIERS!$C$3,\"\",IF((P328/(M328*S328))>=OUTLIERS!$C$4,\"\",P328/(M328*S328))))","v":1.2935435419985659E-2},{"$f":"IF(ISERROR(Q328/($M328*T328)),\"\",IF((Q328/($M328*T328))<=OUTLIERS!$D$3,\"\",IF((Q328/($M328*T328))>=OUTLIERS!$D$4,\"\",Q328/($M328*T328))))","v":""},{"$f":"IF(ISERROR((M328*S328)/P328),\"\",IF((M328*S328/P328)<=OUTLIERS!$E$3,\"\",IF((M328*S328/P328)>=OUTLIERS!$E$4,\"\",M328*S328/P328)))","v":77.307022727272724},{"$f":"IF(ISERROR(O328/N328),\"\",IF(O328/N328<=OUTLIERS!$F$3,\"\",IF(O328/N328>=OUTLIERS!$F$4,\"\",O328/N328)))","v":6.7023262027847403},{"$f":"IF(ISERROR(U328/X328),\"\",IF(U328/X328<=OUTLIERS!$G$3,\"\",IF(U328/X328>=OUTLIERS!$G$4,\"\",U328/X328)))","v":6.3587224112737835E-5},{"$f":"IF(ISERROR(Q328/Y328),\"\",IF(Q328/Y328<=OUTLIERS!$H$3,\"\",IF(Q328/Y328>=OUTLIERS!$H$4,\"\",Q328/Y328)))","v":""},{"$f":"IF(ISERROR(W328),\"\",IF(W328<=OUTLIERS!$I$3,\"\",IF(W328>=OUTLIERS!$I$4,\"\",W328)))","v":0.4},34015090,4416210,29598880,440000,"","",1,0,22000,"n/a",0.4,345981450,80745020]
[328,9219,"GEF ","UNIDO","n/a",{"$f":"IF(ISERROR(P329/(M329*S329)),\"\",IF((P329/(M329*S329))<=OUTLIERS!$C$3,\"\",IF((P329/(M329*S329))>=OUTLIERS!$C$4,\"\",P329/(M329*S329))))","v":""},{"$f":"IF(ISERROR(Q329/($M329*T329)),\"\",IF((Q329/($M329*T329))<=OUTLIERS!$D$3,\"\",IF((Q329/($M329*T329))>=OUTLIERS!$D$4,\"\",Q329/($M329*T329))))","v":""},{"$f":"IF(ISERROR((M329*S329)/P329),\"\",IF((M329*S329/P329)<=OUTLIERS!$E$3,\"\",IF((M329*S329/P329)>=OUTLIERS!$E$4,\"\",M329*S329/P329)))","v":""},{"$f":"IF(ISERROR(O329/N329),\"\",IF(O329/N329<=OUTLIERS!$F$3,\"\",IF(O329/N329>=OUTLIERS!$F$4,\"\",O329/N329)))","v":6.6027213919250505},{"$f":"IF(ISERROR(U329/X329),\"\",IF(U329/X329<=OUTLIERS!$G$3,\"\",IF(U329/X329>=OUTLIERS!$G$4,\"\",U329/X329)))","v":1.9163680512509641E-4},{"$f":"IF(ISERROR(Q329/Y329),\"\",IF(Q329/Y329<=OUTLIERS!$H$3,\"\",IF(Q329/Y329>=OUTLIERS!$H$4,\"\",Q329/Y329)))","v":""},{"$f":"IF(ISERROR(W329),\"\",IF(W329<=OUTLIERS!$I$3,\"\",IF(W329>=OUTLIERS!$I$4,\"\",W329)))","v":""},68166000,8966000,59200000,605980,"","","n/a","n/a",60598,"n/a","n/a",316212744,69037513]
[329,9220,"GEF ","UNDP","Mitigation",{"$f":"IF(ISERROR(P330/(M330*S330)),\"\",IF((P330/(M330*S330))<=OUTLIERS!$C$3,\"\",IF((P330/(M330*S330))>=OUTLIERS!$C$4,\"\",P330/(M330*S330))))","v":5.8954488267760176E-3},{"$f":"IF(ISERROR(Q330/($M330*T330)),\"\",IF((Q330/($M330*T330))<=OUTLIERS!$D$3,\"\",IF((Q330/($M330*T330))>=OUTLIERS!$D$4,\"\",Q330/($M330*T330))))","v":""},{"$f":"IF(ISERROR((M330*S330)/P330),\"\",IF((M330*S330/P330)<=OUTLIERS!$E$3,\"\",IF((M330*S330/P330)>=OUTLIERS!$E$4,\"\",M330*S330/P330)))","v":169.62236962488564},{"$f":"IF(ISERROR(O330/N330),\"\",IF(O330/N330<=OUTLIERS!$F$3,\"\",IF(O330/N330>=OUTLIERS!$F$4,\"\",O330/N330)))","v":6.0233547055090968},{"$f":"IF(ISERROR(U330/X330),\"\",IF(U330/X330<=OUTLIERS!$G$3,\"\",IF(U330/X330>=OUTLIERS!$G$4,\"\",U330/X330)))","v":""},{"$f":"IF(ISERROR(Q330/Y330),\"\",IF(Q330/Y330<=OUTLIERS!$H$3,\"\",IF(Q330/Y330>=OUTLIERS!$H$4,\"\",Q330/Y330)))","v":""},{"$f":"IF(ISERROR(W330),\"\",IF(W330<=OUTLIERS!$I$3,\"\",IF(W330>=OUTLIERS!$I$4,\"\",W330)))","v":0.5},18539725,2639725,15900000,109300,"","",1,0,"n/a","n/a",0.5,11001,11192]
[330,9223,"GEF ","WorldBank","Mitigation",{"$f":"IF(ISERROR(P331/(M331*S331)),\"\",IF((P331/(M331*S331))<=OUTLIERS!$C$3,\"\",IF((P331/(M331*S331))>=OUTLIERS!$C$4,\"\",P331/(M331*S331))))","v":5.5519362353890871E-2},{"$f":"IF(ISERROR(Q331/($M331*T331)),\"\",IF((Q331/($M331*T331))<=OUTLIERS!$D$3,\"\",IF((Q331/($M331*T331))>=OUTLIERS!$D$4,\"\",Q331/($M331*T331))))","v":""},{"$f":"IF(ISERROR((M331*S331)/P331),\"\",IF((M331*S331/P331)<=OUTLIERS!$E$3,\"\",IF((M331*S331/P331)>=OUTLIERS!$E$4,\"\",M331*S331/P331)))","v":18.011734241935486},{"$f":"IF(ISERROR(O331/N331),\"\",IF(O331/N331<=OUTLIERS!$F$3,\"\",IF(O331/N331>=OUTLIERS!$F$4,\"\",O331/N331)))","v":33.12196893116537},{"$f":"IF(ISERROR(U331/X331),\"\",IF(U331/X331<=OUTLIERS!$G$3,\"\",IF(U331/X331>=OUTLIERS!$G$4,\"\",U331/X331)))","v":6.0241391854941242E-4},{"$f":"IF(ISERROR(Q331/Y331),\"\",IF(Q331/Y331<=OUTLIERS!$H$3,\"\",IF(Q331/Y331>=OUTLIERS!$H$4,\"\",Q331/Y331)))","v":""},{"$f":"IF(ISERROR(W331),\"\",IF(W331<=OUTLIERS!$I$3,\"\",IF(W331>=OUTLIERS!$I$4,\"\",W331)))","v":""},1116727523,32727523,1084000000,62000000,"","",1,0,6200000,"n/a","n/a",10291926878,1386395000]
[331,9225,"GEF ","UNIDO","Mitigation",{"$f":"IF(ISERROR(P332/(M332*S332)),\"\",IF((P332/(M332*S332))<=OUTLIERS!$C$3,\"\",IF((P332/(M332*S332))>=OUTLIERS!$C$4,\"\",P332/(M332*S332))))","v":""},{"$f":"IF(ISERROR(Q332/($M332*T332)),\"\",IF((Q332/($M332*T332))<=OUTLIERS!$D$3,\"\",IF((Q332/($M332*T332))>=OUTLIERS!$D$4,\"\",Q332/($M332*T332))))","v":""},{"$f":"IF(ISERROR((M332*S332)/P332),\"\",IF((M332*S332/P332)<=OUTLIERS!$E$3,\"\",IF((M332*S332/P332)>=OUTLIERS!$E$4,\"\",M332*S332/P332)))","v":""},{"$f":"IF(ISERROR(O332/N332),\"\",IF(O332/N332<=OUTLIERS!$F$3,\"\",IF(O332/N332>=OUTLIERS!$F$4,\"\",O332/N332)))","v":3.9577261428134549},{"$f":"IF(ISERROR(U332/X332),\"\",IF(U332/X332<=OUTLIERS!$G$3,\"\",IF(U332/X332>=OUTLIERS!$G$4,\"\",U332/X332)))","v":4.6043761034778944E-5},{"$f":"IF(ISERROR(Q332/Y332),\"\",IF(Q332/Y332<=OUTLIERS!$H$3,\"\",IF(Q332/Y332>=OUTLIERS!$H$4,\"\",Q332/Y332)))","v":""},{"$f":"IF(ISERROR(W332),\"\",IF(W332<=OUTLIERS!$I$3,\"\",IF(W332>=OUTLIERS!$I$4,\"\",W332)))","v":""},14136381,2851384,11284997,7760,"","",1,0,388,"n/a","n/a",8426766,29668834]
[332,9226,"GEF ","UNIDO","Mitigation",{"$f":"IF(ISERROR(P333/(M333*S333)),\"\",IF((P333/(M333*S333))<=OUTLIERS!$C$3,\"\",IF((P333/(M333*S333))>=OUTLIERS!$C$4,\"\",P333/(M333*S333))))","v":""},{"$f":"IF(ISERROR(Q333/($M333*T333)),\"\",IF((Q333/($M333*T333))<=OUTLIERS!$D$3,\"\",IF((Q333/($M333*T333))>=OUTLIERS!$D$4,\"\",Q333/($M333*T333))))","v":""},{"$f":"IF(ISERROR((M333*S333)/P333),\"\",IF((M333*S333/P333)<=OUTLIERS!$E$3,\"\",IF((M333*S333/P333)>=OUTLIERS!$E$4,\"\",M333*S333/P333)))","v":""},{"$f":"IF(ISERROR(O333/N333),\"\",IF(O333/N333<=OUTLIERS!$F$3,\"\",IF(O333/N333>=OUTLIERS!$F$4,\"\",O333/N333)))","v":13.101903695408735},{"$f":"IF(ISERROR(U333/X333),\"\",IF(U333/X333<=OUTLIERS!$G$3,\"\",IF(U333/X333>=OUTLIERS!$G$4,\"\",U333/X333)))","v":""},{"$f":"IF(ISERROR(Q333/Y333),\"\",IF(Q333/Y333<=OUTLIERS!$H$3,\"\",IF(Q333/Y333>=OUTLIERS!$H$4,\"\",Q333/Y333)))","v":""},{"$f":"IF(ISERROR(W333),\"\",IF(W333<=OUTLIERS!$I$3,\"\",IF(W333>=OUTLIERS!$I$4,\"\",W333)))","v":""},125930000,8930000,117000000,"n/a","","",1,0,"n/a","n/a","n/a",10291926878,1386395000]
[333,9232,"GEF ","IUCN","Cross-cutting",{"$f":"IF(ISERROR(P334/(M334*S334)),\"\",IF((P334/(M334*S334))<=OUTLIERS!$C$3,\"\",IF((P334/(M334*S334))>=OUTLIERS!$C$4,\"\",P334/(M334*S334))))","v":""},{"$f":"IF(ISERROR(Q334/($M334*T334)),\"\",IF((Q334/($M334*T334))<=OUTLIERS!$D$3,\"\",IF((Q334/($M334*T334))>=OUTLIERS!$D$4,\"\",Q334/($M334*T334))))","v":""},{"$f":"IF(ISERROR((M334*S334)/P334),\"\",IF((M334*S334/P334)<=OUTLIERS!$E$3,\"\",IF((M334*S334/P334)>=OUTLIERS!$E$4,\"\",M334*S334/P334)))","v":""},{"$f":"IF(ISERROR(O334/N334),\"\",IF(O334/N334<=OUTLIERS!$F$3,\"\",IF(O334/N334>=OUTLIERS!$F$4,\"\",O334/N334)))","v":3.56388679437398},{"$f":"IF(ISERROR(U334/X334),\"\",IF(U334/X334<=OUTLIERS!$G$3,\"\",IF(U334/X334>=OUTLIERS!$G$4,\"\",U334/X334)))","v":8.6714433922669108E-3},{"$f":"IF(ISERROR(Q334/Y334),\"\",IF(Q334/Y334<=OUTLIERS!$H$3,\"\",IF(Q334/Y334>=OUTLIERS!$H$4,\"\",Q334/Y334)))","v":""},{"$f":"IF(ISERROR(W334),\"\",IF(W334<=OUTLIERS!$I$3,\"\",IF(W334>=OUTLIERS!$I$4,\"\",W334)))","v":0.5},13267511,2907064,10360447,874980,"","","n/a","n/a",87498,"n/a",0.5,10090361.666666666,25411380.666666664]
[334,9234,"GEF ","UNDP","mitigation",{"$f":"IF(ISERROR(P335/(M335*S335)),\"\",IF((P335/(M335*S335))<=OUTLIERS!$C$3,\"\",IF((P335/(M335*S335))>=OUTLIERS!$C$4,\"\",P335/(M335*S335))))","v":2.0332331139176596E-2},{"$f":"IF(ISERROR(Q335/($M335*T335)),\"\",IF((Q335/($M335*T335))<=OUTLIERS!$D$3,\"\",IF((Q335/($M335*T335))>=OUTLIERS!$D$4,\"\",Q335/($M335*T335))))","v":""},{"$f":"IF(ISERROR((M335*S335)/P335),\"\",IF((M335*S335/P335)<=OUTLIERS!$E$3,\"\",IF((M335*S335/P335)>=OUTLIERS!$E$4,\"\",M335*S335/P335)))","v":49.182752000000001},{"$f":"IF(ISERROR(O335/N335),\"\",IF(O335/N335<=OUTLIERS!$F$3,\"\",IF(O335/N335>=OUTLIERS!$F$4,\"\",O335/N335)))","v":14.452901137129126},{"$f":"IF(ISERROR(U335/X335),\"\",IF(U335/X335<=OUTLIERS!$G$3,\"\",IF(U335/X335>=OUTLIERS!$G$4,\"\",U335/X335)))","v":3.5694042093269956E-2},{"$f":"IF(ISERROR(Q335/Y335),\"\",IF(Q335/Y335<=OUTLIERS!$H$3,\"\",IF(Q335/Y335>=OUTLIERS!$H$4,\"\",Q335/Y335)))","v":""},{"$f":"IF(ISERROR(W335),\"\",IF(W335<=OUTLIERS!$I$3,\"\",IF(W335>=OUTLIERS!$I$4,\"\",W335)))","v":""},122956880,7956880,115000000,2500000,"","",1,0,250000,"n/a","n/a",7003970,24053727]
[335,9239,"GEF ","WorldBank","Cross-cutting",{"$f":"IF(ISERROR(P336/(M336*S336)),\"\",IF((P336/(M336*S336))<=OUTLIERS!$C$3,\"\",IF((P336/(M336*S336))>=OUTLIERS!$C$4,\"\",P336/(M336*S336))))","v":""},{"$f":"IF(ISERROR(Q336/($M336*T336)),\"\",IF((Q336/($M336*T336))<=OUTLIERS!$D$3,\"\",IF((Q336/($M336*T336))>=OUTLIERS!$D$4,\"\",Q336/($M336*T336))))","v":""},{"$f":"IF(ISERROR((M336*S336)/P336),\"\",IF((M336*S336/P336)<=OUTLIERS!$E$3,\"\",IF((M336*S336/P336)>=OUTLIERS!$E$4,\"\",M336*S336/P336)))","v":""},{"$f":"IF(ISERROR(O336/N336),\"\",IF(O336/N336<=OUTLIERS!$F$3,\"\",IF(O336/N336>=OUTLIERS!$F$4,\"\",O336/N336)))","v":4.2280517137702942},{"$f":"IF(ISERROR(U336/X336),\"\",IF(U336/X336<=OUTLIERS!$G$3,\"\",IF(U336/X336>=OUTLIERS!$G$4,\"\",U336/X336)))","v":8.249022783792311E-4},{"$f":"IF(ISERROR(Q336/Y336),\"\",IF(Q336/Y336<=OUTLIERS!$H$3,\"\",IF(Q336/Y336>=OUTLIERS!$H$4,\"\",Q336/Y336)))","v":""},{"$f":"IF(ISERROR(W336),\"\",IF(W336<=OUTLIERS!$I$3,\"\",IF(W336>=OUTLIERS!$I$4,\"\",W336)))","v":""},25595872,4895872,20700000,3829000,"","","n/a","n/a",382900,"n/a","n/a",464176194,263991379]
[336,9241,"GEF ","UNDP","Cross-cutting",{"$f":"IF(ISERROR(P337/(M337*S337)),\"\",IF((P337/(M337*S337))<=OUTLIERS!$C$3,\"\",IF((P337/(M337*S337))>=OUTLIERS!$C$4,\"\",P337/(M337*S337))))","v":""},{"$f":"IF(ISERROR(Q337/($M337*T337)),\"\",IF((Q337/($M337*T337))<=OUTLIERS!$D$3,\"\",IF((Q337/($M337*T337))>=OUTLIERS!$D$4,\"\",Q337/($M337*T337))))","v":""},{"$f":"IF(ISERROR((M337*S337)/P337),\"\",IF((M337*S337/P337)<=OUTLIERS!$E$3,\"\",IF((M337*S337/P337)>=OUTLIERS!$E$4,\"\",M337*S337/P337)))","v":""},{"$f":"IF(ISERROR(O337/N337),\"\",IF(O337/N337<=OUTLIERS!$F$3,\"\",IF(O337/N337>=OUTLIERS!$F$4,\"\",O337/N337)))","v":1.5891537728082874},{"$f":"IF(ISERROR(U337/X337),\"\",IF(U337/X337<=OUTLIERS!$G$3,\"\",IF(U337/X337>=OUTLIERS!$G$4,\"\",U337/X337)))","v":""},{"$f":"IF(ISERROR(Q337/Y337),\"\",IF(Q337/Y337<=OUTLIERS!$H$3,\"\",IF(Q337/Y337>=OUTLIERS!$H$4,\"\",Q337/Y337)))","v":""},{"$f":"IF(ISERROR(W337),\"\",IF(W337<=OUTLIERS!$I$3,\"\",IF(W337>=OUTLIERS!$I$4,\"\",W337)))","v":""},9221644,3561644,5660000,"n/a","","","n/a","n/a","n/a","n/a","n/a",14286632,49699862]
[337,9243,"GEF ","FAO","mitigation",{"$f":"IF(ISERROR(P338/(M338*S338)),\"\",IF((P338/(M338*S338))<=OUTLIERS!$C$3,\"\",IF((P338/(M338*S338))>=OUTLIERS!$C$4,\"\",P338/(M338*S338))))","v":5.5331810018342552E-2},{"$f":"IF(ISERROR(Q338/($M338*T338)),\"\",IF((Q338/($M338*T338))<=OUTLIERS!$D$3,\"\",IF((Q338/($M338*T338))>=OUTLIERS!$D$4,\"\",Q338/($M338*T338))))","v":""},{"$f":"IF(ISERROR((M338*S338)/P338),\"\",IF((M338*S338/P338)<=OUTLIERS!$E$3,\"\",IF((M338*S338/P338)>=OUTLIERS!$E$4,\"\",M338*S338/P338)))","v":18.072786696630725},{"$f":"IF(ISERROR(O338/N338),\"\",IF(O338/N338<=OUTLIERS!$F$3,\"\",IF(O338/N338>=OUTLIERS!$F$4,\"\",O338/N338)))","v":25.876734974007945},{"$f":"IF(ISERROR(U338/X338),\"\",IF(U338/X338<=OUTLIERS!$G$3,\"\",IF(U338/X338>=OUTLIERS!$G$4,\"\",U338/X338)))","v":1.1147910281751596E-3},{"$f":"IF(ISERROR(Q338/Y338),\"\",IF(Q338/Y338<=OUTLIERS!$H$3,\"\",IF(Q338/Y338>=OUTLIERS!$H$4,\"\",Q338/Y338)))","v":""},{"$f":"IF(ISERROR(W338),\"\",IF(W338<=OUTLIERS!$I$3,\"\",IF(W338>=OUTLIERS!$I$4,\"\",W338)))","v":""},901948716,33558716,868390000,49906455,"","",1,0,2495322.75,"n/a","n/a",2238377137,1339180127]
[338,9248,"GEF ","UNDP","Cross-cutting",{"$f":"IF(ISERROR(P339/(M339*S339)),\"\",IF((P339/(M339*S339))<=OUTLIERS!$C$3,\"\",IF((P339/(M339*S339))>=OUTLIERS!$C$4,\"\",P339/(M339*S339))))","v":""},{"$f":"IF(ISERROR(Q339/($M339*T339)),\"\",IF((Q339/($M339*T339))<=OUTLIERS!$D$3,\"\",IF((Q339/($M339*T339))>=OUTLIERS!$D$4,\"\",Q339/($M339*T339))))","v":""},{"$f":"IF(ISERROR((M339*S339)/P339),\"\",IF((M339*S339/P339)<=OUTLIERS!$E$3,\"\",IF((M339*S339/P339)>=OUTLIERS!$E$4,\"\",M339*S339/P339)))","v":""},{"$f":"IF(ISERROR(O339/N339),\"\",IF(O339/N339<=OUTLIERS!$F$3,\"\",IF(O339/N339>=OUTLIERS!$F$4,\"\",O339/N339)))","v":3.329434344429242},{"$f":"IF(ISERROR(U339/X339),\"\",IF(U339/X339<=OUTLIERS!$G$3,\"\",IF(U339/X339>=OUTLIERS!$G$4,\"\",U339/X339)))","v":""},{"$f":"IF(ISERROR(Q339/Y339),\"\",IF(Q339/Y339<=OUTLIERS!$H$3,\"\",IF(Q339/Y339>=OUTLIERS!$H$4,\"\",Q339/Y339)))","v":""},{"$f":"IF(ISERROR(W339),\"\",IF(W339<=OUTLIERS!$I$3,\"\",IF(W339>=OUTLIERS!$I$4,\"\",W339)))","v":""},15736208,3634703,12101505,"n/a","","","n/a","n/a","n/a","n/a","n/a",20410522,11051600]
[339,9249,"GEF ","WorldBank","Mitigation",{"$f":"IF(ISERROR(P340/(M340*S340)),\"\",IF((P340/(M340*S340))<=OUTLIERS!$C$3,\"\",IF((P340/(M340*S340))>=OUTLIERS!$C$4,\"\",P340/(M340*S340))))","v":2.8417295036816684E-2},{"$f":"IF(ISERROR(Q340/($M340*T340)),\"\",IF((Q340/($M340*T340))<=OUTLIERS!$D$3,\"\",IF((Q340/($M340*T340))>=OUTLIERS!$D$4,\"\",Q340/($M340*T340))))","v":""},{"$f":"IF(ISERROR((M340*S340)/P340),\"\",IF((M340*S340/P340)<=OUTLIERS!$E$3,\"\",IF((M340*S340/P340)>=OUTLIERS!$E$4,\"\",M340*S340/P340)))","v":35.189837692307691},{"$f":"IF(ISERROR(O340/N340),\"\",IF(O340/N340<=OUTLIERS!$F$3,\"\",IF(O340/N340>=OUTLIERS!$F$4,\"\",O340/N340)))","v":38.891199688870401},{"$f":"IF(ISERROR(U340/X340),\"\",IF(U340/X340<=OUTLIERS!$G$3,\"\",IF(U340/X340>=OUTLIERS!$G$4,\"\",U340/X340)))","v":5.807779120467312E-4},{"$f":"IF(ISERROR(Q340/Y340),\"\",IF(Q340/Y340<=OUTLIERS!$H$3,\"\",IF(Q340/Y340>=OUTLIERS!$H$4,\"\",Q340/Y340)))","v":""},{"$f":"IF(ISERROR(W340),\"\",IF(W340<=OUTLIERS!$I$3,\"\",IF(W340>=OUTLIERS!$I$4,\"\",W340)))","v":""},914935780,22935780,892000000,26000000,"","",1,0,1300000,"n/a","n/a",2238377137,1339180127]
[340,9251,"GEF ","UNIDO","Mitigation",{"$f":"IF(ISERROR(P341/(M341*S341)),\"\",IF((P341/(M341*S341))<=OUTLIERS!$C$3,\"\",IF((P341/(M341*S341))>=OUTLIERS!$C$4,\"\",P341/(M341*S341))))","v":1.3309229094294404E-2},{"$f":"IF(ISERROR(Q341/($M341*T341)),\"\",IF((Q341/($M341*T341))<=OUTLIERS!$D$3,\"\",IF((Q341/($M341*T341))>=OUTLIERS!$D$4,\"\",Q341/($M341*T341))))","v":""},{"$f":"IF(ISERROR((M341*S341)/P341),\"\",IF((M341*S341/P341)<=OUTLIERS!$E$3,\"\",IF((M341*S341/P341)>=OUTLIERS!$E$4,\"\",M341*S341/P341)))","v":75.135831903945117},{"$f":"IF(ISERROR(O341/N341),\"\",IF(O341/N341<=OUTLIERS!$F$3,\"\",IF(O341/N341>=OUTLIERS!$F$4,\"\",O341/N341)))","v":7.6515003387192655},{"$f":"IF(ISERROR(U341/X341),\"\",IF(U341/X341<=OUTLIERS!$G$3,\"\",IF(U341/X341>=OUTLIERS!$G$4,\"\",U341/X341)))","v":0.1767516084396368},{"$f":"IF(ISERROR(Q341/Y341),\"\",IF(Q341/Y341<=OUTLIERS!$H$3,\"\",IF(Q341/Y341>=OUTLIERS!$H$4,\"\",Q341/Y341)))","v":""},{"$f":"IF(ISERROR(W341),\"\",IF(W341<=OUTLIERS!$I$3,\"\",IF(W341>=OUTLIERS!$I$4,\"\",W341)))","v":""},52565028,6075828,46489200,699600,"","",1,0,35000,"n/a","n/a",198018,196440]
[341,9258,"GEF ","ADB","Mitigation",{"$f":"IF(ISERROR(P342/(M342*S342)),\"\",IF((P342/(M342*S342))<=OUTLIERS!$C$3,\"\",IF((P342/(M342*S342))>=OUTLIERS!$C$4,\"\",P342/(M342*S342))))","v":8.3664763507372703E-2},{"$f":"IF(ISERROR(Q342/($M342*T342)),\"\",IF((Q342/($M342*T342))<=OUTLIERS!$D$3,\"\",IF((Q342/($M342*T342))>=OUTLIERS!$D$4,\"\",Q342/($M342*T342))))","v":""},{"$f":"IF(ISERROR((M342*S342)/P342),\"\",IF((M342*S342/P342)<=OUTLIERS!$E$3,\"\",IF((M342*S342/P342)>=OUTLIERS!$E$4,\"\",M342*S342/P342)))","v":11.952463116827886},{"$f":"IF(ISERROR(O342/N342),\"\",IF(O342/N342<=OUTLIERS!$F$3,\"\",IF(O342/N342>=OUTLIERS!$F$4,\"\",O342/N342)))","v":23.027198345690433},{"$f":"IF(ISERROR(U342/X342),\"\",IF(U342/X342<=OUTLIERS!$G$3,\"\",IF(U342/X342>=OUTLIERS!$G$4,\"\",U342/X342)))","v":1.1289375495439579E-3},{"$f":"IF(ISERROR(Q342/Y342),\"\",IF(Q342/Y342<=OUTLIERS!$H$3,\"\",IF(Q342/Y342>=OUTLIERS!$H$4,\"\",Q342/Y342)))","v":""},{"$f":"IF(ISERROR(W342),\"\",IF(W342<=OUTLIERS!$I$3,\"\",IF(W342>=OUTLIERS!$I$4,\"\",W342)))","v":""},453055963,18855963,434200000,37904820,"","",1,0,2526988,"n/a","n/a",2238377137,1339180127]
[342,9261,"GEF ","FAO","Cross-cutting",{"$f":"IF(ISERROR(P343/(M343*S343)),\"\",IF((P343/(M343*S343))<=OUTLIERS!$C$3,\"\",IF((P343/(M343*S343))>=OUTLIERS!$C$4,\"\",P343/(M343*S343))))","v":""},{"$f":"IF(ISERROR(Q343/($M343*T343)),\"\",IF((Q343/($M343*T343))<=OUTLIERS!$D$3,\"\",IF((Q343/($M343*T343))>=OUTLIERS!$D$4,\"\",Q343/($M343*T343))))","v":""},{"$f":"IF(ISERROR((M343*S343)/P343),\"\",IF((M343*S343/P343)<=OUTLIERS!$E$3,\"\",IF((M343*S343/P343)>=OUTLIERS!$E$4,\"\",M343*S343/P343)))","v":""},{"$f":"IF(ISERROR(O343/N343),\"\",IF(O343/N343<=OUTLIERS!$F$3,\"\",IF(O343/N343>=OUTLIERS!$F$4,\"\",O343/N343)))","v":5.1373005110711292},{"$f":"IF(ISERROR(U343/X343),\"\",IF(U343/X343<=OUTLIERS!$G$3,\"\",IF(U343/X343>=OUTLIERS!$G$4,\"\",U343/X343)))","v":5.3162884189094737E-3},{"$f":"IF(ISERROR(Q343/Y343),\"\",IF(Q343/Y343<=OUTLIERS!$H$3,\"\",IF(Q343/Y343>=OUTLIERS!$H$4,\"\",Q343/Y343)))","v":""},{"$f":"IF(ISERROR(W343),\"\",IF(W343<=OUTLIERS!$I$3,\"\",IF(W343>=OUTLIERS!$I$4,\"\",W343)))","v":""},18696347,3046347,15650000,2300000,"","","n/a","n/a",115000,"n/a","n/a",21631633,53370609]
[343,9264,"GEF ","IUCN","Cross-cutting",{"$f":"IF(ISERROR(P344/(M344*S344)),\"\",IF((P344/(M344*S344))<=OUTLIERS!$C$3,\"\",IF((P344/(M344*S344))>=OUTLIERS!$C$4,\"\",P344/(M344*S344))))","v":""},{"$f":"IF(ISERROR(Q344/($M344*T344)),\"\",IF((Q344/($M344*T344))<=OUTLIERS!$D$3,\"\",IF((Q344/($M344*T344))>=OUTLIERS!$D$4,\"\",Q344/($M344*T344))))","v":""},{"$f":"IF(ISERROR((M344*S344)/P344),\"\",IF((M344*S344/P344)<=OUTLIERS!$E$3,\"\",IF((M344*S344/P344)>=OUTLIERS!$E$4,\"\",M344*S344/P344)))","v":""},{"$f":"IF(ISERROR(O344/N344),\"\",IF(O344/N344<=OUTLIERS!$F$3,\"\",IF(O344/N344>=OUTLIERS!$F$4,\"\",O344/N344)))","v":6.6175414257971097},{"$f":"IF(ISERROR(U344/X344),\"\",IF(U344/X344<=OUTLIERS!$G$3,\"\",IF(U344/X344>=OUTLIERS!$G$4,\"\",U344/X344)))","v":4.8625646241729562E-3},{"$f":"IF(ISERROR(Q344/Y344),\"\",IF(Q344/Y344<=OUTLIERS!$H$3,\"\",IF(Q344/Y344>=OUTLIERS!$H$4,\"\",Q344/Y344)))","v":""},{"$f":"IF(ISERROR(W344),\"\",IF(W344<=OUTLIERS!$I$3,\"\",IF(W344>=OUTLIERS!$I$4,\"\",W344)))","v":""},231892899,30441961,201450938,102289562,"","","n/a","n/a",5114478.0999999996,"n/a","n/a",1051806710.1,185590985]
[344,9265,"GEF ","WorldBank","Cross-cutting",{"$f":"IF(ISERROR(P345/(M345*S345)),\"\",IF((P345/(M345*S345))<=OUTLIERS!$C$3,\"\",IF((P345/(M345*S345))>=OUTLIERS!$C$4,\"\",P345/(M345*S345))))","v":""},{"$f":"IF(ISERROR(Q345/($M345*T345)),\"\",IF((Q345/($M345*T345))<=OUTLIERS!$D$3,\"\",IF((Q345/($M345*T345))>=OUTLIERS!$D$4,\"\",Q345/($M345*T345))))","v":""},{"$f":"IF(ISERROR((M345*S345)/P345),\"\",IF((M345*S345/P345)<=OUTLIERS!$E$3,\"\",IF((M345*S345/P345)>=OUTLIERS!$E$4,\"\",M345*S345/P345)))","v":""},{"$f":"IF(ISERROR(O345/N345),\"\",IF(O345/N345<=OUTLIERS!$F$3,\"\",IF(O345/N345>=OUTLIERS!$F$4,\"\",O345/N345)))","v":63.488873685708896},{"$f":"IF(ISERROR(U345/X345),\"\",IF(U345/X345<=OUTLIERS!$G$3,\"\",IF(U345/X345>=OUTLIERS!$G$4,\"\",U345/X345)))","v":5.691345984626759E-4},{"$f":"IF(ISERROR(Q345/Y345),\"\",IF(Q345/Y345<=OUTLIERS!$H$3,\"\",IF(Q345/Y345>=OUTLIERS!$H$4,\"\",Q345/Y345)))","v":""},{"$f":"IF(ISERROR(W345),\"\",IF(W345<=OUTLIERS!$I$3,\"\",IF(W345>=OUTLIERS!$I$4,\"\",W345)))","v":""},392790831,6090831,386700000,2849842,"","","n/a","n/a",94994.733333333337,"n/a","n/a",166910839,95540800]
[345,9266,"GEF ","UNDP","Cross-cutting",{"$f":"IF(ISERROR(P346/(M346*S346)),\"\",IF((P346/(M346*S346))<=OUTLIERS!$C$3,\"\",IF((P346/(M346*S346))>=OUTLIERS!$C$4,\"\",P346/(M346*S346))))","v":""},{"$f":"IF(ISERROR(Q346/($M346*T346)),\"\",IF((Q346/($M346*T346))<=OUTLIERS!$D$3,\"\",IF((Q346/($M346*T346))>=OUTLIERS!$D$4,\"\",Q346/($M346*T346))))","v":""},{"$f":"IF(ISERROR((M346*S346)/P346),\"\",IF((M346*S346/P346)<=OUTLIERS!$E$3,\"\",IF((M346*S346/P346)>=OUTLIERS!$E$4,\"\",M346*S346/P346)))","v":""},{"$f":"IF(ISERROR(O346/N346),\"\",IF(O346/N346<=OUTLIERS!$F$3,\"\",IF(O346/N346>=OUTLIERS!$F$4,\"\",O346/N346)))","v":2.8448272626938915},{"$f":"IF(ISERROR(U346/X346),\"\",IF(U346/X346<=OUTLIERS!$G$3,\"\",IF(U346/X346>=OUTLIERS!$G$4,\"\",U346/X346)))","v":0.45664604653165503},{"$f":"IF(ISERROR(Q346/Y346),\"\",IF(Q346/Y346<=OUTLIERS!$H$3,\"\",IF(Q346/Y346>=OUTLIERS!$H$4,\"\",Q346/Y346)))","v":""},{"$f":"IF(ISERROR(W346),\"\",IF(W346<=OUTLIERS!$I$3,\"\",IF(W346>=OUTLIERS!$I$4,\"\",W346)))","v":0.48245034794534464},31760607,8260607,23500000,6363189,"",19687,"n/a","n/a",318159,19687,0.48245034794534464,696730,""]
[346,9267,"GEF ","FAO","Cross-cutting",{"$f":"IF(ISERROR(P347/(M347*S347)),\"\",IF((P347/(M347*S347))<=OUTLIERS!$C$3,\"\",IF((P347/(M347*S347))>=OUTLIERS!$C$4,\"\",P347/(M347*S347))))","v":""},{"$f":"IF(ISERROR(Q347/($M347*T347)),\"\",IF((Q347/($M347*T347))<=OUTLIERS!$D$3,\"\",IF((Q347/($M347*T347))>=OUTLIERS!$D$4,\"\",Q347/($M347*T347))))","v":""},{"$f":"IF(ISERROR((M347*S347)/P347),\"\",IF((M347*S347/P347)<=OUTLIERS!$E$3,\"\",IF((M347*S347/P347)>=OUTLIERS!$E$4,\"\",M347*S347/P347)))","v":""},{"$f":"IF(ISERROR(O347/N347),\"\",IF(O347/N347<=OUTLIERS!$F$3,\"\",IF(O347/N347>=OUTLIERS!$F$4,\"\",O347/N347)))","v":9.5466889492375184},{"$f":"IF(ISERROR(U347/X347),\"\",IF(U347/X347<=OUTLIERS!$G$3,\"\",IF(U347/X347>=OUTLIERS!$G$4,\"\",U347/X347)))","v":1.3454337913369739E-2},{"$f":"IF(ISERROR(Q347/Y347),\"\",IF(Q347/Y347<=OUTLIERS!$H$3,\"\",IF(Q347/Y347>=OUTLIERS!$H$4,\"\",Q347/Y347)))","v":""},{"$f":"IF(ISERROR(W347),\"\",IF(W347<=OUTLIERS!$I$3,\"\",IF(W347>=OUTLIERS!$I$4,\"\",W347)))","v":0.5},50487000,4787000,45700000,5820786,"","","n/a","n/a",291039.3,"n/a",0.5,21631633,53370609]
[347,9270,"GEF ","IFAD","Mitigation",{"$f":"IF(ISERROR(P348/(M348*S348)),\"\",IF((P348/(M348*S348))<=OUTLIERS!$C$3,\"\",IF((P348/(M348*S348))>=OUTLIERS!$C$4,\"\",P348/(M348*S348))))","v":4.9256543995772915E-2},{"$f":"IF(ISERROR(Q348/($M348*T348)),\"\",IF((Q348/($M348*T348))<=OUTLIERS!$D$3,\"\",IF((Q348/($M348*T348))>=OUTLIERS!$D$4,\"\",Q348/($M348*T348))))","v":""},{"$f":"IF(ISERROR((M348*S348)/P348),\"\",IF((M348*S348/P348)<=OUTLIERS!$E$3,\"\",IF((M348*S348/P348)>=OUTLIERS!$E$4,\"\",M348*S348/P348)))","v":20.30187095720353},{"$f":"IF(ISERROR(O348/N348),\"\",IF(O348/N348<=OUTLIERS!$F$3,\"\",IF(O348/N348>=OUTLIERS!$F$4,\"\",O348/N348)))","v":5.587919975210502},{"$f":"IF(ISERROR(U348/X348),\"\",IF(U348/X348<=OUTLIERS!$G$3,\"\",IF(U348/X348>=OUTLIERS!$G$4,\"\",U348/X348)))","v":6.3029863190891826E-4},{"$f":"IF(ISERROR(Q348/Y348),\"\",IF(Q348/Y348<=OUTLIERS!$H$3,\"\",IF(Q348/Y348>=OUTLIERS!$H$4,\"\",Q348/Y348)))","v":""},{"$f":"IF(ISERROR(W348),\"\",IF(W348<=OUTLIERS!$I$3,\"\",IF(W348>=OUTLIERS!$I$4,\"\",W348)))","v":""},62144027,9433027,52711000,3061000,"","",1,0,153050,"n/a","n/a",242821406,31624264]
[348,9272,"GEF ","WorldBank","Cross-cutting",{"$f":"IF(ISERROR(P349/(M349*S349)),\"\",IF((P349/(M349*S349))<=OUTLIERS!$C$3,\"\",IF((P349/(M349*S349))>=OUTLIERS!$C$4,\"\",P349/(M349*S349))))","v":""},{"$f":"IF(ISERROR(Q349/($M349*T349)),\"\",IF((Q349/($M349*T349))<=OUTLIERS!$D$3,\"\",IF((Q349/($M349*T349))>=OUTLIERS!$D$4,\"\",Q349/($M349*T349))))","v":""},{"$f":"IF(ISERROR((M349*S349)/P349),\"\",IF((M349*S349/P349)<=OUTLIERS!$E$3,\"\",IF((M349*S349/P349)>=OUTLIERS!$E$4,\"\",M349*S349/P349)))","v":""},{"$f":"IF(ISERROR(O349/N349),\"\",IF(O349/N349<=OUTLIERS!$F$3,\"\",IF(O349/N349>=OUTLIERS!$F$4,\"\",O349/N349)))","v":""},{"$f":"IF(ISERROR(U349/X349),\"\",IF(U349/X349<=OUTLIERS!$G$3,\"\",IF(U349/X349>=OUTLIERS!$G$4,\"\",U349/X349)))","v":3.8058884812300714E-2},{"$f":"IF(ISERROR(Q349/Y349),\"\",IF(Q349/Y349<=OUTLIERS!$H$3,\"\",IF(Q349/Y349>=OUTLIERS!$H$4,\"\",Q349/Y349)))","v":""},{"$f":"IF(ISERROR(W349),\"\",IF(W349<=OUTLIERS!$I$3,\"\",IF(W349>=OUTLIERS!$I$4,\"\",W349)))","v":""},682980000,0,682980000,300000000,"","","n/a","n/a",8571428.5714285709,"n/a","n/a",225214916.66666666,96839792.666666657]
[349,9273,"GEF ","UNDP","Mitigation",{"$f":"IF(ISERROR(P350/(M350*S350)),\"\",IF((P350/(M350*S350))<=OUTLIERS!$C$3,\"\",IF((P350/(M350*S350))>=OUTLIERS!$C$4,\"\",P350/(M350*S350))))","v":2.5291442517274963E-2},{"$f":"IF(ISERROR(Q350/($M350*T350)),\"\",IF((Q350/($M350*T350))<=OUTLIERS!$D$3,\"\",IF((Q350/($M350*T350))>=OUTLIERS!$D$4,\"\",Q350/($M350*T350))))","v":""},{"$f":"IF(ISERROR((M350*S350)/P350),\"\",IF((M350*S350/P350)<=OUTLIERS!$E$3,\"\",IF((M350*S350/P350)>=OUTLIERS!$E$4,\"\",M350*S350/P350)))","v":39.539065409850153},{"$f":"IF(ISERROR(O350/N350),\"\",IF(O350/N350<=OUTLIERS!$F$3,\"\",IF(O350/N350>=OUTLIERS!$F$4,\"\",O350/N350)))","v":8.7163456122563936},{"$f":"IF(ISERROR(U350/X350),\"\",IF(U350/X350<=OUTLIERS!$G$3,\"\",IF(U350/X350>=OUTLIERS!$G$4,\"\",U350/X350)))","v":8.4987139738612501E-3},{"$f":"IF(ISERROR(Q350/Y350),\"\",IF(Q350/Y350<=OUTLIERS!$H$3,\"\",IF(Q350/Y350>=OUTLIERS!$H$4,\"\",Q350/Y350)))","v":""},{"$f":"IF(ISERROR(W350),\"\",IF(W350<=OUTLIERS!$I$3,\"\",IF(W350>=OUTLIERS!$I$4,\"\",W350)))","v":0.4},27600640,2840640,24760000,698060,"","",1,0,53696.923076923078,"n/a",0.4,6318241,8251162]
[350,9275,"GEF ","UNDP","Cross-cutting",{"$f":"IF(ISERROR(P351/(M351*S351)),\"\",IF((P351/(M351*S351))<=OUTLIERS!$C$3,\"\",IF((P351/(M351*S351))>=OUTLIERS!$C$4,\"\",P351/(M351*S351))))","v":""},{"$f":"IF(ISERROR(Q351/($M351*T351)),\"\",IF((Q351/($M351*T351))<=OUTLIERS!$D$3,\"\",IF((Q351/($M351*T351))>=OUTLIERS!$D$4,\"\",Q351/($M351*T351))))","v":""},{"$f":"IF(ISERROR((M351*S351)/P351),\"\",IF((M351*S351/P351)<=OUTLIERS!$E$3,\"\",IF((M351*S351/P351)>=OUTLIERS!$E$4,\"\",M351*S351/P351)))","v":""},{"$f":"IF(ISERROR(O351/N351),\"\",IF(O351/N351<=OUTLIERS!$F$3,\"\",IF(O351/N351>=OUTLIERS!$F$4,\"\",O351/N351)))","v":0.28224234593316105},{"$f":"IF(ISERROR(U351/X351),\"\",IF(U351/X351<=OUTLIERS!$G$3,\"\",IF(U351/X351>=OUTLIERS!$G$4,\"\",U351/X351)))","v":""},{"$f":"IF(ISERROR(Q351/Y351),\"\",IF(Q351/Y351<=OUTLIERS!$H$3,\"\",IF(Q351/Y351>=OUTLIERS!$H$4,\"\",Q351/Y351)))","v":""},{"$f":"IF(ISERROR(W351),\"\",IF(W351<=OUTLIERS!$I$3,\"\",IF(W351>=OUTLIERS!$I$4,\"\",W351)))","v":""},234199,182648,51551,"n/a","","","n/a","n/a","n/a","n/a","n/a",1954511,6858160]
[351,9279,"GEF ","UNDP","Mitigation",{"$f":"IF(ISERROR(P352/(M352*S352)),\"\",IF((P352/(M352*S352))<=OUTLIERS!$C$3,\"\",IF((P352/(M352*S352))>=OUTLIERS!$C$4,\"\",P352/(M352*S352))))","v":5.7948026193647799E-3},{"$f":"IF(ISERROR(Q352/($M352*T352)),\"\",IF((Q352/($M352*T352))<=OUTLIERS!$D$3,\"\",IF((Q352/($M352*T352))>=OUTLIERS!$D$4,\"\",Q352/($M352*T352))))","v":""},{"$f":"IF(ISERROR((M352*S352)/P352),\"\",IF((M352*S352/P352)<=OUTLIERS!$E$3,\"\",IF((M352*S352/P352)>=OUTLIERS!$E$4,\"\",M352*S352/P352)))","v":172.56843169398908},{"$f":"IF(ISERROR(O352/N352),\"\",IF(O352/N352<=OUTLIERS!$F$3,\"\",IF(O352/N352>=OUTLIERS!$F$4,\"\",O352/N352)))","v":9.4223707212783534},{"$f":"IF(ISERROR(U352/X352),\"\",IF(U352/X352<=OUTLIERS!$G$3,\"\",IF(U352/X352>=OUTLIERS!$G$4,\"\",U352/X352)))","v":3.8973504345367918E-4},{"$f":"IF(ISERROR(Q352/Y352),\"\",IF(Q352/Y352<=OUTLIERS!$H$3,\"\",IF(Q352/Y352>=OUTLIERS!$H$4,\"\",Q352/Y352)))","v":""},{"$f":"IF(ISERROR(W352),\"\",IF(W352<=OUTLIERS!$I$3,\"\",IF(W352>=OUTLIERS!$I$4,\"\",W352)))","v":0.5},63160046,6060046,57100000,366000,"","",1,0,26666.666666666668,"n/a",0.5,68422553,5758075]
[352,9281,"GEF ","UNIDO","Mitigation",{"$f":"IF(ISERROR(P353/(M353*S353)),\"\",IF((P353/(M353*S353))<=OUTLIERS!$C$3,\"\",IF((P353/(M353*S353))>=OUTLIERS!$C$4,\"\",P353/(M353*S353))))","v":0.34670212014098245},{"$f":"IF(ISERROR(Q353/($M353*T353)),\"\",IF((Q353/($M353*T353))<=OUTLIERS!$D$3,\"\",IF((Q353/($M353*T353))>=OUTLIERS!$D$4,\"\",Q353/($M353*T353))))","v":""},{"$f":"IF(ISERROR((M353*S353)/P353),\"\",IF((M353*S353/P353)<=OUTLIERS!$E$3,\"\",IF((M353*S353/P353)>=OUTLIERS!$E$4,\"\",M353*S353/P353)))","v":2.8843204062131536},{"$f":"IF(ISERROR(O353/N353),\"\",IF(O353/N353<=OUTLIERS!$F$3,\"\",IF(O353/N353>=OUTLIERS!$F$4,\"\",O353/N353)))","v":9.376991695013345},{"$f":"IF(ISERROR(U353/X353),\"\",IF(U353/X353<=OUTLIERS!$G$3,\"\",IF(U353/X353>=OUTLIERS!$G$4,\"\",U353/X353)))","v":7.6456080326924691E-2},{"$f":"IF(ISERROR(Q353/Y353),\"\",IF(Q353/Y353<=OUTLIERS!$H$3,\"\",IF(Q353/Y353>=OUTLIERS!$H$4,\"\",Q353/Y353)))","v":""},{"$f":"IF(ISERROR(W353),\"\",IF(W353<=OUTLIERS!$I$3,\"\",IF(W353>=OUTLIERS!$I$4,\"\",W353)))","v":0.99},25497078,2457078,23040000,8839891,"","",1,0,883989.1,"n/a",0.99,11562051,57310019]
[353,9283,"GEF ","UNEP","Mitigation",{"$f":"IF(ISERROR(P354/(M354*S354)),\"\",IF((P354/(M354*S354))<=OUTLIERS!$C$3,\"\",IF((P354/(M354*S354))>=OUTLIERS!$C$4,\"\",P354/(M354*S354))))","v":4.7376159778511201E-2},{"$f":"IF(ISERROR(Q354/($M354*T354)),\"\",IF((Q354/($M354*T354))<=OUTLIERS!$D$3,\"\",IF((Q354/($M354*T354))>=OUTLIERS!$D$4,\"\",Q354/($M354*T354))))","v":""},{"$f":"IF(ISERROR((M354*S354)/P354),\"\",IF((M354*S354/P354)<=OUTLIERS!$E$3,\"\",IF((M354*S354/P354)>=OUTLIERS!$E$4,\"\",M354*S354/P354)))","v":21.107662686784046},{"$f":"IF(ISERROR(O354/N354),\"\",IF(O354/N354<=OUTLIERS!$F$3,\"\",IF(O354/N354>=OUTLIERS!$F$4,\"\",O354/N354)))","v":2.4862259999999998},{"$f":"IF(ISERROR(U354/X354),\"\",IF(U354/X354<=OUTLIERS!$G$3,\"\",IF(U354/X354>=OUTLIERS!$G$4,\"\",U354/X354)))","v":2.8380990970231436E-3},{"$f":"IF(ISERROR(Q354/Y354),\"\",IF(Q354/Y354<=OUTLIERS!$H$3,\"\",IF(Q354/Y354>=OUTLIERS!$H$4,\"\",Q354/Y354)))","v":""},{"$f":"IF(ISERROR(W354),\"\",IF(W354<=OUTLIERS!$I$3,\"\",IF(W354>=OUTLIERS!$I$4,\"\",W354)))","v":""},6972452,2000000,4972452,330328,"","",1,0,22021.866666666665,"n/a","n/a",7759372,4905769]
[354,9285,"GEF ","FAO","Cross-cutting",{"$f":"IF(ISERROR(P355/(M355*S355)),\"\",IF((P355/(M355*S355))<=OUTLIERS!$C$3,\"\",IF((P355/(M355*S355))>=OUTLIERS!$C$4,\"\",P355/(M355*S355))))","v":""},{"$f":"IF(ISERROR(Q355/($M355*T355)),\"\",IF((Q355/($M355*T355))<=OUTLIERS!$D$3,\"\",IF((Q355/($M355*T355))>=OUTLIERS!$D$4,\"\",Q355/($M355*T355))))","v":""},{"$f":"IF(ISERROR((M355*S355)/P355),\"\",IF((M355*S355/P355)<=OUTLIERS!$E$3,\"\",IF((M355*S355/P355)>=OUTLIERS!$E$4,\"\",M355*S355/P355)))","v":""},{"$f":"IF(ISERROR(O355/N355),\"\",IF(O355/N355<=OUTLIERS!$F$3,\"\",IF(O355/N355>=OUTLIERS!$F$4,\"\",O355/N355)))","v":5.1693873391951293},{"$f":"IF(ISERROR(U355/X355),\"\",IF(U355/X355<=OUTLIERS!$G$3,\"\",IF(U355/X355>=OUTLIERS!$G$4,\"\",U355/X355)))","v":4.7126030173977387E-2},{"$f":"IF(ISERROR(Q355/Y355),\"\",IF(Q355/Y355<=OUTLIERS!$H$3,\"\",IF(Q355/Y355>=OUTLIERS!$H$4,\"\",Q355/Y355)))","v":""},{"$f":"IF(ISERROR(W355),\"\",IF(W355<=OUTLIERS!$I$3,\"\",IF(W355>=OUTLIERS!$I$4,\"\",W355)))","v":""},64753106,10495873,54257233,2773619,"","","n/a","n/a",462269.83333333331,"n/a","n/a",9809225,35530081]
[355,9288,"GEF ","UNDP","Mitigation",{"$f":"IF(ISERROR(P356/(M356*S356)),\"\",IF((P356/(M356*S356))<=OUTLIERS!$C$3,\"\",IF((P356/(M356*S356))>=OUTLIERS!$C$4,\"\",P356/(M356*S356))))","v":""},{"$f":"IF(ISERROR(Q356/($M356*T356)),\"\",IF((Q356/($M356*T356))<=OUTLIERS!$D$3,\"\",IF((Q356/($M356*T356))>=OUTLIERS!$D$4,\"\",Q356/($M356*T356))))","v":""},{"$f":"IF(ISERROR((M356*S356)/P356),\"\",IF((M356*S356/P356)<=OUTLIERS!$E$3,\"\",IF((M356*S356/P356)>=OUTLIERS!$E$4,\"\",M356*S356/P356)))","v":""},{"$f":"IF(ISERROR(O356/N356),\"\",IF(O356/N356<=OUTLIERS!$F$3,\"\",IF(O356/N356>=OUTLIERS!$F$4,\"\",O356/N356)))","v":2.9163105061627683},{"$f":"IF(ISERROR(U356/X356),\"\",IF(U356/X356<=OUTLIERS!$G$3,\"\",IF(U356/X356>=OUTLIERS!$G$4,\"\",U356/X356)))","v":""},{"$f":"IF(ISERROR(Q356/Y356),\"\",IF(Q356/Y356<=OUTLIERS!$H$3,\"\",IF(Q356/Y356>=OUTLIERS!$H$4,\"\",Q356/Y356)))","v":""},{"$f":"IF(ISERROR(W356),\"\",IF(W356<=OUTLIERS!$I$3,\"\",IF(W356>=OUTLIERS!$I$4,\"\",W356)))","v":""},29721041,7589041,22132000,"n/a","","",1,0,"n/a","n/a","n/a",1991181,563402]
[356,9291,"GEF ","UNDP","Mitigation",{"$f":"IF(ISERROR(P357/(M357*S357)),\"\",IF((P357/(M357*S357))<=OUTLIERS!$C$3,\"\",IF((P357/(M357*S357))>=OUTLIERS!$C$4,\"\",P357/(M357*S357))))","v":1.6953323317619024E-2},{"$f":"IF(ISERROR(Q357/($M357*T357)),\"\",IF((Q357/($M357*T357))<=OUTLIERS!$D$3,\"\",IF((Q357/($M357*T357))>=OUTLIERS!$D$4,\"\",Q357/($M357*T357))))","v":""},{"$f":"IF(ISERROR((M357*S357)/P357),\"\",IF((M357*S357/P357)<=OUTLIERS!$E$3,\"\",IF((M357*S357/P357)>=OUTLIERS!$E$4,\"\",M357*S357/P357)))","v":58.985485103132163},{"$f":"IF(ISERROR(O357/N357),\"\",IF(O357/N357<=OUTLIERS!$F$3,\"\",IF(O357/N357>=OUTLIERS!$F$4,\"\",O357/N357)))","v":6.2979206049149337},{"$f":"IF(ISERROR(U357/X357),\"\",IF(U357/X357<=OUTLIERS!$G$3,\"\",IF(U357/X357>=OUTLIERS!$G$4,\"\",U357/X357)))","v":4.3233320252482589E-2},{"$f":"IF(ISERROR(Q357/Y357),\"\",IF(Q357/Y357<=OUTLIERS!$H$3,\"\",IF(Q357/Y357>=OUTLIERS!$H$4,\"\",Q357/Y357)))","v":""},{"$f":"IF(ISERROR(W357),\"\",IF(W357<=OUTLIERS!$I$3,\"\",IF(W357>=OUTLIERS!$I$4,\"\",W357)))","v":0.55000000000000004},19303000,2645000,16658000,327250,"",50000,1,0,13000,50000,0.55000000000000004,300694,4659080]
[357,9292,"GEF ","AfDB","Mitigation",{"$f":"IF(ISERROR(P358/(M358*S358)),\"\",IF((P358/(M358*S358))<=OUTLIERS!$C$3,\"\",IF((P358/(M358*S358))>=OUTLIERS!$C$4,\"\",P358/(M358*S358))))","v":""},{"$f":"IF(ISERROR(Q358/($M358*T358)),\"\",IF((Q358/($M358*T358))<=OUTLIERS!$D$3,\"\",IF((Q358/($M358*T358))>=OUTLIERS!$D$4,\"\",Q358/($M358*T358))))","v":""},{"$f":"IF(ISERROR((M358*S358)/P358),\"\",IF((M358*S358/P358)<=OUTLIERS!$E$3,\"\",IF((M358*S358/P358)>=OUTLIERS!$E$4,\"\",M358*S358/P358)))","v":""},{"$f":"IF(ISERROR(O358/N358),\"\",IF(O358/N358<=OUTLIERS!$F$3,\"\",IF(O358/N358>=OUTLIERS!$F$4,\"\",O358/N358)))","v":15.19097057800696},{"$f":"IF(ISERROR(U358/X358),\"\",IF(U358/X358<=OUTLIERS!$G$3,\"\",IF(U358/X358>=OUTLIERS!$G$4,\"\",U358/X358)))","v":3.0984349016399582E-3},{"$f":"IF(ISERROR(Q358/Y358),\"\",IF(Q358/Y358<=OUTLIERS!$H$3,\"\",IF(Q358/Y358>=OUTLIERS!$H$4,\"\",Q358/Y358)))","v":""},{"$f":"IF(ISERROR(W358),\"\",IF(W358<=OUTLIERS!$I$3,\"\",IF(W358>=OUTLIERS!$I$4,\"\",W358)))","v":""},42739726,2639726,40100000,28973,"","",1,0,2897.3,"n/a","n/a",935085,4731906]
[358,9293,"GEF ","AfDB","Cross-cutting",{"$f":"IF(ISERROR(P359/(M359*S359)),\"\",IF((P359/(M359*S359))<=OUTLIERS!$C$3,\"\",IF((P359/(M359*S359))>=OUTLIERS!$C$4,\"\",P359/(M359*S359))))","v":""},{"$f":"IF(ISERROR(Q359/($M359*T359)),\"\",IF((Q359/($M359*T359))<=OUTLIERS!$D$3,\"\",IF((Q359/($M359*T359))>=OUTLIERS!$D$4,\"\",Q359/($M359*T359))))","v":""},{"$f":"IF(ISERROR((M359*S359)/P359),\"\",IF((M359*S359/P359)<=OUTLIERS!$E$3,\"\",IF((M359*S359/P359)>=OUTLIERS!$E$4,\"\",M359*S359/P359)))","v":""},{"$f":"IF(ISERROR(O359/N359),\"\",IF(O359/N359<=OUTLIERS!$F$3,\"\",IF(O359/N359>=OUTLIERS!$F$4,\"\",O359/N359)))","v":6.9969413213654397},{"$f":"IF(ISERROR(U359/X359),\"\",IF(U359/X359<=OUTLIERS!$G$3,\"\",IF(U359/X359>=OUTLIERS!$G$4,\"\",U359/X359)))","v":3.0579109101061652E-2},{"$f":"IF(ISERROR(Q359/Y359),\"\",IF(Q359/Y359<=OUTLIERS!$H$3,\"\",IF(Q359/Y359>=OUTLIERS!$H$4,\"\",Q359/Y359)))","v":""},{"$f":"IF(ISERROR(W359),\"\",IF(W359<=OUTLIERS!$I$3,\"\",IF(W359>=OUTLIERS!$I$4,\"\",W359)))","v":""},68813864,8605023,60208841,1295143,"",580000,"n/a","n/a",43171.433333333334,580000,"n/a",1411795,18541980]
[359,9294,"GEF ","FAO","Cross-cutting",{"$f":"IF(ISERROR(P360/(M360*S360)),\"\",IF((P360/(M360*S360))<=OUTLIERS!$C$3,\"\",IF((P360/(M360*S360))>=OUTLIERS!$C$4,\"\",P360/(M360*S360))))","v":""},{"$f":"IF(ISERROR(Q360/($M360*T360)),\"\",IF((Q360/($M360*T360))<=OUTLIERS!$D$3,\"\",IF((Q360/($M360*T360))>=OUTLIERS!$D$4,\"\",Q360/($M360*T360))))","v":""},{"$f":"IF(ISERROR((M360*S360)/P360),\"\",IF((M360*S360/P360)<=OUTLIERS!$E$3,\"\",IF((M360*S360/P360)>=OUTLIERS!$E$4,\"\",M360*S360/P360)))","v":""},{"$f":"IF(ISERROR(O360/N360),\"\",IF(O360/N360<=OUTLIERS!$F$3,\"\",IF(O360/N360>=OUTLIERS!$F$4,\"\",O360/N360)))","v":2.815443712104766},{"$f":"IF(ISERROR(U360/X360),\"\",IF(U360/X360<=OUTLIERS!$G$3,\"\",IF(U360/X360>=OUTLIERS!$G$4,\"\",U360/X360)))","v":8.8563728798673608E-2},{"$f":"IF(ISERROR(Q360/Y360),\"\",IF(Q360/Y360<=OUTLIERS!$H$3,\"\",IF(Q360/Y360>=OUTLIERS!$H$4,\"\",Q360/Y360)))","v":""},{"$f":"IF(ISERROR(W360),\"\",IF(W360<=OUTLIERS!$I$3,\"\",IF(W360>=OUTLIERS!$I$4,\"\",W360)))","v":""},31372505,8222505,23150000,4800000,"","","n/a","n/a",240000,"n/a","n/a",2709913,4420184]
[360,9300,"GEF ","UNDP","Cross-cutting",{"$f":"IF(ISERROR(P361/(M361*S361)),\"\",IF((P361/(M361*S361))<=OUTLIERS!$C$3,\"\",IF((P361/(M361*S361))>=OUTLIERS!$C$4,\"\",P361/(M361*S361))))","v":""},{"$f":"IF(ISERROR(Q361/($M361*T361)),\"\",IF((Q361/($M361*T361))<=OUTLIERS!$D$3,\"\",IF((Q361/($M361*T361))>=OUTLIERS!$D$4,\"\",Q361/($M361*T361))))","v":""},{"$f":"IF(ISERROR((M361*S361)/P361),\"\",IF((M361*S361/P361)<=OUTLIERS!$E$3,\"\",IF((M361*S361/P361)>=OUTLIERS!$E$4,\"\",M361*S361/P361)))","v":""},{"$f":"IF(ISERROR(O361/N361),\"\",IF(O361/N361<=OUTLIERS!$F$3,\"\",IF(O361/N361>=OUTLIERS!$F$4,\"\",O361/N361)))","v":5.7435897435897436},{"$f":"IF(ISERROR(U361/X361),\"\",IF(U361/X361<=OUTLIERS!$G$3,\"\",IF(U361/X361>=OUTLIERS!$G$4,\"\",U361/X361)))","v":""},{"$f":"IF(ISERROR(Q361/Y361),\"\",IF(Q361/Y361<=OUTLIERS!$H$3,\"\",IF(Q361/Y361>=OUTLIERS!$H$4,\"\",Q361/Y361)))","v":""},{"$f":"IF(ISERROR(W361),\"\",IF(W361<=OUTLIERS!$I$3,\"\",IF(W361>=OUTLIERS!$I$4,\"\",W361)))","v":""},13150000,1950000,11200000,"n/a","","","n/a","n/a","n/a","n/a","n/a",3076613,25570895]
[361,9303,"GEF ","UNDP","Adaptation",{"$f":"IF(ISERROR(P362/(M362*S362)),\"\",IF((P362/(M362*S362))<=OUTLIERS!$C$3,\"\",IF((P362/(M362*S362))>=OUTLIERS!$C$4,\"\",P362/(M362*S362))))","v":""},{"$f":"IF(ISERROR(Q362/($M362*T362)),\"\",IF((Q362/($M362*T362))<=OUTLIERS!$D$3,\"\",IF((Q362/($M362*T362))>=OUTLIERS!$D$4,\"\",Q362/($M362*T362))))","v":""},{"$f":"IF(ISERROR((M362*S362)/P362),\"\",IF((M362*S362/P362)<=OUTLIERS!$E$3,\"\",IF((M362*S362/P362)>=OUTLIERS!$E$4,\"\",M362*S362/P362)))","v":""},{"$f":"IF(ISERROR(O362/N362),\"\",IF(O362/N362<=OUTLIERS!$F$3,\"\",IF(O362/N362>=OUTLIERS!$F$4,\"\",O362/N362)))","v":7.0595415787293954},{"$f":"IF(ISERROR(U362/X362),\"\",IF(U362/X362<=OUTLIERS!$G$3,\"\",IF(U362/X362>=OUTLIERS!$G$4,\"\",U362/X362)))","v":0},{"$f":"IF(ISERROR(Q362/Y362),\"\",IF(Q362/Y362<=OUTLIERS!$H$3,\"\",IF(Q362/Y362>=OUTLIERS!$H$4,\"\",Q362/Y362)))","v":""},{"$f":"IF(ISERROR(W362),\"\",IF(W362<=OUTLIERS!$I$3,\"\",IF(W362>=OUTLIERS!$I$4,\"\",W362)))","v":""},47036073,5836073,41200000,"n/a","","",0,1,0,"n/a","n/a",11598721,104957438]
[362,9304,"GEF ","UNDP","Mitigation",{"$f":"IF(ISERROR(P363/(M363*S363)),\"\",IF((P363/(M363*S363))<=OUTLIERS!$C$3,\"\",IF((P363/(M363*S363))>=OUTLIERS!$C$4,\"\",P363/(M363*S363))))","v":""},{"$f":"IF(ISERROR(Q363/($M363*T363)),\"\",IF((Q363/($M363*T363))<=OUTLIERS!$D$3,\"\",IF((Q363/($M363*T363))>=OUTLIERS!$D$4,\"\",Q363/($M363*T363))))","v":""},{"$f":"IF(ISERROR((M363*S363)/P363),\"\",IF((M363*S363/P363)<=OUTLIERS!$E$3,\"\",IF((M363*S363/P363)>=OUTLIERS!$E$4,\"\",M363*S363/P363)))","v":""},{"$f":"IF(ISERROR(O363/N363),\"\",IF(O363/N363<=OUTLIERS!$F$3,\"\",IF(O363/N363>=OUTLIERS!$F$4,\"\",O363/N363)))","v":0.14204545454545456},{"$f":"IF(ISERROR(U363/X363),\"\",IF(U363/X363<=OUTLIERS!$G$3,\"\",IF(U363/X363>=OUTLIERS!$G$4,\"\",U363/X363)))","v":""},{"$f":"IF(ISERROR(Q363/Y363),\"\",IF(Q363/Y363<=OUTLIERS!$H$3,\"\",IF(Q363/Y363>=OUTLIERS!$H$4,\"\",Q363/Y363)))","v":""},{"$f":"IF(ISERROR(W363),\"\",IF(W363<=OUTLIERS!$I$3,\"\",IF(W363>=OUTLIERS!$I$4,\"\",W363)))","v":""},402000,352000,50000,"n/a","","",1,0,"n/a","n/a","n/a",61744946,32165485]
[363,9309,"GEF ","UNDP","Mitigation",{"$f":"IF(ISERROR(P364/(M364*S364)),\"\",IF((P364/(M364*S364))<=OUTLIERS!$C$3,\"\",IF((P364/(M364*S364))>=OUTLIERS!$C$4,\"\",P364/(M364*S364))))","v":3.0483161512027492E-3},{"$f":"IF(ISERROR(Q364/($M364*T364)),\"\",IF((Q364/($M364*T364))<=OUTLIERS!$D$3,\"\",IF((Q364/($M364*T364))>=OUTLIERS!$D$4,\"\",Q364/($M364*T364))))","v":""},{"$f":"IF(ISERROR((M364*S364)/P364),\"\",IF((M364*S364/P364)<=OUTLIERS!$E$3,\"\",IF((M364*S364/P364)>=OUTLIERS!$E$4,\"\",M364*S364/P364)))","v":328.04996279845784},{"$f":"IF(ISERROR(O364/N364),\"\",IF(O364/N364<=OUTLIERS!$F$3,\"\",IF(O364/N364>=OUTLIERS!$F$4,\"\",O364/N364)))","v":43.769230769230766},{"$f":"IF(ISERROR(U364/X364),\"\",IF(U364/X364<=OUTLIERS!$G$3,\"\",IF(U364/X364>=OUTLIERS!$G$4,\"\",U364/X364)))","v":""},{"$f":"IF(ISERROR(Q364/Y364),\"\",IF(Q364/Y364<=OUTLIERS!$H$3,\"\",IF(Q364/Y364>=OUTLIERS!$H$4,\"\",Q364/Y364)))","v":""},{"$f":"IF(ISERROR(W364),\"\",IF(W364<=OUTLIERS!$I$3,\"\",IF(W364>=OUTLIERS!$I$4,\"\",W364)))","v":0.5},87300000,1950000,85350000,266118,"",31250,1,0,13305.9,31250,0.5,"",""]
[364,9314,"GEF ","UNDP","Cross-cutting",{"$f":"IF(ISERROR(P365/(M365*S365)),\"\",IF((P365/(M365*S365))<=OUTLIERS!$C$3,\"\",IF((P365/(M365*S365))>=OUTLIERS!$C$4,\"\",P365/(M365*S365))))","v":""},{"$f":"IF(ISERROR(Q365/($M365*T365)),\"\",IF((Q365/($M365*T365))<=OUTLIERS!$D$3,\"\",IF((Q365/($M365*T365))>=OUTLIERS!$D$4,\"\",Q365/($M365*T365))))","v":""},{"$f":"IF(ISERROR((M365*S365)/P365),\"\",IF((M365*S365/P365)<=OUTLIERS!$E$3,\"\",IF((M365*S365/P365)>=OUTLIERS!$E$4,\"\",M365*S365/P365)))","v":""},{"$f":"IF(ISERROR(O365/N365),\"\",IF(O365/N365<=OUTLIERS!$F$3,\"\",IF(O365/N365>=OUTLIERS!$F$4,\"\",O365/N365)))","v":1.0220946666666666},{"$f":"IF(ISERROR(U365/X365),\"\",IF(U365/X365<=OUTLIERS!$G$3,\"\",IF(U365/X365>=OUTLIERS!$G$4,\"\",U365/X365)))","v":""},{"$f":"IF(ISERROR(Q365/Y365),\"\",IF(Q365/Y365<=OUTLIERS!$H$3,\"\",IF(Q365/Y365>=OUTLIERS!$H$4,\"\",Q365/Y365)))","v":""},{"$f":"IF(ISERROR(W365),\"\",IF(W365<=OUTLIERS!$I$3,\"\",IF(W365>=OUTLIERS!$I$4,\"\",W365)))","v":""},3033142,1500000,1533142,"n/a","","","n/a","n/a","n/a","n/a","n/a",154014,813912]
[365,9318,"GEF ","UNDP","Adaptation",{"$f":"IF(ISERROR(P366/(M366*S366)),\"\",IF((P366/(M366*S366))<=OUTLIERS!$C$3,\"\",IF((P366/(M366*S366))>=OUTLIERS!$C$4,\"\",P366/(M366*S366))))","v":""},{"$f":"IF(ISERROR(Q366/($M366*T366)),\"\",IF((Q366/($M366*T366))<=OUTLIERS!$D$3,\"\",IF((Q366/($M366*T366))>=OUTLIERS!$D$4,\"\",Q366/($M366*T366))))","v":""},{"$f":"IF(ISERROR((M366*S366)/P366),\"\",IF((M366*S366/P366)<=OUTLIERS!$E$3,\"\",IF((M366*S366/P366)>=OUTLIERS!$E$4,\"\",M366*S366/P366)))","v":""},{"$f":"IF(ISERROR(O366/N366),\"\",IF(O366/N366<=OUTLIERS!$F$3,\"\",IF(O366/N366>=OUTLIERS!$F$4,\"\",O366/N366)))","v":2.4455358780492777},{"$f":"IF(ISERROR(U366/X366),\"\",IF(U366/X366<=OUTLIERS!$G$3,\"\",IF(U366/X366>=OUTLIERS!$G$4,\"\",U366/X366)))","v":""},{"$f":"IF(ISERROR(Q366/Y366),\"\",IF(Q366/Y366<=OUTLIERS!$H$3,\"\",IF(Q366/Y366>=OUTLIERS!$H$4,\"\",Q366/Y366)))","v":""},{"$f":"IF(ISERROR(W366),\"\",IF(W366<=OUTLIERS!$I$3,\"\",IF(W366>=OUTLIERS!$I$4,\"\",W366)))","v":""},15216210,4416210,10800000,"n/a","","",0,1,"n/a","n/a","n/a",2849259,19193382]
[366,9319,"GEF ","UNDP","Cross-cutting",{"$f":"IF(ISERROR(P367/(M367*S367)),\"\",IF((P367/(M367*S367))<=OUTLIERS!$C$3,\"\",IF((P367/(M367*S367))>=OUTLIERS!$C$4,\"\",P367/(M367*S367))))","v":""},{"$f":"IF(ISERROR(Q367/($M367*T367)),\"\",IF((Q367/($M367*T367))<=OUTLIERS!$D$3,\"\",IF((Q367/($M367*T367))>=OUTLIERS!$D$4,\"\",Q367/($M367*T367))))","v":""},{"$f":"IF(ISERROR((M367*S367)/P367),\"\",IF((M367*S367/P367)<=OUTLIERS!$E$3,\"\",IF((M367*S367/P367)>=OUTLIERS!$E$4,\"\",M367*S367/P367)))","v":""},{"$f":"IF(ISERROR(O367/N367),\"\",IF(O367/N367<=OUTLIERS!$F$3,\"\",IF(O367/N367>=OUTLIERS!$F$4,\"\",O367/N367)))","v":1.3335892831591061},{"$f":"IF(ISERROR(U367/X367),\"\",IF(U367/X367<=OUTLIERS!$G$3,\"\",IF(U367/X367>=OUTLIERS!$G$4,\"\",U367/X367)))","v":""},{"$f":"IF(ISERROR(Q367/Y367),\"\",IF(Q367/Y367<=OUTLIERS!$H$3,\"\",IF(Q367/Y367>=OUTLIERS!$H$4,\"\",Q367/Y367)))","v":""},{"$f":"IF(ISERROR(W367),\"\",IF(W367<=OUTLIERS!$I$3,\"\",IF(W367>=OUTLIERS!$I$4,\"\",W367)))","v":""},3473718,1488573,1985145,"n/a","","","n/a","n/a","n/a","n/a","n/a",34836500,11484636]
[367,9320,"GEF ","UNEP","Mitigation",{"$f":"IF(ISERROR(P368/(M368*S368)),\"\",IF((P368/(M368*S368))<=OUTLIERS!$C$3,\"\",IF((P368/(M368*S368))>=OUTLIERS!$C$4,\"\",P368/(M368*S368))))","v":0.21543619267243375},{"$f":"IF(ISERROR(Q368/($M368*T368)),\"\",IF((Q368/($M368*T368))<=OUTLIERS!$D$3,\"\",IF((Q368/($M368*T368))>=OUTLIERS!$D$4,\"\",Q368/($M368*T368))))","v":""},{"$f":"IF(ISERROR((M368*S368)/P368),\"\",IF((M368*S368/P368)<=OUTLIERS!$E$3,\"\",IF((M368*S368/P368)>=OUTLIERS!$E$4,\"\",M368*S368/P368)))","v":4.6417456027013957},{"$f":"IF(ISERROR(O368/N368),\"\",IF(O368/N368<=OUTLIERS!$F$3,\"\",IF(O368/N368>=OUTLIERS!$F$4,\"\",O368/N368)))","v":4.8558870000000001},{"$f":"IF(ISERROR(U368/X368),\"\",IF(U368/X368<=OUTLIERS!$G$3,\"\",IF(U368/X368>=OUTLIERS!$G$4,\"\",U368/X368)))","v":""},{"$f":"IF(ISERROR(Q368/Y368),\"\",IF(Q368/Y368<=OUTLIERS!$H$3,\"\",IF(Q368/Y368>=OUTLIERS!$H$4,\"\",Q368/Y368)))","v":""},{"$f":"IF(ISERROR(W368),\"\",IF(W368<=OUTLIERS!$I$3,\"\",IF(W368>=OUTLIERS!$I$4,\"\",W368)))","v":""},11711774,2000000,9711774,2523140,"","",1,0,126157,"n/a","n/a","",""]
[368,9323,"GEF ","UNIDO","Cross-cutting",{"$f":"IF(ISERROR(P369/(M369*S369)),\"\",IF((P369/(M369*S369))<=OUTLIERS!$C$3,\"\",IF((P369/(M369*S369))>=OUTLIERS!$C$4,\"\",P369/(M369*S369))))","v":""},{"$f":"IF(ISERROR(Q369/($M369*T369)),\"\",IF((Q369/($M369*T369))<=OUTLIERS!$D$3,\"\",IF((Q369/($M369*T369))>=OUTLIERS!$D$4,\"\",Q369/($M369*T369))))","v":""},{"$f":"IF(ISERROR((M369*S369)/P369),\"\",IF((M369*S369/P369)<=OUTLIERS!$E$3,\"\",IF((M369*S369/P369)>=OUTLIERS!$E$4,\"\",M369*S369/P369)))","v":""},{"$f":"IF(ISERROR(O369/N369),\"\",IF(O369/N369<=OUTLIERS!$F$3,\"\",IF(O369/N369>=OUTLIERS!$F$4,\"\",O369/N369)))","v":9.4098133193372924},{"$f":"IF(ISERROR(U369/X369),\"\",IF(U369/X369<=OUTLIERS!$G$3,\"\",IF(U369/X369>=OUTLIERS!$G$4,\"\",U369/X369)))","v":6.2380908780699357E-5},{"$f":"IF(ISERROR(Q369/Y369),\"\",IF(Q369/Y369<=OUTLIERS!$H$3,\"\",IF(Q369/Y369>=OUTLIERS!$H$4,\"\",Q369/Y369)))","v":""},{"$f":"IF(ISERROR(W369),\"\",IF(W369<=OUTLIERS!$I$3,\"\",IF(W369>=OUTLIERS!$I$4,\"\",W369)))","v":0.48538798368198838},126063797,12110092,113953705,764700,"",3829143,"n/a","n/a",139632,3829143,0.48538798368198838,2238377137,1339180127]
[369,9327,"GEF ","UNEP","Cross-cutting",{"$f":"IF(ISERROR(P370/(M370*S370)),\"\",IF((P370/(M370*S370))<=OUTLIERS!$C$3,\"\",IF((P370/(M370*S370))>=OUTLIERS!$C$4,\"\",P370/(M370*S370))))","v":""},{"$f":"IF(ISERROR(Q370/($M370*T370)),\"\",IF((Q370/($M370*T370))<=OUTLIERS!$D$3,\"\",IF((Q370/($M370*T370))>=OUTLIERS!$D$4,\"\",Q370/($M370*T370))))","v":""},{"$f":"IF(ISERROR((M370*S370)/P370),\"\",IF((M370*S370/P370)<=OUTLIERS!$E$3,\"\",IF((M370*S370/P370)>=OUTLIERS!$E$4,\"\",M370*S370/P370)))","v":""},{"$f":"IF(ISERROR(O370/N370),\"\",IF(O370/N370<=OUTLIERS!$F$3,\"\",IF(O370/N370>=OUTLIERS!$F$4,\"\",O370/N370)))","v":0.12},{"$f":"IF(ISERROR(U370/X370),\"\",IF(U370/X370<=OUTLIERS!$G$3,\"\",IF(U370/X370>=OUTLIERS!$G$4,\"\",U370/X370)))","v":""},{"$f":"IF(ISERROR(Q370/Y370),\"\",IF(Q370/Y370<=OUTLIERS!$H$3,\"\",IF(Q370/Y370>=OUTLIERS!$H$4,\"\",Q370/Y370)))","v":""},{"$f":"IF(ISERROR(W370),\"\",IF(W370<=OUTLIERS!$I$3,\"\",IF(W370>=OUTLIERS!$I$4,\"\",W370)))","v":""},560000,500000,60000,"n/a","","","n/a","n/a","n/a","n/a","n/a",2709913,4420184]
[370,9329,"GEF ","UNEP","Mitigation",{"$f":"IF(ISERROR(P371/(M371*S371)),\"\",IF((P371/(M371*S371))<=OUTLIERS!$C$3,\"\",IF((P371/(M371*S371))>=OUTLIERS!$C$4,\"\",P371/(M371*S371))))","v":0.37213896258083212},{"$f":"IF(ISERROR(Q371/($M371*T371)),\"\",IF((Q371/($M371*T371))<=OUTLIERS!$D$3,\"\",IF((Q371/($M371*T371))>=OUTLIERS!$D$4,\"\",Q371/($M371*T371))))","v":""},{"$f":"IF(ISERROR((M371*S371)/P371),\"\",IF((M371*S371/P371)<=OUTLIERS!$E$3,\"\",IF((M371*S371/P371)>=OUTLIERS!$E$4,\"\",M371*S371/P371)))","v":2.6871682370071381},{"$f":"IF(ISERROR(O371/N371),\"\",IF(O371/N371<=OUTLIERS!$F$3,\"\",IF(O371/N371>=OUTLIERS!$F$4,\"\",O371/N371)))","v":4.1341735000000002},{"$f":"IF(ISERROR(U371/X371),\"\",IF(U371/X371<=OUTLIERS!$G$3,\"\",IF(U371/X371>=OUTLIERS!$G$4,\"\",U371/X371)))","v":""},{"$f":"IF(ISERROR(Q371/Y371),\"\",IF(Q371/Y371<=OUTLIERS!$H$3,\"\",IF(Q371/Y371>=OUTLIERS!$H$4,\"\",Q371/Y371)))","v":""},{"$f":"IF(ISERROR(W371),\"\",IF(W371<=OUTLIERS!$I$3,\"\",IF(W371>=OUTLIERS!$I$4,\"\",W371)))","v":""},10268347,2000000,8268347,3821252,"","",1,0,254750.13333333333,"n/a","n/a","",""]
[371,9330,"GEF ","WorldBank","Cross-cutting",{"$f":"IF(ISERROR(P372/(M372*S372)),\"\",IF((P372/(M372*S372))<=OUTLIERS!$C$3,\"\",IF((P372/(M372*S372))>=OUTLIERS!$C$4,\"\",P372/(M372*S372))))","v":""},{"$f":"IF(ISERROR(Q372/($M372*T372)),\"\",IF((Q372/($M372*T372))<=OUTLIERS!$D$3,\"\",IF((Q372/($M372*T372))>=OUTLIERS!$D$4,\"\",Q372/($M372*T372))))","v":""},{"$f":"IF(ISERROR((M372*S372)/P372),\"\",IF((M372*S372/P372)<=OUTLIERS!$E$3,\"\",IF((M372*S372/P372)>=OUTLIERS!$E$4,\"\",M372*S372/P372)))","v":""},{"$f":"IF(ISERROR(O372/N372),\"\",IF(O372/N372<=OUTLIERS!$F$3,\"\",IF(O372/N372>=OUTLIERS!$F$4,\"\",O372/N372)))","v":6.7887755698684353},{"$f":"IF(ISERROR(U372/X372),\"\",IF(U372/X372<=OUTLIERS!$G$3,\"\",IF(U372/X372>=OUTLIERS!$G$4,\"\",U372/X372)))","v":5.6735117481464196E-2},{"$f":"IF(ISERROR(Q372/Y372),\"\",IF(Q372/Y372<=OUTLIERS!$H$3,\"\",IF(Q372/Y372>=OUTLIERS!$H$4,\"\",Q372/Y372)))","v":""},{"$f":"IF(ISERROR(W372),\"\",IF(W372<=OUTLIERS!$I$3,\"\",IF(W372>=OUTLIERS!$I$4,\"\",W372)))","v":0.4},106699083,13699083,93000000,3491043,"",38200,"n/a","n/a",174552,38200,0.4,3076613,25570895]
[372,9331,"GEF ","UNDP","Cross-cutting",{"$f":"IF(ISERROR(P373/(M373*S373)),\"\",IF((P373/(M373*S373))<=OUTLIERS!$C$3,\"\",IF((P373/(M373*S373))>=OUTLIERS!$C$4,\"\",P373/(M373*S373))))","v":""},{"$f":"IF(ISERROR(Q373/($M373*T373)),\"\",IF((Q373/($M373*T373))<=OUTLIERS!$D$3,\"\",IF((Q373/($M373*T373))>=OUTLIERS!$D$4,\"\",Q373/($M373*T373))))","v":""},{"$f":"IF(ISERROR((M373*S373)/P373),\"\",IF((M373*S373/P373)<=OUTLIERS!$E$3,\"\",IF((M373*S373/P373)>=OUTLIERS!$E$4,\"\",M373*S373/P373)))","v":""},{"$f":"IF(ISERROR(O373/N373),\"\",IF(O373/N373<=OUTLIERS!$F$3,\"\",IF(O373/N373>=OUTLIERS!$F$4,\"\",O373/N373)))","v":1.1749330570141436},{"$f":"IF(ISERROR(U373/X373),\"\",IF(U373/X373<=OUTLIERS!$G$3,\"\",IF(U373/X373>=OUTLIERS!$G$4,\"\",U373/X373)))","v":""},{"$f":"IF(ISERROR(Q373/Y373),\"\",IF(Q373/Y373<=OUTLIERS!$H$3,\"\",IF(Q373/Y373>=OUTLIERS!$H$4,\"\",Q373/Y373)))","v":""},{"$f":"IF(ISERROR(W373),\"\",IF(W373<=OUTLIERS!$I$3,\"\",IF(W373>=OUTLIERS!$I$4,\"\",W373)))","v":""},5784726,2659726,3125000,"n/a","","","n/a","n/a","n/a","n/a","n/a",166298450,197015955]
[373,9332,"GEF ","UNDP","Mitigation",{"$f":"IF(ISERROR(P374/(M374*S374)),\"\",IF((P374/(M374*S374))<=OUTLIERS!$C$3,\"\",IF((P374/(M374*S374))>=OUTLIERS!$C$4,\"\",P374/(M374*S374))))","v":0.27543024382881576},{"$f":"IF(ISERROR(Q374/($M374*T374)),\"\",IF((Q374/($M374*T374))<=OUTLIERS!$D$3,\"\",IF((Q374/($M374*T374))>=OUTLIERS!$D$4,\"\",Q374/($M374*T374))))","v":""},{"$f":"IF(ISERROR((M374*S374)/P374),\"\",IF((M374*S374/P374)<=OUTLIERS!$E$3,\"\",IF((M374*S374/P374)>=OUTLIERS!$E$4,\"\",M374*S374/P374)))","v":3.6306833487084873},{"$f":"IF(ISERROR(O374/N374),\"\",IF(O374/N374<=OUTLIERS!$F$3,\"\",IF(O374/N374>=OUTLIERS!$F$4,\"\",O374/N374)))","v":3.4978980000000002},{"$f":"IF(ISERROR(U374/X374),\"\",IF(U374/X374<=OUTLIERS!$G$3,\"\",IF(U374/X374>=OUTLIERS!$G$4,\"\",U374/X374)))","v":1.3432093769287997E-3},{"$f":"IF(ISERROR(Q374/Y374),\"\",IF(Q374/Y374<=OUTLIERS!$H$3,\"\",IF(Q374/Y374>=OUTLIERS!$H$4,\"\",Q374/Y374)))","v":""},{"$f":"IF(ISERROR(W374),\"\",IF(W374<=OUTLIERS!$I$3,\"\",IF(W374>=OUTLIERS!$I$4,\"\",W374)))","v":""},{"$f":"N374+O374","v":15742643},3500000,12242643,4336000,"","",1,0,333538.46153846156,"n/a","n/a",248314572,18037646]
[374,9333,"GEF ","UNDP","Cross-cutting",{"$f":"IF(ISERROR(P375/(M375*S375)),\"\",IF((P375/(M375*S375))<=OUTLIERS!$C$3,\"\",IF((P375/(M375*S375))>=OUTLIERS!$C$4,\"\",P375/(M375*S375))))","v":""},{"$f":"IF(ISERROR(Q375/($M375*T375)),\"\",IF((Q375/($M375*T375))<=OUTLIERS!$D$3,\"\",IF((Q375/($M375*T375))>=OUTLIERS!$D$4,\"\",Q375/($M375*T375))))","v":""},{"$f":"IF(ISERROR((M375*S375)/P375),\"\",IF((M375*S375/P375)<=OUTLIERS!$E$3,\"\",IF((M375*S375/P375)>=OUTLIERS!$E$4,\"\",M375*S375/P375)))","v":""},{"$f":"IF(ISERROR(O375/N375),\"\",IF(O375/N375<=OUTLIERS!$F$3,\"\",IF(O375/N375>=OUTLIERS!$F$4,\"\",O375/N375)))","v":9.3896713615023469E-2},{"$f":"IF(ISERROR(U375/X375),\"\",IF(U375/X375<=OUTLIERS!$G$3,\"\",IF(U375/X375>=OUTLIERS!$G$4,\"\",U375/X375)))","v":""},{"$f":"IF(ISERROR(Q375/Y375),\"\",IF(Q375/Y375<=OUTLIERS!$H$3,\"\",IF(Q375/Y375>=OUTLIERS!$H$4,\"\",Q375/Y375)))","v":""},{"$f":"IF(ISERROR(W375),\"\",IF(W375<=OUTLIERS!$I$3,\"\",IF(W375>=OUTLIERS!$I$4,\"\",W375)))","v":""},932000,852000,80000,"n/a","","","n/a","n/a","n/a","n/a","n/a",5188805,8921343]
[375,9334,"GEF ","UNDP","Cross-cutting",{"$f":"IF(ISERROR(P376/(M376*S376)),\"\",IF((P376/(M376*S376))<=OUTLIERS!$C$3,\"\",IF((P376/(M376*S376))>=OUTLIERS!$C$4,\"\",P376/(M376*S376))))","v":""},{"$f":"IF(ISERROR(Q376/($M376*T376)),\"\",IF((Q376/($M376*T376))<=OUTLIERS!$D$3,\"\",IF((Q376/($M376*T376))>=OUTLIERS!$D$4,\"\",Q376/($M376*T376))))","v":""},{"$f":"IF(ISERROR((M376*S376)/P376),\"\",IF((M376*S376/P376)<=OUTLIERS!$E$3,\"\",IF((M376*S376/P376)>=OUTLIERS!$E$4,\"\",M376*S376/P376)))","v":""},{"$f":"IF(ISERROR(O376/N376),\"\",IF(O376/N376<=OUTLIERS!$F$3,\"\",IF(O376/N376>=OUTLIERS!$F$4,\"\",O376/N376)))","v":1.0938446014127143},{"$f":"IF(ISERROR(U376/X376),\"\",IF(U376/X376<=OUTLIERS!$G$3,\"\",IF(U376/X376>=OUTLIERS!$G$4,\"\",U376/X376)))","v":""},{"$f":"IF(ISERROR(Q376/Y376),\"\",IF(Q376/Y376<=OUTLIERS!$H$3,\"\",IF(Q376/Y376>=OUTLIERS!$H$4,\"\",Q376/Y376)))","v":""},{"$f":"IF(ISERROR(W376),\"\",IF(W376<=OUTLIERS!$I$3,\"\",IF(W376>=OUTLIERS!$I$4,\"\",W376)))","v":""},2075000,991000,1084000,"n/a","","","n/a","n/a","n/a","n/a","n/a",201894019,97553151]
[376,9335,"GEF ","UNDP","Cross-cutting",{"$f":"IF(ISERROR(P377/(M377*S377)),\"\",IF((P377/(M377*S377))<=OUTLIERS!$C$3,\"\",IF((P377/(M377*S377))>=OUTLIERS!$C$4,\"\",P377/(M377*S377))))","v":""},{"$f":"IF(ISERROR(Q377/($M377*T377)),\"\",IF((Q377/($M377*T377))<=OUTLIERS!$D$3,\"\",IF((Q377/($M377*T377))>=OUTLIERS!$D$4,\"\",Q377/($M377*T377))))","v":""},{"$f":"IF(ISERROR((M377*S377)/P377),\"\",IF((M377*S377/P377)<=OUTLIERS!$E$3,\"\",IF((M377*S377/P377)>=OUTLIERS!$E$4,\"\",M377*S377/P377)))","v":""},{"$f":"IF(ISERROR(O377/N377),\"\",IF(O377/N377<=OUTLIERS!$F$3,\"\",IF(O377/N377>=OUTLIERS!$F$4,\"\",O377/N377)))","v":1.1666666666666667},{"$f":"IF(ISERROR(U377/X377),\"\",IF(U377/X377<=OUTLIERS!$G$3,\"\",IF(U377/X377>=OUTLIERS!$G$4,\"\",U377/X377)))","v":""},{"$f":"IF(ISERROR(Q377/Y377),\"\",IF(Q377/Y377<=OUTLIERS!$H$3,\"\",IF(Q377/Y377>=OUTLIERS!$H$4,\"\",Q377/Y377)))","v":""},{"$f":"IF(ISERROR(W377),\"\",IF(W377<=OUTLIERS!$I$3,\"\",IF(W377>=OUTLIERS!$I$4,\"\",W377)))","v":""},1950000,900000,1050000,"n/a","","","n/a","n/a","n/a","n/a","n/a",5229142,42862958]
[377,9336,"GEF ","UNDP","Mitigation",{"$f":"IF(ISERROR(P378/(M378*S378)),\"\",IF((P378/(M378*S378))<=OUTLIERS!$C$3,\"\",IF((P378/(M378*S378))>=OUTLIERS!$C$4,\"\",P378/(M378*S378))))","v":""},{"$f":"IF(ISERROR(Q378/($M378*T378)),\"\",IF((Q378/($M378*T378))<=OUTLIERS!$D$3,\"\",IF((Q378/($M378*T378))>=OUTLIERS!$D$4,\"\",Q378/($M378*T378))))","v":""},{"$f":"IF(ISERROR((M378*S378)/P378),\"\",IF((M378*S378/P378)<=OUTLIERS!$E$3,\"\",IF((M378*S378/P378)>=OUTLIERS!$E$4,\"\",M378*S378/P378)))","v":""},{"$f":"IF(ISERROR(O378/N378),\"\",IF(O378/N378<=OUTLIERS!$F$3,\"\",IF(O378/N378>=OUTLIERS!$F$4,\"\",O378/N378)))","v":0.20170454545454544},{"$f":"IF(ISERROR(U378/X378),\"\",IF(U378/X378<=OUTLIERS!$G$3,\"\",IF(U378/X378>=OUTLIERS!$G$4,\"\",U378/X378)))","v":""},{"$f":"IF(ISERROR(Q378/Y378),\"\",IF(Q378/Y378<=OUTLIERS!$H$3,\"\",IF(Q378/Y378>=OUTLIERS!$H$4,\"\",Q378/Y378)))","v":""},{"$f":"IF(ISERROR(W378),\"\",IF(W378<=OUTLIERS!$I$3,\"\",IF(W378>=OUTLIERS!$I$4,\"\",W378)))","v":""},423000,352000,71000,"n/a","","",1,0,"n/a","n/a","n/a",1411795,18541980]
[378,9337,"GEF ","UNEP","Mitigation",{"$f":"IF(ISERROR(P379/(M379*S379)),\"\",IF((P379/(M379*S379))<=OUTLIERS!$C$3,\"\",IF((P379/(M379*S379))>=OUTLIERS!$C$4,\"\",P379/(M379*S379))))","v":1.4071727051476328},{"$f":"IF(ISERROR(Q379/($M379*T379)),\"\",IF((Q379/($M379*T379))<=OUTLIERS!$D$3,\"\",IF((Q379/($M379*T379))>=OUTLIERS!$D$4,\"\",Q379/($M379*T379))))","v":""},{"$f":"IF(ISERROR((M379*S379)/P379),\"\",IF((M379*S379/P379)<=OUTLIERS!$E$3,\"\",IF((M379*S379/P379)>=OUTLIERS!$E$4,\"\",M379*S379/P379)))","v":0.71064482443545229},{"$f":"IF(ISERROR(O379/N379),\"\",IF(O379/N379<=OUTLIERS!$F$3,\"\",IF(O379/N379>=OUTLIERS!$F$4,\"\",O379/N379)))","v":6.024838709677419},{"$f":"IF(ISERROR(U379/X379),\"\",IF(U379/X379<=OUTLIERS!$G$3,\"\",IF(U379/X379>=OUTLIERS!$G$4,\"\",U379/X379)))","v":1.8046970583083122E-2},{"$f":"IF(ISERROR(Q379/Y379),\"\",IF(Q379/Y379<=OUTLIERS!$H$3,\"\",IF(Q379/Y379>=OUTLIERS!$H$4,\"\",Q379/Y379)))","v":""},{"$f":"IF(ISERROR(W379),\"\",IF(W379<=OUTLIERS!$I$3,\"\",IF(W379>=OUTLIERS!$I$4,\"\",W379)))","v":""},21777000,3100000,18677000,30644000,"","",1,0,3064400,"n/a","n/a",169801351.75,58392842.75]
[379,9340,"GEF ","WorldBank","Cross-cutting",{"$f":"IF(ISERROR(P380/(M380*S380)),\"\",IF((P380/(M380*S380))<=OUTLIERS!$C$3,\"\",IF((P380/(M380*S380))>=OUTLIERS!$C$4,\"\",P380/(M380*S380))))","v":""},{"$f":"IF(ISERROR(Q380/($M380*T380)),\"\",IF((Q380/($M380*T380))<=OUTLIERS!$D$3,\"\",IF((Q380/($M380*T380))>=OUTLIERS!$D$4,\"\",Q380/($M380*T380))))","v":""},{"$f":"IF(ISERROR((M380*S380)/P380),\"\",IF((M380*S380/P380)<=OUTLIERS!$E$3,\"\",IF((M380*S380/P380)>=OUTLIERS!$E$4,\"\",M380*S380/P380)))","v":""},{"$f":"IF(ISERROR(O380/N380),\"\",IF(O380/N380<=OUTLIERS!$F$3,\"\",IF(O380/N380>=OUTLIERS!$F$4,\"\",O380/N380)))","v":1.7229453719807732},{"$f":"IF(ISERROR(U380/X380),\"\",IF(U380/X380<=OUTLIERS!$G$3,\"\",IF(U380/X380>=OUTLIERS!$G$4,\"\",U380/X380)))","v":""},{"$f":"IF(ISERROR(Q380/Y380),\"\",IF(Q380/Y380<=OUTLIERS!$H$3,\"\",IF(Q380/Y380>=OUTLIERS!$H$4,\"\",Q380/Y380)))","v":""},{"$f":"IF(ISERROR(W380),\"\",IF(W380<=OUTLIERS!$I$3,\"\",IF(W380>=OUTLIERS!$I$4,\"\",W380)))","v":""},34768832,12768832,22000000,"n/a","","","n/a","n/a","n/a","n/a","n/a",14466315,28833629]
[380,9341,"GEF ","UNDP","Cross-cutting",{"$f":"IF(ISERROR(P381/(M381*S381)),\"\",IF((P381/(M381*S381))<=OUTLIERS!$C$3,\"\",IF((P381/(M381*S381))>=OUTLIERS!$C$4,\"\",P381/(M381*S381))))","v":""},{"$f":"IF(ISERROR(Q381/($M381*T381)),\"\",IF((Q381/($M381*T381))<=OUTLIERS!$D$3,\"\",IF((Q381/($M381*T381))>=OUTLIERS!$D$4,\"\",Q381/($M381*T381))))","v":""},{"$f":"IF(ISERROR((M381*S381)/P381),\"\",IF((M381*S381/P381)<=OUTLIERS!$E$3,\"\",IF((M381*S381/P381)>=OUTLIERS!$E$4,\"\",M381*S381/P381)))","v":""},{"$f":"IF(ISERROR(O381/N381),\"\",IF(O381/N381<=OUTLIERS!$F$3,\"\",IF(O381/N381>=OUTLIERS!$F$4,\"\",O381/N381)))","v":1.0344827586206897},{"$f":"IF(ISERROR(U381/X381),\"\",IF(U381/X381<=OUTLIERS!$G$3,\"\",IF(U381/X381>=OUTLIERS!$G$4,\"\",U381/X381)))","v":""},{"$f":"IF(ISERROR(Q381/Y381),\"\",IF(Q381/Y381<=OUTLIERS!$H$3,\"\",IF(Q381/Y381>=OUTLIERS!$H$4,\"\",Q381/Y381)))","v":""},{"$f":"IF(ISERROR(W381),\"\",IF(W381<=OUTLIERS!$I$3,\"\",IF(W381>=OUTLIERS!$I$4,\"\",W381)))","v":""},2950000,1450000,1500000,"n/a","","","n/a","n/a","n/a","n/a","n/a",469376,1296311]
[381,9342,"GEF ","UNDP","Mitigation",{"$f":"IF(ISERROR(P382/(M382*S382)),\"\",IF((P382/(M382*S382))<=OUTLIERS!$C$3,\"\",IF((P382/(M382*S382))>=OUTLIERS!$C$4,\"\",P382/(M382*S382))))","v":7.9936051159072742E-3},{"$f":"IF(ISERROR(Q382/($M382*T382)),\"\",IF((Q382/($M382*T382))<=OUTLIERS!$D$3,\"\",IF((Q382/($M382*T382))>=OUTLIERS!$D$4,\"\",Q382/($M382*T382))))","v":""},{"$f":"IF(ISERROR((M382*S382)/P382),\"\",IF((M382*S382/P382)<=OUTLIERS!$E$3,\"\",IF((M382*S382/P382)>=OUTLIERS!$E$4,\"\",M382*S382/P382)))","v":125.1},{"$f":"IF(ISERROR(O382/N382),\"\",IF(O382/N382<=OUTLIERS!$F$3,\"\",IF(O382/N382>=OUTLIERS!$F$4,\"\",O382/N382)))","v":5.4153846153846157},{"$f":"IF(ISERROR(U382/X382),\"\",IF(U382/X382<=OUTLIERS!$G$3,\"\",IF(U382/X382>=OUTLIERS!$G$4,\"\",U382/X382)))","v":1.327406939216231E-4},{"$f":"IF(ISERROR(Q382/Y382),\"\",IF(Q382/Y382<=OUTLIERS!$H$3,\"\",IF(Q382/Y382>=OUTLIERS!$H$4,\"\",Q382/Y382)))","v":""},{"$f":"IF(ISERROR(W382),\"\",IF(W382<=OUTLIERS!$I$3,\"\",IF(W382>=OUTLIERS!$I$4,\"\",W382)))","v":0.45},12510000,1950000,10560000,100000,"",15000,1,0,5000,15000,0.45,37667424,7022268]
[382,9354,"GEF ","IDB","Mitigation",{"$f":"IF(ISERROR(P383/(M383*S383)),\"\",IF((P383/(M383*S383))<=OUTLIERS!$C$3,\"\",IF((P383/(M383*S383))>=OUTLIERS!$C$4,\"\",P383/(M383*S383))))","v":3.6195689544510764E-3},{"$f":"IF(ISERROR(Q383/($M383*T383)),\"\",IF((Q383/($M383*T383))<=OUTLIERS!$D$3,\"\",IF((Q383/($M383*T383))>=OUTLIERS!$D$4,\"\",Q383/($M383*T383))))","v":""},{"$f":"IF(ISERROR((M383*S383)/P383),\"\",IF((M383*S383/P383)<=OUTLIERS!$E$3,\"\",IF((M383*S383/P383)>=OUTLIERS!$E$4,\"\",M383*S383/P383)))","v":276.2759910321019},{"$f":"IF(ISERROR(O383/N383),\"\",IF(O383/N383<=OUTLIERS!$F$3,\"\",IF(O383/N383>=OUTLIERS!$F$4,\"\",O383/N383)))","v":12.926777431896886},{"$f":"IF(ISERROR(U383/X383),\"\",IF(U383/X383<=OUTLIERS!$G$3,\"\",IF(U383/X383>=OUTLIERS!$G$4,\"\",U383/X383)))","v":1.3700528913431636E-4},{"$f":"IF(ISERROR(Q383/Y383),\"\",IF(Q383/Y383<=OUTLIERS!$H$3,\"\",IF(Q383/Y383>=OUTLIERS!$H$4,\"\",Q383/Y383)))","v":""},{"$f":"IF(ISERROR(W383),\"\",IF(W383<=OUTLIERS!$I$3,\"\",IF(W383>=OUTLIERS!$I$4,\"\",W383)))","v":""},27849725,1999725,25850000,100804,"","",1,0,11521,"n/a","n/a",84091644,49065615]
[383,9355,"GEF ","ADB","Mitigation",{"$f":"IF(ISERROR(P384/(M384*S384)),\"\",IF((P384/(M384*S384))<=OUTLIERS!$C$3,\"\",IF((P384/(M384*S384))>=OUTLIERS!$C$4,\"\",P384/(M384*S384))))","v":2.087080476362324E-3},{"$f":"IF(ISERROR(Q384/($M384*T384)),\"\",IF((Q384/($M384*T384))<=OUTLIERS!$D$3,\"\",IF((Q384/($M384*T384))>=OUTLIERS!$D$4,\"\",Q384/($M384*T384))))","v":""},{"$f":"IF(ISERROR((M384*S384)/P384),\"\",IF((M384*S384/P384)<=OUTLIERS!$E$3,\"\",IF((M384*S384/P384)>=OUTLIERS!$E$4,\"\",M384*S384/P384)))","v":479.13820828938498},{"$f":"IF(ISERROR(O384/N384),\"\",IF(O384/N384<=OUTLIERS!$F$3,\"\",IF(O384/N384>=OUTLIERS!$F$4,\"\",O384/N384)))","v":9.4991192637052162},{"$f":"IF(ISERROR(U384/X384),\"\",IF(U384/X384<=OUTLIERS!$G$3,\"\",IF(U384/X384>=OUTLIERS!$G$4,\"\",U384/X384)))","v":1.9006536595846658E-2},{"$f":"IF(ISERROR(Q384/Y384),\"\",IF(Q384/Y384<=OUTLIERS!$H$3,\"\",IF(Q384/Y384>=OUTLIERS!$H$4,\"\",Q384/Y384)))","v":""},{"$f":"IF(ISERROR(W384),\"\",IF(W384<=OUTLIERS!$I$3,\"\",IF(W384>=OUTLIERS!$I$4,\"\",W384)))","v":0.5},27710000,2639269,25070731,57833,"","",1,0,2300,"n/a",0.5,121011,108020]
[384,9364,"GEF ","WorldBank","Adaptation",{"$f":"IF(ISERROR(P385/(M385*S385)),\"\",IF((P385/(M385*S385))<=OUTLIERS!$C$3,\"\",IF((P385/(M385*S385))>=OUTLIERS!$C$4,\"\",P385/(M385*S385))))","v":""},{"$f":"IF(ISERROR(Q385/($M385*T385)),\"\",IF((Q385/($M385*T385))<=OUTLIERS!$D$3,\"\",IF((Q385/($M385*T385))>=OUTLIERS!$D$4,\"\",Q385/($M385*T385))))","v":""},{"$f":"IF(ISERROR((M385*S385)/P385),\"\",IF((M385*S385/P385)<=OUTLIERS!$E$3,\"\",IF((M385*S385/P385)>=OUTLIERS!$E$4,\"\",M385*S385/P385)))","v":""},{"$f":"IF(ISERROR(O385/N385),\"\",IF(O385/N385<=OUTLIERS!$F$3,\"\",IF(O385/N385>=OUTLIERS!$F$4,\"\",O385/N385)))","v":1.4},{"$f":"IF(ISERROR(U385/X385),\"\",IF(U385/X385<=OUTLIERS!$G$3,\"\",IF(U385/X385>=OUTLIERS!$G$4,\"\",U385/X385)))","v":""},{"$f":"IF(ISERROR(Q385/Y385),\"\",IF(Q385/Y385<=OUTLIERS!$H$3,\"\",IF(Q385/Y385>=OUTLIERS!$H$4,\"\",Q385/Y385)))","v":""},{"$f":"IF(ISERROR(W385),\"\",IF(W385<=OUTLIERS!$I$3,\"\",IF(W385>=OUTLIERS!$I$4,\"\",W385)))","v":""},14400000,6000000,8400000,"n/a","","",0,1,"n/a","n/a","n/a",113677,204327]
[385,9367,"GEF ","UNDP","Mitigation",{"$f":"IF(ISERROR(P386/(M386*S386)),\"\",IF((P386/(M386*S386))<=OUTLIERS!$C$3,\"\",IF((P386/(M386*S386))>=OUTLIERS!$C$4,\"\",P386/(M386*S386))))","v":2.3197192427616398E-3},{"$f":"IF(ISERROR(Q386/($M386*T386)),\"\",IF((Q386/($M386*T386))<=OUTLIERS!$D$3,\"\",IF((Q386/($M386*T386))>=OUTLIERS!$D$4,\"\",Q386/($M386*T386))))","v":""},{"$f":"IF(ISERROR((M386*S386)/P386),\"\",IF((M386*S386/P386)<=OUTLIERS!$E$3,\"\",IF((M386*S386/P386)>=OUTLIERS!$E$4,\"\",M386*S386/P386)))","v":431.0866511627907},{"$f":"IF(ISERROR(O386/N386),\"\",IF(O386/N386<=OUTLIERS!$F$3,\"\",IF(O386/N386>=OUTLIERS!$F$4,\"\",O386/N386)))","v":6.0222159421091428},{"$f":"IF(ISERROR(U386/X386),\"\",IF(U386/X386<=OUTLIERS!$G$3,\"\",IF(U386/X386>=OUTLIERS!$G$4,\"\",U386/X386)))","v":2.8635425417536135E-3},{"$f":"IF(ISERROR(Q386/Y386),\"\",IF(Q386/Y386<=OUTLIERS!$H$3,\"\",IF(Q386/Y386>=OUTLIERS!$H$4,\"\",Q386/Y386)))","v":""},{"$f":"IF(ISERROR(W386),\"\",IF(W386<=OUTLIERS!$I$3,\"\",IF(W386>=OUTLIERS!$I$4,\"\",W386)))","v":0.5},18536726,2639726,15897000,43000,"",{"$f":"IF(V386=\"n/a\",\"\",V386)","v":300000},1,0,2866.6666666666665,300000,0.5,1001091,807610]
[386,9368,"GEF ","UNDP","Mitigation",{"$f":"IF(ISERROR(P387/(M387*S387)),\"\",IF((P387/(M387*S387))<=OUTLIERS!$C$3,\"\",IF((P387/(M387*S387))>=OUTLIERS!$C$4,\"\",P387/(M387*S387))))","v":3.0599198318846145E-2},{"$f":"IF(ISERROR(Q387/($M387*T387)),\"\",IF((Q387/($M387*T387))<=OUTLIERS!$D$3,\"\",IF((Q387/($M387*T387))>=OUTLIERS!$D$4,\"\",Q387/($M387*T387))))","v":""},{"$f":"IF(ISERROR((M387*S387)/P387),\"\",IF((M387*S387/P387)<=OUTLIERS!$E$3,\"\",IF((M387*S387/P387)>=OUTLIERS!$E$4,\"\",M387*S387/P387)))","v":32.680594752186586},{"$f":"IF(ISERROR(O387/N387),\"\",IF(O387/N387<=OUTLIERS!$F$3,\"\",IF(O387/N387>=OUTLIERS!$F$4,\"\",O387/N387)))","v":6.4376388405997114},{"$f":"IF(ISERROR(U387/X387),\"\",IF(U387/X387<=OUTLIERS!$G$3,\"\",IF(U387/X387>=OUTLIERS!$G$4,\"\",U387/X387)))","v":1.1716136979089107E-3},{"$f":"IF(ISERROR(Q387/Y387),\"\",IF(Q387/Y387<=OUTLIERS!$H$3,\"\",IF(Q387/Y387>=OUTLIERS!$H$4,\"\",Q387/Y387)))","v":""},{"$f":"IF(ISERROR(W387),\"\",IF(W387<=OUTLIERS!$I$3,\"\",IF(W387>=OUTLIERS!$I$4,\"\",W387)))","v":0.5},28023610,3767810,24255800,857500,{"$f":"IF(E387=\"adaptation\",R387,\"\")","v":""},8021200,1,0,85750,8021200,0.5,73189653,164669751]
[387,9375,"GEF ","UNDP","Cross-cutting",{"$f":"IF(ISERROR(P388/(M388*S388)),\"\",IF((P388/(M388*S388))<=OUTLIERS!$C$3,\"\",IF((P388/(M388*S388))>=OUTLIERS!$C$4,\"\",P388/(M388*S388))))","v":""},{"$f":"IF(ISERROR(Q388/($M388*T388)),\"\",IF((Q388/($M388*T388))<=OUTLIERS!$D$3,\"\",IF((Q388/($M388*T388))>=OUTLIERS!$D$4,\"\",Q388/($M388*T388))))","v":""},{"$f":"IF(ISERROR((M388*S388)/P388),\"\",IF((M388*S388/P388)<=OUTLIERS!$E$3,\"\",IF((M388*S388/P388)>=OUTLIERS!$E$4,\"\",M388*S388/P388)))","v":""},{"$f":"IF(ISERROR(O388/N388),\"\",IF(O388/N388<=OUTLIERS!$F$3,\"\",IF(O388/N388>=OUTLIERS!$F$4,\"\",O388/N388)))","v":0.67488262910798125},{"$f":"IF(ISERROR(U388/X388),\"\",IF(U388/X388<=OUTLIERS!$G$3,\"\",IF(U388/X388>=OUTLIERS!$G$4,\"\",U388/X388)))","v":""},{"$f":"IF(ISERROR(Q388/Y388),\"\",IF(Q388/Y388<=OUTLIERS!$H$3,\"\",IF(Q388/Y388>=OUTLIERS!$H$4,\"\",Q388/Y388)))","v":""},{"$f":"IF(ISERROR(W388),\"\",IF(W388<=OUTLIERS!$I$3,\"\",IF(W388>=OUTLIERS!$I$4,\"\",W388)))","v":""},1427000,852000,575000,"n/a","","","n/a","n/a","n/a","n/a","n/a",37487741,9862429]
[388,9378,"GEF ","UNDP","Mitigation",{"$f":"IF(ISERROR(P389/(M389*S389)),\"\",IF((P389/(M389*S389))<=OUTLIERS!$C$3,\"\",IF((P389/(M389*S389))>=OUTLIERS!$C$4,\"\",P389/(M389*S389))))","v":""},{"$f":"IF(ISERROR(Q389/($M389*T389)),\"\",IF((Q389/($M389*T389))<=OUTLIERS!$D$3,\"\",IF((Q389/($M389*T389))>=OUTLIERS!$D$4,\"\",Q389/($M389*T389))))","v":""},{"$f":"IF(ISERROR((M389*S389)/P389),\"\",IF((M389*S389/P389)<=OUTLIERS!$E$3,\"\",IF((M389*S389/P389)>=OUTLIERS!$E$4,\"\",M389*S389/P389)))","v":""},{"$f":"IF(ISERROR(O389/N389),\"\",IF(O389/N389<=OUTLIERS!$F$3,\"\",IF(O389/N389>=OUTLIERS!$F$4,\"\",O389/N389)))","v":0.14204545454545456},{"$f":"IF(ISERROR(U389/X389),\"\",IF(U389/X389<=OUTLIERS!$G$3,\"\",IF(U389/X389>=OUTLIERS!$G$4,\"\",U389/X389)))","v":""},{"$f":"IF(ISERROR(Q389/Y389),\"\",IF(Q389/Y389<=OUTLIERS!$H$3,\"\",IF(Q389/Y389>=OUTLIERS!$H$4,\"\",Q389/Y389)))","v":""},{"$f":"IF(ISERROR(W389),\"\",IF(W389<=OUTLIERS!$I$3,\"\",IF(W389>=OUTLIERS!$I$4,\"\",W389)))","v":""},402000,352000,50000,"n/a","","",1,0,"n/a","n/a","n/a",24070188,6082357]
[389,9383,"GEF ","AfDB","Cross-cutting",{"$f":"IF(ISERROR(P390/(M390*S390)),\"\",IF((P390/(M390*S390))<=OUTLIERS!$C$3,\"\",IF((P390/(M390*S390))>=OUTLIERS!$C$4,\"\",P390/(M390*S390))))","v":""},{"$f":"IF(ISERROR(Q390/($M390*T390)),\"\",IF((Q390/($M390*T390))<=OUTLIERS!$D$3,\"\",IF((Q390/($M390*T390))>=OUTLIERS!$D$4,\"\",Q390/($M390*T390))))","v":""},{"$f":"IF(ISERROR((M390*S390)/P390),\"\",IF((M390*S390/P390)<=OUTLIERS!$E$3,\"\",IF((M390*S390/P390)>=OUTLIERS!$E$4,\"\",M390*S390/P390)))","v":""},{"$f":"IF(ISERROR(O390/N390),\"\",IF(O390/N390<=OUTLIERS!$F$3,\"\",IF(O390/N390>=OUTLIERS!$F$4,\"\",O390/N390)))","v":6.0634296402365084},{"$f":"IF(ISERROR(U390/X390),\"\",IF(U390/X390<=OUTLIERS!$G$3,\"\",IF(U390/X390>=OUTLIERS!$G$4,\"\",U390/X390)))","v":0.13469924619842771},{"$f":"IF(ISERROR(Q390/Y390),\"\",IF(Q390/Y390<=OUTLIERS!$H$3,\"\",IF(Q390/Y390>=OUTLIERS!$H$4,\"\",Q390/Y390)))","v":""},{"$f":"IF(ISERROR(W390),\"\",IF(W390<=OUTLIERS!$I$3,\"\",IF(W390>=OUTLIERS!$I$4,\"\",W390)))","v":""},18557226,2627226,15930000,8510623,"","","n/a","n/a",851062.3,"n/a","n/a",6318241,11175692]
[390,9385,"GEF ","UNDP","Cross-cutting",{"$f":"IF(ISERROR(P391/(M391*S391)),\"\",IF((P391/(M391*S391))<=OUTLIERS!$C$3,\"\",IF((P391/(M391*S391))>=OUTLIERS!$C$4,\"\",P391/(M391*S391))))","v":""},{"$f":"IF(ISERROR(Q391/($M391*T391)),\"\",IF((Q391/($M391*T391))<=OUTLIERS!$D$3,\"\",IF((Q391/($M391*T391))>=OUTLIERS!$D$4,\"\",Q391/($M391*T391))))","v":""},{"$f":"IF(ISERROR((M391*S391)/P391),\"\",IF((M391*S391/P391)<=OUTLIERS!$E$3,\"\",IF((M391*S391/P391)>=OUTLIERS!$E$4,\"\",M391*S391/P391)))","v":""},{"$f":"IF(ISERROR(O391/N391),\"\",IF(O391/N391<=OUTLIERS!$F$3,\"\",IF(O391/N391>=OUTLIERS!$F$4,\"\",O391/N391)))","v":4.148602615772206},{"$f":"IF(ISERROR(U391/X391),\"\",IF(U391/X391<=OUTLIERS!$G$3,\"\",IF(U391/X391>=OUTLIERS!$G$4,\"\",U391/X391)))","v":0.32748114601729339},{"$f":"IF(ISERROR(Q391/Y391),\"\",IF(Q391/Y391<=OUTLIERS!$H$3,\"\",IF(Q391/Y391>=OUTLIERS!$H$4,\"\",Q391/Y391)))","v":""},{"$f":"IF(ISERROR(W391),\"\",IF(W391<=OUTLIERS!$I$3,\"\",IF(W391>=OUTLIERS!$I$4,\"\",W391)))","v":""},31991038,6213538,25777500,5500000,"","","n/a","n/a",275000,"n/a","n/a",839743,12208407]
[391,9387,"GEF ","UNDP","Cross-cutting",{"$f":"IF(ISERROR(P392/(M392*S392)),\"\",IF((P392/(M392*S392))<=OUTLIERS!$C$3,\"\",IF((P392/(M392*S392))>=OUTLIERS!$C$4,\"\",P392/(M392*S392))))","v":""},{"$f":"IF(ISERROR(Q392/($M392*T392)),\"\",IF((Q392/($M392*T392))<=OUTLIERS!$D$3,\"\",IF((Q392/($M392*T392))>=OUTLIERS!$D$4,\"\",Q392/($M392*T392))))","v":""},{"$f":"IF(ISERROR((M392*S392)/P392),\"\",IF((M392*S392/P392)<=OUTLIERS!$E$3,\"\",IF((M392*S392/P392)>=OUTLIERS!$E$4,\"\",M392*S392/P392)))","v":""},{"$f":"IF(ISERROR(O392/N392),\"\",IF(O392/N392<=OUTLIERS!$F$3,\"\",IF(O392/N392>=OUTLIERS!$F$4,\"\",O392/N392)))","v":7.031150230226566},{"$f":"IF(ISERROR(U392/X392),\"\",IF(U392/X392<=OUTLIERS!$G$3,\"\",IF(U392/X392>=OUTLIERS!$G$4,\"\",U392/X392)))","v":1.2791778131930021E-2},{"$f":"IF(ISERROR(Q392/Y392),\"\",IF(Q392/Y392<=OUTLIERS!$H$3,\"\",IF(Q392/Y392>=OUTLIERS!$H$4,\"\",Q392/Y392)))","v":""},{"$f":"IF(ISERROR(W392),\"\",IF(W392<=OUTLIERS!$I$3,\"\",IF(W392>=OUTLIERS!$I$4,\"\",W392)))","v":""},147346927,18346927,129000000,15796553,"",25000,"n/a","n/a",789827.65,25000,"n/a",61744946,32165485]
[392,9390,"GEF ","UNDP","Cross-cutting",{"$f":"IF(ISERROR(P393/(M393*S393)),\"\",IF((P393/(M393*S393))<=OUTLIERS!$C$3,\"\",IF((P393/(M393*S393))>=OUTLIERS!$C$4,\"\",P393/(M393*S393))))","v":""},{"$f":"IF(ISERROR(Q393/($M393*T393)),\"\",IF((Q393/($M393*T393))<=OUTLIERS!$D$3,\"\",IF((Q393/($M393*T393))>=OUTLIERS!$D$4,\"\",Q393/($M393*T393))))","v":""},{"$f":"IF(ISERROR((M393*S393)/P393),\"\",IF((M393*S393/P393)<=OUTLIERS!$E$3,\"\",IF((M393*S393/P393)>=OUTLIERS!$E$4,\"\",M393*S393/P393)))","v":""},{"$f":"IF(ISERROR(O393/N393),\"\",IF(O393/N393<=OUTLIERS!$F$3,\"\",IF(O393/N393>=OUTLIERS!$F$4,\"\",O393/N393)))","v":1},{"$f":"IF(ISERROR(U393/X393),\"\",IF(U393/X393<=OUTLIERS!$G$3,\"\",IF(U393/X393>=OUTLIERS!$G$4,\"\",U393/X393)))","v":""},{"$f":"IF(ISERROR(Q393/Y393),\"\",IF(Q393/Y393<=OUTLIERS!$H$3,\"\",IF(Q393/Y393>=OUTLIERS!$H$4,\"\",Q393/Y393)))","v":""},{"$f":"IF(ISERROR(W393),\"\",IF(W393<=OUTLIERS!$I$3,\"\",IF(W393>=OUTLIERS!$I$4,\"\",W393)))","v":""},3000000,1500000,1500000,"n/a","","","n/a","n/a","n/a","n/a","n/a",935085,4731906]
[393,9391,"GEF ","IUCN","Cross-cutting",{"$f":"IF(ISERROR(P394/(M394*S394)),\"\",IF((P394/(M394*S394))<=OUTLIERS!$C$3,\"\",IF((P394/(M394*S394))>=OUTLIERS!$C$4,\"\",P394/(M394*S394))))","v":""},{"$f":"IF(ISERROR(Q394/($M394*T394)),\"\",IF((Q394/($M394*T394))<=OUTLIERS!$D$3,\"\",IF((Q394/($M394*T394))>=OUTLIERS!$D$4,\"\",Q394/($M394*T394))))","v":""},{"$f":"IF(ISERROR((M394*S394)/P394),\"\",IF((M394*S394/P394)<=OUTLIERS!$E$3,\"\",IF((M394*S394/P394)>=OUTLIERS!$E$4,\"\",M394*S394/P394)))","v":""},{"$f":"IF(ISERROR(O394/N394),\"\",IF(O394/N394<=OUTLIERS!$F$3,\"\",IF(O394/N394>=OUTLIERS!$F$4,\"\",O394/N394)))","v":1.165},{"$f":"IF(ISERROR(U394/X394),\"\",IF(U394/X394<=OUTLIERS!$G$3,\"\",IF(U394/X394>=OUTLIERS!$G$4,\"\",U394/X394)))","v":""},{"$f":"IF(ISERROR(Q394/Y394),\"\",IF(Q394/Y394<=OUTLIERS!$H$3,\"\",IF(Q394/Y394>=OUTLIERS!$H$4,\"\",Q394/Y394)))","v":""},{"$f":"IF(ISERROR(W394),\"\",IF(W394<=OUTLIERS!$I$3,\"\",IF(W394>=OUTLIERS!$I$4,\"\",W394)))","v":""},4330000,2000000,2330000,"n/a","","","n/a","n/a","n/a","n/a","n/a","",""]
[394,9392,"GEF ","UNDP","Adaptation",{"$f":"IF(ISERROR(P395/(M395*S395)),\"\",IF((P395/(M395*S395))<=OUTLIERS!$C$3,\"\",IF((P395/(M395*S395))>=OUTLIERS!$C$4,\"\",P395/(M395*S395))))","v":""},{"$f":"IF(ISERROR(Q395/($M395*T395)),\"\",IF((Q395/($M395*T395))<=OUTLIERS!$D$3,\"\",IF((Q395/($M395*T395))>=OUTLIERS!$D$4,\"\",Q395/($M395*T395))))","v":""},{"$f":"IF(ISERROR((M395*S395)/P395),\"\",IF((M395*S395/P395)<=OUTLIERS!$E$3,\"\",IF((M395*S395/P395)>=OUTLIERS!$E$4,\"\",M395*S395/P395)))","v":""},{"$f":"IF(ISERROR(O395/N395),\"\",IF(O395/N395<=OUTLIERS!$F$3,\"\",IF(O395/N395>=OUTLIERS!$F$4,\"\",O395/N395)))","v":2.413952077646345},{"$f":"IF(ISERROR(U395/X395),\"\",IF(U395/X395<=OUTLIERS!$G$3,\"\",IF(U395/X395>=OUTLIERS!$G$4,\"\",U395/X395)))","v":""},{"$f":"IF(ISERROR(Q395/Y395),\"\",IF(Q395/Y395<=OUTLIERS!$H$3,\"\",IF(Q395/Y395>=OUTLIERS!$H$4,\"\",Q395/Y395)))","v":""},{"$f":"IF(ISERROR(W395),\"\",IF(W395<=OUTLIERS!$I$3,\"\",IF(W395>=OUTLIERS!$I$4,\"\",W395)))","v":""},28139500,8242500,19897000,"n/a","","",0,1,"n/a","n/a","n/a",4671758,81339988]
[395,9393,"GEF ","BOAD","Mitigation",{"$f":"IF(ISERROR(P396/(M396*S396)),\"\",IF((P396/(M396*S396))<=OUTLIERS!$C$3,\"\",IF((P396/(M396*S396))>=OUTLIERS!$C$4,\"\",P396/(M396*S396))))","v":""},{"$f":"IF(ISERROR(Q396/($M396*T396)),\"\",IF((Q396/($M396*T396))<=OUTLIERS!$D$3,\"\",IF((Q396/($M396*T396))>=OUTLIERS!$D$4,\"\",Q396/($M396*T396))))","v":""},{"$f":"IF(ISERROR((M396*S396)/P396),\"\",IF((M396*S396/P396)<=OUTLIERS!$E$3,\"\",IF((M396*S396/P396)>=OUTLIERS!$E$4,\"\",M396*S396/P396)))","v":""},{"$f":"IF(ISERROR(O396/N396),\"\",IF(O396/N396<=OUTLIERS!$F$3,\"\",IF(O396/N396>=OUTLIERS!$F$4,\"\",O396/N396)))","v":6.3902439024390247},{"$f":"IF(ISERROR(U396/X396),\"\",IF(U396/X396<=OUTLIERS!$G$3,\"\",IF(U396/X396>=OUTLIERS!$G$4,\"\",U396/X396)))","v":""},{"$f":"IF(ISERROR(Q396/Y396),\"\",IF(Q396/Y396<=OUTLIERS!$H$3,\"\",IF(Q396/Y396>=OUTLIERS!$H$4,\"\",Q396/Y396)))","v":""},{"$f":"IF(ISERROR(W396),\"\",IF(W396<=OUTLIERS!$I$3,\"\",IF(W396>=OUTLIERS!$I$4,\"\",W396)))","v":""},19392000,2624000,16768000,"n/a","","",1,0,"n/a","n/a","n/a",2621905,7797694]
[396,9394,"GEF ","UNDP","Mitigation",{"$f":"IF(ISERROR(P397/(M397*S397)),\"\",IF((P397/(M397*S397))<=OUTLIERS!$C$3,\"\",IF((P397/(M397*S397))>=OUTLIERS!$C$4,\"\",P397/(M397*S397))))","v":""},{"$f":"IF(ISERROR(Q397/($M397*T397)),\"\",IF((Q397/($M397*T397))<=OUTLIERS!$D$3,\"\",IF((Q397/($M397*T397))>=OUTLIERS!$D$4,\"\",Q397/($M397*T397))))","v":""},{"$f":"IF(ISERROR((M397*S397)/P397),\"\",IF((M397*S397/P397)<=OUTLIERS!$E$3,\"\",IF((M397*S397/P397)>=OUTLIERS!$E$4,\"\",M397*S397/P397)))","v":""},{"$f":"IF(ISERROR(O397/N397),\"\",IF(O397/N397<=OUTLIERS!$F$3,\"\",IF(O397/N397>=OUTLIERS!$F$4,\"\",O397/N397)))","v":0.20994318181818181},{"$f":"IF(ISERROR(U397/X397),\"\",IF(U397/X397<=OUTLIERS!$G$3,\"\",IF(U397/X397>=OUTLIERS!$G$4,\"\",U397/X397)))","v":""},{"$f":"IF(ISERROR(Q397/Y397),\"\",IF(Q397/Y397<=OUTLIERS!$H$3,\"\",IF(Q397/Y397>=OUTLIERS!$H$4,\"\",Q397/Y397)))","v":""},{"$f":"IF(ISERROR(W397),\"\",IF(W397<=OUTLIERS!$I$3,\"\",IF(W397>=OUTLIERS!$I$4,\"\",W397)))","v":""},425900,352000,73900,"n/a","","",1,0,"n/a","n/a","n/a",7510016,2083160]
[397,9398,"GEF ","UNDP","Mitigation",{"$f":"IF(ISERROR(P398/(M398*S398)),\"\",IF((P398/(M398*S398))<=OUTLIERS!$C$3,\"\",IF((P398/(M398*S398))>=OUTLIERS!$C$4,\"\",P398/(M398*S398))))","v":""},{"$f":"IF(ISERROR(Q398/($M398*T398)),\"\",IF((Q398/($M398*T398))<=OUTLIERS!$D$3,\"\",IF((Q398/($M398*T398))>=OUTLIERS!$D$4,\"\",Q398/($M398*T398))))","v":""},{"$f":"IF(ISERROR((M398*S398)/P398),\"\",IF((M398*S398/P398)<=OUTLIERS!$E$3,\"\",IF((M398*S398/P398)>=OUTLIERS!$E$4,\"\",M398*S398/P398)))","v":""},{"$f":"IF(ISERROR(O398/N398),\"\",IF(O398/N398<=OUTLIERS!$F$3,\"\",IF(O398/N398>=OUTLIERS!$F$4,\"\",O398/N398)))","v":0.25852272727272729},{"$f":"IF(ISERROR(U398/X398),\"\",IF(U398/X398<=OUTLIERS!$G$3,\"\",IF(U398/X398>=OUTLIERS!$G$4,\"\",U398/X398)))","v":""},{"$f":"IF(ISERROR(Q398/Y398),\"\",IF(Q398/Y398<=OUTLIERS!$H$3,\"\",IF(Q398/Y398>=OUTLIERS!$H$4,\"\",Q398/Y398)))","v":""},{"$f":"IF(ISERROR(W398),\"\",IF(W398<=OUTLIERS!$I$3,\"\",IF(W398>=OUTLIERS!$I$4,\"\",W398)))","v":""},443000,352000,91000,"n/a","","",1,0,"n/a","n/a","n/a",6747280,3456750]
[398,9400,"GEF ","UNDP","Cross-cutting",{"$f":"IF(ISERROR(P399/(M399*S399)),\"\",IF((P399/(M399*S399))<=OUTLIERS!$C$3,\"\",IF((P399/(M399*S399))>=OUTLIERS!$C$4,\"\",P399/(M399*S399))))","v":""},{"$f":"IF(ISERROR(Q399/($M399*T399)),\"\",IF((Q399/($M399*T399))<=OUTLIERS!$D$3,\"\",IF((Q399/($M399*T399))>=OUTLIERS!$D$4,\"\",Q399/($M399*T399))))","v":""},{"$f":"IF(ISERROR((M399*S399)/P399),\"\",IF((M399*S399/P399)<=OUTLIERS!$E$3,\"\",IF((M399*S399/P399)>=OUTLIERS!$E$4,\"\",M399*S399/P399)))","v":""},{"$f":"IF(ISERROR(O399/N399),\"\",IF(O399/N399<=OUTLIERS!$F$3,\"\",IF(O399/N399>=OUTLIERS!$F$4,\"\",O399/N399)))","v":4.4387225665234249},{"$f":"IF(ISERROR(U399/X399),\"\",IF(U399/X399<=OUTLIERS!$G$3,\"\",IF(U399/X399>=OUTLIERS!$G$4,\"\",U399/X399)))","v":1.4270824441096135E-2},{"$f":"IF(ISERROR(Q399/Y399),\"\",IF(Q399/Y399<=OUTLIERS!$H$3,\"\",IF(Q399/Y399>=OUTLIERS!$H$4,\"\",Q399/Y399)))","v":""},{"$f":"IF(ISERROR(W399),\"\",IF(W399<=OUTLIERS!$I$3,\"\",IF(W399>=OUTLIERS!$I$4,\"\",W399)))","v":""},28181671,5181671,23000000,3300000,"","","n/a","n/a",165000,"n/a","n/a",11562051,57310019]
[399,9405,"GEF ","UNEP","Cross-cutting",{"$f":"IF(ISERROR(P400/(M400*S400)),\"\",IF((P400/(M400*S400))<=OUTLIERS!$C$3,\"\",IF((P400/(M400*S400))>=OUTLIERS!$C$4,\"\",P400/(M400*S400))))","v":""},{"$f":"IF(ISERROR(Q400/($M400*T400)),\"\",IF((Q400/($M400*T400))<=OUTLIERS!$D$3,\"\",IF((Q400/($M400*T400))>=OUTLIERS!$D$4,\"\",Q400/($M400*T400))))","v":""},{"$f":"IF(ISERROR((M400*S400)/P400),\"\",IF((M400*S400/P400)<=OUTLIERS!$E$3,\"\",IF((M400*S400/P400)>=OUTLIERS!$E$4,\"\",M400*S400/P400)))","v":""},{"$f":"IF(ISERROR(O400/N400),\"\",IF(O400/N400<=OUTLIERS!$F$3,\"\",IF(O400/N400>=OUTLIERS!$F$4,\"\",O400/N400)))","v":7.4620566385327551},{"$f":"IF(ISERROR(U400/X400),\"\",IF(U400/X400<=OUTLIERS!$G$3,\"\",IF(U400/X400>=OUTLIERS!$G$4,\"\",U400/X400)))","v":3.4084989138918408E-2},{"$f":"IF(ISERROR(Q400/Y400),\"\",IF(Q400/Y400<=OUTLIERS!$H$3,\"\",IF(Q400/Y400>=OUTLIERS!$H$4,\"\",Q400/Y400)))","v":""},{"$f":"IF(ISERROR(W400),\"\",IF(W400<=OUTLIERS!$I$3,\"\",IF(W400>=OUTLIERS!$I$4,\"\",W400)))","v":""},38896588,4596588,34300000,3209989,"","","n/a","n/a",72494,"n/a","n/a",2126860,21477348]
[400,9406,"GEF ","UNEP","Mitigation",{"$f":"IF(ISERROR(P401/(M401*S401)),\"\",IF((P401/(M401*S401))<=OUTLIERS!$C$3,\"\",IF((P401/(M401*S401))>=OUTLIERS!$C$4,\"\",P401/(M401*S401))))","v":7.6096187000397206E-2},{"$f":"IF(ISERROR(Q401/($M401*T401)),\"\",IF((Q401/($M401*T401))<=OUTLIERS!$D$3,\"\",IF((Q401/($M401*T401))>=OUTLIERS!$D$4,\"\",Q401/($M401*T401))))","v":""},{"$f":"IF(ISERROR((M401*S401)/P401),\"\",IF((M401*S401/P401)<=OUTLIERS!$E$3,\"\",IF((M401*S401/P401)>=OUTLIERS!$E$4,\"\",M401*S401/P401)))","v":13.141262912355652},{"$f":"IF(ISERROR(O401/N401),\"\",IF(O401/N401<=OUTLIERS!$F$3,\"\",IF(O401/N401>=OUTLIERS!$F$4,\"\",O401/N401)))","v":3.3027353440323206},{"$f":"IF(ISERROR(U401/X401),\"\",IF(U401/X401<=OUTLIERS!$G$3,\"\",IF(U401/X401>=OUTLIERS!$G$4,\"\",U401/X401)))","v":0.17810063949960322},{"$f":"IF(ISERROR(Q401/Y401),\"\",IF(Q401/Y401<=OUTLIERS!$H$3,\"\",IF(Q401/Y401>=OUTLIERS!$H$4,\"\",Q401/Y401)))","v":""},{"$f":"IF(ISERROR(W401),\"\",IF(W401<=OUTLIERS!$I$3,\"\",IF(W401>=OUTLIERS!$I$4,\"\",W401)))","v":""},19053136,4428145,14624991,1449871,"","",1,0,72493.55,"n/a","n/a",407037,178844]
[401,9414,"GEF ","UNEP","Mitigation",{"$f":"IF(ISERROR(P402/(M402*S402)),\"\",IF((P402/(M402*S402))<=OUTLIERS!$C$3,\"\",IF((P402/(M402*S402))>=OUTLIERS!$C$4,\"\",P402/(M402*S402))))","v":""},{"$f":"IF(ISERROR(Q402/($M402*T402)),\"\",IF((Q402/($M402*T402))<=OUTLIERS!$D$3,\"\",IF((Q402/($M402*T402))>=OUTLIERS!$D$4,\"\",Q402/($M402*T402))))","v":""},{"$f":"IF(ISERROR((M402*S402)/P402),\"\",IF((M402*S402/P402)<=OUTLIERS!$E$3,\"\",IF((M402*S402/P402)>=OUTLIERS!$E$4,\"\",M402*S402/P402)))","v":""},{"$f":"IF(ISERROR(O402/N402),\"\",IF(O402/N402<=OUTLIERS!$F$3,\"\",IF(O402/N402>=OUTLIERS!$F$4,\"\",O402/N402)))","v":0.10511363636363637},{"$f":"IF(ISERROR(U402/X402),\"\",IF(U402/X402<=OUTLIERS!$G$3,\"\",IF(U402/X402>=OUTLIERS!$G$4,\"\",U402/X402)))","v":""},{"$f":"IF(ISERROR(Q402/Y402),\"\",IF(Q402/Y402<=OUTLIERS!$H$3,\"\",IF(Q402/Y402>=OUTLIERS!$H$4,\"\",Q402/Y402)))","v":""},{"$f":"IF(ISERROR(W402),\"\",IF(W402<=OUTLIERS!$I$3,\"\",IF(W402>=OUTLIERS!$I$4,\"\",W402)))","v":""},389000,352000,37000,"n/a","","",1,0,"n/a","n/a","n/a",4932115,3549750]
[402,9417,"GEF ","IUCN","Mitigation",{"$f":"IF(ISERROR(P403/(M403*S403)),\"\",IF((P403/(M403*S403))<=OUTLIERS!$C$3,\"\",IF((P403/(M403*S403))>=OUTLIERS!$C$4,\"\",P403/(M403*S403))))","v":4.8601969781838839E-2},{"$f":"IF(ISERROR(Q403/($M403*T403)),\"\",IF((Q403/($M403*T403))<=OUTLIERS!$D$3,\"\",IF((Q403/($M403*T403))>=OUTLIERS!$D$4,\"\",Q403/($M403*T403))))","v":""},{"$f":"IF(ISERROR((M403*S403)/P403),\"\",IF((M403*S403/P403)<=OUTLIERS!$E$3,\"\",IF((M403*S403/P403)>=OUTLIERS!$E$4,\"\",M403*S403/P403)))","v":20.575297760332159},{"$f":"IF(ISERROR(O403/N403),\"\",IF(O403/N403<=OUTLIERS!$F$3,\"\",IF(O403/N403>=OUTLIERS!$F$4,\"\",O403/N403)))","v":1.705376327657383},{"$f":"IF(ISERROR(U403/X403),\"\",IF(U403/X403<=OUTLIERS!$G$3,\"\",IF(U403/X403>=OUTLIERS!$G$4,\"\",U403/X403)))","v":""},{"$f":"IF(ISERROR(Q403/Y403),\"\",IF(Q403/Y403<=OUTLIERS!$H$3,\"\",IF(Q403/Y403>=OUTLIERS!$H$4,\"\",Q403/Y403)))","v":""},{"$f":"IF(ISERROR(W403),\"\",IF(W403<=OUTLIERS!$I$3,\"\",IF(W403>=OUTLIERS!$I$4,\"\",W403)))","v":""},14519679,5366972,9152707,705685,"","",1,0,"n/a","n/a","n/a",729733,14899994]
[403,9418,"GEF ","UNDP","Cross-cutting",{"$f":"IF(ISERROR(P404/(M404*S404)),\"\",IF((P404/(M404*S404))<=OUTLIERS!$C$3,\"\",IF((P404/(M404*S404))>=OUTLIERS!$C$4,\"\",P404/(M404*S404))))","v":""},{"$f":"IF(ISERROR(Q404/($M404*T404)),\"\",IF((Q404/($M404*T404))<=OUTLIERS!$D$3,\"\",IF((Q404/($M404*T404))>=OUTLIERS!$D$4,\"\",Q404/($M404*T404))))","v":""},{"$f":"IF(ISERROR((M404*S404)/P404),\"\",IF((M404*S404/P404)<=OUTLIERS!$E$3,\"\",IF((M404*S404/P404)>=OUTLIERS!$E$4,\"\",M404*S404/P404)))","v":""},{"$f":"IF(ISERROR(O404/N404),\"\",IF(O404/N404<=OUTLIERS!$F$3,\"\",IF(O404/N404>=OUTLIERS!$F$4,\"\",O404/N404)))","v":0.1},{"$f":"IF(ISERROR(U404/X404),\"\",IF(U404/X404<=OUTLIERS!$G$3,\"\",IF(U404/X404>=OUTLIERS!$G$4,\"\",U404/X404)))","v":""},{"$f":"IF(ISERROR(Q404/Y404),\"\",IF(Q404/Y404<=OUTLIERS!$H$3,\"\",IF(Q404/Y404>=OUTLIERS!$H$4,\"\",Q404/Y404)))","v":""},{"$f":"IF(ISERROR(W404),\"\",IF(W404<=OUTLIERS!$I$3,\"\",IF(W404>=OUTLIERS!$I$4,\"\",W404)))","v":""},550000,500000,50000,"n/a","","","n/a","n/a","n/a","n/a","n/a",3755008,2533794]
[404,9423,"GEF ","UNIDO","Mitigation",{"$f":"IF(ISERROR(P405/(M405*S405)),\"\",IF((P405/(M405*S405))<=OUTLIERS!$C$3,\"\",IF((P405/(M405*S405))>=OUTLIERS!$C$4,\"\",P405/(M405*S405))))","v":""},{"$f":"IF(ISERROR(Q405/($M405*T405)),\"\",IF((Q405/($M405*T405))<=OUTLIERS!$D$3,\"\",IF((Q405/($M405*T405))>=OUTLIERS!$D$4,\"\",Q405/($M405*T405))))","v":""},{"$f":"IF(ISERROR((M405*S405)/P405),\"\",IF((M405*S405/P405)<=OUTLIERS!$E$3,\"\",IF((M405*S405/P405)>=OUTLIERS!$E$4,\"\",M405*S405/P405)))","v":""},{"$f":"IF(ISERROR(O405/N405),\"\",IF(O405/N405<=OUTLIERS!$F$3,\"\",IF(O405/N405>=OUTLIERS!$F$4,\"\",O405/N405)))","v":6.1090909090909093},{"$f":"IF(ISERROR(U405/X405),\"\",IF(U405/X405<=OUTLIERS!$G$3,\"\",IF(U405/X405>=OUTLIERS!$G$4,\"\",U405/X405)))","v":""},{"$f":"IF(ISERROR(Q405/Y405),\"\",IF(Q405/Y405<=OUTLIERS!$H$3,\"\",IF(Q405/Y405>=OUTLIERS!$H$4,\"\",Q405/Y405)))","v":""},{"$f":"IF(ISERROR(W405),\"\",IF(W405<=OUTLIERS!$I$3,\"\",IF(W405>=OUTLIERS!$I$4,\"\",W405)))","v":0.25},19550000,2750000,16800000,"598 000","","",1,0,"n/a","n/a",0.25,201894019,97553151]
[405,9426,"GEF ","UNDP","Cross-cutting",{"$f":"IF(ISERROR(P406/(M406*S406)),\"\",IF((P406/(M406*S406))<=OUTLIERS!$C$3,\"\",IF((P406/(M406*S406))>=OUTLIERS!$C$4,\"\",P406/(M406*S406))))","v":""},{"$f":"IF(ISERROR(Q406/($M406*T406)),\"\",IF((Q406/($M406*T406))<=OUTLIERS!$D$3,\"\",IF((Q406/($M406*T406))>=OUTLIERS!$D$4,\"\",Q406/($M406*T406))))","v":""},{"$f":"IF(ISERROR((M406*S406)/P406),\"\",IF((M406*S406/P406)<=OUTLIERS!$E$3,\"\",IF((M406*S406/P406)>=OUTLIERS!$E$4,\"\",M406*S406/P406)))","v":""},{"$f":"IF(ISERROR(O406/N406),\"\",IF(O406/N406<=OUTLIERS!$F$3,\"\",IF(O406/N406>=OUTLIERS!$F$4,\"\",O406/N406)))","v":6.0209392424654533},{"$f":"IF(ISERROR(U406/X406),\"\",IF(U406/X406<=OUTLIERS!$G$3,\"\",IF(U406/X406>=OUTLIERS!$G$4,\"\",U406/X406)))","v":8.4087703674665948E-3},{"$f":"IF(ISERROR(Q406/Y406),\"\",IF(Q406/Y406<=OUTLIERS!$H$3,\"\",IF(Q406/Y406>=OUTLIERS!$H$4,\"\",Q406/Y406)))","v":""},{"$f":"IF(ISERROR(W406),\"\",IF(W406<=OUTLIERS!$I$3,\"\",IF(W406>=OUTLIERS!$I$4,\"\",W406)))","v":""},75992849,10823744,65169105,631500,"","","n/a","n/a",31575,"n/a","n/a",3755008,2533794]
[406,9440,"GEF ","UNDP","Cross-cutting",{"$f":"IF(ISERROR(P407/(M407*S407)),\"\",IF((P407/(M407*S407))<=OUTLIERS!$C$3,\"\",IF((P407/(M407*S407))>=OUTLIERS!$C$4,\"\",P407/(M407*S407))))","v":""},{"$f":"IF(ISERROR(Q407/($M407*T407)),\"\",IF((Q407/($M407*T407))<=OUTLIERS!$D$3,\"\",IF((Q407/($M407*T407))>=OUTLIERS!$D$4,\"\",Q407/($M407*T407))))","v":""},{"$f":"IF(ISERROR((M407*S407)/P407),\"\",IF((M407*S407/P407)<=OUTLIERS!$E$3,\"\",IF((M407*S407/P407)>=OUTLIERS!$E$4,\"\",M407*S407/P407)))","v":""},{"$f":"IF(ISERROR(O407/N407),\"\",IF(O407/N407<=OUTLIERS!$F$3,\"\",IF(O407/N407>=OUTLIERS!$F$4,\"\",O407/N407)))","v":4.6948356807511735E-2},{"$f":"IF(ISERROR(U407/X407),\"\",IF(U407/X407<=OUTLIERS!$G$3,\"\",IF(U407/X407>=OUTLIERS!$G$4,\"\",U407/X407)))","v":""},{"$f":"IF(ISERROR(Q407/Y407),\"\",IF(Q407/Y407<=OUTLIERS!$H$3,\"\",IF(Q407/Y407>=OUTLIERS!$H$4,\"\",Q407/Y407)))","v":""},{"$f":"IF(ISERROR(W407),\"\",IF(W407<=OUTLIERS!$I$3,\"\",IF(W407>=OUTLIERS!$I$4,\"\",W407)))","v":""},892000,852000,40000,"n/a","","","n/a","n/a","n/a","n/a","n/a",154014,276244]
[407,9442,"GEF ","UNEP","Cross-cutting",{"$f":"IF(ISERROR(P408/(M408*S408)),\"\",IF((P408/(M408*S408))<=OUTLIERS!$C$3,\"\",IF((P408/(M408*S408))>=OUTLIERS!$C$4,\"\",P408/(M408*S408))))","v":""},{"$f":"IF(ISERROR(Q408/($M408*T408)),\"\",IF((Q408/($M408*T408))<=OUTLIERS!$D$3,\"\",IF((Q408/($M408*T408))>=OUTLIERS!$D$4,\"\",Q408/($M408*T408))))","v":""},{"$f":"IF(ISERROR((M408*S408)/P408),\"\",IF((M408*S408/P408)<=OUTLIERS!$E$3,\"\",IF((M408*S408/P408)>=OUTLIERS!$E$4,\"\",M408*S408/P408)))","v":""},{"$f":"IF(ISERROR(O408/N408),\"\",IF(O408/N408<=OUTLIERS!$F$3,\"\",IF(O408/N408>=OUTLIERS!$F$4,\"\",O408/N408)))","v":9.8521461043151543E-2},{"$f":"IF(ISERROR(U408/X408),\"\",IF(U408/X408<=OUTLIERS!$G$3,\"\",IF(U408/X408>=OUTLIERS!$G$4,\"\",U408/X408)))","v":""},{"$f":"IF(ISERROR(Q408/Y408),\"\",IF(Q408/Y408<=OUTLIERS!$H$3,\"\",IF(Q408/Y408>=OUTLIERS!$H$4,\"\",Q408/Y408)))","v":""},{"$f":"IF(ISERROR(W408),\"\",IF(W408<=OUTLIERS!$I$3,\"\",IF(W408>=OUTLIERS!$I$4,\"\",W408)))","v":""},15320200,13946200,1374000,"n/a","","","n/a","n/a","n/a","n/a","n/a",47337596.359999999,25155427.680000003]
[408,9447,"GEF ","UNDP","Cross-cutting",{"$f":"IF(ISERROR(P409/(M409*S409)),\"\",IF((P409/(M409*S409))<=OUTLIERS!$C$3,\"\",IF((P409/(M409*S409))>=OUTLIERS!$C$4,\"\",P409/(M409*S409))))","v":""},{"$f":"IF(ISERROR(Q409/($M409*T409)),\"\",IF((Q409/($M409*T409))<=OUTLIERS!$D$3,\"\",IF((Q409/($M409*T409))>=OUTLIERS!$D$4,\"\",Q409/($M409*T409))))","v":""},{"$f":"IF(ISERROR((M409*S409)/P409),\"\",IF((M409*S409/P409)<=OUTLIERS!$E$3,\"\",IF((M409*S409/P409)>=OUTLIERS!$E$4,\"\",M409*S409/P409)))","v":""},{"$f":"IF(ISERROR(O409/N409),\"\",IF(O409/N409<=OUTLIERS!$F$3,\"\",IF(O409/N409>=OUTLIERS!$F$4,\"\",O409/N409)))","v":0.16},{"$f":"IF(ISERROR(U409/X409),\"\",IF(U409/X409<=OUTLIERS!$G$3,\"\",IF(U409/X409>=OUTLIERS!$G$4,\"\",U409/X409)))","v":""},{"$f":"IF(ISERROR(Q409/Y409),\"\",IF(Q409/Y409<=OUTLIERS!$H$3,\"\",IF(Q409/Y409>=OUTLIERS!$H$4,\"\",Q409/Y409)))","v":""},{"$f":"IF(ISERROR(W409),\"\",IF(W409<=OUTLIERS!$I$3,\"\",IF(W409>=OUTLIERS!$I$4,\"\",W409)))","v":""},580000,500000,80000,"n/a","","","n/a","n/a","n/a","n/a","n/a",2211201,622471]
[409,9452,"GEF ","UNEP","Cross-cutting",{"$f":"IF(ISERROR(P410/(M410*S410)),\"\",IF((P410/(M410*S410))<=OUTLIERS!$C$3,\"\",IF((P410/(M410*S410))>=OUTLIERS!$C$4,\"\",P410/(M410*S410))))","v":""},{"$f":"IF(ISERROR(Q410/($M410*T410)),\"\",IF((Q410/($M410*T410))<=OUTLIERS!$D$3,\"\",IF((Q410/($M410*T410))>=OUTLIERS!$D$4,\"\",Q410/($M410*T410))))","v":""},{"$f":"IF(ISERROR((M410*S410)/P410),\"\",IF((M410*S410/P410)<=OUTLIERS!$E$3,\"\",IF((M410*S410/P410)>=OUTLIERS!$E$4,\"\",M410*S410/P410)))","v":""},{"$f":"IF(ISERROR(O410/N410),\"\",IF(O410/N410<=OUTLIERS!$F$3,\"\",IF(O410/N410>=OUTLIERS!$F$4,\"\",O410/N410)))","v":0.4420289855072464},{"$f":"IF(ISERROR(U410/X410),\"\",IF(U410/X410<=OUTLIERS!$G$3,\"\",IF(U410/X410>=OUTLIERS!$G$4,\"\",U410/X410)))","v":""},{"$f":"IF(ISERROR(Q410/Y410),\"\",IF(Q410/Y410<=OUTLIERS!$H$3,\"\",IF(Q410/Y410>=OUTLIERS!$H$4,\"\",Q410/Y410)))","v":""},{"$f":"IF(ISERROR(W410),\"\",IF(W410<=OUTLIERS!$I$3,\"\",IF(W410>=OUTLIERS!$I$4,\"\",W410)))","v":""},8955000,6210000,2745000,"n/a","","","n/a","n/a","n/a","n/a","n/a",15892952.619047619,13588143.5]
[410,9467,"GEF ","UNDP","Cross-cutting",{"$f":"IF(ISERROR(P411/(M411*S411)),\"\",IF((P411/(M411*S411))<=OUTLIERS!$C$3,\"\",IF((P411/(M411*S411))>=OUTLIERS!$C$4,\"\",P411/(M411*S411))))","v":""},{"$f":"IF(ISERROR(Q411/($M411*T411)),\"\",IF((Q411/($M411*T411))<=OUTLIERS!$D$3,\"\",IF((Q411/($M411*T411))>=OUTLIERS!$D$4,\"\",Q411/($M411*T411))))","v":""},{"$f":"IF(ISERROR((M411*S411)/P411),\"\",IF((M411*S411/P411)<=OUTLIERS!$E$3,\"\",IF((M411*S411/P411)>=OUTLIERS!$E$4,\"\",M411*S411/P411)))","v":""},{"$f":"IF(ISERROR(O411/N411),\"\",IF(O411/N411<=OUTLIERS!$F$3,\"\",IF(O411/N411>=OUTLIERS!$F$4,\"\",O411/N411)))","v":1.0227272727272727},{"$f":"IF(ISERROR(U411/X411),\"\",IF(U411/X411<=OUTLIERS!$G$3,\"\",IF(U411/X411>=OUTLIERS!$G$4,\"\",U411/X411)))","v":""},{"$f":"IF(ISERROR(Q411/Y411),\"\",IF(Q411/Y411<=OUTLIERS!$H$3,\"\",IF(Q411/Y411>=OUTLIERS!$H$4,\"\",Q411/Y411)))","v":""},{"$f":"IF(ISERROR(W411),\"\",IF(W411<=OUTLIERS!$I$3,\"\",IF(W411>=OUTLIERS!$I$4,\"\",W411)))","v":""},1780000,880000,900000,"n/a","","","n/a","n/a","n/a","n/a","n/a",531715,102012]
[411,9468,"GEF ","UNIDO","Mitigation",{"$f":"IF(ISERROR(P412/(M412*S412)),\"\",IF((P412/(M412*S412))<=OUTLIERS!$C$3,\"\",IF((P412/(M412*S412))>=OUTLIERS!$C$4,\"\",P412/(M412*S412))))","v":2.6437096899557949E-3},{"$f":"IF(ISERROR(Q412/($M412*T412)),\"\",IF((Q412/($M412*T412))<=OUTLIERS!$D$3,\"\",IF((Q412/($M412*T412))>=OUTLIERS!$D$4,\"\",Q412/($M412*T412))))","v":""},{"$f":"IF(ISERROR((M412*S412)/P412),\"\",IF((M412*S412/P412)<=OUTLIERS!$E$3,\"\",IF((M412*S412/P412)>=OUTLIERS!$E$4,\"\",M412*S412/P412)))","v":378.25635840398229},{"$f":"IF(ISERROR(O412/N412),\"\",IF(O412/N412<=OUTLIERS!$F$3,\"\",IF(O412/N412>=OUTLIERS!$F$4,\"\",O412/N412)))","v":4.6336948387590038},{"$f":"IF(ISERROR(U412/X412),\"\",IF(U412/X412<=OUTLIERS!$G$3,\"\",IF(U412/X412>=OUTLIERS!$G$4,\"\",U412/X412)))","v":6.4669761801605305E-5},{"$f":"IF(ISERROR(Q412/Y412),\"\",IF(Q412/Y412<=OUTLIERS!$H$3,\"\",IF(Q412/Y412>=OUTLIERS!$H$4,\"\",Q412/Y412)))","v":""},{"$f":"IF(ISERROR(W412),\"\",IF(W412<=OUTLIERS!$I$3,\"\",IF(W412>=OUTLIERS!$I$4,\"\",W412)))","v":0.8},4863242,863242,4000000,12857,"","",1,0,714.27777777777783,"n/a",0.8,11045004,24294750]
[412,9469,"GEF ","UNDP","Mitigation",{"$f":"IF(ISERROR(P413/(M413*S413)),\"\",IF((P413/(M413*S413))<=OUTLIERS!$C$3,\"\",IF((P413/(M413*S413))>=OUTLIERS!$C$4,\"\",P413/(M413*S413))))","v":""},{"$f":"IF(ISERROR(Q413/($M413*T413)),\"\",IF((Q413/($M413*T413))<=OUTLIERS!$D$3,\"\",IF((Q413/($M413*T413))>=OUTLIERS!$D$4,\"\",Q413/($M413*T413))))","v":""},{"$f":"IF(ISERROR((M413*S413)/P413),\"\",IF((M413*S413/P413)<=OUTLIERS!$E$3,\"\",IF((M413*S413/P413)>=OUTLIERS!$E$4,\"\",M413*S413/P413)))","v":""},{"$f":"IF(ISERROR(O413/N413),\"\",IF(O413/N413<=OUTLIERS!$F$3,\"\",IF(O413/N413>=OUTLIERS!$F$4,\"\",O413/N413)))","v":0.14772727272727273},{"$f":"IF(ISERROR(U413/X413),\"\",IF(U413/X413<=OUTLIERS!$G$3,\"\",IF(U413/X413>=OUTLIERS!$G$4,\"\",U413/X413)))","v":""},{"$f":"IF(ISERROR(Q413/Y413),\"\",IF(Q413/Y413<=OUTLIERS!$H$3,\"\",IF(Q413/Y413>=OUTLIERS!$H$4,\"\",Q413/Y413)))","v":""},{"$f":"IF(ISERROR(W413),\"\",IF(W413<=OUTLIERS!$I$3,\"\",IF(W413>=OUTLIERS!$I$4,\"\",W413)))","v":""},404000,352000,52000,"n/a","","",1,0,"n/a","n/a","n/a",2211201,622471]
[413,9473,"GEF ","UNIDO","Mitigation",{"$f":"IF(ISERROR(P414/(M414*S414)),\"\",IF((P414/(M414*S414))<=OUTLIERS!$C$3,\"\",IF((P414/(M414*S414))>=OUTLIERS!$C$4,\"\",P414/(M414*S414))))","v":9.05808242767152E-3},{"$f":"IF(ISERROR(Q414/($M414*T414)),\"\",IF((Q414/($M414*T414))<=OUTLIERS!$D$3,\"\",IF((Q414/($M414*T414))>=OUTLIERS!$D$4,\"\",Q414/($M414*T414))))","v":""},{"$f":"IF(ISERROR((M414*S414)/P414),\"\",IF((M414*S414/P414)<=OUTLIERS!$E$3,\"\",IF((M414*S414/P414)>=OUTLIERS!$E$4,\"\",M414*S414/P414)))","v":110.39864209505335},{"$f":"IF(ISERROR(O414/N414),\"\",IF(O414/N414<=OUTLIERS!$F$3,\"\",IF(O414/N414>=OUTLIERS!$F$4,\"\",O414/N414)))","v":6.016891683619999},{"$f":"IF(ISERROR(U414/X414),\"\",IF(U414/X414<=OUTLIERS!$G$3,\"\",IF(U414/X414>=OUTLIERS!$G$4,\"\",U414/X414)))","v":7.4017194609102521E-5},{"$f":"IF(ISERROR(Q414/Y414),\"\",IF(Q414/Y414<=OUTLIERS!$H$3,\"\",IF(Q414/Y414>=OUTLIERS!$H$4,\"\",Q414/Y414)))","v":""},{"$f":"IF(ISERROR(W414),\"\",IF(W414<=OUTLIERS!$I$3,\"\",IF(W414>=OUTLIERS!$I$4,\"\",W414)))","v":""},5691050,811050,4880000,51550,"","",1,0,2578.5,"n/a","n/a",34836500,11484636]
[414,9474,"GEF ","UNDP","Cross-cutting",{"$f":"IF(ISERROR(P415/(M415*S415)),\"\",IF((P415/(M415*S415))<=OUTLIERS!$C$3,\"\",IF((P415/(M415*S415))>=OUTLIERS!$C$4,\"\",P415/(M415*S415))))","v":""},{"$f":"IF(ISERROR(Q415/($M415*T415)),\"\",IF((Q415/($M415*T415))<=OUTLIERS!$D$3,\"\",IF((Q415/($M415*T415))>=OUTLIERS!$D$4,\"\",Q415/($M415*T415))))","v":""},{"$f":"IF(ISERROR((M415*S415)/P415),\"\",IF((M415*S415/P415)<=OUTLIERS!$E$3,\"\",IF((M415*S415/P415)>=OUTLIERS!$E$4,\"\",M415*S415/P415)))","v":""},{"$f":"IF(ISERROR(O415/N415),\"\",IF(O415/N415<=OUTLIERS!$F$3,\"\",IF(O415/N415>=OUTLIERS!$F$4,\"\",O415/N415)))","v":0.68075117370892024},{"$f":"IF(ISERROR(U415/X415),\"\",IF(U415/X415<=OUTLIERS!$G$3,\"\",IF(U415/X415>=OUTLIERS!$G$4,\"\",U415/X415)))","v":""},{"$f":"IF(ISERROR(Q415/Y415),\"\",IF(Q415/Y415<=OUTLIERS!$H$3,\"\",IF(Q415/Y415>=OUTLIERS!$H$4,\"\",Q415/Y415)))","v":""},{"$f":"IF(ISERROR(W415),\"\",IF(W415<=OUTLIERS!$I$3,\"\",IF(W415>=OUTLIERS!$I$4,\"\",W415)))","v":""},1432000,852000,580000,"n/a","","","n/a","n/a","n/a","n/a","n/a",5529836,2930450]
[415,9480,"GEF ","UNDP","Mitigation",{"$f":"IF(ISERROR(P416/(M416*S416)),\"\",IF((P416/(M416*S416))<=OUTLIERS!$C$3,\"\",IF((P416/(M416*S416))>=OUTLIERS!$C$4,\"\",P416/(M416*S416))))","v":5.2818714617768846E-3},{"$f":"IF(ISERROR(Q416/($M416*T416)),\"\",IF((Q416/($M416*T416))<=OUTLIERS!$D$3,\"\",IF((Q416/($M416*T416))>=OUTLIERS!$D$4,\"\",Q416/($M416*T416))))","v":""},{"$f":"IF(ISERROR((M416*S416)/P416),\"\",IF((M416*S416/P416)<=OUTLIERS!$E$3,\"\",IF((M416*S416/P416)>=OUTLIERS!$E$4,\"\",M416*S416/P416)))","v":189.32683372487602},{"$f":"IF(ISERROR(O416/N416),\"\",IF(O416/N416<=OUTLIERS!$F$3,\"\",IF(O416/N416>=OUTLIERS!$F$4,\"\",O416/N416)))","v":11.641712655985565},{"$f":"IF(ISERROR(U416/X416),\"\",IF(U416/X416<=OUTLIERS!$G$3,\"\",IF(U416/X416>=OUTLIERS!$G$4,\"\",U416/X416)))","v":1.7033530548606253E-3},{"$f":"IF(ISERROR(Q416/Y416),\"\",IF(Q416/Y416<=OUTLIERS!$H$3,\"\",IF(Q416/Y416>=OUTLIERS!$H$4,\"\",Q416/Y416)))","v":""},{"$f":"IF(ISERROR(W416),\"\",IF(W416<=OUTLIERS!$I$3,\"\",IF(W416>=OUTLIERS!$I$4,\"\",W416)))","v":""},21759333,1721233,20038100,114930,"","",1,0,11493,"n/a","n/a",6747280,3456750]
[416,9482,"GEF ","UNDP","Cross-cutting",{"$f":"IF(ISERROR(P417/(M417*S417)),\"\",IF((P417/(M417*S417))<=OUTLIERS!$C$3,\"\",IF((P417/(M417*S417))>=OUTLIERS!$C$4,\"\",P417/(M417*S417))))","v":""},{"$f":"IF(ISERROR(Q417/($M417*T417)),\"\",IF((Q417/($M417*T417))<=OUTLIERS!$D$3,\"\",IF((Q417/($M417*T417))>=OUTLIERS!$D$4,\"\",Q417/($M417*T417))))","v":""},{"$f":"IF(ISERROR((M417*S417)/P417),\"\",IF((M417*S417/P417)<=OUTLIERS!$E$3,\"\",IF((M417*S417/P417)>=OUTLIERS!$E$4,\"\",M417*S417/P417)))","v":""},{"$f":"IF(ISERROR(O417/N417),\"\",IF(O417/N417<=OUTLIERS!$F$3,\"\",IF(O417/N417>=OUTLIERS!$F$4,\"\",O417/N417)))","v":0.11737089201877934},{"$f":"IF(ISERROR(U417/X417),\"\",IF(U417/X417<=OUTLIERS!$G$3,\"\",IF(U417/X417>=OUTLIERS!$G$4,\"\",U417/X417)))","v":""},{"$f":"IF(ISERROR(Q417/Y417),\"\",IF(Q417/Y417<=OUTLIERS!$H$3,\"\",IF(Q417/Y417>=OUTLIERS!$H$4,\"\",Q417/Y417)))","v":""},{"$f":"IF(ISERROR(W417),\"\",IF(W417<=OUTLIERS!$I$3,\"\",IF(W417>=OUTLIERS!$I$4,\"\",W417)))","v":""},952000,852000,100000,"n/a","","","n/a","n/a","n/a","n/a","n/a",59863775,35739580]
[417,9484,"GEF ","ADB","Cross-cutting",{"$f":"IF(ISERROR(P418/(M418*S418)),\"\",IF((P418/(M418*S418))<=OUTLIERS!$C$3,\"\",IF((P418/(M418*S418))>=OUTLIERS!$C$4,\"\",P418/(M418*S418))))","v":""},{"$f":"IF(ISERROR(Q418/($M418*T418)),\"\",IF((Q418/($M418*T418))<=OUTLIERS!$D$3,\"\",IF((Q418/($M418*T418))>=OUTLIERS!$D$4,\"\",Q418/($M418*T418))))","v":""},{"$f":"IF(ISERROR((M418*S418)/P418),\"\",IF((M418*S418/P418)<=OUTLIERS!$E$3,\"\",IF((M418*S418/P418)>=OUTLIERS!$E$4,\"\",M418*S418/P418)))","v":""},{"$f":"IF(ISERROR(O418/N418),\"\",IF(O418/N418<=OUTLIERS!$F$3,\"\",IF(O418/N418>=OUTLIERS!$F$4,\"\",O418/N418)))","v":17.981717309477997},{"$f":"IF(ISERROR(U418/X418),\"\",IF(U418/X418<=OUTLIERS!$G$3,\"\",IF(U418/X418>=OUTLIERS!$G$4,\"\",U418/X418)))","v":""},{"$f":"IF(ISERROR(Q418/Y418),\"\",IF(Q418/Y418<=OUTLIERS!$H$3,\"\",IF(Q418/Y418>=OUTLIERS!$H$4,\"\",Q418/Y418)))","v":""},{"$f":"IF(ISERROR(W418),\"\",IF(W418<=OUTLIERS!$I$3,\"\",IF(W418>=OUTLIERS!$I$4,\"\",W418)))","v":0.5},156729781,8256881,148472900,11300000,"",1910000,"n/a","n/a","n/a",1910000,0.5,166910839,95540800]
[418,9485,"GEF ","UNIDO","Mitigation",{"$f":"IF(ISERROR(P419/(M419*S419)),\"\",IF((P419/(M419*S419))<=OUTLIERS!$C$3,\"\",IF((P419/(M419*S419))>=OUTLIERS!$C$4,\"\",P419/(M419*S419))))","v":7.9036093172161648E-2},{"$f":"IF(ISERROR(Q419/($M419*T419)),\"\",IF((Q419/($M419*T419))<=OUTLIERS!$D$3,\"\",IF((Q419/($M419*T419))>=OUTLIERS!$D$4,\"\",Q419/($M419*T419))))","v":""},{"$f":"IF(ISERROR((M419*S419)/P419),\"\",IF((M419*S419/P419)<=OUTLIERS!$E$3,\"\",IF((M419*S419/P419)>=OUTLIERS!$E$4,\"\",M419*S419/P419)))","v":12.652447253708933},{"$f":"IF(ISERROR(O419/N419),\"\",IF(O419/N419<=OUTLIERS!$F$3,\"\",IF(O419/N419>=OUTLIERS!$F$4,\"\",O419/N419)))","v":3.1755000317550004},{"$f":"IF(ISERROR(U419/X419),\"\",IF(U419/X419<=OUTLIERS!$G$3,\"\",IF(U419/X419>=OUTLIERS!$G$4,\"\",U419/X419)))","v":5.0344928965806121E-4},{"$f":"IF(ISERROR(Q419/Y419),\"\",IF(Q419/Y419<=OUTLIERS!$H$3,\"\",IF(Q419/Y419>=OUTLIERS!$H$4,\"\",Q419/Y419)))","v":""},{"$f":"IF(ISERROR(W419),\"\",IF(W419<=OUTLIERS!$I$3,\"\",IF(W419>=OUTLIERS!$I$4,\"\",W419)))","v":""},3813242,913242,2900000,301383.75,"",30000,1,0,30138.375,30000,"n/a",59863775,35739580]
[419,9486,"GEF ","UNIDO","Mitigation",{"$f":"IF(ISERROR(P420/(M420*S420)),\"\",IF((P420/(M420*S420))<=OUTLIERS!$C$3,\"\",IF((P420/(M420*S420))>=OUTLIERS!$C$4,\"\",P420/(M420*S420))))","v":1.7864237690556168E-3},{"$f":"IF(ISERROR(Q420/($M420*T420)),\"\",IF((Q420/($M420*T420))<=OUTLIERS!$D$3,\"\",IF((Q420/($M420*T420))>=OUTLIERS!$D$4,\"\",Q420/($M420*T420))))","v":""},{"$f":"IF(ISERROR((M420*S420)/P420),\"\",IF((M420*S420/P420)<=OUTLIERS!$E$3,\"\",IF((M420*S420/P420)>=OUTLIERS!$E$4,\"\",M420*S420/P420)))","v":559.77759438828139},{"$f":"IF(ISERROR(O420/N420),\"\",IF(O420/N420<=OUTLIERS!$F$3,\"\",IF(O420/N420>=OUTLIERS!$F$4,\"\",O420/N420)))","v":1.9710000197100002},{"$f":"IF(ISERROR(U420/X420),\"\",IF(U420/X420<=OUTLIERS!$G$3,\"\",IF(U420/X420>=OUTLIERS!$G$4,\"\",U420/X420)))","v":""},{"$f":"IF(ISERROR(Q420/Y420),\"\",IF(Q420/Y420<=OUTLIERS!$H$3,\"\",IF(Q420/Y420>=OUTLIERS!$H$4,\"\",Q420/Y420)))","v":""},{"$f":"IF(ISERROR(W420),\"\",IF(W420<=OUTLIERS!$I$3,\"\",IF(W420>=OUTLIERS!$I$4,\"\",W420)))","v":""},5426484,1826484,3600000,9694,"","",1,0,"n/a","n/a","n/a",59863775,35739580]
[420,9495,"GEF ","UNIDO","Mitigation",{"$f":"IF(ISERROR(P421/(M421*S421)),\"\",IF((P421/(M421*S421))<=OUTLIERS!$C$3,\"\",IF((P421/(M421*S421))>=OUTLIERS!$C$4,\"\",P421/(M421*S421))))","v":3.8592977105790759E-2},{"$f":"IF(ISERROR(Q421/($M421*T421)),\"\",IF((Q421/($M421*T421))<=OUTLIERS!$D$3,\"\",IF((Q421/($M421*T421))>=OUTLIERS!$D$4,\"\",Q421/($M421*T421))))","v":""},{"$f":"IF(ISERROR((M421*S421)/P421),\"\",IF((M421*S421/P421)<=OUTLIERS!$E$3,\"\",IF((M421*S421/P421)>=OUTLIERS!$E$4,\"\",M421*S421/P421)))","v":25.911450087377506},{"$f":"IF(ISERROR(O421/N421),\"\",IF(O421/N421<=OUTLIERS!$F$3,\"\",IF(O421/N421>=OUTLIERS!$F$4,\"\",O421/N421)))","v":3.6026217468133308},{"$f":"IF(ISERROR(U421/X421),\"\",IF(U421/X421<=OUTLIERS!$G$3,\"\",IF(U421/X421>=OUTLIERS!$G$4,\"\",U421/X421)))","v":7.7048920877322846E-2},{"$f":"IF(ISERROR(Q421/Y421),\"\",IF(Q421/Y421<=OUTLIERS!$H$3,\"\",IF(Q421/Y421>=OUTLIERS!$H$4,\"\",Q421/Y421)))","v":""},{"$f":"IF(ISERROR(W421),\"\",IF(W421<=OUTLIERS!$I$3,\"\",IF(W421>=OUTLIERS!$I$4,\"\",W421)))","v":0.53023255813953485},8199497,1781484,6418013,316443,"",3440000,1,0,39555.375,3440000,0.53023255813953485,513380,2100568]
[421,9496,"GEF ","UNEP","Mitigation",{"$f":"IF(ISERROR(P422/(M422*S422)),\"\",IF((P422/(M422*S422))<=OUTLIERS!$C$3,\"\",IF((P422/(M422*S422))>=OUTLIERS!$C$4,\"\",P422/(M422*S422))))","v":0.81945340586201076},{"$f":"IF(ISERROR(Q422/($M422*T422)),\"\",IF((Q422/($M422*T422))<=OUTLIERS!$D$3,\"\",IF((Q422/($M422*T422))>=OUTLIERS!$D$4,\"\",Q422/($M422*T422))))","v":""},{"$f":"IF(ISERROR((M422*S422)/P422),\"\",IF((M422*S422/P422)<=OUTLIERS!$E$3,\"\",IF((M422*S422/P422)>=OUTLIERS!$E$4,\"\",M422*S422/P422)))","v":1.2203256376097018},{"$f":"IF(ISERROR(O422/N422),\"\",IF(O422/N422<=OUTLIERS!$F$3,\"\",IF(O422/N422>=OUTLIERS!$F$4,\"\",O422/N422)))","v":5.0290012905747332},{"$f":"IF(ISERROR(U422/X422),\"\",IF(U422/X422<=OUTLIERS!$G$3,\"\",IF(U422/X422>=OUTLIERS!$G$4,\"\",U422/X422)))","v":6.7837648020080714E-3},{"$f":"IF(ISERROR(Q422/Y422),\"\",IF(Q422/Y422<=OUTLIERS!$H$3,\"\",IF(Q422/Y422>=OUTLIERS!$H$4,\"\",Q422/Y422)))","v":""},{"$f":"IF(ISERROR(W422),\"\",IF(W422<=OUTLIERS!$I$3,\"\",IF(W422>=OUTLIERS!$I$4,\"\",W422)))","v":0.5},8885313,1473762,7411551,7281100,"","",1,0,560084.61538461538,"n/a",0.5,82562505,18054726]
[422,9498,"GEF ","UNEP","Mitigation",{"$f":"IF(ISERROR(P423/(M423*S423)),\"\",IF((P423/(M423*S423))<=OUTLIERS!$C$3,\"\",IF((P423/(M423*S423))>=OUTLIERS!$C$4,\"\",P423/(M423*S423))))","v":4.4629258177831276E-2},{"$f":"IF(ISERROR(Q423/($M423*T423)),\"\",IF((Q423/($M423*T423))<=OUTLIERS!$D$3,\"\",IF((Q423/($M423*T423))>=OUTLIERS!$D$4,\"\",Q423/($M423*T423))))","v":""},{"$f":"IF(ISERROR((M423*S423)/P423),\"\",IF((M423*S423/P423)<=OUTLIERS!$E$3,\"\",IF((M423*S423/P423)>=OUTLIERS!$E$4,\"\",M423*S423/P423)))","v":22.4068254958522},{"$f":"IF(ISERROR(O423/N423),\"\",IF(O423/N423<=OUTLIERS!$F$3,\"\",IF(O423/N423>=OUTLIERS!$F$4,\"\",O423/N423)))","v":6.5587543617716886},{"$f":"IF(ISERROR(U423/X423),\"\",IF(U423/X423<=OUTLIERS!$G$3,\"\",IF(U423/X423>=OUTLIERS!$G$4,\"\",U423/X423)))","v":2.339768445924911E-3},{"$f":"IF(ISERROR(Q423/Y423),\"\",IF(Q423/Y423<=OUTLIERS!$H$3,\"\",IF(Q423/Y423>=OUTLIERS!$H$4,\"\",Q423/Y423)))","v":""},{"$f":"IF(ISERROR(W423),\"\",IF(W423<=OUTLIERS!$I$3,\"\",IF(W423>=OUTLIERS!$I$4,\"\",W423)))","v":""},18137541,2399541,15738000,809465,"","",1,0,67455.416666666672,"n/a","n/a",28829954,11532127]
[423,9499,"GEF ","UNEP","Mitigation",{"$f":"IF(ISERROR(P424/(M424*S424)),\"\",IF((P424/(M424*S424))<=OUTLIERS!$C$3,\"\",IF((P424/(M424*S424))>=OUTLIERS!$C$4,\"\",P424/(M424*S424))))","v":4.9871146206468535E-2},{"$f":"IF(ISERROR(Q424/($M424*T424)),\"\",IF((Q424/($M424*T424))<=OUTLIERS!$D$3,\"\",IF((Q424/($M424*T424))>=OUTLIERS!$D$4,\"\",Q424/($M424*T424))))","v":""},{"$f":"IF(ISERROR((M424*S424)/P424),\"\",IF((M424*S424/P424)<=OUTLIERS!$E$3,\"\",IF((M424*S424/P424)>=OUTLIERS!$E$4,\"\",M424*S424/P424)))","v":20.051674687001583},{"$f":"IF(ISERROR(O424/N424),\"\",IF(O424/N424<=OUTLIERS!$F$3,\"\",IF(O424/N424>=OUTLIERS!$F$4,\"\",O424/N424)))","v":1.6347526374159125},{"$f":"IF(ISERROR(U424/X424),\"\",IF(U424/X424<=OUTLIERS!$G$3,\"\",IF(U424/X424>=OUTLIERS!$G$4,\"\",U424/X424)))","v":1.3506793500056146E-3},{"$f":"IF(ISERROR(Q424/Y424),\"\",IF(Q424/Y424<=OUTLIERS!$H$3,\"\",IF(Q424/Y424>=OUTLIERS!$H$4,\"\",Q424/Y424)))","v":""},{"$f":"IF(ISERROR(W424),\"\",IF(W424<=OUTLIERS!$I$3,\"\",IF(W424>=OUTLIERS!$I$4,\"\",W424)))","v":""},5858578,2223578,3635000,292174,"","",1,0,29217.4,"n/a","n/a",21631633,53370609]
[424,9502,"GEF ","UNDP","Cross-cutting",{"$f":"IF(ISERROR(P425/(M425*S425)),\"\",IF((P425/(M425*S425))<=OUTLIERS!$C$3,\"\",IF((P425/(M425*S425))>=OUTLIERS!$C$4,\"\",P425/(M425*S425))))","v":""},{"$f":"IF(ISERROR(Q425/($M425*T425)),\"\",IF((Q425/($M425*T425))<=OUTLIERS!$D$3,\"\",IF((Q425/($M425*T425))>=OUTLIERS!$D$4,\"\",Q425/($M425*T425))))","v":""},{"$f":"IF(ISERROR((M425*S425)/P425),\"\",IF((M425*S425/P425)<=OUTLIERS!$E$3,\"\",IF((M425*S425/P425)>=OUTLIERS!$E$4,\"\",M425*S425/P425)))","v":""},{"$f":"IF(ISERROR(O425/N425),\"\",IF(O425/N425<=OUTLIERS!$F$3,\"\",IF(O425/N425>=OUTLIERS!$F$4,\"\",O425/N425)))","v":1.5526315789473684},{"$f":"IF(ISERROR(U425/X425),\"\",IF(U425/X425<=OUTLIERS!$G$3,\"\",IF(U425/X425>=OUTLIERS!$G$4,\"\",U425/X425)))","v":""},{"$f":"IF(ISERROR(Q425/Y425),\"\",IF(Q425/Y425<=OUTLIERS!$H$3,\"\",IF(Q425/Y425>=OUTLIERS!$H$4,\"\",Q425/Y425)))","v":""},{"$f":"IF(ISERROR(W425),\"\",IF(W425<=OUTLIERS!$I$3,\"\",IF(W425>=OUTLIERS!$I$4,\"\",W425)))","v":""},2425000,950000,1475000,"n/a","","","n/a","n/a","n/a","n/a","n/a",271358,1861283]
[425,9505,"GEF ","UNDP","Cross-cutting",{"$f":"IF(ISERROR(P426/(M426*S426)),\"\",IF((P426/(M426*S426))<=OUTLIERS!$C$3,\"\",IF((P426/(M426*S426))>=OUTLIERS!$C$4,\"\",P426/(M426*S426))))","v":""},{"$f":"IF(ISERROR(Q426/($M426*T426)),\"\",IF((Q426/($M426*T426))<=OUTLIERS!$D$3,\"\",IF((Q426/($M426*T426))>=OUTLIERS!$D$4,\"\",Q426/($M426*T426))))","v":""},{"$f":"IF(ISERROR((M426*S426)/P426),\"\",IF((M426*S426/P426)<=OUTLIERS!$E$3,\"\",IF((M426*S426/P426)>=OUTLIERS!$E$4,\"\",M426*S426/P426)))","v":""},{"$f":"IF(ISERROR(O426/N426),\"\",IF(O426/N426<=OUTLIERS!$F$3,\"\",IF(O426/N426>=OUTLIERS!$F$4,\"\",O426/N426)))","v":0.11737089201877934},{"$f":"IF(ISERROR(U426/X426),\"\",IF(U426/X426<=OUTLIERS!$G$3,\"\",IF(U426/X426>=OUTLIERS!$G$4,\"\",U426/X426)))","v":""},{"$f":"IF(ISERROR(Q426/Y426),\"\",IF(Q426/Y426<=OUTLIERS!$H$3,\"\",IF(Q426/Y426>=OUTLIERS!$H$4,\"\",Q426/Y426)))","v":""},{"$f":"IF(ISERROR(W426),\"\",IF(W426<=OUTLIERS!$I$3,\"\",IF(W426>=OUTLIERS!$I$4,\"\",W426)))","v":""},952000,852000,100000,"n/a","","","n/a","n/a","n/a","n/a","n/a",150347,105544]
[426,9506,"GEF ","UNDP","Cross-cutting",{"$f":"IF(ISERROR(P427/(M427*S427)),\"\",IF((P427/(M427*S427))<=OUTLIERS!$C$3,\"\",IF((P427/(M427*S427))>=OUTLIERS!$C$4,\"\",P427/(M427*S427))))","v":""},{"$f":"IF(ISERROR(Q427/($M427*T427)),\"\",IF((Q427/($M427*T427))<=OUTLIERS!$D$3,\"\",IF((Q427/($M427*T427))>=OUTLIERS!$D$4,\"\",Q427/($M427*T427))))","v":""},{"$f":"IF(ISERROR((M427*S427)/P427),\"\",IF((M427*S427/P427)<=OUTLIERS!$E$3,\"\",IF((M427*S427/P427)>=OUTLIERS!$E$4,\"\",M427*S427/P427)))","v":""},{"$f":"IF(ISERROR(O427/N427),\"\",IF(O427/N427<=OUTLIERS!$F$3,\"\",IF(O427/N427>=OUTLIERS!$F$4,\"\",O427/N427)))","v":1.1000000000000001},{"$f":"IF(ISERROR(U427/X427),\"\",IF(U427/X427<=OUTLIERS!$G$3,\"\",IF(U427/X427>=OUTLIERS!$G$4,\"\",U427/X427)))","v":""},{"$f":"IF(ISERROR(Q427/Y427),\"\",IF(Q427/Y427<=OUTLIERS!$H$3,\"\",IF(Q427/Y427>=OUTLIERS!$H$4,\"\",Q427/Y427)))","v":""},{"$f":"IF(ISERROR(W427),\"\",IF(W427<=OUTLIERS!$I$3,\"\",IF(W427>=OUTLIERS!$I$4,\"\",W427)))","v":""},2100000,1000000,1100000,"n/a","","","n/a","n/a","n/a","n/a","n/a",15364730,40533330]
[427,9511,"GEF ","UNDP","Cross-cutting",{"$f":"IF(ISERROR(P428/(M428*S428)),\"\",IF((P428/(M428*S428))<=OUTLIERS!$C$3,\"\",IF((P428/(M428*S428))>=OUTLIERS!$C$4,\"\",P428/(M428*S428))))","v":""},{"$f":"IF(ISERROR(Q428/($M428*T428)),\"\",IF((Q428/($M428*T428))<=OUTLIERS!$D$3,\"\",IF((Q428/($M428*T428))>=OUTLIERS!$D$4,\"\",Q428/($M428*T428))))","v":""},{"$f":"IF(ISERROR((M428*S428)/P428),\"\",IF((M428*S428/P428)<=OUTLIERS!$E$3,\"\",IF((M428*S428/P428)>=OUTLIERS!$E$4,\"\",M428*S428/P428)))","v":""},{"$f":"IF(ISERROR(O428/N428),\"\",IF(O428/N428<=OUTLIERS!$F$3,\"\",IF(O428/N428>=OUTLIERS!$F$4,\"\",O428/N428)))","v":1.2290000000000001},{"$f":"IF(ISERROR(U428/X428),\"\",IF(U428/X428<=OUTLIERS!$G$3,\"\",IF(U428/X428>=OUTLIERS!$G$4,\"\",U428/X428)))","v":""},{"$f":"IF(ISERROR(Q428/Y428),\"\",IF(Q428/Y428<=OUTLIERS!$H$3,\"\",IF(Q428/Y428>=OUTLIERS!$H$4,\"\",Q428/Y428)))","v":""},{"$f":"IF(ISERROR(W428),\"\",IF(W428<=OUTLIERS!$I$3,\"\",IF(W428>=OUTLIERS!$I$4,\"\",W428)))","v":""},2229000,1000000,1229000,"n/a","","","n/a","n/a","n/a","n/a","n/a",722399,956985]
[428,9515,"GEF ","FAO","Cross-cutting",{"$f":"IF(ISERROR(P429/(M429*S429)),\"\",IF((P429/(M429*S429))<=OUTLIERS!$C$3,\"\",IF((P429/(M429*S429))>=OUTLIERS!$C$4,\"\",P429/(M429*S429))))","v":""},{"$f":"IF(ISERROR(Q429/($M429*T429)),\"\",IF((Q429/($M429*T429))<=OUTLIERS!$D$3,\"\",IF((Q429/($M429*T429))>=OUTLIERS!$D$4,\"\",Q429/($M429*T429))))","v":""},{"$f":"IF(ISERROR((M429*S429)/P429),\"\",IF((M429*S429/P429)<=OUTLIERS!$E$3,\"\",IF((M429*S429/P429)>=OUTLIERS!$E$4,\"\",M429*S429/P429)))","v":""},{"$f":"IF(ISERROR(O429/N429),\"\",IF(O429/N429<=OUTLIERS!$F$3,\"\",IF(O429/N429>=OUTLIERS!$F$4,\"\",O429/N429)))","v":3.439313888888889},{"$f":"IF(ISERROR(U429/X429),\"\",IF(U429/X429<=OUTLIERS!$G$3,\"\",IF(U429/X429>=OUTLIERS!$G$4,\"\",U429/X429)))","v":1.1392467246805163E-2},{"$f":"IF(ISERROR(Q429/Y429),\"\",IF(Q429/Y429<=OUTLIERS!$H$3,\"\",IF(Q429/Y429>=OUTLIERS!$H$4,\"\",Q429/Y429)))","v":""},{"$f":"IF(ISERROR(W429),\"\",IF(W429<=OUTLIERS!$I$3,\"\",IF(W429>=OUTLIERS!$I$4,\"\",W429)))","v":""},15981530,3600000,12381530,1064457,"","","n/a","n/a",53222.85,"n/a","n/a",4671758,81339988]
[429,9516,"GEF ","FAO","Mitigation",{"$f":"IF(ISERROR(P430/(M430*S430)),\"\",IF((P430/(M430*S430))<=OUTLIERS!$C$3,\"\",IF((P430/(M430*S430))>=OUTLIERS!$C$4,\"\",P430/(M430*S430))))","v":""},{"$f":"IF(ISERROR(Q430/($M430*T430)),\"\",IF((Q430/($M430*T430))<=OUTLIERS!$D$3,\"\",IF((Q430/($M430*T430))>=OUTLIERS!$D$4,\"\",Q430/($M430*T430))))","v":""},{"$f":"IF(ISERROR((M430*S430)/P430),\"\",IF((M430*S430/P430)<=OUTLIERS!$E$3,\"\",IF((M430*S430/P430)>=OUTLIERS!$E$4,\"\",M430*S430/P430)))","v":""},{"$f":"IF(ISERROR(O430/N430),\"\",IF(O430/N430<=OUTLIERS!$F$3,\"\",IF(O430/N430>=OUTLIERS!$F$4,\"\",O430/N430)))","v":6.0325152572365051},{"$f":"IF(ISERROR(U430/X430),\"\",IF(U430/X430<=OUTLIERS!$G$3,\"\",IF(U430/X430>=OUTLIERS!$G$4,\"\",U430/X430)))","v":""},{"$f":"IF(ISERROR(Q430/Y430),\"\",IF(Q430/Y430<=OUTLIERS!$H$3,\"\",IF(Q430/Y430>=OUTLIERS!$H$4,\"\",Q430/Y430)))","v":""},{"$f":"IF(ISERROR(W430),\"\",IF(W430<=OUTLIERS!$I$3,\"\",IF(W430>=OUTLIERS!$I$4,\"\",W430)))","v":""},27978440,3978440,24000000,"n/a","","",1,0,"n/a","n/a","n/a",166298450,197015955]
[430,9517,"GEF ","FAO","Mitigation",{"$f":"IF(ISERROR(P431/(M431*S431)),\"\",IF((P431/(M431*S431))<=OUTLIERS!$C$3,\"\",IF((P431/(M431*S431))>=OUTLIERS!$C$4,\"\",P431/(M431*S431))))","v":""},{"$f":"IF(ISERROR(Q431/($M431*T431)),\"\",IF((Q431/($M431*T431))<=OUTLIERS!$D$3,\"\",IF((Q431/($M431*T431))>=OUTLIERS!$D$4,\"\",Q431/($M431*T431))))","v":""},{"$f":"IF(ISERROR((M431*S431)/P431),\"\",IF((M431*S431/P431)<=OUTLIERS!$E$3,\"\",IF((M431*S431/P431)>=OUTLIERS!$E$4,\"\",M431*S431/P431)))","v":""},{"$f":"IF(ISERROR(O431/N431),\"\",IF(O431/N431<=OUTLIERS!$F$3,\"\",IF(O431/N431>=OUTLIERS!$F$4,\"\",O431/N431)))","v":3.5786877359228462},{"$f":"IF(ISERROR(U431/X431),\"\",IF(U431/X431<=OUTLIERS!$G$3,\"\",IF(U431/X431>=OUTLIERS!$G$4,\"\",U431/X431)))","v":""},{"$f":"IF(ISERROR(Q431/Y431),\"\",IF(Q431/Y431<=OUTLIERS!$H$3,\"\",IF(Q431/Y431>=OUTLIERS!$H$4,\"\",Q431/Y431)))","v":""},{"$f":"IF(ISERROR(W431),\"\",IF(W431<=OUTLIERS!$I$3,\"\",IF(W431>=OUTLIERS!$I$4,\"\",W431)))","v":""},21366515,4666515,16700000,"n/a","","",1,0,"n/a","n/a","n/a",113677,204327]
[431,9519,"GEF ","IUCN","Cross-cutting",{"$f":"IF(ISERROR(P432/(M432*S432)),\"\",IF((P432/(M432*S432))<=OUTLIERS!$C$3,\"\",IF((P432/(M432*S432))>=OUTLIERS!$C$4,\"\",P432/(M432*S432))))","v":""},{"$f":"IF(ISERROR(Q432/($M432*T432)),\"\",IF((Q432/($M432*T432))<=OUTLIERS!$D$3,\"\",IF((Q432/($M432*T432))>=OUTLIERS!$D$4,\"\",Q432/($M432*T432))))","v":""},{"$f":"IF(ISERROR((M432*S432)/P432),\"\",IF((M432*S432/P432)<=OUTLIERS!$E$3,\"\",IF((M432*S432/P432)>=OUTLIERS!$E$4,\"\",M432*S432/P432)))","v":""},{"$f":"IF(ISERROR(O432/N432),\"\",IF(O432/N432<=OUTLIERS!$F$3,\"\",IF(O432/N432>=OUTLIERS!$F$4,\"\",O432/N432)))","v":6.8791271850912343},{"$f":"IF(ISERROR(U432/X432),\"\",IF(U432/X432<=OUTLIERS!$G$3,\"\",IF(U432/X432>=OUTLIERS!$G$4,\"\",U432/X432)))","v":""},{"$f":"IF(ISERROR(Q432/Y432),\"\",IF(Q432/Y432<=OUTLIERS!$H$3,\"\",IF(Q432/Y432>=OUTLIERS!$H$4,\"\",Q432/Y432)))","v":""},{"$f":"IF(ISERROR(W432),\"\",IF(W432<=OUTLIERS!$I$3,\"\",IF(W432>=OUTLIERS!$I$4,\"\",W432)))","v":""},{"$f":"N432+O432","v":10448873},1326146,9122727,3092458,"","","n/a","n/a","n/a","n/a","n/a",7003970,24053727]
[432,9520,"GEF ","IUCN","n/a",{"$f":"IF(ISERROR(P433/(M433*S433)),\"\",IF((P433/(M433*S433))<=OUTLIERS!$C$3,\"\",IF((P433/(M433*S433))>=OUTLIERS!$C$4,\"\",P433/(M433*S433))))","v":""},{"$f":"IF(ISERROR(Q433/($M433*T433)),\"\",IF((Q433/($M433*T433))<=OUTLIERS!$D$3,\"\",IF((Q433/($M433*T433))>=OUTLIERS!$D$4,\"\",Q433/($M433*T433))))","v":""},{"$f":"IF(ISERROR((M433*S433)/P433),\"\",IF((M433*S433/P433)<=OUTLIERS!$E$3,\"\",IF((M433*S433/P433)>=OUTLIERS!$E$4,\"\",M433*S433/P433)))","v":""},{"$f":"IF(ISERROR(O433/N433),\"\",IF(O433/N433<=OUTLIERS!$F$3,\"\",IF(O433/N433>=OUTLIERS!$F$4,\"\",O433/N433)))","v":4.5485170756021303},{"$f":"IF(ISERROR(U433/X433),\"\",IF(U433/X433<=OUTLIERS!$G$3,\"\",IF(U433/X433>=OUTLIERS!$G$4,\"\",U433/X433)))","v":""},{"$f":"IF(ISERROR(Q433/Y433),\"\",IF(Q433/Y433<=OUTLIERS!$H$3,\"\",IF(Q433/Y433>=OUTLIERS!$H$4,\"\",Q433/Y433)))","v":""},{"$f":"IF(ISERROR(W433),\"\",IF(W433<=OUTLIERS!$I$3,\"\",IF(W433>=OUTLIERS!$I$4,\"\",W433)))","v":""},14716293,2652293,12064000,"n/a","","","n/a","n/a","n/a","n/a","n/a",21631633,53370609]
[433,9521,"GEF ","IUCN","Mitigation",{"$f":"IF(ISERROR(P434/(M434*S434)),\"\",IF((P434/(M434*S434))<=OUTLIERS!$C$3,\"\",IF((P434/(M434*S434))>=OUTLIERS!$C$4,\"\",P434/(M434*S434))))","v":1.1711071537181948E-2},{"$f":"IF(ISERROR(Q434/($M434*T434)),\"\",IF((Q434/($M434*T434))<=OUTLIERS!$D$3,\"\",IF((Q434/($M434*T434))>=OUTLIERS!$D$4,\"\",Q434/($M434*T434))))","v":""},{"$f":"IF(ISERROR((M434*S434)/P434),\"\",IF((M434*S434/P434)<=OUTLIERS!$E$3,\"\",IF((M434*S434/P434)>=OUTLIERS!$E$4,\"\",M434*S434/P434)))","v":85.389282852987449},{"$f":"IF(ISERROR(O434/N434),\"\",IF(O434/N434<=OUTLIERS!$F$3,\"\",IF(O434/N434>=OUTLIERS!$F$4,\"\",O434/N434)))","v":12.474962890018627},{"$f":"IF(ISERROR(U434/X434),\"\",IF(U434/X434<=OUTLIERS!$G$3,\"\",IF(U434/X434>=OUTLIERS!$G$4,\"\",U434/X434)))","v":""},{"$f":"IF(ISERROR(Q434/Y434),\"\",IF(Q434/Y434<=OUTLIERS!$H$3,\"\",IF(Q434/Y434>=OUTLIERS!$H$4,\"\",Q434/Y434)))","v":""},{"$f":"IF(ISERROR(W434),\"\",IF(W434<=OUTLIERS!$I$3,\"\",IF(W434>=OUTLIERS!$I$4,\"\",W434)))","v":0.5},44444524,3298304,41146220,520493,"","",1,0,"n/a","n/a",0.5,271358,1861283]
[434,9522,"GEF ","IUCN","Cross-cutting",{"$f":"IF(ISERROR(P435/(M435*S435)),\"\",IF((P435/(M435*S435))<=OUTLIERS!$C$3,\"\",IF((P435/(M435*S435))>=OUTLIERS!$C$4,\"\",P435/(M435*S435))))","v":""},{"$f":"IF(ISERROR(Q435/($M435*T435)),\"\",IF((Q435/($M435*T435))<=OUTLIERS!$D$3,\"\",IF((Q435/($M435*T435))>=OUTLIERS!$D$4,\"\",Q435/($M435*T435))))","v":""},{"$f":"IF(ISERROR((M435*S435)/P435),\"\",IF((M435*S435/P435)<=OUTLIERS!$E$3,\"\",IF((M435*S435/P435)>=OUTLIERS!$E$4,\"\",M435*S435/P435)))","v":""},{"$f":"IF(ISERROR(O435/N435),\"\",IF(O435/N435<=OUTLIERS!$F$3,\"\",IF(O435/N435>=OUTLIERS!$F$4,\"\",O435/N435)))","v":1.1080411111663553},{"$f":"IF(ISERROR(U435/X435),\"\",IF(U435/X435<=OUTLIERS!$G$3,\"\",IF(U435/X435>=OUTLIERS!$G$4,\"\",U435/X435)))","v":""},{"$f":"IF(ISERROR(Q435/Y435),\"\",IF(Q435/Y435<=OUTLIERS!$H$3,\"\",IF(Q435/Y435>=OUTLIERS!$H$4,\"\",Q435/Y435)))","v":""},{"$f":"IF(ISERROR(W435),\"\",IF(W435<=OUTLIERS!$I$3,\"\",IF(W435>=OUTLIERS!$I$4,\"\",W435)))","v":""},7419725,3519725,3900000,33425035,"","","n/a","n/a","n/a","n/a","n/a","",""]
[435,9524,"GEF ","UNEP","Cross-cutting",{"$f":"IF(ISERROR(P436/(M436*S436)),\"\",IF((P436/(M436*S436))<=OUTLIERS!$C$3,\"\",IF((P436/(M436*S436))>=OUTLIERS!$C$4,\"\",P436/(M436*S436))))","v":""},{"$f":"IF(ISERROR(Q436/($M436*T436)),\"\",IF((Q436/($M436*T436))<=OUTLIERS!$D$3,\"\",IF((Q436/($M436*T436))>=OUTLIERS!$D$4,\"\",Q436/($M436*T436))))","v":""},{"$f":"IF(ISERROR((M436*S436)/P436),\"\",IF((M436*S436/P436)<=OUTLIERS!$E$3,\"\",IF((M436*S436/P436)>=OUTLIERS!$E$4,\"\",M436*S436/P436)))","v":""},{"$f":"IF(ISERROR(O436/N436),\"\",IF(O436/N436<=OUTLIERS!$F$3,\"\",IF(O436/N436>=OUTLIERS!$F$4,\"\",O436/N436)))","v":5.7365906910234203},{"$f":"IF(ISERROR(U436/X436),\"\",IF(U436/X436<=OUTLIERS!$G$3,\"\",IF(U436/X436>=OUTLIERS!$G$4,\"\",U436/X436)))","v":2.0325113597924799E-2},{"$f":"IF(ISERROR(Q436/Y436),\"\",IF(Q436/Y436<=OUTLIERS!$H$3,\"\",IF(Q436/Y436>=OUTLIERS!$H$4,\"\",Q436/Y436)))","v":""},{"$f":"IF(ISERROR(W436),\"\",IF(W436<=OUTLIERS!$I$3,\"\",IF(W436>=OUTLIERS!$I$4,\"\",W436)))","v":""},75489373,11205872,64283501,4700000,"","","n/a","n/a",235000,"n/a","n/a",11562051,57310019]
[436,9526,"GEF ","UNEP","Cross-cutting",{"$f":"IF(ISERROR(P437/(M437*S437)),\"\",IF((P437/(M437*S437))<=OUTLIERS!$C$3,\"\",IF((P437/(M437*S437))>=OUTLIERS!$C$4,\"\",P437/(M437*S437))))","v":""},{"$f":"IF(ISERROR(Q437/($M437*T437)),\"\",IF((Q437/($M437*T437))<=OUTLIERS!$D$3,\"\",IF((Q437/($M437*T437))>=OUTLIERS!$D$4,\"\",Q437/($M437*T437))))","v":""},{"$f":"IF(ISERROR((M437*S437)/P437),\"\",IF((M437*S437/P437)<=OUTLIERS!$E$3,\"\",IF((M437*S437/P437)>=OUTLIERS!$E$4,\"\",M437*S437/P437)))","v":""},{"$f":"IF(ISERROR(O437/N437),\"\",IF(O437/N437<=OUTLIERS!$F$3,\"\",IF(O437/N437>=OUTLIERS!$F$4,\"\",O437/N437)))","v":10.91843279140722},{"$f":"IF(ISERROR(U437/X437),\"\",IF(U437/X437<=OUTLIERS!$G$3,\"\",IF(U437/X437>=OUTLIERS!$G$4,\"\",U437/X437)))","v":""},{"$f":"IF(ISERROR(Q437/Y437),\"\",IF(Q437/Y437<=OUTLIERS!$H$3,\"\",IF(Q437/Y437>=OUTLIERS!$H$4,\"\",Q437/Y437)))","v":""},{"$f":"IF(ISERROR(W437),\"\",IF(W437<=OUTLIERS!$I$3,\"\",IF(W437>=OUTLIERS!$I$4,\"\",W437)))","v":""},39872080,3345413,36526667,42630872,"",70000,"n/a","n/a","n/a",70000,"n/a",14286632,49699862]
[437,9531,"GEF ","UNDP","n/a",{"$f":"IF(ISERROR(P438/(M438*S438)),\"\",IF((P438/(M438*S438))<=OUTLIERS!$C$3,\"\",IF((P438/(M438*S438))>=OUTLIERS!$C$4,\"\",P438/(M438*S438))))","v":""},{"$f":"IF(ISERROR(Q438/($M438*T438)),\"\",IF((Q438/($M438*T438))<=OUTLIERS!$D$3,\"\",IF((Q438/($M438*T438))>=OUTLIERS!$D$4,\"\",Q438/($M438*T438))))","v":""},{"$f":"IF(ISERROR((M438*S438)/P438),\"\",IF((M438*S438/P438)<=OUTLIERS!$E$3,\"\",IF((M438*S438/P438)>=OUTLIERS!$E$4,\"\",M438*S438/P438)))","v":""},{"$f":"IF(ISERROR(O438/N438),\"\",IF(O438/N438<=OUTLIERS!$F$3,\"\",IF(O438/N438>=OUTLIERS!$F$4,\"\",O438/N438)))","v":2.2003333256927711},{"$f":"IF(ISERROR(U438/X438),\"\",IF(U438/X438<=OUTLIERS!$G$3,\"\",IF(U438/X438>=OUTLIERS!$G$4,\"\",U438/X438)))","v":""},{"$f":"IF(ISERROR(Q438/Y438),\"\",IF(Q438/Y438<=OUTLIERS!$H$3,\"\",IF(Q438/Y438>=OUTLIERS!$H$4,\"\",Q438/Y438)))","v":""},{"$f":"IF(ISERROR(W438),\"\",IF(W438<=OUTLIERS!$I$3,\"\",IF(W438>=OUTLIERS!$I$4,\"\",W438)))","v":""},8656460,2704862,5951598,"n/a","","","n/a","n/a","n/a","n/a","n/a",9809225,35530081]
[438,9537,"GEF ","FAO","Cross-cutting",{"$f":"IF(ISERROR(P439/(M439*S439)),\"\",IF((P439/(M439*S439))<=OUTLIERS!$C$3,\"\",IF((P439/(M439*S439))>=OUTLIERS!$C$4,\"\",P439/(M439*S439))))","v":""},{"$f":"IF(ISERROR(Q439/($M439*T439)),\"\",IF((Q439/($M439*T439))<=OUTLIERS!$D$3,\"\",IF((Q439/($M439*T439))>=OUTLIERS!$D$4,\"\",Q439/($M439*T439))))","v":""},{"$f":"IF(ISERROR((M439*S439)/P439),\"\",IF((M439*S439/P439)<=OUTLIERS!$E$3,\"\",IF((M439*S439/P439)>=OUTLIERS!$E$4,\"\",M439*S439/P439)))","v":""},{"$f":"IF(ISERROR(O439/N439),\"\",IF(O439/N439<=OUTLIERS!$F$3,\"\",IF(O439/N439>=OUTLIERS!$F$4,\"\",O439/N439)))","v":4.7815735049617372},{"$f":"IF(ISERROR(U439/X439),\"\",IF(U439/X439<=OUTLIERS!$G$3,\"\",IF(U439/X439>=OUTLIERS!$G$4,\"\",U439/X439)))","v":1.2382179373084973E-3},{"$f":"IF(ISERROR(Q439/Y439),\"\",IF(Q439/Y439<=OUTLIERS!$H$3,\"\",IF(Q439/Y439>=OUTLIERS!$H$4,\"\",Q439/Y439)))","v":""},{"$f":"IF(ISERROR(W439),\"\",IF(W439<=OUTLIERS!$I$3,\"\",IF(W439>=OUTLIERS!$I$4,\"\",W439)))","v":""},49901050,8631050,41270000,1482488,"",15000,"n/a","n/a",74124.399999999994,15000,"n/a",59863775,35739580]
[439,9541,"GEF ","UNDP","Mitigation",{"$f":"IF(ISERROR(P440/(M440*S440)),\"\",IF((P440/(M440*S440))<=OUTLIERS!$C$3,\"\",IF((P440/(M440*S440))>=OUTLIERS!$C$4,\"\",P440/(M440*S440))))","v":""},{"$f":"IF(ISERROR(Q440/($M440*T440)),\"\",IF((Q440/($M440*T440))<=OUTLIERS!$D$3,\"\",IF((Q440/($M440*T440))>=OUTLIERS!$D$4,\"\",Q440/($M440*T440))))","v":""},{"$f":"IF(ISERROR((M440*S440)/P440),\"\",IF((M440*S440/P440)<=OUTLIERS!$E$3,\"\",IF((M440*S440/P440)>=OUTLIERS!$E$4,\"\",M440*S440/P440)))","v":""},{"$f":"IF(ISERROR(O440/N440),\"\",IF(O440/N440<=OUTLIERS!$F$3,\"\",IF(O440/N440>=OUTLIERS!$F$4,\"\",O440/N440)))","v":0.28409090909090912},{"$f":"IF(ISERROR(U440/X440),\"\",IF(U440/X440<=OUTLIERS!$G$3,\"\",IF(U440/X440>=OUTLIERS!$G$4,\"\",U440/X440)))","v":""},{"$f":"IF(ISERROR(Q440/Y440),\"\",IF(Q440/Y440<=OUTLIERS!$H$3,\"\",IF(Q440/Y440>=OUTLIERS!$H$4,\"\",Q440/Y440)))","v":""},{"$f":"IF(ISERROR(W440),\"\",IF(W440<=OUTLIERS!$I$3,\"\",IF(W440>=OUTLIERS!$I$4,\"\",W440)))","v":""},452000,352000,100000,"n/a","","",1,0,"n/a","n/a","n/a",316212744,69037513]
[440,9555,"GEF ","WorldBank","Cross-cutting",{"$f":"IF(ISERROR(P441/(M441*S441)),\"\",IF((P441/(M441*S441))<=OUTLIERS!$C$3,\"\",IF((P441/(M441*S441))>=OUTLIERS!$C$4,\"\",P441/(M441*S441))))","v":""},{"$f":"IF(ISERROR(Q441/($M441*T441)),\"\",IF((Q441/($M441*T441))<=OUTLIERS!$D$3,\"\",IF((Q441/($M441*T441))>=OUTLIERS!$D$4,\"\",Q441/($M441*T441))))","v":""},{"$f":"IF(ISERROR((M441*S441)/P441),\"\",IF((M441*S441/P441)<=OUTLIERS!$E$3,\"\",IF((M441*S441/P441)>=OUTLIERS!$E$4,\"\",M441*S441/P441)))","v":""},{"$f":"IF(ISERROR(O441/N441),\"\",IF(O441/N441<=OUTLIERS!$F$3,\"\",IF(O441/N441>=OUTLIERS!$F$4,\"\",O441/N441)))","v":2.4835167800768305},{"$f":"IF(ISERROR(U441/X441),\"\",IF(U441/X441<=OUTLIERS!$G$3,\"\",IF(U441/X441>=OUTLIERS!$G$4,\"\",U441/X441)))","v":""},{"$f":"IF(ISERROR(Q441/Y441),\"\",IF(Q441/Y441<=OUTLIERS!$H$3,\"\",IF(Q441/Y441>=OUTLIERS!$H$4,\"\",Q441/Y441)))","v":""},{"$f":"IF(ISERROR(W441),\"\",IF(W441<=OUTLIERS!$I$3,\"\",IF(W441>=OUTLIERS!$I$4,\"\",W441)))","v":""},76157985,21862385,54295600,1870000,"",52792,"n/a","n/a","n/a",52792,"n/a",480270657,129163276]
[441,9556,"GEF ","FAO","Cross-cutting",{"$f":"IF(ISERROR(P442/(M442*S442)),\"\",IF((P442/(M442*S442))<=OUTLIERS!$C$3,\"\",IF((P442/(M442*S442))>=OUTLIERS!$C$4,\"\",P442/(M442*S442))))","v":""},{"$f":"IF(ISERROR(Q442/($M442*T442)),\"\",IF((Q442/($M442*T442))<=OUTLIERS!$D$3,\"\",IF((Q442/($M442*T442))>=OUTLIERS!$D$4,\"\",Q442/($M442*T442))))","v":""},{"$f":"IF(ISERROR((M442*S442)/P442),\"\",IF((M442*S442/P442)<=OUTLIERS!$E$3,\"\",IF((M442*S442/P442)>=OUTLIERS!$E$4,\"\",M442*S442/P442)))","v":""},{"$f":"IF(ISERROR(O442/N442),\"\",IF(O442/N442<=OUTLIERS!$F$3,\"\",IF(O442/N442>=OUTLIERS!$F$4,\"\",O442/N442)))","v":3.0067302650252326},{"$f":"IF(ISERROR(U442/X442),\"\",IF(U442/X442<=OUTLIERS!$G$3,\"\",IF(U442/X442>=OUTLIERS!$G$4,\"\",U442/X442)))","v":2.8701271230336159E-3},{"$f":"IF(ISERROR(Q442/Y442),\"\",IF(Q442/Y442<=OUTLIERS!$H$3,\"\",IF(Q442/Y442>=OUTLIERS!$H$4,\"\",Q442/Y442)))","v":""},{"$f":"IF(ISERROR(W442),\"\",IF(W442<=OUTLIERS!$I$3,\"\",IF(W442>=OUTLIERS!$I$4,\"\",W442)))","v":""},16657340,4157340,12500000,820089,"",73080,"n/a","n/a",41004.449999999997,73080,"n/a",14286632,49699862]
[442,9558,"GEF ","UNDP","Cross-cutting",{"$f":"IF(ISERROR(P443/(M443*S443)),\"\",IF((P443/(M443*S443))<=OUTLIERS!$C$3,\"\",IF((P443/(M443*S443))>=OUTLIERS!$C$4,\"\",P443/(M443*S443))))","v":""},{"$f":"IF(ISERROR(Q443/($M443*T443)),\"\",IF((Q443/($M443*T443))<=OUTLIERS!$D$3,\"\",IF((Q443/($M443*T443))>=OUTLIERS!$D$4,\"\",Q443/($M443*T443))))","v":""},{"$f":"IF(ISERROR((M443*S443)/P443),\"\",IF((M443*S443/P443)<=OUTLIERS!$E$3,\"\",IF((M443*S443/P443)>=OUTLIERS!$E$4,\"\",M443*S443/P443)))","v":""},{"$f":"IF(ISERROR(O443/N443),\"\",IF(O443/N443<=OUTLIERS!$F$3,\"\",IF(O443/N443>=OUTLIERS!$F$4,\"\",O443/N443)))","v":3.6402129642848147},{"$f":"IF(ISERROR(U443/X443),\"\",IF(U443/X443<=OUTLIERS!$G$3,\"\",IF(U443/X443>=OUTLIERS!$G$4,\"\",U443/X443)))","v":""},{"$f":"IF(ISERROR(Q443/Y443),\"\",IF(Q443/Y443<=OUTLIERS!$H$3,\"\",IF(Q443/Y443>=OUTLIERS!$H$4,\"\",Q443/Y443)))","v":""},{"$f":"IF(ISERROR(W443),\"\",IF(W443<=OUTLIERS!$I$3,\"\",IF(W443>=OUTLIERS!$I$4,\"\",W443)))","v":""},11051224,2381620,8669604,"n/a","","","n/a","n/a","n/a","n/a","n/a",316212744,69037513]
[443,9561,"GEF ","UNDP","n/a",{"$f":"IF(ISERROR(P444/(M444*S444)),\"\",IF((P444/(M444*S444))<=OUTLIERS!$C$3,\"\",IF((P444/(M444*S444))>=OUTLIERS!$C$4,\"\",P444/(M444*S444))))","v":""},{"$f":"IF(ISERROR(Q444/($M444*T444)),\"\",IF((Q444/($M444*T444))<=OUTLIERS!$D$3,\"\",IF((Q444/($M444*T444))>=OUTLIERS!$D$4,\"\",Q444/($M444*T444))))","v":""},{"$f":"IF(ISERROR((M444*S444)/P444),\"\",IF((M444*S444/P444)<=OUTLIERS!$E$3,\"\",IF((M444*S444/P444)>=OUTLIERS!$E$4,\"\",M444*S444/P444)))","v":""},{"$f":"IF(ISERROR(O444/N444),\"\",IF(O444/N444<=OUTLIERS!$F$3,\"\",IF(O444/N444>=OUTLIERS!$F$4,\"\",O444/N444)))","v":3.0899144505685787},{"$f":"IF(ISERROR(U444/X444),\"\",IF(U444/X444<=OUTLIERS!$G$3,\"\",IF(U444/X444>=OUTLIERS!$G$4,\"\",U444/X444)))","v":2.5368701125450512E-2},{"$f":"IF(ISERROR(Q444/Y444),\"\",IF(Q444/Y444<=OUTLIERS!$H$3,\"\",IF(Q444/Y444>=OUTLIERS!$H$4,\"\",Q444/Y444)))","v":""},{"$f":"IF(ISERROR(W444),\"\",IF(W444<=OUTLIERS!$I$3,\"\",IF(W444>=OUTLIERS!$I$4,\"\",W444)))","v":""},11912702,2912702,9000000,137680,"","","n/a","n/a",6884,"n/a","n/a",271358,1861283]
[444,9564,"GEF ","WorldBank","Mitigation",{"$f":"IF(ISERROR(P445/(M445*S445)),\"\",IF((P445/(M445*S445))<=OUTLIERS!$C$3,\"\",IF((P445/(M445*S445))>=OUTLIERS!$C$4,\"\",P445/(M445*S445))))","v":5.208687267551311E-3},{"$f":"IF(ISERROR(Q445/($M445*T445)),\"\",IF((Q445/($M445*T445))<=OUTLIERS!$D$3,\"\",IF((Q445/($M445*T445))>=OUTLIERS!$D$4,\"\",Q445/($M445*T445))))","v":""},{"$f":"IF(ISERROR((M445*S445)/P445),\"\",IF((M445*S445/P445)<=OUTLIERS!$E$3,\"\",IF((M445*S445/P445)>=OUTLIERS!$E$4,\"\",M445*S445/P445)))","v":191.98695345557124},{"$f":"IF(ISERROR(O445/N445),\"\",IF(O445/N445<=OUTLIERS!$F$3,\"\",IF(O445/N445>=OUTLIERS!$F$4,\"\",O445/N445)))","v":36.614853195164073},{"$f":"IF(ISERROR(U445/X445),\"\",IF(U445/X445<=OUTLIERS!$G$3,\"\",IF(U445/X445>=OUTLIERS!$G$4,\"\",U445/X445)))","v":1.1810007372572004E-4},{"$f":"IF(ISERROR(Q445/Y445),\"\",IF(Q445/Y445<=OUTLIERS!$H$3,\"\",IF(Q445/Y445>=OUTLIERS!$H$4,\"\",Q445/Y445)))","v":""},{"$f":"IF(ISERROR(W445),\"\",IF(W445<=OUTLIERS!$I$3,\"\",IF(W445>=OUTLIERS!$I$4,\"\",W445)))","v":""},217790000,5790000,212000000,1134400,"","",1,0,56720,"n/a","n/a",480270657,129163276]
[445,9567,"GEF ","UNDP","Mitigation",{"$f":"IF(ISERROR(P446/(M446*S446)),\"\",IF((P446/(M446*S446))<=OUTLIERS!$C$3,\"\",IF((P446/(M446*S446))>=OUTLIERS!$C$4,\"\",P446/(M446*S446))))","v":""},{"$f":"IF(ISERROR(Q446/($M446*T446)),\"\",IF((Q446/($M446*T446))<=OUTLIERS!$D$3,\"\",IF((Q446/($M446*T446))>=OUTLIERS!$D$4,\"\",Q446/($M446*T446))))","v":""},{"$f":"IF(ISERROR((M446*S446)/P446),\"\",IF((M446*S446/P446)<=OUTLIERS!$E$3,\"\",IF((M446*S446/P446)>=OUTLIERS!$E$4,\"\",M446*S446/P446)))","v":""},{"$f":"IF(ISERROR(O446/N446),\"\",IF(O446/N446<=OUTLIERS!$F$3,\"\",IF(O446/N446>=OUTLIERS!$F$4,\"\",O446/N446)))","v":42.560237691336148},{"$f":"IF(ISERROR(U446/X446),\"\",IF(U446/X446<=OUTLIERS!$G$3,\"\",IF(U446/X446>=OUTLIERS!$G$4,\"\",U446/X446)))","v":3.0432427624218485E-5},{"$f":"IF(ISERROR(Q446/Y446),\"\",IF(Q446/Y446<=OUTLIERS!$H$3,\"\",IF(Q446/Y446>=OUTLIERS!$H$4,\"\",Q446/Y446)))","v":""},{"$f":"IF(ISERROR(W446),\"\",IF(W446<=OUTLIERS!$I$3,\"\",IF(W446>=OUTLIERS!$I$4,\"\",W446)))","v":""},57493546,1319863,56173683,27327,"",900000,1,0,1821.8,900000,"n/a",59863775,35739580]
[446,9574,"GEF ","UNDP","Mitigation",{"$f":"IF(ISERROR(P447/(M447*S447)),\"\",IF((P447/(M447*S447))<=OUTLIERS!$C$3,\"\",IF((P447/(M447*S447))>=OUTLIERS!$C$4,\"\",P447/(M447*S447))))","v":3.6959980617406747E-2},{"$f":"IF(ISERROR(Q447/($M447*T447)),\"\",IF((Q447/($M447*T447))<=OUTLIERS!$D$3,\"\",IF((Q447/($M447*T447))>=OUTLIERS!$D$4,\"\",Q447/($M447*T447))))","v":""},{"$f":"IF(ISERROR((M447*S447)/P447),\"\",IF((M447*S447/P447)<=OUTLIERS!$E$3,\"\",IF((M447*S447/P447)>=OUTLIERS!$E$4,\"\",M447*S447/P447)))","v":27.056291245159315},{"$f":"IF(ISERROR(O447/N447),\"\",IF(O447/N447<=OUTLIERS!$F$3,\"\",IF(O447/N447>=OUTLIERS!$F$4,\"\",O447/N447)))","v":6.8804277413640662},{"$f":"IF(ISERROR(U447/X447),\"\",IF(U447/X447<=OUTLIERS!$G$3,\"\",IF(U447/X447>=OUTLIERS!$G$4,\"\",U447/X447)))","v":0.19968257431142625},{"$f":"IF(ISERROR(Q447/Y447),\"\",IF(Q447/Y447<=OUTLIERS!$H$3,\"\",IF(Q447/Y447>=OUTLIERS!$H$4,\"\",Q447/Y447)))","v":""},{"$f":"IF(ISERROR(W447),\"\",IF(W447<=OUTLIERS!$I$3,\"\",IF(W447>=OUTLIERS!$I$4,\"\",W447)))","v":0.5},20802170,2639726,18162444,768847.8,"","",1,0,30753.912,"n/a",0.5,154014,276244]
[447,9575,"GEF ","WorldBank","Cross-cutting",{"$f":"IF(ISERROR(P448/(M448*S448)),\"\",IF((P448/(M448*S448))<=OUTLIERS!$C$3,\"\",IF((P448/(M448*S448))>=OUTLIERS!$C$4,\"\",P448/(M448*S448))))","v":""},{"$f":"IF(ISERROR(Q448/($M448*T448)),\"\",IF((Q448/($M448*T448))<=OUTLIERS!$D$3,\"\",IF((Q448/($M448*T448))>=OUTLIERS!$D$4,\"\",Q448/($M448*T448))))","v":""},{"$f":"IF(ISERROR((M448*S448)/P448),\"\",IF((M448*S448/P448)<=OUTLIERS!$E$3,\"\",IF((M448*S448/P448)>=OUTLIERS!$E$4,\"\",M448*S448/P448)))","v":""},{"$f":"IF(ISERROR(O448/N448),\"\",IF(O448/N448<=OUTLIERS!$F$3,\"\",IF(O448/N448>=OUTLIERS!$F$4,\"\",O448/N448)))","v":4.995834382458554},{"$f":"IF(ISERROR(U448/X448),\"\",IF(U448/X448<=OUTLIERS!$G$3,\"\",IF(U448/X448>=OUTLIERS!$G$4,\"\",U448/X448)))","v":5.2530783163778343E-2},{"$f":"IF(ISERROR(Q448/Y448),\"\",IF(Q448/Y448<=OUTLIERS!$H$3,\"\",IF(Q448/Y448>=OUTLIERS!$H$4,\"\",Q448/Y448)))","v":""},{"$f":"IF(ISERROR(W448),\"\",IF(W448<=OUTLIERS!$I$3,\"\",IF(W448>=OUTLIERS!$I$4,\"\",W448)))","v":""},33004586,5504586,27500000,16142426,"",35000,"n/a","n/a",807121.3,35000,"n/a",15364730,40533330]
[448,9581,"GEF ","CAF","Mitigation",{"$f":"IF(ISERROR(P449/(M449*S449)),\"\",IF((P449/(M449*S449))<=OUTLIERS!$C$3,\"\",IF((P449/(M449*S449))>=OUTLIERS!$C$4,\"\",P449/(M449*S449))))","v":2.1146703326364258E-2},{"$f":"IF(ISERROR(Q449/($M449*T449)),\"\",IF((Q449/($M449*T449))<=OUTLIERS!$D$3,\"\",IF((Q449/($M449*T449))>=OUTLIERS!$D$4,\"\",Q449/($M449*T449))))","v":""},{"$f":"IF(ISERROR((M449*S449)/P449),\"\",IF((M449*S449/P449)<=OUTLIERS!$E$3,\"\",IF((M449*S449/P449)>=OUTLIERS!$E$4,\"\",M449*S449/P449)))","v":47.288694817658346},{"$f":"IF(ISERROR(O449/N449),\"\",IF(O449/N449<=OUTLIERS!$F$3,\"\",IF(O449/N449>=OUTLIERS!$F$4,\"\",O449/N449)))","v":3.9274819999999999},{"$f":"IF(ISERROR(U449/X449),\"\",IF(U449/X449<=OUTLIERS!$G$3,\"\",IF(U449/X449>=OUTLIERS!$G$4,\"\",U449/X449)))","v":""},{"$f":"IF(ISERROR(Q449/Y449),\"\",IF(Q449/Y449<=OUTLIERS!$H$3,\"\",IF(Q449/Y449>=OUTLIERS!$H$4,\"\",Q449/Y449)))","v":""},{"$f":"IF(ISERROR(W449),\"\",IF(W449<=OUTLIERS!$I$3,\"\",IF(W449>=OUTLIERS!$I$4,\"\",W449)))","v":""},9854964,2000000,7854964,208400,"","",1,0,"n/a","n/a","n/a",84091644,49065615]
[449,9585,"GEF ","UNIDO","Cross-cutting",{"$f":"IF(ISERROR(P450/(M450*S450)),\"\",IF((P450/(M450*S450))<=OUTLIERS!$C$3,\"\",IF((P450/(M450*S450))>=OUTLIERS!$C$4,\"\",P450/(M450*S450))))","v":""},{"$f":"IF(ISERROR(Q450/($M450*T450)),\"\",IF((Q450/($M450*T450))<=OUTLIERS!$D$3,\"\",IF((Q450/($M450*T450))>=OUTLIERS!$D$4,\"\",Q450/($M450*T450))))","v":""},{"$f":"IF(ISERROR((M450*S450)/P450),\"\",IF((M450*S450/P450)<=OUTLIERS!$E$3,\"\",IF((M450*S450/P450)>=OUTLIERS!$E$4,\"\",M450*S450/P450)))","v":""},{"$f":"IF(ISERROR(O450/N450),\"\",IF(O450/N450<=OUTLIERS!$F$3,\"\",IF(O450/N450>=OUTLIERS!$F$4,\"\",O450/N450)))","v":3.6169750000000001},{"$f":"IF(ISERROR(U450/X450),\"\",IF(U450/X450<=OUTLIERS!$G$3,\"\",IF(U450/X450>=OUTLIERS!$G$4,\"\",U450/X450)))","v":""},{"$f":"IF(ISERROR(Q450/Y450),\"\",IF(Q450/Y450<=OUTLIERS!$H$3,\"\",IF(Q450/Y450>=OUTLIERS!$H$4,\"\",Q450/Y450)))","v":""},{"$f":"IF(ISERROR(W450),\"\",IF(W450<=OUTLIERS!$I$3,\"\",IF(W450>=OUTLIERS!$I$4,\"\",W450)))","v":""},9233950,2000000,7233950,190000,"",{"$f":"IF(V450=\"n/a\",\"\",V450)","v":""},"n/a","n/a","n/a","n/a","n/a",166298450,197015955]
[450,9612,"GEF ","UNDP","Mitigation",{"$f":"IF(ISERROR(P451/(M451*S451)),\"\",IF((P451/(M451*S451))<=OUTLIERS!$C$3,\"\",IF((P451/(M451*S451))>=OUTLIERS!$C$4,\"\",P451/(M451*S451))))","v":8.7045162244147489E-2},{"$f":"IF(ISERROR(Q451/($M451*T451)),\"\",IF((Q451/($M451*T451))<=OUTLIERS!$D$3,\"\",IF((Q451/($M451*T451))>=OUTLIERS!$D$4,\"\",Q451/($M451*T451))))","v":""},{"$f":"IF(ISERROR((M451*S451)/P451),\"\",IF((M451*S451/P451)<=OUTLIERS!$E$3,\"\",IF((M451*S451/P451)>=OUTLIERS!$E$4,\"\",M451*S451/P451)))","v":11.488289230769231},{"$f":"IF(ISERROR(O451/N451),\"\",IF(O451/N451<=OUTLIERS!$F$3,\"\",IF(O451/N451>=OUTLIERS!$F$4,\"\",O451/N451)))","v":3.9429288084014611},{"$f":"IF(ISERROR(U451/X451),\"\",IF(U451/X451<=OUTLIERS!$G$3,\"\",IF(U451/X451>=OUTLIERS!$G$4,\"\",U451/X451)))","v":3.0747027412867063E-2},{"$f":"IF(ISERROR(Q451/Y451),\"\",IF(Q451/Y451<=OUTLIERS!$H$3,\"\",IF(Q451/Y451>=OUTLIERS!$H$4,\"\",Q451/Y451)))","v":""},{"$f":"IF(ISERROR(W451),\"\",IF(W451<=OUTLIERS!$I$3,\"\",IF(W451>=OUTLIERS!$I$4,\"\",W451)))","v":""},22402164,4532164,17870000,1950000,{"$f":"IF(E451=\"adaptation\",R451,\"\")","v":""},"",1,0,130000,"n/a","n/a",4228051,1264613]
[451,9617,"GEF ","UNDP","Mitigation",{"$f":"IF(ISERROR(P452/(M452*S452)),\"\",IF((P452/(M452*S452))<=OUTLIERS!$C$3,\"\",IF((P452/(M452*S452))>=OUTLIERS!$C$4,\"\",P452/(M452*S452))))","v":5.1833520769822956E-2},{"$f":"IF(ISERROR(Q452/($M452*T452)),\"\",IF((Q452/($M452*T452))<=OUTLIERS!$D$3,\"\",IF((Q452/($M452*T452))>=OUTLIERS!$D$4,\"\",Q452/($M452*T452))))","v":""},{"$f":"IF(ISERROR((M452*S452)/P452),\"\",IF((M452*S452/P452)<=OUTLIERS!$E$3,\"\",IF((M452*S452/P452)>=OUTLIERS!$E$4,\"\",M452*S452/P452)))","v":19.292534737138514},{"$f":"IF(ISERROR(O452/N452),\"\",IF(O452/N452<=OUTLIERS!$F$3,\"\",IF(O452/N452>=OUTLIERS!$F$4,\"\",O452/N452)))","v":4.2734360606060608},{"$f":"IF(ISERROR(U452/X452),\"\",IF(U452/X452<=OUTLIERS!$G$3,\"\",IF(U452/X452>=OUTLIERS!$G$4,\"\",U452/X452)))","v":""},{"$f":"IF(ISERROR(Q452/Y452),\"\",IF(Q452/Y452<=OUTLIERS!$H$3,\"\",IF(Q452/Y452>=OUTLIERS!$H$4,\"\",Q452/Y452)))","v":""},{"$f":"IF(ISERROR(W452),\"\",IF(W452<=OUTLIERS!$I$3,\"\",IF(W452>=OUTLIERS!$I$4,\"\",W452)))","v":0.5},34804678,6600000,28204678,1804049,"",17000,1,0,"n/a",17000,0.5,529808160.00000006,209288278]
[452,9620,"GEF ","UNDP","Mitigation",{"$f":"IF(ISERROR(P453/(M453*S453)),\"\",IF((P453/(M453*S453))<=OUTLIERS!$C$3,\"\",IF((P453/(M453*S453))>=OUTLIERS!$C$4,\"\",P453/(M453*S453))))","v":""},{"$f":"IF(ISERROR(Q453/($M453*T453)),\"\",IF((Q453/($M453*T453))<=OUTLIERS!$D$3,\"\",IF((Q453/($M453*T453))>=OUTLIERS!$D$4,\"\",Q453/($M453*T453))))","v":""},{"$f":"IF(ISERROR((M453*S453)/P453),\"\",IF((M453*S453/P453)<=OUTLIERS!$E$3,\"\",IF((M453*S453/P453)>=OUTLIERS!$E$4,\"\",M453*S453/P453)))","v":""},{"$f":"IF(ISERROR(O453/N453),\"\",IF(O453/N453<=OUTLIERS!$F$3,\"\",IF(O453/N453>=OUTLIERS!$F$4,\"\",O453/N453)))","v":0.92727272727272725},{"$f":"IF(ISERROR(U453/X453),\"\",IF(U453/X453<=OUTLIERS!$G$3,\"\",IF(U453/X453>=OUTLIERS!$G$4,\"\",U453/X453)))","v":""},{"$f":"IF(ISERROR(Q453/Y453),\"\",IF(Q453/Y453<=OUTLIERS!$H$3,\"\",IF(Q453/Y453>=OUTLIERS!$H$4,\"\",Q453/Y453)))","v":""},{"$f":"IF(ISERROR(W453),\"\",IF(W453<=OUTLIERS!$I$3,\"\",IF(W453>=OUTLIERS!$I$4,\"\",W453)))","v":""},678400,352000,326400,"n/a","","",1,0,"n/a","n/a","n/a",242821406,31624264]
[453,9639,"GEF ","UNDP","Cross-cutting",{"$f":"IF(ISERROR(P454/(M454*S454)),\"\",IF((P454/(M454*S454))<=OUTLIERS!$C$3,\"\",IF((P454/(M454*S454))>=OUTLIERS!$C$4,\"\",P454/(M454*S454))))","v":""},{"$f":"IF(ISERROR(Q454/($M454*T454)),\"\",IF((Q454/($M454*T454))<=OUTLIERS!$D$3,\"\",IF((Q454/($M454*T454))>=OUTLIERS!$D$4,\"\",Q454/($M454*T454))))","v":""},{"$f":"IF(ISERROR((M454*S454)/P454),\"\",IF((M454*S454/P454)<=OUTLIERS!$E$3,\"\",IF((M454*S454/P454)>=OUTLIERS!$E$4,\"\",M454*S454/P454)))","v":""},{"$f":"IF(ISERROR(O454/N454),\"\",IF(O454/N454<=OUTLIERS!$F$3,\"\",IF(O454/N454>=OUTLIERS!$F$4,\"\",O454/N454)))","v":0.3},{"$f":"IF(ISERROR(U454/X454),\"\",IF(U454/X454<=OUTLIERS!$G$3,\"\",IF(U454/X454>=OUTLIERS!$G$4,\"\",U454/X454)))","v":""},{"$f":"IF(ISERROR(Q454/Y454),\"\",IF(Q454/Y454<=OUTLIERS!$H$3,\"\",IF(Q454/Y454>=OUTLIERS!$H$4,\"\",Q454/Y454)))","v":""},{"$f":"IF(ISERROR(W454),\"\",IF(W454<=OUTLIERS!$I$3,\"\",IF(W454>=OUTLIERS!$I$4,\"\",W454)))","v":""},650000,500000,150000,"n/a","","","n/a","n/a","n/a","n/a","n/a",6747280,3456750]
[454,9640,"GEF ","UNIDO","Mitigation",{"$f":"IF(ISERROR(P455/(M455*S455)),\"\",IF((P455/(M455*S455))<=OUTLIERS!$C$3,\"\",IF((P455/(M455*S455))>=OUTLIERS!$C$4,\"\",P455/(M455*S455))))","v":3.6757633268114605E-2},{"$f":"IF(ISERROR(Q455/($M455*T455)),\"\",IF((Q455/($M455*T455))<=OUTLIERS!$D$3,\"\",IF((Q455/($M455*T455))>=OUTLIERS!$D$4,\"\",Q455/($M455*T455))))","v":""},{"$f":"IF(ISERROR((M455*S455)/P455),\"\",IF((M455*S455/P455)<=OUTLIERS!$E$3,\"\",IF((M455*S455/P455)>=OUTLIERS!$E$4,\"\",M455*S455/P455)))","v":27.205233609734325},{"$f":"IF(ISERROR(O455/N455),\"\",IF(O455/N455<=OUTLIERS!$F$3,\"\",IF(O455/N455>=OUTLIERS!$F$4,\"\",O455/N455)))","v":6.8041758244226545},{"$f":"IF(ISERROR(U455/X455),\"\",IF(U455/X455<=OUTLIERS!$G$3,\"\",IF(U455/X455>=OUTLIERS!$G$4,\"\",U455/X455)))","v":""},{"$f":"IF(ISERROR(Q455/Y455),\"\",IF(Q455/Y455<=OUTLIERS!$H$3,\"\",IF(Q455/Y455>=OUTLIERS!$H$4,\"\",Q455/Y455)))","v":""},{"$f":"IF(ISERROR(W455),\"\",IF(W455<=OUTLIERS!$I$3,\"\",IF(W455>=OUTLIERS!$I$4,\"\",W455)))","v":0.3},13897848,1780822,12117026,510852,"","",1,0,"n/a","n/a",0.3,6684941,16005373]
[455,9648,"GEF ","UNIDO","Mitigation",{"$f":"IF(ISERROR(P456/(M456*S456)),\"\",IF((P456/(M456*S456))<=OUTLIERS!$C$3,\"\",IF((P456/(M456*S456))>=OUTLIERS!$C$4,\"\",P456/(M456*S456))))","v":5.5833649497047761E-3},{"$f":"IF(ISERROR(Q456/($M456*T456)),\"\",IF((Q456/($M456*T456))<=OUTLIERS!$D$3,\"\",IF((Q456/($M456*T456))>=OUTLIERS!$D$4,\"\",Q456/($M456*T456))))","v":""},{"$f":"IF(ISERROR((M456*S456)/P456),\"\",IF((M456*S456/P456)<=OUTLIERS!$E$3,\"\",IF((M456*S456/P456)>=OUTLIERS!$E$4,\"\",M456*S456/P456)))","v":179.10346341463415},{"$f":"IF(ISERROR(O456/N456),\"\",IF(O456/N456<=OUTLIERS!$F$3,\"\",IF(O456/N456>=OUTLIERS!$F$4,\"\",O456/N456)))","v":7.2671636783669316},{"$f":"IF(ISERROR(U456/X456),\"\",IF(U456/X456<=OUTLIERS!$G$3,\"\",IF(U456/X456>=OUTLIERS!$G$4,\"\",U456/X456)))","v":""},{"$f":"IF(ISERROR(Q456/Y456),\"\",IF(Q456/Y456<=OUTLIERS!$H$3,\"\",IF(Q456/Y456>=OUTLIERS!$H$4,\"\",Q456/Y456)))","v":""},{"$f":"IF(ISERROR(W456),\"\",IF(W456<=OUTLIERS!$I$3,\"\",IF(W456>=OUTLIERS!$I$4,\"\",W456)))","v":0.4},14686484,1776484,12910000,82000,"","",1,0,"n/a","n/a",0.4,1272449,285719]
[456,9649,"GEF ","IDB","Cross-cutting",{"$f":"IF(ISERROR(P457/(M457*S457)),\"\",IF((P457/(M457*S457))<=OUTLIERS!$C$3,\"\",IF((P457/(M457*S457))>=OUTLIERS!$C$4,\"\",P457/(M457*S457))))","v":""},{"$f":"IF(ISERROR(Q457/($M457*T457)),\"\",IF((Q457/($M457*T457))<=OUTLIERS!$D$3,\"\",IF((Q457/($M457*T457))>=OUTLIERS!$D$4,\"\",Q457/($M457*T457))))","v":""},{"$f":"IF(ISERROR((M457*S457)/P457),\"\",IF((M457*S457/P457)<=OUTLIERS!$E$3,\"\",IF((M457*S457/P457)>=OUTLIERS!$E$4,\"\",M457*S457/P457)))","v":""},{"$f":"IF(ISERROR(O457/N457),\"\",IF(O457/N457<=OUTLIERS!$F$3,\"\",IF(O457/N457>=OUTLIERS!$F$4,\"\",O457/N457)))","v":7.1431332761882675},{"$f":"IF(ISERROR(U457/X457),\"\",IF(U457/X457<=OUTLIERS!$G$3,\"\",IF(U457/X457>=OUTLIERS!$G$4,\"\",U457/X457)))","v":7.0397804877760829E-6},{"$f":"IF(ISERROR(Q457/Y457),\"\",IF(Q457/Y457<=OUTLIERS!$H$3,\"\",IF(Q457/Y457>=OUTLIERS!$H$4,\"\",Q457/Y457)))","v":""},{"$f":"IF(ISERROR(W457),\"\",IF(W457<=OUTLIERS!$I$3,\"\",IF(W457>=OUTLIERS!$I$4,\"\",W457)))","v":""},112061468,13761468,98300000,59650,"","","n/a","n/a",3381,"n/a","n/a",480270657,129163276]
[457,9650,"GEF ","UNDP","Mitigation",{"$f":"IF(ISERROR(P458/(M458*S458)),\"\",IF((P458/(M458*S458))<=OUTLIERS!$C$3,\"\",IF((P458/(M458*S458))>=OUTLIERS!$C$4,\"\",P458/(M458*S458))))","v":8.3184477972138588E-3},{"$f":"IF(ISERROR(Q458/($M458*T458)),\"\",IF((Q458/($M458*T458))<=OUTLIERS!$D$3,\"\",IF((Q458/($M458*T458))>=OUTLIERS!$D$4,\"\",Q458/($M458*T458))))","v":""},{"$f":"IF(ISERROR((M458*S458)/P458),\"\",IF((M458*S458/P458)<=OUTLIERS!$E$3,\"\",IF((M458*S458/P458)>=OUTLIERS!$E$4,\"\",M458*S458/P458)))","v":120.21473529411765},{"$f":"IF(ISERROR(O458/N458),\"\",IF(O458/N458<=OUTLIERS!$F$3,\"\",IF(O458/N458>=OUTLIERS!$F$4,\"\",O458/N458)))","v":3.6707420756359945},{"$f":"IF(ISERROR(U458/X458),\"\",IF(U458/X458<=OUTLIERS!$G$3,\"\",IF(U458/X458>=OUTLIERS!$G$4,\"\",U458/X458)))","v":3.3838994066232864E-3},{"$f":"IF(ISERROR(Q458/Y458),\"\",IF(Q458/Y458<=OUTLIERS!$H$3,\"\",IF(Q458/Y458>=OUTLIERS!$H$4,\"\",Q458/Y458)))","v":""},{"$f":"IF(ISERROR(W458),\"\",IF(W458<=OUTLIERS!$I$3,\"\",IF(W458>=OUTLIERS!$I$4,\"\",W458)))","v":0.5},8174602,1750172,6424430,68000,"",10000,1,0,6800,10000,0.5,2009516,777859]
[458,9651,"GEF ","UNDP","Cross-cutting",{"$f":"IF(ISERROR(P459/(M459*S459)),\"\",IF((P459/(M459*S459))<=OUTLIERS!$C$3,\"\",IF((P459/(M459*S459))>=OUTLIERS!$C$4,\"\",P459/(M459*S459))))","v":""},{"$f":"IF(ISERROR(Q459/($M459*T459)),\"\",IF((Q459/($M459*T459))<=OUTLIERS!$D$3,\"\",IF((Q459/($M459*T459))>=OUTLIERS!$D$4,\"\",Q459/($M459*T459))))","v":""},{"$f":"IF(ISERROR((M459*S459)/P459),\"\",IF((M459*S459/P459)<=OUTLIERS!$E$3,\"\",IF((M459*S459/P459)>=OUTLIERS!$E$4,\"\",M459*S459/P459)))","v":""},{"$f":"IF(ISERROR(O459/N459),\"\",IF(O459/N459<=OUTLIERS!$F$3,\"\",IF(O459/N459>=OUTLIERS!$F$4,\"\",O459/N459)))","v":1.5},{"$f":"IF(ISERROR(U459/X459),\"\",IF(U459/X459<=OUTLIERS!$G$3,\"\",IF(U459/X459>=OUTLIERS!$G$4,\"\",U459/X459)))","v":""},{"$f":"IF(ISERROR(Q459/Y459),\"\",IF(Q459/Y459<=OUTLIERS!$H$3,\"\",IF(Q459/Y459>=OUTLIERS!$H$4,\"\",Q459/Y459)))","v":""},{"$f":"IF(ISERROR(W459),\"\",IF(W459<=OUTLIERS!$I$3,\"\",IF(W459>=OUTLIERS!$I$4,\"\",W459)))","v":""},2500000,1000000,1500000,"n/a","","","n/a","n/a","n/a","n/a","n/a",608722,14742523]
[459,9652,"GEF ","UNEP","Cross-cutting",{"$f":"IF(ISERROR(P460/(M460*S460)),\"\",IF((P460/(M460*S460))<=OUTLIERS!$C$3,\"\",IF((P460/(M460*S460))>=OUTLIERS!$C$4,\"\",P460/(M460*S460))))","v":""},{"$f":"IF(ISERROR(Q460/($M460*T460)),\"\",IF((Q460/($M460*T460))<=OUTLIERS!$D$3,\"\",IF((Q460/($M460*T460))>=OUTLIERS!$D$4,\"\",Q460/($M460*T460))))","v":""},{"$f":"IF(ISERROR((M460*S460)/P460),\"\",IF((M460*S460/P460)<=OUTLIERS!$E$3,\"\",IF((M460*S460/P460)>=OUTLIERS!$E$4,\"\",M460*S460/P460)))","v":""},{"$f":"IF(ISERROR(O460/N460),\"\",IF(O460/N460<=OUTLIERS!$F$3,\"\",IF(O460/N460>=OUTLIERS!$F$4,\"\",O460/N460)))","v":2.75},{"$f":"IF(ISERROR(U460/X460),\"\",IF(U460/X460<=OUTLIERS!$G$3,\"\",IF(U460/X460>=OUTLIERS!$G$4,\"\",U460/X460)))","v":""},{"$f":"IF(ISERROR(Q460/Y460),\"\",IF(Q460/Y460<=OUTLIERS!$H$3,\"\",IF(Q460/Y460>=OUTLIERS!$H$4,\"\",Q460/Y460)))","v":""},{"$f":"IF(ISERROR(W460),\"\",IF(W460<=OUTLIERS!$I$3,\"\",IF(W460>=OUTLIERS!$I$4,\"\",W460)))","v":""},3750000,1000000,2750000,"n/a","","","n/a","n/a","n/a","n/a","n/a",7759372,4905769]
[460,9655,"GEF ","UNDP","Cross-cutting",{"$f":"IF(ISERROR(P461/(M461*S461)),\"\",IF((P461/(M461*S461))<=OUTLIERS!$C$3,\"\",IF((P461/(M461*S461))>=OUTLIERS!$C$4,\"\",P461/(M461*S461))))","v":""},{"$f":"IF(ISERROR(Q461/($M461*T461)),\"\",IF((Q461/($M461*T461))<=OUTLIERS!$D$3,\"\",IF((Q461/($M461*T461))>=OUTLIERS!$D$4,\"\",Q461/($M461*T461))))","v":""},{"$f":"IF(ISERROR((M461*S461)/P461),\"\",IF((M461*S461/P461)<=OUTLIERS!$E$3,\"\",IF((M461*S461/P461)>=OUTLIERS!$E$4,\"\",M461*S461/P461)))","v":""},{"$f":"IF(ISERROR(O461/N461),\"\",IF(O461/N461<=OUTLIERS!$F$3,\"\",IF(O461/N461>=OUTLIERS!$F$4,\"\",O461/N461)))","v":0.35657276995305165},{"$f":"IF(ISERROR(U461/X461),\"\",IF(U461/X461<=OUTLIERS!$G$3,\"\",IF(U461/X461>=OUTLIERS!$G$4,\"\",U461/X461)))","v":""},{"$f":"IF(ISERROR(Q461/Y461),\"\",IF(Q461/Y461<=OUTLIERS!$H$3,\"\",IF(Q461/Y461>=OUTLIERS!$H$4,\"\",Q461/Y461)))","v":""},{"$f":"IF(ISERROR(W461),\"\",IF(W461<=OUTLIERS!$I$3,\"\",IF(W461>=OUTLIERS!$I$4,\"\",W461)))","v":""},1155800,852000,303800,"n/a","","","n/a","n/a","n/a","n/a","n/a",8987817,3717100]
[461,9660,"GEF ","UNDP","Cross-cutting",{"$f":"IF(ISERROR(P462/(M462*S462)),\"\",IF((P462/(M462*S462))<=OUTLIERS!$C$3,\"\",IF((P462/(M462*S462))>=OUTLIERS!$C$4,\"\",P462/(M462*S462))))","v":""},{"$f":"IF(ISERROR(Q462/($M462*T462)),\"\",IF((Q462/($M462*T462))<=OUTLIERS!$D$3,\"\",IF((Q462/($M462*T462))>=OUTLIERS!$D$4,\"\",Q462/($M462*T462))))","v":""},{"$f":"IF(ISERROR((M462*S462)/P462),\"\",IF((M462*S462/P462)<=OUTLIERS!$E$3,\"\",IF((M462*S462/P462)>=OUTLIERS!$E$4,\"\",M462*S462/P462)))","v":""},{"$f":"IF(ISERROR(O462/N462),\"\",IF(O462/N462<=OUTLIERS!$F$3,\"\",IF(O462/N462>=OUTLIERS!$F$4,\"\",O462/N462)))","v":4.7288220863350396},{"$f":"IF(ISERROR(U462/X462),\"\",IF(U462/X462<=OUTLIERS!$G$3,\"\",IF(U462/X462>=OUTLIERS!$G$4,\"\",U462/X462)))","v":6.9450034466332555E-3},{"$f":"IF(ISERROR(Q462/Y462),\"\",IF(Q462/Y462<=OUTLIERS!$H$3,\"\",IF(Q462/Y462>=OUTLIERS!$H$4,\"\",Q462/Y462)))","v":""},{"$f":"IF(ISERROR(W462),\"\",IF(W462<=OUTLIERS!$I$3,\"\",IF(W462>=OUTLIERS!$I$4,\"\",W462)))","v":0.4},57436964,10025964,47411000,834819,"",140000,"n/a","n/a",83481.899999999994,140000,0.4,12020426,16529904]
[462,9663,"GEF ","WorldBank","Mitigation",{"$f":"IF(ISERROR(P463/(M463*S463)),\"\",IF((P463/(M463*S463))<=OUTLIERS!$C$3,\"\",IF((P463/(M463*S463))>=OUTLIERS!$C$4,\"\",P463/(M463*S463))))","v":7.6019754913823984E-2},{"$f":"IF(ISERROR(Q463/($M463*T463)),\"\",IF((Q463/($M463*T463))<=OUTLIERS!$D$3,\"\",IF((Q463/($M463*T463))>=OUTLIERS!$D$4,\"\",Q463/($M463*T463))))","v":""},{"$f":"IF(ISERROR((M463*S463)/P463),\"\",IF((M463*S463/P463)<=OUTLIERS!$E$3,\"\",IF((M463*S463/P463)>=OUTLIERS!$E$4,\"\",M463*S463/P463)))","v":13.154475453565988},{"$f":"IF(ISERROR(O463/N463),\"\",IF(O463/N463<=OUTLIERS!$F$3,\"\",IF(O463/N463>=OUTLIERS!$F$4,\"\",O463/N463)))","v":5.1052344761904758},{"$f":"IF(ISERROR(U463/X463),\"\",IF(U463/X463<=OUTLIERS!$G$3,\"\",IF(U463/X463>=OUTLIERS!$G$4,\"\",U463/X463)))","v":""},{"$f":"IF(ISERROR(Q463/Y463),\"\",IF(Q463/Y463<=OUTLIERS!$H$3,\"\",IF(Q463/Y463>=OUTLIERS!$H$4,\"\",Q463/Y463)))","v":""},{"$f":"IF(ISERROR(W463),\"\",IF(W463<=OUTLIERS!$I$3,\"\",IF(W463>=OUTLIERS!$I$4,\"\",W463)))","v":""},128209924,21000000,107209924,9746487,"",4000,1,0,"n/a",4000,"n/a",84091644,49065615]
[463,9664,"GEF ","WorldBank","Mitigation",{"$f":"IF(ISERROR(P464/(M464*S464)),\"\",IF((P464/(M464*S464))<=OUTLIERS!$C$3,\"\",IF((P464/(M464*S464))>=OUTLIERS!$C$4,\"\",P464/(M464*S464))))","v":0.32502934720152243},{"$f":"IF(ISERROR(Q464/($M464*T464)),\"\",IF((Q464/($M464*T464))<=OUTLIERS!$D$3,\"\",IF((Q464/($M464*T464))>=OUTLIERS!$D$4,\"\",Q464/($M464*T464))))","v":""},{"$f":"IF(ISERROR((M464*S464)/P464),\"\",IF((M464*S464/P464)<=OUTLIERS!$E$3,\"\",IF((M464*S464/P464)>=OUTLIERS!$E$4,\"\",M464*S464/P464)))","v":3.0766452586817858},{"$f":"IF(ISERROR(O464/N464),\"\",IF(O464/N464<=OUTLIERS!$F$3,\"\",IF(O464/N464>=OUTLIERS!$F$4,\"\",O464/N464)))","v":6.1956679264047736},{"$f":"IF(ISERROR(U464/X464),\"\",IF(U464/X464<=OUTLIERS!$G$3,\"\",IF(U464/X464>=OUTLIERS!$G$4,\"\",U464/X464)))","v":4.4387135650509169E-2},{"$f":"IF(ISERROR(Q464/Y464),\"\",IF(Q464/Y464<=OUTLIERS!$H$3,\"\",IF(Q464/Y464>=OUTLIERS!$H$4,\"\",Q464/Y464)))","v":""},{"$f":"IF(ISERROR(W464),\"\",IF(W464<=OUTLIERS!$I$3,\"\",IF(W464>=OUTLIERS!$I$4,\"\",W464)))","v":""},434114646,60330000,373784646,141100000,"","",1,0,23516666.666666668,"n/a","n/a",529808160.00000006,209288278]
[464,9666,"GEF ","WorldBank","Cross-cutting",{"$f":"IF(ISERROR(P465/(M465*S465)),\"\",IF((P465/(M465*S465))<=OUTLIERS!$C$3,\"\",IF((P465/(M465*S465))>=OUTLIERS!$C$4,\"\",P465/(M465*S465))))","v":""},{"$f":"IF(ISERROR(Q465/($M465*T465)),\"\",IF((Q465/($M465*T465))<=OUTLIERS!$D$3,\"\",IF((Q465/($M465*T465))>=OUTLIERS!$D$4,\"\",Q465/($M465*T465))))","v":""},{"$f":"IF(ISERROR((M465*S465)/P465),\"\",IF((M465*S465/P465)<=OUTLIERS!$E$3,\"\",IF((M465*S465/P465)>=OUTLIERS!$E$4,\"\",M465*S465/P465)))","v":""},{"$f":"IF(ISERROR(O465/N465),\"\",IF(O465/N465<=OUTLIERS!$F$3,\"\",IF(O465/N465>=OUTLIERS!$F$4,\"\",O465/N465)))","v":1},{"$f":"IF(ISERROR(U465/X465),\"\",IF(U465/X465<=OUTLIERS!$G$3,\"\",IF(U465/X465>=OUTLIERS!$G$4,\"\",U465/X465)))","v":""},{"$f":"IF(ISERROR(Q465/Y465),\"\",IF(Q465/Y465<=OUTLIERS!$H$3,\"\",IF(Q465/Y465>=OUTLIERS!$H$4,\"\",Q465/Y465)))","v":""},{"$f":"IF(ISERROR(W465),\"\",IF(W465<=OUTLIERS!$I$3,\"\",IF(W465>=OUTLIERS!$I$4,\"\",W465)))","v":""},4000000,2000000,2000000,"n/a","","","n/a","n/a","n/a","n/a","n/a","",""]
[465,9670,"GEF ","UNEP","Adaptation",{"$f":"IF(ISERROR(P466/(M466*S466)),\"\",IF((P466/(M466*S466))<=OUTLIERS!$C$3,\"\",IF((P466/(M466*S466))>=OUTLIERS!$C$4,\"\",P466/(M466*S466))))","v":""},{"$f":"IF(ISERROR(Q466/($M466*T466)),\"\",IF((Q466/($M466*T466))<=OUTLIERS!$D$3,\"\",IF((Q466/($M466*T466))>=OUTLIERS!$D$4,\"\",Q466/($M466*T466))))","v":""},{"$f":"IF(ISERROR((M466*S466)/P466),\"\",IF((M466*S466/P466)<=OUTLIERS!$E$3,\"\",IF((M466*S466/P466)>=OUTLIERS!$E$4,\"\",M466*S466/P466)))","v":""},{"$f":"IF(ISERROR(O466/N466),\"\",IF(O466/N466<=OUTLIERS!$F$3,\"\",IF(O466/N466>=OUTLIERS!$F$4,\"\",O466/N466)))","v":4.45},{"$f":"IF(ISERROR(U466/X466),\"\",IF(U466/X466<=OUTLIERS!$G$3,\"\",IF(U466/X466>=OUTLIERS!$G$4,\"\",U466/X466)))","v":""},{"$f":"IF(ISERROR(Q466/Y466),\"\",IF(Q466/Y466<=OUTLIERS!$H$3,\"\",IF(Q466/Y466>=OUTLIERS!$H$4,\"\",Q466/Y466)))","v":""},{"$f":"IF(ISERROR(W466),\"\",IF(W466<=OUTLIERS!$I$3,\"\",IF(W466>=OUTLIERS!$I$4,\"\",W466)))","v":0.5},5450000,1000000,4450000,"n/a","","",0,1,"n/a","n/a",0.5,49836363.499999993,16410065.499999998]
[466,9673,"GEF ","UNEP","Cross-cutting",{"$f":"IF(ISERROR(P467/(M467*S467)),\"\",IF((P467/(M467*S467))<=OUTLIERS!$C$3,\"\",IF((P467/(M467*S467))>=OUTLIERS!$C$4,\"\",P467/(M467*S467))))","v":""},{"$f":"IF(ISERROR(Q467/($M467*T467)),\"\",IF((Q467/($M467*T467))<=OUTLIERS!$D$3,\"\",IF((Q467/($M467*T467))>=OUTLIERS!$D$4,\"\",Q467/($M467*T467))))","v":""},{"$f":"IF(ISERROR((M467*S467)/P467),\"\",IF((M467*S467/P467)<=OUTLIERS!$E$3,\"\",IF((M467*S467/P467)>=OUTLIERS!$E$4,\"\",M467*S467/P467)))","v":""},{"$f":"IF(ISERROR(O467/N467),\"\",IF(O467/N467<=OUTLIERS!$F$3,\"\",IF(O467/N467>=OUTLIERS!$F$4,\"\",O467/N467)))","v":2.0809681818181818},{"$f":"IF(ISERROR(U467/X467),\"\",IF(U467/X467<=OUTLIERS!$G$3,\"\",IF(U467/X467>=OUTLIERS!$G$4,\"\",U467/X467)))","v":""},{"$f":"IF(ISERROR(Q467/Y467),\"\",IF(Q467/Y467<=OUTLIERS!$H$3,\"\",IF(Q467/Y467>=OUTLIERS!$H$4,\"\",Q467/Y467)))","v":""},{"$f":"IF(ISERROR(W467),\"\",IF(W467<=OUTLIERS!$I$3,\"\",IF(W467>=OUTLIERS!$I$4,\"\",W467)))","v":""},3389065,1100000,2289065,"n/a","","","n/a","n/a","n/a","n/a","n/a",489771854,56717156]
[467,9674,"GEF ","CI","Cross-cutting",{"$f":"IF(ISERROR(P468/(M468*S468)),\"\",IF((P468/(M468*S468))<=OUTLIERS!$C$3,\"\",IF((P468/(M468*S468))>=OUTLIERS!$C$4,\"\",P468/(M468*S468))))","v":""},{"$f":"IF(ISERROR(Q468/($M468*T468)),\"\",IF((Q468/($M468*T468))<=OUTLIERS!$D$3,\"\",IF((Q468/($M468*T468))>=OUTLIERS!$D$4,\"\",Q468/($M468*T468))))","v":""},{"$f":"IF(ISERROR((M468*S468)/P468),\"\",IF((M468*S468/P468)<=OUTLIERS!$E$3,\"\",IF((M468*S468/P468)>=OUTLIERS!$E$4,\"\",M468*S468/P468)))","v":""},{"$f":"IF(ISERROR(O468/N468),\"\",IF(O468/N468<=OUTLIERS!$F$3,\"\",IF(O468/N468>=OUTLIERS!$F$4,\"\",O468/N468)))","v":1.1000000000000001},{"$f":"IF(ISERROR(U468/X468),\"\",IF(U468/X468<=OUTLIERS!$G$3,\"\",IF(U468/X468>=OUTLIERS!$G$4,\"\",U468/X468)))","v":""},{"$f":"IF(ISERROR(Q468/Y468),\"\",IF(Q468/Y468<=OUTLIERS!$H$3,\"\",IF(Q468/Y468>=OUTLIERS!$H$4,\"\",Q468/Y468)))","v":""},{"$f":"IF(ISERROR(W468),\"\",IF(W468<=OUTLIERS!$I$3,\"\",IF(W468>=OUTLIERS!$I$4,\"\",W468)))","v":""},2100000,1000000,1100000,"n/a","","","n/a","n/a","n/a","n/a","n/a",14286632,49699862]
[468,9675,"GEF ","UNEP","Cross-cutting",{"$f":"IF(ISERROR(P469/(M469*S469)),\"\",IF((P469/(M469*S469))<=OUTLIERS!$C$3,\"\",IF((P469/(M469*S469))>=OUTLIERS!$C$4,\"\",P469/(M469*S469))))","v":""},{"$f":"IF(ISERROR(Q469/($M469*T469)),\"\",IF((Q469/($M469*T469))<=OUTLIERS!$D$3,\"\",IF((Q469/($M469*T469))>=OUTLIERS!$D$4,\"\",Q469/($M469*T469))))","v":""},{"$f":"IF(ISERROR((M469*S469)/P469),\"\",IF((M469*S469/P469)<=OUTLIERS!$E$3,\"\",IF((M469*S469/P469)>=OUTLIERS!$E$4,\"\",M469*S469/P469)))","v":""},{"$f":"IF(ISERROR(O469/N469),\"\",IF(O469/N469<=OUTLIERS!$F$3,\"\",IF(O469/N469>=OUTLIERS!$F$4,\"\",O469/N469)))","v":0.4},{"$f":"IF(ISERROR(U469/X469),\"\",IF(U469/X469<=OUTLIERS!$G$3,\"\",IF(U469/X469>=OUTLIERS!$G$4,\"\",U469/X469)))","v":""},{"$f":"IF(ISERROR(Q469/Y469),\"\",IF(Q469/Y469<=OUTLIERS!$H$3,\"\",IF(Q469/Y469>=OUTLIERS!$H$4,\"\",Q469/Y469)))","v":""},{"$f":"IF(ISERROR(W469),\"\",IF(W469<=OUTLIERS!$I$3,\"\",IF(W469>=OUTLIERS!$I$4,\"\",W469)))","v":""},1400000,1000000,400000,"n/a","","","n/a","n/a","n/a","n/a","n/a","",""]
[469,9677,"GEF ","UNDP","Cross-cutting",{"$f":"IF(ISERROR(P470/(M470*S470)),\"\",IF((P470/(M470*S470))<=OUTLIERS!$C$3,\"\",IF((P470/(M470*S470))>=OUTLIERS!$C$4,\"\",P470/(M470*S470))))","v":""},{"$f":"IF(ISERROR(Q470/($M470*T470)),\"\",IF((Q470/($M470*T470))<=OUTLIERS!$D$3,\"\",IF((Q470/($M470*T470))>=OUTLIERS!$D$4,\"\",Q470/($M470*T470))))","v":""},{"$f":"IF(ISERROR((M470*S470)/P470),\"\",IF((M470*S470/P470)<=OUTLIERS!$E$3,\"\",IF((M470*S470/P470)>=OUTLIERS!$E$4,\"\",M470*S470/P470)))","v":""},{"$f":"IF(ISERROR(O470/N470),\"\",IF(O470/N470<=OUTLIERS!$F$3,\"\",IF(O470/N470>=OUTLIERS!$F$4,\"\",O470/N470)))","v":0.2529342723004695},{"$f":"IF(ISERROR(U470/X470),\"\",IF(U470/X470<=OUTLIERS!$G$3,\"\",IF(U470/X470>=OUTLIERS!$G$4,\"\",U470/X470)))","v":""},{"$f":"IF(ISERROR(Q470/Y470),\"\",IF(Q470/Y470<=OUTLIERS!$H$3,\"\",IF(Q470/Y470>=OUTLIERS!$H$4,\"\",Q470/Y470)))","v":""},{"$f":"IF(ISERROR(W470),\"\",IF(W470<=OUTLIERS!$I$3,\"\",IF(W470>=OUTLIERS!$I$4,\"\",W470)))","v":""},1067500,852000,215500,"n/a","","","n/a","n/a","n/a","n/a","n/a",495045,374681]
[470,9682,"GEF ","WorldBank","Mitigation ",{"$f":"IF(ISERROR(P471/(M471*S471)),\"\",IF((P471/(M471*S471))<=OUTLIERS!$C$3,\"\",IF((P471/(M471*S471))>=OUTLIERS!$C$4,\"\",P471/(M471*S471))))","v":""},{"$f":"IF(ISERROR(Q471/($M471*T471)),\"\",IF((Q471/($M471*T471))<=OUTLIERS!$D$3,\"\",IF((Q471/($M471*T471))>=OUTLIERS!$D$4,\"\",Q471/($M471*T471))))","v":""},{"$f":"IF(ISERROR((M471*S471)/P471),\"\",IF((M471*S471/P471)<=OUTLIERS!$E$3,\"\",IF((M471*S471/P471)>=OUTLIERS!$E$4,\"\",M471*S471/P471)))","v":""},{"$f":"IF(ISERROR(O471/N471),\"\",IF(O471/N471<=OUTLIERS!$F$3,\"\",IF(O471/N471>=OUTLIERS!$F$4,\"\",O471/N471)))","v":18.847709127775026},{"$f":"IF(ISERROR(U471/X471),\"\",IF(U471/X471<=OUTLIERS!$G$3,\"\",IF(U471/X471>=OUTLIERS!$G$4,\"\",U471/X471)))","v":1.3019913723487299E-5},{"$f":"IF(ISERROR(Q471/Y471),\"\",IF(Q471/Y471<=OUTLIERS!$H$3,\"\",IF(Q471/Y471>=OUTLIERS!$H$4,\"\",Q471/Y471)))","v":""},{"$f":"IF(ISERROR(W471),\"\",IF(W471<=OUTLIERS!$I$3,\"\",IF(W471>=OUTLIERS!$I$4,\"\",W471)))","v":""},163666095,8246095,155420000,1340000,"","","n/a","n/a",134000,"n/a","n/a",10291926878,1386395000]
[471,9683,"GEF ","UNIDO","Mitigation",{"$f":"IF(ISERROR(P472/(M472*S472)),\"\",IF((P472/(M472*S472))<=OUTLIERS!$C$3,\"\",IF((P472/(M472*S472))>=OUTLIERS!$C$4,\"\",P472/(M472*S472))))","v":0.12450422862602821},{"$f":"IF(ISERROR(Q472/($M472*T472)),\"\",IF((Q472/($M472*T472))<=OUTLIERS!$D$3,\"\",IF((Q472/($M472*T472))>=OUTLIERS!$D$4,\"\",Q472/($M472*T472))))","v":""},{"$f":"IF(ISERROR((M472*S472)/P472),\"\",IF((M472*S472/P472)<=OUTLIERS!$E$3,\"\",IF((M472*S472/P472)>=OUTLIERS!$E$4,\"\",M472*S472/P472)))","v":8.0318557131395707},{"$f":"IF(ISERROR(O472/N472),\"\",IF(O472/N472<=OUTLIERS!$F$3,\"\",IF(O472/N472>=OUTLIERS!$F$4,\"\",O472/N472)))","v":4.0389040377675558},{"$f":"IF(ISERROR(U472/X472),\"\",IF(U472/X472<=OUTLIERS!$G$3,\"\",IF(U472/X472>=OUTLIERS!$G$4,\"\",U472/X472)))","v":3.5448539928652129E-2},{"$f":"IF(ISERROR(Q472/Y472),\"\",IF(Q472/Y472<=OUTLIERS!$H$3,\"\",IF(Q472/Y472>=OUTLIERS!$H$4,\"\",Q472/Y472)))","v":""},{"$f":"IF(ISERROR(W472),\"\",IF(W472<=OUTLIERS!$I$3,\"\",IF(W472>=OUTLIERS!$I$4,\"\",W472)))","v":""},19951989,3959589,15992400,2484107,"","",1,0,165607,"n/a","n/a",4671758,81339988]
[472,9696,"GEF ","WorldBank","Cross-cutting",{"$f":"IF(ISERROR(P473/(M473*S473)),\"\",IF((P473/(M473*S473))<=OUTLIERS!$C$3,\"\",IF((P473/(M473*S473))>=OUTLIERS!$C$4,\"\",P473/(M473*S473))))","v":""},{"$f":"IF(ISERROR(Q473/($M473*T473)),\"\",IF((Q473/($M473*T473))<=OUTLIERS!$D$3,\"\",IF((Q473/($M473*T473))>=OUTLIERS!$D$4,\"\",Q473/($M473*T473))))","v":""},{"$f":"IF(ISERROR((M473*S473)/P473),\"\",IF((M473*S473/P473)<=OUTLIERS!$E$3,\"\",IF((M473*S473/P473)>=OUTLIERS!$E$4,\"\",M473*S473/P473)))","v":""},{"$f":"IF(ISERROR(O473/N473),\"\",IF(O473/N473<=OUTLIERS!$F$3,\"\",IF(O473/N473>=OUTLIERS!$F$4,\"\",O473/N473)))","v":3.5843960930514602},{"$f":"IF(ISERROR(U473/X473),\"\",IF(U473/X473<=OUTLIERS!$G$3,\"\",IF(U473/X473>=OUTLIERS!$G$4,\"\",U473/X473)))","v":""},{"$f":"IF(ISERROR(Q473/Y473),\"\",IF(Q473/Y473<=OUTLIERS!$H$3,\"\",IF(Q473/Y473>=OUTLIERS!$H$4,\"\",Q473/Y473)))","v":""},{"$f":"IF(ISERROR(W473),\"\",IF(W473<=OUTLIERS!$I$3,\"\",IF(W473>=OUTLIERS!$I$4,\"\",W473)))","v":""},29363520,6405101,22958419,"n/a","","","n/a","n/a","n/a","n/a","n/a","",""]
[473,9698,"GEF ","IDB","Cross-cutting",{"$f":"IF(ISERROR(P474/(M474*S474)),\"\",IF((P474/(M474*S474))<=OUTLIERS!$C$3,\"\",IF((P474/(M474*S474))>=OUTLIERS!$C$4,\"\",P474/(M474*S474))))","v":""},{"$f":"IF(ISERROR(Q474/($M474*T474)),\"\",IF((Q474/($M474*T474))<=OUTLIERS!$D$3,\"\",IF((Q474/($M474*T474))>=OUTLIERS!$D$4,\"\",Q474/($M474*T474))))","v":""},{"$f":"IF(ISERROR((M474*S474)/P474),\"\",IF((M474*S474/P474)<=OUTLIERS!$E$3,\"\",IF((M474*S474/P474)>=OUTLIERS!$E$4,\"\",M474*S474/P474)))","v":""},{"$f":"IF(ISERROR(O474/N474),\"\",IF(O474/N474<=OUTLIERS!$F$3,\"\",IF(O474/N474>=OUTLIERS!$F$4,\"\",O474/N474)))","v":46.866802480652893},{"$f":"IF(ISERROR(U474/X474),\"\",IF(U474/X474<=OUTLIERS!$G$3,\"\",IF(U474/X474>=OUTLIERS!$G$4,\"\",U474/X474)))","v":4.1379905004694636E-5},{"$f":"IF(ISERROR(Q474/Y474),\"\",IF(Q474/Y474<=OUTLIERS!$H$3,\"\",IF(Q474/Y474>=OUTLIERS!$H$4,\"\",Q474/Y474)))","v":""},{"$f":"IF(ISERROR(W474),\"\",IF(W474<=OUTLIERS!$I$3,\"\",IF(W474>=OUTLIERS!$I$4,\"\",W474)))","v":""},307401515,6422019,300979496,51100,"","","n/a","n/a",2555,"n/a","n/a",61744946,32165485]
[474,9706,"GEF ","UNDP","Mitigation",{"$f":"IF(ISERROR(P475/(M475*S475)),\"\",IF((P475/(M475*S475))<=OUTLIERS!$C$3,\"\",IF((P475/(M475*S475))>=OUTLIERS!$C$4,\"\",P475/(M475*S475))))","v":3.9887939097415703E-3},{"$f":"IF(ISERROR(Q475/($M475*T475)),\"\",IF((Q475/($M475*T475))<=OUTLIERS!$D$3,\"\",IF((Q475/($M475*T475))>=OUTLIERS!$D$4,\"\",Q475/($M475*T475))))","v":""},{"$f":"IF(ISERROR((M475*S475)/P475),\"\",IF((M475*S475/P475)<=OUTLIERS!$E$3,\"\",IF((M475*S475/P475)>=OUTLIERS!$E$4,\"\",M475*S475/P475)))","v":250.70234828572254},{"$f":"IF(ISERROR(O475/N475),\"\",IF(O475/N475<=OUTLIERS!$F$3,\"\",IF(O475/N475>=OUTLIERS!$F$4,\"\",O475/N475)))","v":7.8606239906244193},{"$f":"IF(ISERROR(U475/X475),\"\",IF(U475/X475<=OUTLIERS!$G$3,\"\",IF(U475/X475>=OUTLIERS!$G$4,\"\",U475/X475)))","v":""},{"$f":"IF(ISERROR(Q475/Y475),\"\",IF(Q475/Y475<=OUTLIERS!$H$3,\"\",IF(Q475/Y475>=OUTLIERS!$H$4,\"\",Q475/Y475)))","v":""},{"$f":"IF(ISERROR(W475),\"\",IF(W475<=OUTLIERS!$I$3,\"\",IF(W475>=OUTLIERS!$I$4,\"\",W475)))","v":0.31},17359132,1959132,15400000,69242,"","",1,0,"n/a","n/a",0.31,34836500,11484636]
[475,9714,"GEF ","UNIDO","Mitigation",{"$f":"IF(ISERROR(P476/(M476*S476)),\"\",IF((P476/(M476*S476))<=OUTLIERS!$C$3,\"\",IF((P476/(M476*S476))>=OUTLIERS!$C$4,\"\",P476/(M476*S476))))","v":3.2820731427375543E-2},{"$f":"IF(ISERROR(Q476/($M476*T476)),\"\",IF((Q476/($M476*T476))<=OUTLIERS!$D$3,\"\",IF((Q476/($M476*T476))>=OUTLIERS!$D$4,\"\",Q476/($M476*T476))))","v":""},{"$f":"IF(ISERROR((M476*S476)/P476),\"\",IF((M476*S476/P476)<=OUTLIERS!$E$3,\"\",IF((M476*S476/P476)>=OUTLIERS!$E$4,\"\",M476*S476/P476)))","v":30.468547058823528},{"$f":"IF(ISERROR(O476/N476),\"\",IF(O476/N476<=OUTLIERS!$F$3,\"\",IF(O476/N476>=OUTLIERS!$F$4,\"\",O476/N476)))","v":5.6435362911449065},{"$f":"IF(ISERROR(U476/X476),\"\",IF(U476/X476<=OUTLIERS!$G$3,\"\",IF(U476/X476>=OUTLIERS!$G$4,\"\",U476/X476)))","v":""},{"$f":"IF(ISERROR(Q476/Y476),\"\",IF(Q476/Y476<=OUTLIERS!$H$3,\"\",IF(Q476/Y476>=OUTLIERS!$H$4,\"\",Q476/Y476)))","v":""},{"$f":"IF(ISERROR(W476),\"\",IF(W476<=OUTLIERS!$I$3,\"\",IF(W476>=OUTLIERS!$I$4,\"\",W476)))","v":""},25898265,3898265,22000000,850000,"","",1,0,"n/a","n/a","n/a",96280752,190886311]
[476,9723,"GEF ","UNEP","Adaptation",{"$f":"IF(ISERROR(P477/(M477*S477)),\"\",IF((P477/(M477*S477))<=OUTLIERS!$C$3,\"\",IF((P477/(M477*S477))>=OUTLIERS!$C$4,\"\",P477/(M477*S477))))","v":""},{"$f":"IF(ISERROR(Q477/($M477*T477)),\"\",IF((Q477/($M477*T477))<=OUTLIERS!$D$3,\"\",IF((Q477/($M477*T477))>=OUTLIERS!$D$4,\"\",Q477/($M477*T477))))","v":2.3421555722140724E-3},{"$f":"IF(ISERROR((M477*S477)/P477),\"\",IF((M477*S477/P477)<=OUTLIERS!$E$3,\"\",IF((M477*S477/P477)>=OUTLIERS!$E$4,\"\",M477*S477/P477)))","v":""},{"$f":"IF(ISERROR(O477/N477),\"\",IF(O477/N477<=OUTLIERS!$F$3,\"\",IF(O477/N477>=OUTLIERS!$F$4,\"\",O477/N477)))","v":3.3213690240267835},{"$f":"IF(ISERROR(U477/X477),\"\",IF(U477/X477<=OUTLIERS!$G$3,\"\",IF(U477/X477>=OUTLIERS!$G$4,\"\",U477/X477)))","v":""},{"$f":"IF(ISERROR(Q477/Y477),\"\",IF(Q477/Y477<=OUTLIERS!$H$3,\"\",IF(Q477/Y477>=OUTLIERS!$H$4,\"\",Q477/Y477)))","v":7.2695673581635208E-3},{"$f":"IF(ISERROR(W477),\"\",IF(W477<=OUTLIERS!$I$3,\"\",IF(W477>=OUTLIERS!$I$4,\"\",W477)))","v":""},39032420,9032420,30000000,"n/a",91420,91420,0,1,"n/a",91420,"n/a",1496136,12575714]
[477,9733,"GEF ","UNDP","Cross-cutting",{"$f":"IF(ISERROR(P478/(M478*S478)),\"\",IF((P478/(M478*S478))<=OUTLIERS!$C$3,\"\",IF((P478/(M478*S478))>=OUTLIERS!$C$4,\"\",P478/(M478*S478))))","v":""},{"$f":"IF(ISERROR(Q478/($M478*T478)),\"\",IF((Q478/($M478*T478))<=OUTLIERS!$D$3,\"\",IF((Q478/($M478*T478))>=OUTLIERS!$D$4,\"\",Q478/($M478*T478))))","v":""},{"$f":"IF(ISERROR((M478*S478)/P478),\"\",IF((M478*S478/P478)<=OUTLIERS!$E$3,\"\",IF((M478*S478/P478)>=OUTLIERS!$E$4,\"\",M478*S478/P478)))","v":""},{"$f":"IF(ISERROR(O478/N478),\"\",IF(O478/N478<=OUTLIERS!$F$3,\"\",IF(O478/N478>=OUTLIERS!$F$4,\"\",O478/N478)))","v":0.10563380281690141},{"$f":"IF(ISERROR(U478/X478),\"\",IF(U478/X478<=OUTLIERS!$G$3,\"\",IF(U478/X478>=OUTLIERS!$G$4,\"\",U478/X478)))","v":""},{"$f":"IF(ISERROR(Q478/Y478),\"\",IF(Q478/Y478<=OUTLIERS!$H$3,\"\",IF(Q478/Y478>=OUTLIERS!$H$4,\"\",Q478/Y478)))","v":""},{"$f":"IF(ISERROR(W478),\"\",IF(W478<=OUTLIERS!$I$3,\"\",IF(W478>=OUTLIERS!$I$4,\"\",W478)))","v":""},942000,852000,90000,"n/a","","","n/a","n/a","n/a","n/a","n/a",37667424,7022268]
[478,9736,"GEF ","UNDP","Cross-cutting",{"$f":"IF(ISERROR(P479/(M479*S479)),\"\",IF((P479/(M479*S479))<=OUTLIERS!$C$3,\"\",IF((P479/(M479*S479))>=OUTLIERS!$C$4,\"\",P479/(M479*S479))))","v":""},{"$f":"IF(ISERROR(Q479/($M479*T479)),\"\",IF((Q479/($M479*T479))<=OUTLIERS!$D$3,\"\",IF((Q479/($M479*T479))>=OUTLIERS!$D$4,\"\",Q479/($M479*T479))))","v":""},{"$f":"IF(ISERROR((M479*S479)/P479),\"\",IF((M479*S479/P479)<=OUTLIERS!$E$3,\"\",IF((M479*S479/P479)>=OUTLIERS!$E$4,\"\",M479*S479/P479)))","v":""},{"$f":"IF(ISERROR(O479/N479),\"\",IF(O479/N479<=OUTLIERS!$F$3,\"\",IF(O479/N479>=OUTLIERS!$F$4,\"\",O479/N479)))","v":0.75821596244131451},{"$f":"IF(ISERROR(U479/X479),\"\",IF(U479/X479<=OUTLIERS!$G$3,\"\",IF(U479/X479>=OUTLIERS!$G$4,\"\",U479/X479)))","v":""},{"$f":"IF(ISERROR(Q479/Y479),\"\",IF(Q479/Y479<=OUTLIERS!$H$3,\"\",IF(Q479/Y479>=OUTLIERS!$H$4,\"\",Q479/Y479)))","v":""},{"$f":"IF(ISERROR(W479),\"\",IF(W479<=OUTLIERS!$I$3,\"\",IF(W479>=OUTLIERS!$I$4,\"\",W479)))","v":""},1498000,852000,646000,"n/a","","","n/a","n/a","n/a","n/a","n/a",7759372,4905769]
[479,9738,"GEF ","UNEP","Cross-cutting",{"$f":"IF(ISERROR(P480/(M480*S480)),\"\",IF((P480/(M480*S480))<=OUTLIERS!$C$3,\"\",IF((P480/(M480*S480))>=OUTLIERS!$C$4,\"\",P480/(M480*S480))))","v":""},{"$f":"IF(ISERROR(Q480/($M480*T480)),\"\",IF((Q480/($M480*T480))<=OUTLIERS!$D$3,\"\",IF((Q480/($M480*T480))>=OUTLIERS!$D$4,\"\",Q480/($M480*T480))))","v":""},{"$f":"IF(ISERROR((M480*S480)/P480),\"\",IF((M480*S480/P480)<=OUTLIERS!$E$3,\"\",IF((M480*S480/P480)>=OUTLIERS!$E$4,\"\",M480*S480/P480)))","v":""},{"$f":"IF(ISERROR(O480/N480),\"\",IF(O480/N480<=OUTLIERS!$F$3,\"\",IF(O480/N480>=OUTLIERS!$F$4,\"\",O480/N480)))","v":3.2507981187440063},{"$f":"IF(ISERROR(U480/X480),\"\",IF(U480/X480<=OUTLIERS!$G$3,\"\",IF(U480/X480>=OUTLIERS!$G$4,\"\",U480/X480)))","v":""},{"$f":"IF(ISERROR(Q480/Y480),\"\",IF(Q480/Y480<=OUTLIERS!$H$3,\"\",IF(Q480/Y480>=OUTLIERS!$H$4,\"\",Q480/Y480)))","v":""},{"$f":"IF(ISERROR(W480),\"\",IF(W480<=OUTLIERS!$I$3,\"\",IF(W480>=OUTLIERS!$I$4,\"\",W480)))","v":""},4445897,1045897,3400000,"n/a","","","n/a","n/a","n/a","n/a","n/a",36602771.666666664,96025622]
[480,9739,"GEF ","UNDP","Cross-cutting",{"$f":"IF(ISERROR(P481/(M481*S481)),\"\",IF((P481/(M481*S481))<=OUTLIERS!$C$3,\"\",IF((P481/(M481*S481))>=OUTLIERS!$C$4,\"\",P481/(M481*S481))))","v":""},{"$f":"IF(ISERROR(Q481/($M481*T481)),\"\",IF((Q481/($M481*T481))<=OUTLIERS!$D$3,\"\",IF((Q481/($M481*T481))>=OUTLIERS!$D$4,\"\",Q481/($M481*T481))))","v":""},{"$f":"IF(ISERROR((M481*S481)/P481),\"\",IF((M481*S481/P481)<=OUTLIERS!$E$3,\"\",IF((M481*S481/P481)>=OUTLIERS!$E$4,\"\",M481*S481/P481)))","v":""},{"$f":"IF(ISERROR(O481/N481),\"\",IF(O481/N481<=OUTLIERS!$F$3,\"\",IF(O481/N481>=OUTLIERS!$F$4,\"\",O481/N481)))","v":0.69090909090909092},{"$f":"IF(ISERROR(U481/X481),\"\",IF(U481/X481<=OUTLIERS!$G$3,\"\",IF(U481/X481>=OUTLIERS!$G$4,\"\",U481/X481)))","v":""},{"$f":"IF(ISERROR(Q481/Y481),\"\",IF(Q481/Y481<=OUTLIERS!$H$3,\"\",IF(Q481/Y481>=OUTLIERS!$H$4,\"\",Q481/Y481)))","v":""},{"$f":"IF(ISERROR(W481),\"\",IF(W481<=OUTLIERS!$I$3,\"\",IF(W481>=OUTLIERS!$I$4,\"\",W481)))","v":""},1860000,1100000,760000,"n/a","","","n/a","n/a","n/a","n/a","n/a",6747280,3456750]
[481,9740,"GEF ","UNDP","Cross-cutting",{"$f":"IF(ISERROR(P482/(M482*S482)),\"\",IF((P482/(M482*S482))<=OUTLIERS!$C$3,\"\",IF((P482/(M482*S482))>=OUTLIERS!$C$4,\"\",P482/(M482*S482))))","v":""},{"$f":"IF(ISERROR(Q482/($M482*T482)),\"\",IF((Q482/($M482*T482))<=OUTLIERS!$D$3,\"\",IF((Q482/($M482*T482))>=OUTLIERS!$D$4,\"\",Q482/($M482*T482))))","v":""},{"$f":"IF(ISERROR((M482*S482)/P482),\"\",IF((M482*S482/P482)<=OUTLIERS!$E$3,\"\",IF((M482*S482/P482)>=OUTLIERS!$E$4,\"\",M482*S482/P482)))","v":""},{"$f":"IF(ISERROR(O482/N482),\"\",IF(O482/N482<=OUTLIERS!$F$3,\"\",IF(O482/N482>=OUTLIERS!$F$4,\"\",O482/N482)))","v":0.12784090909090909},{"$f":"IF(ISERROR(U482/X482),\"\",IF(U482/X482<=OUTLIERS!$G$3,\"\",IF(U482/X482>=OUTLIERS!$G$4,\"\",U482/X482)))","v":""},{"$f":"IF(ISERROR(Q482/Y482),\"\",IF(Q482/Y482<=OUTLIERS!$H$3,\"\",IF(Q482/Y482>=OUTLIERS!$H$4,\"\",Q482/Y482)))","v":""},{"$f":"IF(ISERROR(W482),\"\",IF(W482<=OUTLIERS!$I$3,\"\",IF(W482>=OUTLIERS!$I$4,\"\",W482)))","v":""},397000,352000,45000,"n/a","","","n/a","n/a","n/a","n/a","n/a",21539958,10766998]
[482,9742,"GEF ","CAF","Mitigation",{"$f":"IF(ISERROR(P483/(M483*S483)),\"\",IF((P483/(M483*S483))<=OUTLIERS!$C$3,\"\",IF((P483/(M483*S483))>=OUTLIERS!$C$4,\"\",P483/(M483*S483))))","v":1.7785059320915952E-2},{"$f":"IF(ISERROR(Q483/($M483*T483)),\"\",IF((Q483/($M483*T483))<=OUTLIERS!$D$3,\"\",IF((Q483/($M483*T483))>=OUTLIERS!$D$4,\"\",Q483/($M483*T483))))","v":""},{"$f":"IF(ISERROR((M483*S483)/P483),\"\",IF((M483*S483/P483)<=OUTLIERS!$E$3,\"\",IF((M483*S483/P483)>=OUTLIERS!$E$4,\"\",M483*S483/P483)))","v":56.226970175126681},{"$f":"IF(ISERROR(O483/N483),\"\",IF(O483/N483<=OUTLIERS!$F$3,\"\",IF(O483/N483>=OUTLIERS!$F$4,\"\",O483/N483)))","v":12.958558620689654},{"$f":"IF(ISERROR(U483/X483),\"\",IF(U483/X483<=OUTLIERS!$G$3,\"\",IF(U483/X483>=OUTLIERS!$G$4,\"\",U483/X483)))","v":4.3599452317974127E-4},{"$f":"IF(ISERROR(Q483/Y483),\"\",IF(Q483/Y483<=OUTLIERS!$H$3,\"\",IF(Q483/Y483>=OUTLIERS!$H$4,\"\",Q483/Y483)))","v":""},{"$f":"IF(ISERROR(W483),\"\",IF(W483<=OUTLIERS!$I$3,\"\",IF(W483>=OUTLIERS!$I$4,\"\",W483)))","v":""},40479820,2900000,37579820,719936,"","",1,0,35996.800000000003,"n/a","n/a",82562505,18054726]
[483,9743,"GEF ","UNDP","Mitigation",{"$f":"IF(ISERROR(P484/(M484*S484)),\"\",IF((P484/(M484*S484))<=OUTLIERS!$C$3,\"\",IF((P484/(M484*S484))>=OUTLIERS!$C$4,\"\",P484/(M484*S484))))","v":7.0116254671735651E-3},{"$f":"IF(ISERROR(Q484/($M484*T484)),\"\",IF((Q484/($M484*T484))<=OUTLIERS!$D$3,\"\",IF((Q484/($M484*T484))>=OUTLIERS!$D$4,\"\",Q484/($M484*T484))))","v":""},{"$f":"IF(ISERROR((M484*S484)/P484),\"\",IF((M484*S484/P484)<=OUTLIERS!$E$3,\"\",IF((M484*S484/P484)>=OUTLIERS!$E$4,\"\",M484*S484/P484)))","v":142.62028179937951},{"$f":"IF(ISERROR(O484/N484),\"\",IF(O484/N484<=OUTLIERS!$F$3,\"\",IF(O484/N484>=OUTLIERS!$F$4,\"\",O484/N484)))","v":4.0155682824656802},{"$f":"IF(ISERROR(U484/X484),\"\",IF(U484/X484<=OUTLIERS!$G$3,\"\",IF(U484/X484>=OUTLIERS!$G$4,\"\",U484/X484)))","v":4.8209012742235339E-5},{"$f":"IF(ISERROR(Q484/Y484),\"\",IF(Q484/Y484<=OUTLIERS!$H$3,\"\",IF(Q484/Y484>=OUTLIERS!$H$4,\"\",Q484/Y484)))","v":""},{"$f":"IF(ISERROR(W484),\"\",IF(W484<=OUTLIERS!$I$3,\"\",IF(W484>=OUTLIERS!$I$4,\"\",W484)))","v":""},13239726,2639726,10600000,92832,"","",1,0,4641.6000000000004,"n/a","n/a",96280752,190886311]
[484,9744,"GEF ","UNEP","Cross-cutting",{"$f":"IF(ISERROR(P485/(M485*S485)),\"\",IF((P485/(M485*S485))<=OUTLIERS!$C$3,\"\",IF((P485/(M485*S485))>=OUTLIERS!$C$4,\"\",P485/(M485*S485))))","v":""},{"$f":"IF(ISERROR(Q485/($M485*T485)),\"\",IF((Q485/($M485*T485))<=OUTLIERS!$D$3,\"\",IF((Q485/($M485*T485))>=OUTLIERS!$D$4,\"\",Q485/($M485*T485))))","v":""},{"$f":"IF(ISERROR((M485*S485)/P485),\"\",IF((M485*S485/P485)<=OUTLIERS!$E$3,\"\",IF((M485*S485/P485)>=OUTLIERS!$E$4,\"\",M485*S485/P485)))","v":""},{"$f":"IF(ISERROR(O485/N485),\"\",IF(O485/N485<=OUTLIERS!$F$3,\"\",IF(O485/N485>=OUTLIERS!$F$4,\"\",O485/N485)))","v":0.5374449339207048},{"$f":"IF(ISERROR(U485/X485),\"\",IF(U485/X485<=OUTLIERS!$G$3,\"\",IF(U485/X485>=OUTLIERS!$G$4,\"\",U485/X485)))","v":""},{"$f":"IF(ISERROR(Q485/Y485),\"\",IF(Q485/Y485<=OUTLIERS!$H$3,\"\",IF(Q485/Y485>=OUTLIERS!$H$4,\"\",Q485/Y485)))","v":""},{"$f":"IF(ISERROR(W485),\"\",IF(W485<=OUTLIERS!$I$3,\"\",IF(W485>=OUTLIERS!$I$4,\"\",W485)))","v":""},1745000,1135000,610000,"n/a","","","n/a","n/a","n/a","n/a","n/a",168443645,38274618]
[485,9746,"GEF ","UNDP","Cross-cutting",{"$f":"IF(ISERROR(P486/(M486*S486)),\"\",IF((P486/(M486*S486))<=OUTLIERS!$C$3,\"\",IF((P486/(M486*S486))>=OUTLIERS!$C$4,\"\",P486/(M486*S486))))","v":""},{"$f":"IF(ISERROR(Q486/($M486*T486)),\"\",IF((Q486/($M486*T486))<=OUTLIERS!$D$3,\"\",IF((Q486/($M486*T486))>=OUTLIERS!$D$4,\"\",Q486/($M486*T486))))","v":""},{"$f":"IF(ISERROR((M486*S486)/P486),\"\",IF((M486*S486/P486)<=OUTLIERS!$E$3,\"\",IF((M486*S486/P486)>=OUTLIERS!$E$4,\"\",M486*S486/P486)))","v":""},{"$f":"IF(ISERROR(O486/N486),\"\",IF(O486/N486<=OUTLIERS!$F$3,\"\",IF(O486/N486>=OUTLIERS!$F$4,\"\",O486/N486)))","v":0.352112676056338},{"$f":"IF(ISERROR(U486/X486),\"\",IF(U486/X486<=OUTLIERS!$G$3,\"\",IF(U486/X486>=OUTLIERS!$G$4,\"\",U486/X486)))","v":""},{"$f":"IF(ISERROR(Q486/Y486),\"\",IF(Q486/Y486<=OUTLIERS!$H$3,\"\",IF(Q486/Y486>=OUTLIERS!$H$4,\"\",Q486/Y486)))","v":""},{"$f":"IF(ISERROR(W486),\"\",IF(W486<=OUTLIERS!$I$3,\"\",IF(W486>=OUTLIERS!$I$4,\"\",W486)))","v":""},1152000,852000,300000,"n/a","","","n/a","n/a","n/a","n/a","n/a",345981450,80745020]
[486,9747,"GEF ","UNEP","Adaptation",{"$f":"IF(ISERROR(P487/(M487*S487)),\"\",IF((P487/(M487*S487))<=OUTLIERS!$C$3,\"\",IF((P487/(M487*S487))>=OUTLIERS!$C$4,\"\",P487/(M487*S487))))","v":""},{"$f":"IF(ISERROR(Q487/($M487*T487)),\"\",IF((Q487/($M487*T487))<=OUTLIERS!$D$3,\"\",IF((Q487/($M487*T487))>=OUTLIERS!$D$4,\"\",Q487/($M487*T487))))","v":""},{"$f":"IF(ISERROR((M487*S487)/P487),\"\",IF((M487*S487/P487)<=OUTLIERS!$E$3,\"\",IF((M487*S487/P487)>=OUTLIERS!$E$4,\"\",M487*S487/P487)))","v":""},{"$f":"IF(ISERROR(O487/N487),\"\",IF(O487/N487<=OUTLIERS!$F$3,\"\",IF(O487/N487>=OUTLIERS!$F$4,\"\",O487/N487)))","v":0.36842105263157893},{"$f":"IF(ISERROR(U487/X487),\"\",IF(U487/X487<=OUTLIERS!$G$3,\"\",IF(U487/X487>=OUTLIERS!$G$4,\"\",U487/X487)))","v":""},{"$f":"IF(ISERROR(Q487/Y487),\"\",IF(Q487/Y487<=OUTLIERS!$H$3,\"\",IF(Q487/Y487>=OUTLIERS!$H$4,\"\",Q487/Y487)))","v":""},{"$f":"IF(ISERROR(W487),\"\",IF(W487<=OUTLIERS!$I$3,\"\",IF(W487>=OUTLIERS!$I$4,\"\",W487)))","v":""},1300000,950000,350000,"n/a","","",0,1,"n/a","n/a","n/a",2709913,4420184]
[487,9749,"GEF ","WorldBank","Mitigation",{"$f":"IF(ISERROR(P488/(M488*S488)),\"\",IF((P488/(M488*S488))<=OUTLIERS!$C$3,\"\",IF((P488/(M488*S488))>=OUTLIERS!$C$4,\"\",P488/(M488*S488))))","v":5.021162117632501E-3},{"$f":"IF(ISERROR(Q488/($M488*T488)),\"\",IF((Q488/($M488*T488))<=OUTLIERS!$D$3,\"\",IF((Q488/($M488*T488))>=OUTLIERS!$D$4,\"\",Q488/($M488*T488))))","v":""},{"$f":"IF(ISERROR((M488*S488)/P488),\"\",IF((M488*S488/P488)<=OUTLIERS!$E$3,\"\",IF((M488*S488/P488)>=OUTLIERS!$E$4,\"\",M488*S488/P488)))","v":199.15708287696239},{"$f":"IF(ISERROR(O488/N488),\"\",IF(O488/N488<=OUTLIERS!$F$3,\"\",IF(O488/N488>=OUTLIERS!$F$4,\"\",O488/N488)))","v":10.991124666831533},{"$f":"IF(ISERROR(U488/X488),\"\",IF(U488/X488<=OUTLIERS!$G$3,\"\",IF(U488/X488>=OUTLIERS!$G$4,\"\",U488/X488)))","v":2.1290473843959233E-6},{"$f":"IF(ISERROR(Q488/Y488),\"\",IF(Q488/Y488<=OUTLIERS!$H$3,\"\",IF(Q488/Y488>=OUTLIERS!$H$4,\"\",Q488/Y488)))","v":""},{"$f":"IF(ISERROR(W488),\"\",IF(W488<=OUTLIERS!$I$3,\"\",IF(W488>=OUTLIERS!$I$4,\"\",W488)))","v":""},87278600,7278600,80000000,438240,"","",1,0,21912,"n/a","n/a",10291926878,1386395000]
[488,9750,"GEF ","WorldBank","Cross-cutting",{"$f":"IF(ISERROR(P489/(M489*S489)),\"\",IF((P489/(M489*S489))<=OUTLIERS!$C$3,\"\",IF((P489/(M489*S489))>=OUTLIERS!$C$4,\"\",P489/(M489*S489))))","v":""},{"$f":"IF(ISERROR(Q489/($M489*T489)),\"\",IF((Q489/($M489*T489))<=OUTLIERS!$D$3,\"\",IF((Q489/($M489*T489))>=OUTLIERS!$D$4,\"\",Q489/($M489*T489))))","v":""},{"$f":"IF(ISERROR((M489*S489)/P489),\"\",IF((M489*S489/P489)<=OUTLIERS!$E$3,\"\",IF((M489*S489/P489)>=OUTLIERS!$E$4,\"\",M489*S489/P489)))","v":""},{"$f":"IF(ISERROR(O489/N489),\"\",IF(O489/N489<=OUTLIERS!$F$3,\"\",IF(O489/N489>=OUTLIERS!$F$4,\"\",O489/N489)))","v":3.220588060056238},{"$f":"IF(ISERROR(U489/X489),\"\",IF(U489/X489<=OUTLIERS!$G$3,\"\",IF(U489/X489>=OUTLIERS!$G$4,\"\",U489/X489)))","v":1.0006083363050911E-2},{"$f":"IF(ISERROR(Q489/Y489),\"\",IF(Q489/Y489<=OUTLIERS!$H$3,\"\",IF(Q489/Y489>=OUTLIERS!$H$4,\"\",Q489/Y489)))","v":""},{"$f":"IF(ISERROR(W489),\"\",IF(W489<=OUTLIERS!$I$3,\"\",IF(W489>=OUTLIERS!$I$4,\"\",W489)))","v":0.36578947368421055},26210046,6210046,20000000,572397,"",3800,"n/a","n/a",28620,3800,0.36578947368421055,2860260,10981229]
[489,9752,"GEF ","UNDP","Mitigation",{"$f":"IF(ISERROR(P490/(M490*S490)),\"\",IF((P490/(M490*S490))<=OUTLIERS!$C$3,\"\",IF((P490/(M490*S490))>=OUTLIERS!$C$4,\"\",P490/(M490*S490))))","v":5.5877924077315779E-3},{"$f":"IF(ISERROR(Q490/($M490*T490)),\"\",IF((Q490/($M490*T490))<=OUTLIERS!$D$3,\"\",IF((Q490/($M490*T490))>=OUTLIERS!$D$4,\"\",Q490/($M490*T490))))","v":""},{"$f":"IF(ISERROR((M490*S490)/P490),\"\",IF((M490*S490/P490)<=OUTLIERS!$E$3,\"\",IF((M490*S490/P490)>=OUTLIERS!$E$4,\"\",M490*S490/P490)))","v":178.96155172413793},{"$f":"IF(ISERROR(O490/N490),\"\",IF(O490/N490<=OUTLIERS!$F$3,\"\",IF(O490/N490>=OUTLIERS!$F$4,\"\",O490/N490)))","v":4.9374345752285898},{"$f":"IF(ISERROR(U490/X490),\"\",IF(U490/X490<=OUTLIERS!$G$3,\"\",IF(U490/X490>=OUTLIERS!$G$4,\"\",U490/X490)))","v":4.578277494135069E-5},{"$f":"IF(ISERROR(Q490/Y490),\"\",IF(Q490/Y490<=OUTLIERS!$H$3,\"\",IF(Q490/Y490>=OUTLIERS!$H$4,\"\",Q490/Y490)))","v":""},{"$f":"IF(ISERROR(W490),\"\",IF(W490<=OUTLIERS!$I$3,\"\",IF(W490>=OUTLIERS!$I$4,\"\",W490)))","v":""},19721563,3321563,16400000,110200,"","",1,0,4408,"n/a","n/a",96280752,190886311]
[490,9760,"GEF ","WorldBank","Mitigation",{"$f":"IF(ISERROR(P491/(M491*S491)),\"\",IF((P491/(M491*S491))<=OUTLIERS!$C$3,\"\",IF((P491/(M491*S491))>=OUTLIERS!$C$4,\"\",P491/(M491*S491))))","v":3.7535549401106073E-2},{"$f":"IF(ISERROR(Q491/($M491*T491)),\"\",IF((Q491/($M491*T491))<=OUTLIERS!$D$3,\"\",IF((Q491/($M491*T491))>=OUTLIERS!$D$4,\"\",Q491/($M491*T491))))","v":""},{"$f":"IF(ISERROR((M491*S491)/P491),\"\",IF((M491*S491/P491)<=OUTLIERS!$E$3,\"\",IF((M491*S491/P491)>=OUTLIERS!$E$4,\"\",M491*S491/P491)))","v":26.641411034482758},{"$f":"IF(ISERROR(O491/N491),\"\",IF(O491/N491<=OUTLIERS!$F$3,\"\",IF(O491/N491>=OUTLIERS!$F$4,\"\",O491/N491)))","v":5.2205732453511615},{"$f":"IF(ISERROR(U491/X491),\"\",IF(U491/X491<=OUTLIERS!$G$3,\"\",IF(U491/X491>=OUTLIERS!$G$4,\"\",U491/X491)))","v":""},{"$f":"IF(ISERROR(Q491/Y491),\"\",IF(Q491/Y491<=OUTLIERS!$H$3,\"\",IF(Q491/Y491>=OUTLIERS!$H$4,\"\",Q491/Y491)))","v":""},{"$f":"IF(ISERROR(W491),\"\",IF(W491<=OUTLIERS!$I$3,\"\",IF(W491>=OUTLIERS!$I$4,\"\",W491)))","v":""},38630046,6210046,32420000,1450000,"","",1,0,"n/a","n/a","n/a",4671758,81339988]
[491,9764,"GEF ","UNDP","Cross-cutting",{"$f":"IF(ISERROR(P492/(M492*S492)),\"\",IF((P492/(M492*S492))<=OUTLIERS!$C$3,\"\",IF((P492/(M492*S492))>=OUTLIERS!$C$4,\"\",P492/(M492*S492))))","v":""},{"$f":"IF(ISERROR(Q492/($M492*T492)),\"\",IF((Q492/($M492*T492))<=OUTLIERS!$D$3,\"\",IF((Q492/($M492*T492))>=OUTLIERS!$D$4,\"\",Q492/($M492*T492))))","v":""},{"$f":"IF(ISERROR((M492*S492)/P492),\"\",IF((M492*S492/P492)<=OUTLIERS!$E$3,\"\",IF((M492*S492/P492)>=OUTLIERS!$E$4,\"\",M492*S492/P492)))","v":""},{"$f":"IF(ISERROR(O492/N492),\"\",IF(O492/N492<=OUTLIERS!$F$3,\"\",IF(O492/N492>=OUTLIERS!$F$4,\"\",O492/N492)))","v":3.6367410860066536},{"$f":"IF(ISERROR(U492/X492),\"\",IF(U492/X492<=OUTLIERS!$G$3,\"\",IF(U492/X492>=OUTLIERS!$G$4,\"\",U492/X492)))","v":0.14038737791123937},{"$f":"IF(ISERROR(Q492/Y492),\"\",IF(Q492/Y492<=OUTLIERS!$H$3,\"\",IF(Q492/Y492>=OUTLIERS!$H$4,\"\",Q492/Y492)))","v":""},{"$f":"IF(ISERROR(W492),\"\",IF(W492<=OUTLIERS!$I$3,\"\",IF(W492>=OUTLIERS!$I$4,\"\",W492)))","v":""},24479452,5279452,19200000,4000000,"","","n/a","n/a",400000,"n/a","n/a",2849259,19193382]
[492,9768,"GEF ","UNDP","Cross-cutting",{"$f":"IF(ISERROR(P493/(M493*S493)),\"\",IF((P493/(M493*S493))<=OUTLIERS!$C$3,\"\",IF((P493/(M493*S493))>=OUTLIERS!$C$4,\"\",P493/(M493*S493))))","v":""},{"$f":"IF(ISERROR(Q493/($M493*T493)),\"\",IF((Q493/($M493*T493))<=OUTLIERS!$D$3,\"\",IF((Q493/($M493*T493))>=OUTLIERS!$D$4,\"\",Q493/($M493*T493))))","v":""},{"$f":"IF(ISERROR((M493*S493)/P493),\"\",IF((M493*S493/P493)<=OUTLIERS!$E$3,\"\",IF((M493*S493/P493)>=OUTLIERS!$E$4,\"\",M493*S493/P493)))","v":""},{"$f":"IF(ISERROR(O493/N493),\"\",IF(O493/N493<=OUTLIERS!$F$3,\"\",IF(O493/N493>=OUTLIERS!$F$4,\"\",O493/N493)))","v":6.7685608152507184},{"$f":"IF(ISERROR(U493/X493),\"\",IF(U493/X493<=OUTLIERS!$G$3,\"\",IF(U493/X493>=OUTLIERS!$G$4,\"\",U493/X493)))","v":""},{"$f":"IF(ISERROR(Q493/Y493),\"\",IF(Q493/Y493<=OUTLIERS!$H$3,\"\",IF(Q493/Y493>=OUTLIERS!$H$4,\"\",Q493/Y493)))","v":""},{"$f":"IF(ISERROR(W493),\"\",IF(W493<=OUTLIERS!$I$3,\"\",IF(W493>=OUTLIERS!$I$4,\"\",W493)))","v":""},95583945,12303945,83280000,1100000,"","","n/a","n/a","n/a","n/a","n/a",10291926878,1386395000]
[493,9770,"GEF ","UNEP","Cross-cutting",{"$f":"IF(ISERROR(P494/(M494*S494)),\"\",IF((P494/(M494*S494))<=OUTLIERS!$C$3,\"\",IF((P494/(M494*S494))>=OUTLIERS!$C$4,\"\",P494/(M494*S494))))","v":""},{"$f":"IF(ISERROR(Q494/($M494*T494)),\"\",IF((Q494/($M494*T494))<=OUTLIERS!$D$3,\"\",IF((Q494/($M494*T494))>=OUTLIERS!$D$4,\"\",Q494/($M494*T494))))","v":""},{"$f":"IF(ISERROR((M494*S494)/P494),\"\",IF((M494*S494/P494)<=OUTLIERS!$E$3,\"\",IF((M494*S494/P494)>=OUTLIERS!$E$4,\"\",M494*S494/P494)))","v":""},{"$f":"IF(ISERROR(O494/N494),\"\",IF(O494/N494<=OUTLIERS!$F$3,\"\",IF(O494/N494>=OUTLIERS!$F$4,\"\",O494/N494)))","v":9.2453772139559529},{"$f":"IF(ISERROR(U494/X494),\"\",IF(U494/X494<=OUTLIERS!$G$3,\"\",IF(U494/X494>=OUTLIERS!$G$4,\"\",U494/X494)))","v":""},{"$f":"IF(ISERROR(Q494/Y494),\"\",IF(Q494/Y494<=OUTLIERS!$H$3,\"\",IF(Q494/Y494>=OUTLIERS!$H$4,\"\",Q494/Y494)))","v":""},{"$f":"IF(ISERROR(W494),\"\",IF(W494<=OUTLIERS!$I$3,\"\",IF(W494>=OUTLIERS!$I$4,\"\",W494)))","v":""},120237493,11735780,108501713,"n/a","","","n/a","n/a","n/a","n/a","n/a",116149474.75,43939270.25]
[494,9774,"GEF ","UNDP","Cross-cutting",{"$f":"IF(ISERROR(P495/(M495*S495)),\"\",IF((P495/(M495*S495))<=OUTLIERS!$C$3,\"\",IF((P495/(M495*S495))>=OUTLIERS!$C$4,\"\",P495/(M495*S495))))","v":""},{"$f":"IF(ISERROR(Q495/($M495*T495)),\"\",IF((Q495/($M495*T495))<=OUTLIERS!$D$3,\"\",IF((Q495/($M495*T495))>=OUTLIERS!$D$4,\"\",Q495/($M495*T495))))","v":""},{"$f":"IF(ISERROR((M495*S495)/P495),\"\",IF((M495*S495/P495)<=OUTLIERS!$E$3,\"\",IF((M495*S495/P495)>=OUTLIERS!$E$4,\"\",M495*S495/P495)))","v":""},{"$f":"IF(ISERROR(O495/N495),\"\",IF(O495/N495<=OUTLIERS!$F$3,\"\",IF(O495/N495>=OUTLIERS!$F$4,\"\",O495/N495)))","v":1.04},{"$f":"IF(ISERROR(U495/X495),\"\",IF(U495/X495<=OUTLIERS!$G$3,\"\",IF(U495/X495>=OUTLIERS!$G$4,\"\",U495/X495)))","v":""},{"$f":"IF(ISERROR(Q495/Y495),\"\",IF(Q495/Y495<=OUTLIERS!$H$3,\"\",IF(Q495/Y495>=OUTLIERS!$H$4,\"\",Q495/Y495)))","v":""},{"$f":"IF(ISERROR(W495),\"\",IF(W495<=OUTLIERS!$I$3,\"\",IF(W495>=OUTLIERS!$I$4,\"\",W495)))","v":""},{"$f":"N495+O495","v":35368500},17337500,18031000,"n/a","","","n/a","n/a","n/a","n/a","n/a",40933804.25,21975365.866666667]
[495,9775,"GEF ","UNEP","Cross-cutting",{"$f":"IF(ISERROR(P496/(M496*S496)),\"\",IF((P496/(M496*S496))<=OUTLIERS!$C$3,\"\",IF((P496/(M496*S496))>=OUTLIERS!$C$4,\"\",P496/(M496*S496))))","v":""},{"$f":"IF(ISERROR(Q496/($M496*T496)),\"\",IF((Q496/($M496*T496))<=OUTLIERS!$D$3,\"\",IF((Q496/($M496*T496))>=OUTLIERS!$D$4,\"\",Q496/($M496*T496))))","v":""},{"$f":"IF(ISERROR((M496*S496)/P496),\"\",IF((M496*S496/P496)<=OUTLIERS!$E$3,\"\",IF((M496*S496/P496)>=OUTLIERS!$E$4,\"\",M496*S496/P496)))","v":""},{"$f":"IF(ISERROR(O496/N496),\"\",IF(O496/N496<=OUTLIERS!$F$3,\"\",IF(O496/N496>=OUTLIERS!$F$4,\"\",O496/N496)))","v":1.6225000000000001},{"$f":"IF(ISERROR(U496/X496),\"\",IF(U496/X496<=OUTLIERS!$G$3,\"\",IF(U496/X496>=OUTLIERS!$G$4,\"\",U496/X496)))","v":""},{"$f":"IF(ISERROR(Q496/Y496),\"\",IF(Q496/Y496<=OUTLIERS!$H$3,\"\",IF(Q496/Y496>=OUTLIERS!$H$4,\"\",Q496/Y496)))","v":""},{"$f":"IF(ISERROR(W496),\"\",IF(W496<=OUTLIERS!$I$3,\"\",IF(W496>=OUTLIERS!$I$4,\"\",W496)))","v":""},5245000,2000000,3245000,333900,"","","n/a","n/a",33390,"n/a","n/a","",""]
[496,9783,"GEF ","UNDP","Cross-cutting",{"$f":"IF(ISERROR(P497/(M497*S497)),\"\",IF((P497/(M497*S497))<=OUTLIERS!$C$3,\"\",IF((P497/(M497*S497))>=OUTLIERS!$C$4,\"\",P497/(M497*S497))))","v":""},{"$f":"IF(ISERROR(Q497/($M497*T497)),\"\",IF((Q497/($M497*T497))<=OUTLIERS!$D$3,\"\",IF((Q497/($M497*T497))>=OUTLIERS!$D$4,\"\",Q497/($M497*T497))))","v":""},{"$f":"IF(ISERROR((M497*S497)/P497),\"\",IF((M497*S497/P497)<=OUTLIERS!$E$3,\"\",IF((M497*S497/P497)>=OUTLIERS!$E$4,\"\",M497*S497/P497)))","v":""},{"$f":"IF(ISERROR(O497/N497),\"\",IF(O497/N497<=OUTLIERS!$F$3,\"\",IF(O497/N497>=OUTLIERS!$F$4,\"\",O497/N497)))","v":3.5409390627049318},{"$f":"IF(ISERROR(U497/X497),\"\",IF(U497/X497<=OUTLIERS!$G$3,\"\",IF(U497/X497>=OUTLIERS!$G$4,\"\",U497/X497)))","v":0.30119919691568597},{"$f":"IF(ISERROR(Q497/Y497),\"\",IF(Q497/Y497<=OUTLIERS!$H$3,\"\",IF(Q497/Y497>=OUTLIERS!$H$4,\"\",Q497/Y497)))","v":""},{"$f":"IF(ISERROR(W497),\"\",IF(W497<=OUTLIERS!$I$3,\"\",IF(W497>=OUTLIERS!$I$4,\"\",W497)))","v":""},32060274,7060274,25000000,7378043,"","","n/a","n/a",737804.3,"n/a","n/a",2449556,12717176]
[497,9785,"GEF ","UNEP","Cross-cutting",{"$f":"IF(ISERROR(P498/(M498*S498)),\"\",IF((P498/(M498*S498))<=OUTLIERS!$C$3,\"\",IF((P498/(M498*S498))>=OUTLIERS!$C$4,\"\",P498/(M498*S498))))","v":""},{"$f":"IF(ISERROR(Q498/($M498*T498)),\"\",IF((Q498/($M498*T498))<=OUTLIERS!$D$3,\"\",IF((Q498/($M498*T498))>=OUTLIERS!$D$4,\"\",Q498/($M498*T498))))","v":""},{"$f":"IF(ISERROR((M498*S498)/P498),\"\",IF((M498*S498/P498)<=OUTLIERS!$E$3,\"\",IF((M498*S498/P498)>=OUTLIERS!$E$4,\"\",M498*S498/P498)))","v":""},{"$f":"IF(ISERROR(O498/N498),\"\",IF(O498/N498<=OUTLIERS!$F$3,\"\",IF(O498/N498>=OUTLIERS!$F$4,\"\",O498/N498)))","v":4.8077210009874065},{"$f":"IF(ISERROR(U498/X498),\"\",IF(U498/X498<=OUTLIERS!$G$3,\"\",IF(U498/X498>=OUTLIERS!$G$4,\"\",U498/X498)))","v":3.831816155241298E-2},{"$f":"IF(ISERROR(Q498/Y498),\"\",IF(Q498/Y498<=OUTLIERS!$H$3,\"\",IF(Q498/Y498>=OUTLIERS!$H$4,\"\",Q498/Y498)))","v":""},{"$f":"IF(ISERROR(W498),\"\",IF(W498<=OUTLIERS!$I$3,\"\",IF(W498>=OUTLIERS!$I$4,\"\",W498)))","v":""},17515982,3015982,14500000,88523,"","","n/a","n/a",8852.2999999999993,"n/a","n/a",231021,55345]
[498,9787,"GEF ","UNDP","Mitigation",{"$f":"IF(ISERROR(P499/(M499*S499)),\"\",IF((P499/(M499*S499))<=OUTLIERS!$C$3,\"\",IF((P499/(M499*S499))>=OUTLIERS!$C$4,\"\",P499/(M499*S499))))","v":2.7900638419678016E-2},{"$f":"IF(ISERROR(Q499/($M499*T499)),\"\",IF((Q499/($M499*T499))<=OUTLIERS!$D$3,\"\",IF((Q499/($M499*T499))>=OUTLIERS!$D$4,\"\",Q499/($M499*T499))))","v":""},{"$f":"IF(ISERROR((M499*S499)/P499),\"\",IF((M499*S499/P499)<=OUTLIERS!$E$3,\"\",IF((M499*S499/P499)>=OUTLIERS!$E$4,\"\",M499*S499/P499)))","v":35.841473766948319},{"$f":"IF(ISERROR(O499/N499),\"\",IF(O499/N499<=OUTLIERS!$F$3,\"\",IF(O499/N499>=OUTLIERS!$F$4,\"\",O499/N499)))","v":5.909704264760812},{"$f":"IF(ISERROR(U499/X499),\"\",IF(U499/X499<=OUTLIERS!$G$3,\"\",IF(U499/X499>=OUTLIERS!$G$4,\"\",U499/X499)))","v":5.6970027518159508E-2},{"$f":"IF(ISERROR(Q499/Y499),\"\",IF(Q499/Y499<=OUTLIERS!$H$3,\"\",IF(Q499/Y499>=OUTLIERS!$H$4,\"\",Q499/Y499)))","v":""},{"$f":"IF(ISERROR(W499),\"\",IF(W499<=OUTLIERS!$I$3,\"\",IF(W499>=OUTLIERS!$I$4,\"\",W499)))","v":""},18239726,2639726,15600000,508900,"","",1,0,11490,"n/a","n/a",201685,611343]
[499,9789,"GEF ","UNDP","Mitigation",{"$f":"IF(ISERROR(P500/(M500*S500)),\"\",IF((P500/(M500*S500))<=OUTLIERS!$C$3,\"\",IF((P500/(M500*S500))>=OUTLIERS!$C$4,\"\",P500/(M500*S500))))","v":3.688965401553073E-2},{"$f":"IF(ISERROR(Q500/($M500*T500)),\"\",IF((Q500/($M500*T500))<=OUTLIERS!$D$3,\"\",IF((Q500/($M500*T500))>=OUTLIERS!$D$4,\"\",Q500/($M500*T500))))","v":""},{"$f":"IF(ISERROR((M500*S500)/P500),\"\",IF((M500*S500/P500)<=OUTLIERS!$E$3,\"\",IF((M500*S500/P500)>=OUTLIERS!$E$4,\"\",M500*S500/P500)))","v":27.107871480144404},{"$f":"IF(ISERROR(O500/N500),\"\",IF(O500/N500<=OUTLIERS!$F$3,\"\",IF(O500/N500>=OUTLIERS!$F$4,\"\",O500/N500)))","v":2.6433953394850391},{"$f":"IF(ISERROR(U500/X500),\"\",IF(U500/X500<=OUTLIERS!$G$3,\"\",IF(U500/X500>=OUTLIERS!$G$4,\"\",U500/X500)))","v":7.4826241581291456E-4},{"$f":"IF(ISERROR(Q500/Y500),\"\",IF(Q500/Y500<=OUTLIERS!$H$3,\"\",IF(Q500/Y500>=OUTLIERS!$H$4,\"\",Q500/Y500)))","v":""},{"$f":"IF(ISERROR(W500),\"\",IF(W500<=OUTLIERS!$I$3,\"\",IF(W500>=OUTLIERS!$I$4,\"\",W500)))","v":""},18772201,5152392,13619809,692500,"","",1,0,34625,"n/a","n/a",46273873,1369125]
[500,9791,"GEF ","UNEP","Cross-cutting",{"$f":"IF(ISERROR(P501/(M501*S501)),\"\",IF((P501/(M501*S501))<=OUTLIERS!$C$3,\"\",IF((P501/(M501*S501))>=OUTLIERS!$C$4,\"\",P501/(M501*S501))))","v":""},{"$f":"IF(ISERROR(Q501/($M501*T501)),\"\",IF((Q501/($M501*T501))<=OUTLIERS!$D$3,\"\",IF((Q501/($M501*T501))>=OUTLIERS!$D$4,\"\",Q501/($M501*T501))))","v":""},{"$f":"IF(ISERROR((M501*S501)/P501),\"\",IF((M501*S501/P501)<=OUTLIERS!$E$3,\"\",IF((M501*S501/P501)>=OUTLIERS!$E$4,\"\",M501*S501/P501)))","v":""},{"$f":"IF(ISERROR(O501/N501),\"\",IF(O501/N501<=OUTLIERS!$F$3,\"\",IF(O501/N501>=OUTLIERS!$F$4,\"\",O501/N501)))","v":1.9162249455550564},{"$f":"IF(ISERROR(U501/X501),\"\",IF(U501/X501<=OUTLIERS!$G$3,\"\",IF(U501/X501>=OUTLIERS!$G$4,\"\",U501/X501)))","v":2.9043269483433637E-2},{"$f":"IF(ISERROR(Q501/Y501),\"\",IF(Q501/Y501<=OUTLIERS!$H$3,\"\",IF(Q501/Y501>=OUTLIERS!$H$4,\"\",Q501/Y501)))","v":""},{"$f":"IF(ISERROR(W501),\"\",IF(W501<=OUTLIERS!$I$3,\"\",IF(W501>=OUTLIERS!$I$4,\"\",W501)))","v":""},18206004,6243004,11963000,1052769,"","","n/a","n/a",70184.600000000006,"n/a","n/a",2416553,395361]
[501,9793,"GEF ","UNEP","Mitigation",{"$f":"IF(ISERROR(P502/(M502*S502)),\"\",IF((P502/(M502*S502))<=OUTLIERS!$C$3,\"\",IF((P502/(M502*S502))>=OUTLIERS!$C$4,\"\",P502/(M502*S502))))","v":7.9173834603920266E-3},{"$f":"IF(ISERROR(Q502/($M502*T502)),\"\",IF((Q502/($M502*T502))<=OUTLIERS!$D$3,\"\",IF((Q502/($M502*T502))>=OUTLIERS!$D$4,\"\",Q502/($M502*T502))))","v":""},{"$f":"IF(ISERROR((M502*S502)/P502),\"\",IF((M502*S502/P502)<=OUTLIERS!$E$3,\"\",IF((M502*S502/P502)>=OUTLIERS!$E$4,\"\",M502*S502/P502)))","v":126.30435357876242},{"$f":"IF(ISERROR(O502/N502),\"\",IF(O502/N502<=OUTLIERS!$F$3,\"\",IF(O502/N502>=OUTLIERS!$F$4,\"\",O502/N502)))","v":5.2968966649999798},{"$f":"IF(ISERROR(U502/X502),\"\",IF(U502/X502<=OUTLIERS!$G$3,\"\",IF(U502/X502>=OUTLIERS!$G$4,\"\",U502/X502)))","v":6.1414289024976487E-3},{"$f":"IF(ISERROR(Q502/Y502),\"\",IF(Q502/Y502<=OUTLIERS!$H$3,\"\",IF(Q502/Y502>=OUTLIERS!$H$4,\"\",Q502/Y502)))","v":""},{"$f":"IF(ISERROR(W502),\"\",IF(W502<=OUTLIERS!$I$3,\"\",IF(W502>=OUTLIERS!$I$4,\"\",W502)))","v":""},23864955,3789955,20075000,188948,"","",1,0,18894.8,"n/a","n/a",3076613,25570895]
[502,9795,"GEF ","FAO","Mitigation",{"$f":"IF(ISERROR(P503/(M503*S503)),\"\",IF((P503/(M503*S503))<=OUTLIERS!$C$3,\"\",IF((P503/(M503*S503))>=OUTLIERS!$C$4,\"\",P503/(M503*S503))))","v":0.37210137800089976},{"$f":"IF(ISERROR(Q503/($M503*T503)),\"\",IF((Q503/($M503*T503))<=OUTLIERS!$D$3,\"\",IF((Q503/($M503*T503))>=OUTLIERS!$D$4,\"\",Q503/($M503*T503))))","v":""},{"$f":"IF(ISERROR((M503*S503)/P503),\"\",IF((M503*S503/P503)<=OUTLIERS!$E$3,\"\",IF((M503*S503/P503)>=OUTLIERS!$E$4,\"\",M503*S503/P503)))","v":2.6874396579030724},{"$f":"IF(ISERROR(O503/N503),\"\",IF(O503/N503<=OUTLIERS!$F$3,\"\",IF(O503/N503>=OUTLIERS!$F$4,\"\",O503/N503)))","v":4.7161961587256034},{"$f":"IF(ISERROR(U503/X503),\"\",IF(U503/X503<=OUTLIERS!$G$3,\"\",IF(U503/X503>=OUTLIERS!$G$4,\"\",U503/X503)))","v":4.6411305498509497E-3},{"$f":"IF(ISERROR(Q503/Y503),\"\",IF(Q503/Y503<=OUTLIERS!$H$3,\"\",IF(Q503/Y503>=OUTLIERS!$H$4,\"\",Q503/Y503)))","v":""},{"$f":"IF(ISERROR(W503),\"\",IF(W503<=OUTLIERS!$I$3,\"\",IF(W503>=OUTLIERS!$I$4,\"\",W503)))","v":""},8484247,1484247,7000000,3157000,"","",1,0,173985.5,"n/a","n/a",37487741,9862429]
[503,9803,"GEF ","IDB","Mitigation",{"$f":"IF(ISERROR(P504/(M504*S504)),\"\",IF((P504/(M504*S504))<=OUTLIERS!$C$3,\"\",IF((P504/(M504*S504))>=OUTLIERS!$C$4,\"\",P504/(M504*S504))))","v":1.5014704479987704E-3},{"$f":"IF(ISERROR(Q504/($M504*T504)),\"\",IF((Q504/($M504*T504))<=OUTLIERS!$D$3,\"\",IF((Q504/($M504*T504))>=OUTLIERS!$D$4,\"\",Q504/($M504*T504))))","v":""},{"$f":"IF(ISERROR((M504*S504)/P504),\"\",IF((M504*S504/P504)<=OUTLIERS!$E$3,\"\",IF((M504*S504/P504)>=OUTLIERS!$E$4,\"\",M504*S504/P504)))","v":666.01377425233147},{"$f":"IF(ISERROR(O504/N504),\"\",IF(O504/N504<=OUTLIERS!$F$3,\"\",IF(O504/N504>=OUTLIERS!$F$4,\"\",O504/N504)))","v":5.8034968806204263},{"$f":"IF(ISERROR(U504/X504),\"\",IF(U504/X504<=OUTLIERS!$G$3,\"\",IF(U504/X504>=OUTLIERS!$G$4,\"\",U504/X504)))","v":2.6092732828484125E-4},{"$f":"IF(ISERROR(Q504/Y504),\"\",IF(Q504/Y504<=OUTLIERS!$H$3,\"\",IF(Q504/Y504>=OUTLIERS!$H$4,\"\",Q504/Y504)))","v":""},{"$f":"IF(ISERROR(W504),\"\",IF(W504<=OUTLIERS!$I$3,\"\",IF(W504>=OUTLIERS!$I$4,\"\",W504)))","v":""},12426485,1826485,10600000,18658,"","",1,0,746.32,"n/a","n/a",2860260,10981229]
[504,9807,"GEF ","UNIDO","Mitigation",{"$f":"IF(ISERROR(P505/(M505*S505)),\"\",IF((P505/(M505*S505))<=OUTLIERS!$C$3,\"\",IF((P505/(M505*S505))>=OUTLIERS!$C$4,\"\",P505/(M505*S505))))","v":4.4494892167990921E-2},{"$f":"IF(ISERROR(Q505/($M505*T505)),\"\",IF((Q505/($M505*T505))<=OUTLIERS!$D$3,\"\",IF((Q505/($M505*T505))>=OUTLIERS!$D$4,\"\",Q505/($M505*T505))))","v":""},{"$f":"IF(ISERROR((M505*S505)/P505),\"\",IF((M505*S505/P505)<=OUTLIERS!$E$3,\"\",IF((M505*S505/P505)>=OUTLIERS!$E$4,\"\",M505*S505/P505)))","v":22.474489795918366},{"$f":"IF(ISERROR(O505/N505),\"\",IF(O505/N505<=OUTLIERS!$F$3,\"\",IF(O505/N505>=OUTLIERS!$F$4,\"\",O505/N505)))","v":3.4049999999999998},{"$f":"IF(ISERROR(U505/X505),\"\",IF(U505/X505<=OUTLIERS!$G$3,\"\",IF(U505/X505>=OUTLIERS!$G$4,\"\",U505/X505)))","v":""},{"$f":"IF(ISERROR(Q505/Y505),\"\",IF(Q505/Y505<=OUTLIERS!$H$3,\"\",IF(Q505/Y505>=OUTLIERS!$H$4,\"\",Q505/Y505)))","v":""},{"$f":"IF(ISERROR(W505),\"\",IF(W505<=OUTLIERS!$I$3,\"\",IF(W505>=OUTLIERS!$I$4,\"\",W505)))","v":""},8810000,2000000,6810000,392000,"",9085,1,0,49000,9085,"n/a","",""]
[505,9808,"GEF ","UNEP","Cross-cutting",{"$f":"IF(ISERROR(P506/(M506*S506)),\"\",IF((P506/(M506*S506))<=OUTLIERS!$C$3,\"\",IF((P506/(M506*S506))>=OUTLIERS!$C$4,\"\",P506/(M506*S506))))","v":""},{"$f":"IF(ISERROR(Q506/($M506*T506)),\"\",IF((Q506/($M506*T506))<=OUTLIERS!$D$3,\"\",IF((Q506/($M506*T506))>=OUTLIERS!$D$4,\"\",Q506/($M506*T506))))","v":""},{"$f":"IF(ISERROR((M506*S506)/P506),\"\",IF((M506*S506/P506)<=OUTLIERS!$E$3,\"\",IF((M506*S506/P506)>=OUTLIERS!$E$4,\"\",M506*S506/P506)))","v":""},{"$f":"IF(ISERROR(O506/N506),\"\",IF(O506/N506<=OUTLIERS!$F$3,\"\",IF(O506/N506>=OUTLIERS!$F$4,\"\",O506/N506)))","v":1.2405011211028882},{"$f":"IF(ISERROR(U506/X506),\"\",IF(U506/X506<=OUTLIERS!$G$3,\"\",IF(U506/X506>=OUTLIERS!$G$4,\"\",U506/X506)))","v":""},{"$f":"IF(ISERROR(Q506/Y506),\"\",IF(Q506/Y506<=OUTLIERS!$H$3,\"\",IF(Q506/Y506>=OUTLIERS!$H$4,\"\",Q506/Y506)))","v":""},{"$f":"IF(ISERROR(W506),\"\",IF(W506<=OUTLIERS!$I$3,\"\",IF(W506>=OUTLIERS!$I$4,\"\",W506)))","v":""},2167351,967351,1200000,"n/a","","","n/a","n/a","n/a","n/a","n/a",7033306,2291661]
[506,9809,"GEF ","UNEP","Cross-cutting",{"$f":"IF(ISERROR(P507/(M507*S507)),\"\",IF((P507/(M507*S507))<=OUTLIERS!$C$3,\"\",IF((P507/(M507*S507))>=OUTLIERS!$C$4,\"\",P507/(M507*S507))))","v":""},{"$f":"IF(ISERROR(Q507/($M507*T507)),\"\",IF((Q507/($M507*T507))<=OUTLIERS!$D$3,\"\",IF((Q507/($M507*T507))>=OUTLIERS!$D$4,\"\",Q507/($M507*T507))))","v":""},{"$f":"IF(ISERROR((M507*S507)/P507),\"\",IF((M507*S507/P507)<=OUTLIERS!$E$3,\"\",IF((M507*S507/P507)>=OUTLIERS!$E$4,\"\",M507*S507/P507)))","v":""},{"$f":"IF(ISERROR(O507/N507),\"\",IF(O507/N507<=OUTLIERS!$F$3,\"\",IF(O507/N507>=OUTLIERS!$F$4,\"\",O507/N507)))","v":0.2608695652173913},{"$f":"IF(ISERROR(U507/X507),\"\",IF(U507/X507<=OUTLIERS!$G$3,\"\",IF(U507/X507>=OUTLIERS!$G$4,\"\",U507/X507)))","v":""},{"$f":"IF(ISERROR(Q507/Y507),\"\",IF(Q507/Y507<=OUTLIERS!$H$3,\"\",IF(Q507/Y507>=OUTLIERS!$H$4,\"\",Q507/Y507)))","v":""},{"$f":"IF(ISERROR(W507),\"\",IF(W507<=OUTLIERS!$I$3,\"\",IF(W507>=OUTLIERS!$I$4,\"\",W507)))","v":""},1450000,1150000,300000,"n/a","","","n/a","n/a","n/a","n/a","n/a",6318241,11175692]
[507,9810,"GEF ","UNDP","Mitigation",{"$f":"IF(ISERROR(P508/(M508*S508)),\"\",IF((P508/(M508*S508))<=OUTLIERS!$C$3,\"\",IF((P508/(M508*S508))>=OUTLIERS!$C$4,\"\",P508/(M508*S508))))","v":5.5523399027356327E-3},{"$f":"IF(ISERROR(Q508/($M508*T508)),\"\",IF((Q508/($M508*T508))<=OUTLIERS!$D$3,\"\",IF((Q508/($M508*T508))>=OUTLIERS!$D$4,\"\",Q508/($M508*T508))))","v":""},{"$f":"IF(ISERROR((M508*S508)/P508),\"\",IF((M508*S508/P508)<=OUTLIERS!$E$3,\"\",IF((M508*S508/P508)>=OUTLIERS!$E$4,\"\",M508*S508/P508)))","v":180.1042474916388},{"$f":"IF(ISERROR(O508/N508),\"\",IF(O508/N508<=OUTLIERS!$F$3,\"\",IF(O508/N508>=OUTLIERS!$F$4,\"\",O508/N508)))","v":5.0840736309437053},{"$f":"IF(ISERROR(U508/X508),\"\",IF(U508/X508<=OUTLIERS!$G$3,\"\",IF(U508/X508>=OUTLIERS!$G$4,\"\",U508/X508)))","v":1.7202118564595394E-4},{"$f":"IF(ISERROR(Q508/Y508),\"\",IF(Q508/Y508<=OUTLIERS!$H$3,\"\",IF(Q508/Y508>=OUTLIERS!$H$4,\"\",Q508/Y508)))","v":""},{"$f":"IF(ISERROR(W508),\"\",IF(W508<=OUTLIERS!$I$3,\"\",IF(W508>=OUTLIERS!$I$4,\"\",W508)))","v":0.99},21540468,3540468,18000000,119600,"",50000,1,0,5980,50000,0.99,34763160,29784193]
[508,9811,"GEF ","UNIDO","Mitigation",{"$f":"IF(ISERROR(P509/(M509*S509)),\"\",IF((P509/(M509*S509))<=OUTLIERS!$C$3,\"\",IF((P509/(M509*S509))>=OUTLIERS!$C$4,\"\",P509/(M509*S509))))","v":9.9541154684692087E-2},{"$f":"IF(ISERROR(Q509/($M509*T509)),\"\",IF((Q509/($M509*T509))<=OUTLIERS!$D$3,\"\",IF((Q509/($M509*T509))>=OUTLIERS!$D$4,\"\",Q509/($M509*T509))))","v":""},{"$f":"IF(ISERROR((M509*S509)/P509),\"\",IF((M509*S509/P509)<=OUTLIERS!$E$3,\"\",IF((M509*S509/P509)>=OUTLIERS!$E$4,\"\",M509*S509/P509)))","v":10.046096041055719},{"$f":"IF(ISERROR(O509/N509),\"\",IF(O509/N509<=OUTLIERS!$F$3,\"\",IF(O509/N509>=OUTLIERS!$F$4,\"\",O509/N509)))","v":8.1177742659901853},{"$f":"IF(ISERROR(U509/X509),\"\",IF(U509/X509<=OUTLIERS!$G$3,\"\",IF(U509/X509>=OUTLIERS!$G$4,\"\",U509/X509)))","v":6.0009064272369529E-4},{"$f":"IF(ISERROR(Q509/Y509),\"\",IF(Q509/Y509<=OUTLIERS!$H$3,\"\",IF(Q509/Y509>=OUTLIERS!$H$4,\"\",Q509/Y509)))","v":""},{"$f":"IF(ISERROR(W509),\"\",IF(W509<=OUTLIERS!$I$3,\"\",IF(W509>=OUTLIERS!$I$4,\"\",W509)))","v":0.4},13702875,1502875,12200000,1364000,"","",1,0,136400,"n/a",0.4,227298995,44831159]
[509,9812,"GEF ","UNIDO","Mitigation",{"$f":"IF(ISERROR(P510/(M510*S510)),\"\",IF((P510/(M510*S510))<=OUTLIERS!$C$3,\"\",IF((P510/(M510*S510))>=OUTLIERS!$C$4,\"\",P510/(M510*S510))))","v":4.5783180777519139E-3},{"$f":"IF(ISERROR(Q510/($M510*T510)),\"\",IF((Q510/($M510*T510))<=OUTLIERS!$D$3,\"\",IF((Q510/($M510*T510))>=OUTLIERS!$D$4,\"\",Q510/($M510*T510))))","v":""},{"$f":"IF(ISERROR((M510*S510)/P510),\"\",IF((M510*S510/P510)<=OUTLIERS!$E$3,\"\",IF((M510*S510/P510)>=OUTLIERS!$E$4,\"\",M510*S510/P510)))","v":218.42082245430808},{"$f":"IF(ISERROR(O510/N510),\"\",IF(O510/N510<=OUTLIERS!$F$3,\"\",IF(O510/N510>=OUTLIERS!$F$4,\"\",O510/N510)))","v":8.3916279910456684},{"$f":"IF(ISERROR(U510/X510),\"\",IF(U510/X510<=OUTLIERS!$G$3,\"\",IF(U510/X510>=OUTLIERS!$G$4,\"\",U510/X510)))","v":7.7984769362893737E-3},{"$f":"IF(ISERROR(Q510/Y510),\"\",IF(Q510/Y510<=OUTLIERS!$H$3,\"\",IF(Q510/Y510>=OUTLIERS!$H$4,\"\",Q510/Y510)))","v":""},{"$f":"IF(ISERROR(W510),\"\",IF(W510<=OUTLIERS!$I$3,\"\",IF(W510>=OUTLIERS!$I$4,\"\",W510)))","v":""},16731035,1781484,14949551,76600,"","",1,0,3832,"n/a","n/a",491378,546388]
[510,9813,"GEF ","FAO","Cross-cutting",{"$f":"IF(ISERROR(P511/(M511*S511)),\"\",IF((P511/(M511*S511))<=OUTLIERS!$C$3,\"\",IF((P511/(M511*S511))>=OUTLIERS!$C$4,\"\",P511/(M511*S511))))","v":""},{"$f":"IF(ISERROR(Q511/($M511*T511)),\"\",IF((Q511/($M511*T511))<=OUTLIERS!$D$3,\"\",IF((Q511/($M511*T511))>=OUTLIERS!$D$4,\"\",Q511/($M511*T511))))","v":""},{"$f":"IF(ISERROR((M511*S511)/P511),\"\",IF((M511*S511/P511)<=OUTLIERS!$E$3,\"\",IF((M511*S511/P511)>=OUTLIERS!$E$4,\"\",M511*S511/P511)))","v":""},{"$f":"IF(ISERROR(O511/N511),\"\",IF(O511/N511<=OUTLIERS!$F$3,\"\",IF(O511/N511>=OUTLIERS!$F$4,\"\",O511/N511)))","v":5.8110666912845828},{"$f":"IF(ISERROR(U511/X511),\"\",IF(U511/X511<=OUTLIERS!$G$3,\"\",IF(U511/X511>=OUTLIERS!$G$4,\"\",U511/X511)))","v":8.4631397419717452E-5},{"$f":"IF(ISERROR(Q511/Y511),\"\",IF(Q511/Y511<=OUTLIERS!$H$3,\"\",IF(Q511/Y511>=OUTLIERS!$H$4,\"\",Q511/Y511)))","v":""},{"$f":"IF(ISERROR(W511),\"\",IF(W511<=OUTLIERS!$I$3,\"\",IF(W511>=OUTLIERS!$I$4,\"\",W511)))","v":0.52},12099751,1776484,10323267,365496,"",363000,"n/a","n/a",19236.63157894737,363000,0.52,227298995,44831159]
[511,9814,"GEF ","CI","Mitigation",{"$f":"IF(ISERROR(P512/(M512*S512)),\"\",IF((P512/(M512*S512))<=OUTLIERS!$C$3,\"\",IF((P512/(M512*S512))>=OUTLIERS!$C$4,\"\",P512/(M512*S512))))","v":""},{"$f":"IF(ISERROR(Q512/($M512*T512)),\"\",IF((Q512/($M512*T512))<=OUTLIERS!$D$3,\"\",IF((Q512/($M512*T512))>=OUTLIERS!$D$4,\"\",Q512/($M512*T512))))","v":""},{"$f":"IF(ISERROR((M512*S512)/P512),\"\",IF((M512*S512/P512)<=OUTLIERS!$E$3,\"\",IF((M512*S512/P512)>=OUTLIERS!$E$4,\"\",M512*S512/P512)))","v":""},{"$f":"IF(ISERROR(O512/N512),\"\",IF(O512/N512<=OUTLIERS!$F$3,\"\",IF(O512/N512>=OUTLIERS!$F$4,\"\",O512/N512)))","v":0.56314090909090908},{"$f":"IF(ISERROR(U512/X512),\"\",IF(U512/X512<=OUTLIERS!$G$3,\"\",IF(U512/X512>=OUTLIERS!$G$4,\"\",U512/X512)))","v":""},{"$f":"IF(ISERROR(Q512/Y512),\"\",IF(Q512/Y512<=OUTLIERS!$H$3,\"\",IF(Q512/Y512>=OUTLIERS!$H$4,\"\",Q512/Y512)))","v":""},{"$f":"IF(ISERROR(W512),\"\",IF(W512<=OUTLIERS!$I$3,\"\",IF(W512>=OUTLIERS!$I$4,\"\",W512)))","v":""},1719455,1100000,619455,"n/a","","",1,0,"n/a","n/a","n/a",5229142,42862958]
[512,9818,"GEF ","UNDP","Cross-cutting",{"$f":"IF(ISERROR(P513/(M513*S513)),\"\",IF((P513/(M513*S513))<=OUTLIERS!$C$3,\"\",IF((P513/(M513*S513))>=OUTLIERS!$C$4,\"\",P513/(M513*S513))))","v":""},{"$f":"IF(ISERROR(Q513/($M513*T513)),\"\",IF((Q513/($M513*T513))<=OUTLIERS!$D$3,\"\",IF((Q513/($M513*T513))>=OUTLIERS!$D$4,\"\",Q513/($M513*T513))))","v":""},{"$f":"IF(ISERROR((M513*S513)/P513),\"\",IF((M513*S513/P513)<=OUTLIERS!$E$3,\"\",IF((M513*S513/P513)>=OUTLIERS!$E$4,\"\",M513*S513/P513)))","v":""},{"$f":"IF(ISERROR(O513/N513),\"\",IF(O513/N513<=OUTLIERS!$F$3,\"\",IF(O513/N513>=OUTLIERS!$F$4,\"\",O513/N513)))","v":0.15625},{"$f":"IF(ISERROR(U513/X513),\"\",IF(U513/X513<=OUTLIERS!$G$3,\"\",IF(U513/X513>=OUTLIERS!$G$4,\"\",U513/X513)))","v":""},{"$f":"IF(ISERROR(Q513/Y513),\"\",IF(Q513/Y513<=OUTLIERS!$H$3,\"\",IF(Q513/Y513>=OUTLIERS!$H$4,\"\",Q513/Y513)))","v":""},{"$f":"IF(ISERROR(W513),\"\",IF(W513<=OUTLIERS!$I$3,\"\",IF(W513>=OUTLIERS!$I$4,\"\",W513)))","v":""},407000,352000,55000,"n/a","","","n/a","n/a","n/a","n/a","n/a",5702185,6811297]
[513,9819,"GEF ","UNDP","Cross-cutting",{"$f":"IF(ISERROR(P514/(M514*S514)),\"\",IF((P514/(M514*S514))<=OUTLIERS!$C$3,\"\",IF((P514/(M514*S514))>=OUTLIERS!$C$4,\"\",P514/(M514*S514))))","v":""},{"$f":"IF(ISERROR(Q514/($M514*T514)),\"\",IF((Q514/($M514*T514))<=OUTLIERS!$D$3,\"\",IF((Q514/($M514*T514))>=OUTLIERS!$D$4,\"\",Q514/($M514*T514))))","v":""},{"$f":"IF(ISERROR((M514*S514)/P514),\"\",IF((M514*S514/P514)<=OUTLIERS!$E$3,\"\",IF((M514*S514/P514)>=OUTLIERS!$E$4,\"\",M514*S514/P514)))","v":""},{"$f":"IF(ISERROR(O514/N514),\"\",IF(O514/N514<=OUTLIERS!$F$3,\"\",IF(O514/N514>=OUTLIERS!$F$4,\"\",O514/N514)))","v":1.1455399061032865},{"$f":"IF(ISERROR(U514/X514),\"\",IF(U514/X514<=OUTLIERS!$G$3,\"\",IF(U514/X514>=OUTLIERS!$G$4,\"\",U514/X514)))","v":""},{"$f":"IF(ISERROR(Q514/Y514),\"\",IF(Q514/Y514<=OUTLIERS!$H$3,\"\",IF(Q514/Y514>=OUTLIERS!$H$4,\"\",Q514/Y514)))","v":""},{"$f":"IF(ISERROR(W514),\"\",IF(W514<=OUTLIERS!$I$3,\"\",IF(W514>=OUTLIERS!$I$4,\"\",W514)))","v":""},1828000,852000,976000,"n/a","",{"$f":"IF(V514=\"n/a\",\"\",V514)","v":""},"n/a","n/a","n/a","n/a","n/a",34836500,11484636]
[514,9820,"GEF ","UNEP","Cross-cutting",{"$f":"IF(ISERROR(P515/(M515*S515)),\"\",IF((P515/(M515*S515))<=OUTLIERS!$C$3,\"\",IF((P515/(M515*S515))>=OUTLIERS!$C$4,\"\",P515/(M515*S515))))","v":""},{"$f":"IF(ISERROR(Q515/($M515*T515)),\"\",IF((Q515/($M515*T515))<=OUTLIERS!$D$3,\"\",IF((Q515/($M515*T515))>=OUTLIERS!$D$4,\"\",Q515/($M515*T515))))","v":""},{"$f":"IF(ISERROR((M515*S515)/P515),\"\",IF((M515*S515/P515)<=OUTLIERS!$E$3,\"\",IF((M515*S515/P515)>=OUTLIERS!$E$4,\"\",M515*S515/P515)))","v":""},{"$f":"IF(ISERROR(O515/N515),\"\",IF(O515/N515<=OUTLIERS!$F$3,\"\",IF(O515/N515>=OUTLIERS!$F$4,\"\",O515/N515)))","v":1.0704545454545455},{"$f":"IF(ISERROR(U515/X515),\"\",IF(U515/X515<=OUTLIERS!$G$3,\"\",IF(U515/X515>=OUTLIERS!$G$4,\"\",U515/X515)))","v":""},{"$f":"IF(ISERROR(Q515/Y515),\"\",IF(Q515/Y515<=OUTLIERS!$H$3,\"\",IF(Q515/Y515>=OUTLIERS!$H$4,\"\",Q515/Y515)))","v":""},{"$f":"IF(ISERROR(W515),\"\",IF(W515<=OUTLIERS!$I$3,\"\",IF(W515>=OUTLIERS!$I$4,\"\",W515)))","v":""},2277500,1100000,1177500,"n/a",{"$f":"IF(E515=\"adaptation\",R515,\"\")","v":""},"","n/a","n/a","n/a","n/a","n/a",14466315,28833629]
[515,9828,"GEF ","UNDP","Mitigation",{"$f":"IF(ISERROR(P516/(M516*S516)),\"\",IF((P516/(M516*S516))<=OUTLIERS!$C$3,\"\",IF((P516/(M516*S516))>=OUTLIERS!$C$4,\"\",P516/(M516*S516))))","v":""},{"$f":"IF(ISERROR(Q516/($M516*T516)),\"\",IF((Q516/($M516*T516))<=OUTLIERS!$D$3,\"\",IF((Q516/($M516*T516))>=OUTLIERS!$D$4,\"\",Q516/($M516*T516))))","v":""},{"$f":"IF(ISERROR((M516*S516)/P516),\"\",IF((M516*S516/P516)<=OUTLIERS!$E$3,\"\",IF((M516*S516/P516)>=OUTLIERS!$E$4,\"\",M516*S516/P516)))","v":""},{"$f":"IF(ISERROR(O516/N516),\"\",IF(O516/N516<=OUTLIERS!$F$3,\"\",IF(O516/N516>=OUTLIERS!$F$4,\"\",O516/N516)))","v":0.18103448275862069},{"$f":"IF(ISERROR(U516/X516),\"\",IF(U516/X516<=OUTLIERS!$G$3,\"\",IF(U516/X516>=OUTLIERS!$G$4,\"\",U516/X516)))","v":""},{"$f":"IF(ISERROR(Q516/Y516),\"\",IF(Q516/Y516<=OUTLIERS!$H$3,\"\",IF(Q516/Y516>=OUTLIERS!$H$4,\"\",Q516/Y516)))","v":""},{"$f":"IF(ISERROR(W516),\"\",IF(W516<=OUTLIERS!$I$3,\"\",IF(W516>=OUTLIERS!$I$4,\"\",W516)))","v":""},1370000,1160000,210000,"n/a","","",1,0,"n/a","n/a","n/a",11045004,24294750]
[516,9830,"GEF ","UNIDO","Mitigation",{"$f":"IF(ISERROR(P517/(M517*S517)),\"\",IF((P517/(M517*S517))<=OUTLIERS!$C$3,\"\",IF((P517/(M517*S517))>=OUTLIERS!$C$4,\"\",P517/(M517*S517))))","v":6.0632542065666688E-3},{"$f":"IF(ISERROR(Q517/($M517*T517)),\"\",IF((Q517/($M517*T517))<=OUTLIERS!$D$3,\"\",IF((Q517/($M517*T517))>=OUTLIERS!$D$4,\"\",Q517/($M517*T517))))","v":""},{"$f":"IF(ISERROR((M517*S517)/P517),\"\",IF((M517*S517/P517)<=OUTLIERS!$E$3,\"\",IF((M517*S517/P517)>=OUTLIERS!$E$4,\"\",M517*S517/P517)))","v":164.92793571428572},{"$f":"IF(ISERROR(O517/N517),\"\",IF(O517/N517<=OUTLIERS!$F$3,\"\",IF(O517/N517>=OUTLIERS!$F$4,\"\",O517/N517)))","v":4.7948036798776483},{"$f":"IF(ISERROR(U517/X517),\"\",IF(U517/X517<=OUTLIERS!$G$3,\"\",IF(U517/X517>=OUTLIERS!$G$4,\"\",U517/X517)))","v":6.472003292585447E-4},{"$f":"IF(ISERROR(Q517/Y517),\"\",IF(Q517/Y517<=OUTLIERS!$H$3,\"\",IF(Q517/Y517>=OUTLIERS!$H$4,\"\",Q517/Y517)))","v":""},{"$f":"IF(ISERROR(W517),\"\",IF(W517<=OUTLIERS!$I$3,\"\",IF(W517>=OUTLIERS!$I$4,\"\",W517)))","v":""},23089911,3984589,19105322,140000,"","",1,0,14000,"n/a","n/a",21631633,53370609]
[517,9831,"GEF ","UNDP","Cross-cutting",{"$f":"IF(ISERROR(P518/(M518*S518)),\"\",IF((P518/(M518*S518))<=OUTLIERS!$C$3,\"\",IF((P518/(M518*S518))>=OUTLIERS!$C$4,\"\",P518/(M518*S518))))","v":""},{"$f":"IF(ISERROR(Q518/($M518*T518)),\"\",IF((Q518/($M518*T518))<=OUTLIERS!$D$3,\"\",IF((Q518/($M518*T518))>=OUTLIERS!$D$4,\"\",Q518/($M518*T518))))","v":""},{"$f":"IF(ISERROR((M518*S518)/P518),\"\",IF((M518*S518/P518)<=OUTLIERS!$E$3,\"\",IF((M518*S518/P518)>=OUTLIERS!$E$4,\"\",M518*S518/P518)))","v":""},{"$f":"IF(ISERROR(O518/N518),\"\",IF(O518/N518<=OUTLIERS!$F$3,\"\",IF(O518/N518>=OUTLIERS!$F$4,\"\",O518/N518)))","v":9.5766431924882628E-2},{"$f":"IF(ISERROR(U518/X518),\"\",IF(U518/X518<=OUTLIERS!$G$3,\"\",IF(U518/X518>=OUTLIERS!$G$4,\"\",U518/X518)))","v":""},{"$f":"IF(ISERROR(Q518/Y518),\"\",IF(Q518/Y518<=OUTLIERS!$H$3,\"\",IF(Q518/Y518>=OUTLIERS!$H$4,\"\",Q518/Y518)))","v":""},{"$f":"IF(ISERROR(W518),\"\",IF(W518<=OUTLIERS!$I$3,\"\",IF(W518>=OUTLIERS!$I$4,\"\",W518)))","v":""},933593,852000,81593,"n/a","","","n/a","n/a","n/a","n/a","n/a",82562505,18054726]
[518,9833,"GEF ","FAO","Cross-cutting",{"$f":"IF(ISERROR(P519/(M519*S519)),\"\",IF((P519/(M519*S519))<=OUTLIERS!$C$3,\"\",IF((P519/(M519*S519))>=OUTLIERS!$C$4,\"\",P519/(M519*S519))))","v":""},{"$f":"IF(ISERROR(Q519/($M519*T519)),\"\",IF((Q519/($M519*T519))<=OUTLIERS!$D$3,\"\",IF((Q519/($M519*T519))>=OUTLIERS!$D$4,\"\",Q519/($M519*T519))))","v":""},{"$f":"IF(ISERROR((M519*S519)/P519),\"\",IF((M519*S519/P519)<=OUTLIERS!$E$3,\"\",IF((M519*S519/P519)>=OUTLIERS!$E$4,\"\",M519*S519/P519)))","v":""},{"$f":"IF(ISERROR(O519/N519),\"\",IF(O519/N519<=OUTLIERS!$F$3,\"\",IF(O519/N519>=OUTLIERS!$F$4,\"\",O519/N519)))","v":3.0119016451933525},{"$f":"IF(ISERROR(U519/X519),\"\",IF(U519/X519<=OUTLIERS!$G$3,\"\",IF(U519/X519>=OUTLIERS!$G$4,\"\",U519/X519)))","v":""},{"$f":"IF(ISERROR(Q519/Y519),\"\",IF(Q519/Y519<=OUTLIERS!$H$3,\"\",IF(Q519/Y519>=OUTLIERS!$H$4,\"\",Q519/Y519)))","v":""},{"$f":"IF(ISERROR(W519),\"\",IF(W519<=OUTLIERS!$I$3,\"\",IF(W519>=OUTLIERS!$I$4,\"\",W519)))","v":""},3463242,863242,2600000,"n/a","","","n/a","n/a","n/a","n/a","n/a",6318241,8251162]
[519,9834,"GEF ","FAO","Cross-cutting",{"$f":"IF(ISERROR(P520/(M520*S520)),\"\",IF((P520/(M520*S520))<=OUTLIERS!$C$3,\"\",IF((P520/(M520*S520))>=OUTLIERS!$C$4,\"\",P520/(M520*S520))))","v":""},{"$f":"IF(ISERROR(Q520/($M520*T520)),\"\",IF((Q520/($M520*T520))<=OUTLIERS!$D$3,\"\",IF((Q520/($M520*T520))>=OUTLIERS!$D$4,\"\",Q520/($M520*T520))))","v":""},{"$f":"IF(ISERROR((M520*S520)/P520),\"\",IF((M520*S520/P520)<=OUTLIERS!$E$3,\"\",IF((M520*S520/P520)>=OUTLIERS!$E$4,\"\",M520*S520/P520)))","v":""},{"$f":"IF(ISERROR(O520/N520),\"\",IF(O520/N520<=OUTLIERS!$F$3,\"\",IF(O520/N520>=OUTLIERS!$F$4,\"\",O520/N520)))","v":1.3437715032401112},{"$f":"IF(ISERROR(U520/X520),\"\",IF(U520/X520<=OUTLIERS!$G$3,\"\",IF(U520/X520>=OUTLIERS!$G$4,\"\",U520/X520)))","v":""},{"$f":"IF(ISERROR(Q520/Y520),\"\",IF(Q520/Y520<=OUTLIERS!$H$3,\"\",IF(Q520/Y520>=OUTLIERS!$H$4,\"\",Q520/Y520)))","v":""},{"$f":"IF(ISERROR(W520),\"\",IF(W520<=OUTLIERS!$I$3,\"\",IF(W520>=OUTLIERS!$I$4,\"\",W520)))","v":""},2023242,863242,1160000,"n/a","","","n/a","n/a","n/a","n/a","n/a",20839561,3075647]
[520,9835,"GEF ","UNEP","Cross-cutting",{"$f":"IF(ISERROR(P521/(M521*S521)),\"\",IF((P521/(M521*S521))<=OUTLIERS!$C$3,\"\",IF((P521/(M521*S521))>=OUTLIERS!$C$4,\"\",P521/(M521*S521))))","v":""},{"$f":"IF(ISERROR(Q521/($M521*T521)),\"\",IF((Q521/($M521*T521))<=OUTLIERS!$D$3,\"\",IF((Q521/($M521*T521))>=OUTLIERS!$D$4,\"\",Q521/($M521*T521))))","v":""},{"$f":"IF(ISERROR((M521*S521)/P521),\"\",IF((M521*S521/P521)<=OUTLIERS!$E$3,\"\",IF((M521*S521/P521)>=OUTLIERS!$E$4,\"\",M521*S521/P521)))","v":""},{"$f":"IF(ISERROR(O521/N521),\"\",IF(O521/N521<=OUTLIERS!$F$3,\"\",IF(O521/N521>=OUTLIERS!$F$4,\"\",O521/N521)))","v":0.70616883116883122},{"$f":"IF(ISERROR(U521/X521),\"\",IF(U521/X521<=OUTLIERS!$G$3,\"\",IF(U521/X521>=OUTLIERS!$G$4,\"\",U521/X521)))","v":""},{"$f":"IF(ISERROR(Q521/Y521),\"\",IF(Q521/Y521<=OUTLIERS!$H$3,\"\",IF(Q521/Y521>=OUTLIERS!$H$4,\"\",Q521/Y521)))","v":""},{"$f":"IF(ISERROR(W521),\"\",IF(W521<=OUTLIERS!$I$3,\"\",IF(W521>=OUTLIERS!$I$4,\"\",W521)))","v":""},2102000,1232000,870000,"n/a","","","n/a","n/a","n/a","n/a","n/a",82562505,18054726]
[521,9837,"GEF ","FAO","Cross-cutting",{"$f":"IF(ISERROR(P522/(M522*S522)),\"\",IF((P522/(M522*S522))<=OUTLIERS!$C$3,\"\",IF((P522/(M522*S522))>=OUTLIERS!$C$4,\"\",P522/(M522*S522))))","v":""},{"$f":"IF(ISERROR(Q522/($M522*T522)),\"\",IF((Q522/($M522*T522))<=OUTLIERS!$D$3,\"\",IF((Q522/($M522*T522))>=OUTLIERS!$D$4,\"\",Q522/($M522*T522))))","v":""},{"$f":"IF(ISERROR((M522*S522)/P522),\"\",IF((M522*S522/P522)<=OUTLIERS!$E$3,\"\",IF((M522*S522/P522)>=OUTLIERS!$E$4,\"\",M522*S522/P522)))","v":""},{"$f":"IF(ISERROR(O522/N522),\"\",IF(O522/N522<=OUTLIERS!$F$3,\"\",IF(O522/N522>=OUTLIERS!$F$4,\"\",O522/N522)))","v":2.4689843635967668},{"$f":"IF(ISERROR(U522/X522),\"\",IF(U522/X522<=OUTLIERS!$G$3,\"\",IF(U522/X522>=OUTLIERS!$G$4,\"\",U522/X522)))","v":""},{"$f":"IF(ISERROR(Q522/Y522),\"\",IF(Q522/Y522<=OUTLIERS!$H$3,\"\",IF(Q522/Y522>=OUTLIERS!$H$4,\"\",Q522/Y522)))","v":""},{"$f":"IF(ISERROR(W522),\"\",IF(W522<=OUTLIERS!$I$3,\"\",IF(W522>=OUTLIERS!$I$4,\"\",W522)))","v":""},2994573,863242,2131331,"n/a","","","n/a","n/a","n/a","n/a","n/a",6684941,16005373]
[522,9838,"GEF ","UNDP","Mitigation",{"$f":"IF(ISERROR(P523/(M523*S523)),\"\",IF((P523/(M523*S523))<=OUTLIERS!$C$3,\"\",IF((P523/(M523*S523))>=OUTLIERS!$C$4,\"\",P523/(M523*S523))))","v":""},{"$f":"IF(ISERROR(Q523/($M523*T523)),\"\",IF((Q523/($M523*T523))<=OUTLIERS!$D$3,\"\",IF((Q523/($M523*T523))>=OUTLIERS!$D$4,\"\",Q523/($M523*T523))))","v":""},{"$f":"IF(ISERROR((M523*S523)/P523),\"\",IF((M523*S523/P523)<=OUTLIERS!$E$3,\"\",IF((M523*S523/P523)>=OUTLIERS!$E$4,\"\",M523*S523/P523)))","v":""},{"$f":"IF(ISERROR(O523/N523),\"\",IF(O523/N523<=OUTLIERS!$F$3,\"\",IF(O523/N523>=OUTLIERS!$F$4,\"\",O523/N523)))","v":0.14204545454545456},{"$f":"IF(ISERROR(U523/X523),\"\",IF(U523/X523<=OUTLIERS!$G$3,\"\",IF(U523/X523>=OUTLIERS!$G$4,\"\",U523/X523)))","v":""},{"$f":"IF(ISERROR(Q523/Y523),\"\",IF(Q523/Y523<=OUTLIERS!$H$3,\"\",IF(Q523/Y523>=OUTLIERS!$H$4,\"\",Q523/Y523)))","v":""},{"$f":"IF(ISERROR(W523),\"\",IF(W523<=OUTLIERS!$I$3,\"\",IF(W523>=OUTLIERS!$I$4,\"\",W523)))","v":""},402000,352000,50000,"n/a","","",1,0,"n/a","n/a","n/a",3755008,2533794]
[523,9842,"GEF ","WorldBank","Mitigation",{"$f":"IF(ISERROR(P524/(M524*S524)),\"\",IF((P524/(M524*S524))<=OUTLIERS!$C$3,\"\",IF((P524/(M524*S524))>=OUTLIERS!$C$4,\"\",P524/(M524*S524))))","v":7.3622944364595502E-2},{"$f":"IF(ISERROR(Q524/($M524*T524)),\"\",IF((Q524/($M524*T524))<=OUTLIERS!$D$3,\"\",IF((Q524/($M524*T524))>=OUTLIERS!$D$4,\"\",Q524/($M524*T524))))","v":""},{"$f":"IF(ISERROR((M524*S524)/P524),\"\",IF((M524*S524/P524)<=OUTLIERS!$E$3,\"\",IF((M524*S524/P524)>=OUTLIERS!$E$4,\"\",M524*S524/P524)))","v":13.582722188449848},{"$f":"IF(ISERROR(O524/N524),\"\",IF(O524/N524<=OUTLIERS!$F$3,\"\",IF(O524/N524>=OUTLIERS!$F$4,\"\",O524/N524)))","v":6.9981937142975781},{"$f":"IF(ISERROR(U524/X524),\"\",IF(U524/X524<=OUTLIERS!$G$3,\"\",IF(U524/X524>=OUTLIERS!$G$4,\"\",U524/X524)))","v":0.5148434781790997},{"$f":"IF(ISERROR(Q524/Y524),\"\",IF(Q524/Y524<=OUTLIERS!$H$3,\"\",IF(Q524/Y524>=OUTLIERS!$H$4,\"\",Q524/Y524)))","v":""},{"$f":"IF(ISERROR(W524),\"\",IF(W524<=OUTLIERS!$I$3,\"\",IF(W524>=OUTLIERS!$I$4,\"\",W524)))","v":""},44687156,5587156,39100000,3290000,"","",1,0,657000,"n/a","n/a",1276116,18622104]
[524,9844,"GEF ","UNDP","Cross-cutting",{"$f":"IF(ISERROR(P525/(M525*S525)),\"\",IF((P525/(M525*S525))<=OUTLIERS!$C$3,\"\",IF((P525/(M525*S525))>=OUTLIERS!$C$4,\"\",P525/(M525*S525))))","v":""},{"$f":"IF(ISERROR(Q525/($M525*T525)),\"\",IF((Q525/($M525*T525))<=OUTLIERS!$D$3,\"\",IF((Q525/($M525*T525))>=OUTLIERS!$D$4,\"\",Q525/($M525*T525))))","v":""},{"$f":"IF(ISERROR((M525*S525)/P525),\"\",IF((M525*S525/P525)<=OUTLIERS!$E$3,\"\",IF((M525*S525/P525)>=OUTLIERS!$E$4,\"\",M525*S525/P525)))","v":""},{"$f":"IF(ISERROR(O525/N525),\"\",IF(O525/N525<=OUTLIERS!$F$3,\"\",IF(O525/N525>=OUTLIERS!$F$4,\"\",O525/N525)))","v":0.62028169014084511},{"$f":"IF(ISERROR(U525/X525),\"\",IF(U525/X525<=OUTLIERS!$G$3,\"\",IF(U525/X525>=OUTLIERS!$G$4,\"\",U525/X525)))","v":""},{"$f":"IF(ISERROR(Q525/Y525),\"\",IF(Q525/Y525<=OUTLIERS!$H$3,\"\",IF(Q525/Y525>=OUTLIERS!$H$4,\"\",Q525/Y525)))","v":""},{"$f":"IF(ISERROR(W525),\"\",IF(W525<=OUTLIERS!$I$3,\"\",IF(W525>=OUTLIERS!$I$4,\"\",W525)))","v":""},1380480,852000,528480,"n/a","","","n/a","n/a","n/a","n/a","n/a",18327666,16913503]
[525,9849,"GEF ","UNEP","Cross-cutting",{"$f":"IF(ISERROR(P526/(M526*S526)),\"\",IF((P526/(M526*S526))<=OUTLIERS!$C$3,\"\",IF((P526/(M526*S526))>=OUTLIERS!$C$4,\"\",P526/(M526*S526))))","v":""},{"$f":"IF(ISERROR(Q526/($M526*T526)),\"\",IF((Q526/($M526*T526))<=OUTLIERS!$D$3,\"\",IF((Q526/($M526*T526))>=OUTLIERS!$D$4,\"\",Q526/($M526*T526))))","v":""},{"$f":"IF(ISERROR((M526*S526)/P526),\"\",IF((M526*S526/P526)<=OUTLIERS!$E$3,\"\",IF((M526*S526/P526)>=OUTLIERS!$E$4,\"\",M526*S526/P526)))","v":""},{"$f":"IF(ISERROR(O526/N526),\"\",IF(O526/N526<=OUTLIERS!$F$3,\"\",IF(O526/N526>=OUTLIERS!$F$4,\"\",O526/N526)))","v":0.2},{"$f":"IF(ISERROR(U526/X526),\"\",IF(U526/X526<=OUTLIERS!$G$3,\"\",IF(U526/X526>=OUTLIERS!$G$4,\"\",U526/X526)))","v":""},{"$f":"IF(ISERROR(Q526/Y526),\"\",IF(Q526/Y526<=OUTLIERS!$H$3,\"\",IF(Q526/Y526>=OUTLIERS!$H$4,\"\",Q526/Y526)))","v":""},{"$f":"IF(ISERROR(W526),\"\",IF(W526<=OUTLIERS!$I$3,\"\",IF(W526>=OUTLIERS!$I$4,\"\",W526)))","v":""},1200000,1000000,200000,"n/a","","","n/a","n/a","n/a","n/a","n/a",531715,102012]
[526,9857,"GEF ","UNDP","Cross-cutting",{"$f":"IF(ISERROR(P527/(M527*S527)),\"\",IF((P527/(M527*S527))<=OUTLIERS!$C$3,\"\",IF((P527/(M527*S527))>=OUTLIERS!$C$4,\"\",P527/(M527*S527))))","v":""},{"$f":"IF(ISERROR(Q527/($M527*T527)),\"\",IF((Q527/($M527*T527))<=OUTLIERS!$D$3,\"\",IF((Q527/($M527*T527))>=OUTLIERS!$D$4,\"\",Q527/($M527*T527))))","v":""},{"$f":"IF(ISERROR((M527*S527)/P527),\"\",IF((M527*S527/P527)<=OUTLIERS!$E$3,\"\",IF((M527*S527/P527)>=OUTLIERS!$E$4,\"\",M527*S527/P527)))","v":""},{"$f":"IF(ISERROR(O527/N527),\"\",IF(O527/N527<=OUTLIERS!$F$3,\"\",IF(O527/N527>=OUTLIERS!$F$4,\"\",O527/N527)))","v":1.0400070912894477},{"$f":"IF(ISERROR(U527/X527),\"\",IF(U527/X527<=OUTLIERS!$G$3,\"\",IF(U527/X527>=OUTLIERS!$G$4,\"\",U527/X527)))","v":""},{"$f":"IF(ISERROR(Q527/Y527),\"\",IF(Q527/Y527<=OUTLIERS!$H$3,\"\",IF(Q527/Y527>=OUTLIERS!$H$4,\"\",Q527/Y527)))","v":""},{"$f":"IF(ISERROR(W527),\"\",IF(W527<=OUTLIERS!$I$3,\"\",IF(W527>=OUTLIERS!$I$4,\"\",W527)))","v":""},39101177,19167177,19934000,"n/a","","","n/a","n/a","n/a","n/a","n/a",462406560.91666669,84901143.416666657]
[527,9863,"GEF ","UNDP","Mitigation",{"$f":"IF(ISERROR(P528/(M528*S528)),\"\",IF((P528/(M528*S528))<=OUTLIERS!$C$3,\"\",IF((P528/(M528*S528))>=OUTLIERS!$C$4,\"\",P528/(M528*S528))))","v":5.6912898816712035E-2},{"$f":"IF(ISERROR(Q528/($M528*T528)),\"\",IF((Q528/($M528*T528))<=OUTLIERS!$D$3,\"\",IF((Q528/($M528*T528))>=OUTLIERS!$D$4,\"\",Q528/($M528*T528))))","v":""},{"$f":"IF(ISERROR((M528*S528)/P528),\"\",IF((M528*S528/P528)<=OUTLIERS!$E$3,\"\",IF((M528*S528/P528)>=OUTLIERS!$E$4,\"\",M528*S528/P528)))","v":17.570709290709292},{"$f":"IF(ISERROR(O528/N528),\"\",IF(O528/N528<=OUTLIERS!$F$3,\"\",IF(O528/N528>=OUTLIERS!$F$4,\"\",O528/N528)))","v":1.9701838012613679},{"$f":"IF(ISERROR(U528/X528),\"\",IF(U528/X528<=OUTLIERS!$G$3,\"\",IF(U528/X528>=OUTLIERS!$G$4,\"\",U528/X528)))","v":9.9868969783234784E-2},{"$f":"IF(ISERROR(Q528/Y528),\"\",IF(Q528/Y528<=OUTLIERS!$H$3,\"\",IF(Q528/Y528>=OUTLIERS!$H$4,\"\",Q528/Y528)))","v":""},{"$f":"IF(ISERROR(W528),\"\",IF(W528<=OUTLIERS!$I$3,\"\",IF(W528>=OUTLIERS!$I$4,\"\",W528)))","v":""},5276484,1776484,3500000,300300,"","",1,0,15015,"n/a","n/a",150347,105544]
[528,9864,"GEF ","FAO","Cross-cutting",{"$f":"IF(ISERROR(P529/(M529*S529)),\"\",IF((P529/(M529*S529))<=OUTLIERS!$C$3,\"\",IF((P529/(M529*S529))>=OUTLIERS!$C$4,\"\",P529/(M529*S529))))","v":""},{"$f":"IF(ISERROR(Q529/($M529*T529)),\"\",IF((Q529/($M529*T529))<=OUTLIERS!$D$3,\"\",IF((Q529/($M529*T529))>=OUTLIERS!$D$4,\"\",Q529/($M529*T529))))","v":""},{"$f":"IF(ISERROR((M529*S529)/P529),\"\",IF((M529*S529/P529)<=OUTLIERS!$E$3,\"\",IF((M529*S529/P529)>=OUTLIERS!$E$4,\"\",M529*S529/P529)))","v":""},{"$f":"IF(ISERROR(O529/N529),\"\",IF(O529/N529<=OUTLIERS!$F$3,\"\",IF(O529/N529>=OUTLIERS!$F$4,\"\",O529/N529)))","v":1.6887289725097441},{"$f":"IF(ISERROR(U529/X529),\"\",IF(U529/X529<=OUTLIERS!$G$3,\"\",IF(U529/X529>=OUTLIERS!$G$4,\"\",U529/X529)))","v":""},{"$f":"IF(ISERROR(Q529/Y529),\"\",IF(Q529/Y529<=OUTLIERS!$H$3,\"\",IF(Q529/Y529>=OUTLIERS!$H$4,\"\",Q529/Y529)))","v":""},{"$f":"IF(ISERROR(W529),\"\",IF(W529<=OUTLIERS!$I$3,\"\",IF(W529>=OUTLIERS!$I$4,\"\",W529)))","v":""},4776484,1776484,3000000,"n/a","","","n/a","n/a","n/a","n/a","n/a","",""]
[529,9869,"GEF ","UNEP","Cross-cutting",{"$f":"IF(ISERROR(P530/(M530*S530)),\"\",IF((P530/(M530*S530))<=OUTLIERS!$C$3,\"\",IF((P530/(M530*S530))>=OUTLIERS!$C$4,\"\",P530/(M530*S530))))","v":""},{"$f":"IF(ISERROR(Q530/($M530*T530)),\"\",IF((Q530/($M530*T530))<=OUTLIERS!$D$3,\"\",IF((Q530/($M530*T530))>=OUTLIERS!$D$4,\"\",Q530/($M530*T530))))","v":""},{"$f":"IF(ISERROR((M530*S530)/P530),\"\",IF((M530*S530/P530)<=OUTLIERS!$E$3,\"\",IF((M530*S530/P530)>=OUTLIERS!$E$4,\"\",M530*S530/P530)))","v":""},{"$f":"IF(ISERROR(O530/N530),\"\",IF(O530/N530<=OUTLIERS!$F$3,\"\",IF(O530/N530>=OUTLIERS!$F$4,\"\",O530/N530)))","v":0.32727272727272727},{"$f":"IF(ISERROR(U530/X530),\"\",IF(U530/X530<=OUTLIERS!$G$3,\"\",IF(U530/X530>=OUTLIERS!$G$4,\"\",U530/X530)))","v":""},{"$f":"IF(ISERROR(Q530/Y530),\"\",IF(Q530/Y530<=OUTLIERS!$H$3,\"\",IF(Q530/Y530>=OUTLIERS!$H$4,\"\",Q530/Y530)))","v":""},{"$f":"IF(ISERROR(W530),\"\",IF(W530<=OUTLIERS!$I$3,\"\",IF(W530>=OUTLIERS!$I$4,\"\",W530)))","v":""},1460000,1100000,360000,"n/a","","","n/a","n/a","n/a","n/a","n/a",21539958,10766998]
[530,9871,"GEF ","UNDP","Cross-cutting",{"$f":"IF(ISERROR(P531/(M531*S531)),\"\",IF((P531/(M531*S531))<=OUTLIERS!$C$3,\"\",IF((P531/(M531*S531))>=OUTLIERS!$C$4,\"\",P531/(M531*S531))))","v":""},{"$f":"IF(ISERROR(Q531/($M531*T531)),\"\",IF((Q531/($M531*T531))<=OUTLIERS!$D$3,\"\",IF((Q531/($M531*T531))>=OUTLIERS!$D$4,\"\",Q531/($M531*T531))))","v":""},{"$f":"IF(ISERROR((M531*S531)/P531),\"\",IF((M531*S531/P531)<=OUTLIERS!$E$3,\"\",IF((M531*S531/P531)>=OUTLIERS!$E$4,\"\",M531*S531/P531)))","v":""},{"$f":"IF(ISERROR(O531/N531),\"\",IF(O531/N531<=OUTLIERS!$F$3,\"\",IF(O531/N531>=OUTLIERS!$F$4,\"\",O531/N531)))","v":0.12145454545454545},{"$f":"IF(ISERROR(U531/X531),\"\",IF(U531/X531<=OUTLIERS!$G$3,\"\",IF(U531/X531>=OUTLIERS!$G$4,\"\",U531/X531)))","v":""},{"$f":"IF(ISERROR(Q531/Y531),\"\",IF(Q531/Y531<=OUTLIERS!$H$3,\"\",IF(Q531/Y531>=OUTLIERS!$H$4,\"\",Q531/Y531)))","v":""},{"$f":"IF(ISERROR(W531),\"\",IF(W531<=OUTLIERS!$I$3,\"\",IF(W531>=OUTLIERS!$I$4,\"\",W531)))","v":""},394752,352000,42752,"n/a","","","n/a","n/a","n/a","n/a","n/a",84091644,49065615]
[531,9872,"GEF ","UNEP","Cross-cutting",{"$f":"IF(ISERROR(P532/(M532*S532)),\"\",IF((P532/(M532*S532))<=OUTLIERS!$C$3,\"\",IF((P532/(M532*S532))>=OUTLIERS!$C$4,\"\",P532/(M532*S532))))","v":""},{"$f":"IF(ISERROR(Q532/($M532*T532)),\"\",IF((Q532/($M532*T532))<=OUTLIERS!$D$3,\"\",IF((Q532/($M532*T532))>=OUTLIERS!$D$4,\"\",Q532/($M532*T532))))","v":""},{"$f":"IF(ISERROR((M532*S532)/P532),\"\",IF((M532*S532/P532)<=OUTLIERS!$E$3,\"\",IF((M532*S532/P532)>=OUTLIERS!$E$4,\"\",M532*S532/P532)))","v":""},{"$f":"IF(ISERROR(O532/N532),\"\",IF(O532/N532<=OUTLIERS!$F$3,\"\",IF(O532/N532>=OUTLIERS!$F$4,\"\",O532/N532)))","v":0.58381984987489577},{"$f":"IF(ISERROR(U532/X532),\"\",IF(U532/X532<=OUTLIERS!$G$3,\"\",IF(U532/X532>=OUTLIERS!$G$4,\"\",U532/X532)))","v":""},{"$f":"IF(ISERROR(Q532/Y532),\"\",IF(Q532/Y532<=OUTLIERS!$H$3,\"\",IF(Q532/Y532>=OUTLIERS!$H$4,\"\",Q532/Y532)))","v":""},{"$f":"IF(ISERROR(W532),\"\",IF(W532<=OUTLIERS!$I$3,\"\",IF(W532>=OUTLIERS!$I$4,\"\",W532)))","v":""},1899000,1199000,700000,"n/a","","","n/a","n/a","n/a","n/a","n/a",61744946,32165485]
[532,9877,"GEF ","UNDP","Cross-cutting",{"$f":"IF(ISERROR(P533/(M533*S533)),\"\",IF((P533/(M533*S533))<=OUTLIERS!$C$3,\"\",IF((P533/(M533*S533))>=OUTLIERS!$C$4,\"\",P533/(M533*S533))))","v":""},{"$f":"IF(ISERROR(Q533/($M533*T533)),\"\",IF((Q533/($M533*T533))<=OUTLIERS!$D$3,\"\",IF((Q533/($M533*T533))>=OUTLIERS!$D$4,\"\",Q533/($M533*T533))))","v":""},{"$f":"IF(ISERROR((M533*S533)/P533),\"\",IF((M533*S533/P533)<=OUTLIERS!$E$3,\"\",IF((M533*S533/P533)>=OUTLIERS!$E$4,\"\",M533*S533/P533)))","v":""},{"$f":"IF(ISERROR(O533/N533),\"\",IF(O533/N533<=OUTLIERS!$F$3,\"\",IF(O533/N533>=OUTLIERS!$F$4,\"\",O533/N533)))","v":0.21126760563380281},{"$f":"IF(ISERROR(U533/X533),\"\",IF(U533/X533<=OUTLIERS!$G$3,\"\",IF(U533/X533>=OUTLIERS!$G$4,\"\",U533/X533)))","v":""},{"$f":"IF(ISERROR(Q533/Y533),\"\",IF(Q533/Y533<=OUTLIERS!$H$3,\"\",IF(Q533/Y533>=OUTLIERS!$H$4,\"\",Q533/Y533)))","v":""},{"$f":"IF(ISERROR(W533),\"\",IF(W533<=OUTLIERS!$I$3,\"\",IF(W533>=OUTLIERS!$I$4,\"\",W533)))","v":""},1032000,852000,180000,"n/a","","","n/a","n/a","n/a","n/a","n/a",22233021,3507017]
[533,9880,"GEF ","FAO","Cross-cutting",{"$f":"IF(ISERROR(P534/(M534*S534)),\"\",IF((P534/(M534*S534))<=OUTLIERS!$C$3,\"\",IF((P534/(M534*S534))>=OUTLIERS!$C$4,\"\",P534/(M534*S534))))","v":""},{"$f":"IF(ISERROR(Q534/($M534*T534)),\"\",IF((Q534/($M534*T534))<=OUTLIERS!$D$3,\"\",IF((Q534/($M534*T534))>=OUTLIERS!$D$4,\"\",Q534/($M534*T534))))","v":""},{"$f":"IF(ISERROR((M534*S534)/P534),\"\",IF((M534*S534/P534)<=OUTLIERS!$E$3,\"\",IF((M534*S534/P534)>=OUTLIERS!$E$4,\"\",M534*S534/P534)))","v":""},{"$f":"IF(ISERROR(O534/N534),\"\",IF(O534/N534<=OUTLIERS!$F$3,\"\",IF(O534/N534>=OUTLIERS!$F$4,\"\",O534/N534)))","v":6.3224695377283933},{"$f":"IF(ISERROR(U534/X534),\"\",IF(U534/X534<=OUTLIERS!$G$3,\"\",IF(U534/X534>=OUTLIERS!$G$4,\"\",U534/X534)))","v":5.7194643747120168E-2},{"$f":"IF(ISERROR(Q534/Y534),\"\",IF(Q534/Y534<=OUTLIERS!$H$3,\"\",IF(Q534/Y534>=OUTLIERS!$H$4,\"\",Q534/Y534)))","v":""},{"$f":"IF(ISERROR(W534),\"\",IF(W534<=OUTLIERS!$I$3,\"\",IF(W534>=OUTLIERS!$I$4,\"\",W534)))","v":""},15519425,2119425,13400000,1338095,"","","n/a","n/a",66904.75,"n/a","n/a",1169773,905502]
[534,9890,"GEF ","UNDP","Mitigation",{"$f":"IF(ISERROR(P535/(M535*S535)),\"\",IF((P535/(M535*S535))<=OUTLIERS!$C$3,\"\",IF((P535/(M535*S535))>=OUTLIERS!$C$4,\"\",P535/(M535*S535))))","v":5.9100187830367868E-3},{"$f":"IF(ISERROR(Q535/($M535*T535)),\"\",IF((Q535/($M535*T535))<=OUTLIERS!$D$3,\"\",IF((Q535/($M535*T535))>=OUTLIERS!$D$4,\"\",Q535/($M535*T535))))","v":""},{"$f":"IF(ISERROR((M535*S535)/P535),\"\",IF((M535*S535/P535)<=OUTLIERS!$E$3,\"\",IF((M535*S535/P535)>=OUTLIERS!$E$4,\"\",M535*S535/P535)))","v":169.20419997145305},{"$f":"IF(ISERROR(O535/N535),\"\",IF(O535/N535<=OUTLIERS!$F$3,\"\",IF(O535/N535>=OUTLIERS!$F$4,\"\",O535/N535)))","v":6.6879763156465408},{"$f":"IF(ISERROR(U535/X535),\"\",IF(U535/X535<=OUTLIERS!$G$3,\"\",IF(U535/X535>=OUTLIERS!$G$4,\"\",U535/X535)))","v":6.90938743891103E-4},{"$f":"IF(ISERROR(Q535/Y535),\"\",IF(Q535/Y535<=OUTLIERS!$H$3,\"\",IF(Q535/Y535>=OUTLIERS!$H$4,\"\",Q535/Y535)))","v":""},{"$f":"IF(ISERROR(W535),\"\",IF(W535<=OUTLIERS!$I$3,\"\",IF(W535>=OUTLIERS!$I$4,\"\",W535)))","v":""},37934228,4934228,33000000,224192,"",161600,1,0,14946.133333333333,161600,"n/a",21631633,53370609]
[535,9895,"GEF ","UNDP","Mitigation",{"$f":"IF(ISERROR(P536/(M536*S536)),\"\",IF((P536/(M536*S536))<=OUTLIERS!$C$3,\"\",IF((P536/(M536*S536))>=OUTLIERS!$C$4,\"\",P536/(M536*S536))))","v":8.3677685950413229E-3},{"$f":"IF(ISERROR(Q536/($M536*T536)),\"\",IF((Q536/($M536*T536))<=OUTLIERS!$D$3,\"\",IF((Q536/($M536*T536))>=OUTLIERS!$D$4,\"\",Q536/($M536*T536))))","v":""},{"$f":"IF(ISERROR((M536*S536)/P536),\"\",IF((M536*S536/P536)<=OUTLIERS!$E$3,\"\",IF((M536*S536/P536)>=OUTLIERS!$E$4,\"\",M536*S536/P536)))","v":119.50617283950618},{"$f":"IF(ISERROR(O536/N536),\"\",IF(O536/N536<=OUTLIERS!$F$3,\"\",IF(O536/N536>=OUTLIERS!$F$4,\"\",O536/N536)))","v":4.7619047619047619},{"$f":"IF(ISERROR(U536/X536),\"\",IF(U536/X536<=OUTLIERS!$G$3,\"\",IF(U536/X536>=OUTLIERS!$G$4,\"\",U536/X536)))","v":2.1260588481750194E-5},{"$f":"IF(ISERROR(Q536/Y536),\"\",IF(Q536/Y536<=OUTLIERS!$H$3,\"\",IF(Q536/Y536>=OUTLIERS!$H$4,\"\",Q536/Y536)))","v":""},{"$f":"IF(ISERROR(W536),\"\",IF(W536<=OUTLIERS!$I$3,\"\",IF(W536>=OUTLIERS!$I$4,\"\",W536)))","v":0.5},4840000,840000,4000000,40500,"","",1,0,1350,"n/a",0.5,63497772,9507875]
[536,9897,"GEF ","UNIDO","Mitigation",{"$f":"IF(ISERROR(P537/(M537*S537)),\"\",IF((P537/(M537*S537))<=OUTLIERS!$C$3,\"\",IF((P537/(M537*S537))>=OUTLIERS!$C$4,\"\",P537/(M537*S537))))","v":1.6707436413450367E-2},{"$f":"IF(ISERROR(Q537/($M537*T537)),\"\",IF((Q537/($M537*T537))<=OUTLIERS!$D$3,\"\",IF((Q537/($M537*T537))>=OUTLIERS!$D$4,\"\",Q537/($M537*T537))))","v":""},{"$f":"IF(ISERROR((M537*S537)/P537),\"\",IF((M537*S537/P537)<=OUTLIERS!$E$3,\"\",IF((M537*S537/P537)>=OUTLIERS!$E$4,\"\",M537*S537/P537)))","v":59.853587064676617},{"$f":"IF(ISERROR(O537/N537),\"\",IF(O537/N537<=OUTLIERS!$F$3,\"\",IF(O537/N537>=OUTLIERS!$F$4,\"\",O537/N537)))","v":6.6356895373169476},{"$f":"IF(ISERROR(U537/X537),\"\",IF(U537/X537<=OUTLIERS!$G$3,\"\",IF(U537/X537>=OUTLIERS!$G$4,\"\",U537/X537)))","v":8.8408385161466263E-2},{"$f":"IF(ISERROR(Q537/Y537),\"\",IF(Q537/Y537<=OUTLIERS!$H$3,\"\",IF(Q537/Y537>=OUTLIERS!$H$4,\"\",Q537/Y537)))","v":""},{"$f":"IF(ISERROR(W537),\"\",IF(W537<=OUTLIERS!$I$3,\"\",IF(W537>=OUTLIERS!$I$4,\"\",W537)))","v":""},12030571,1575571,10455000,201000,"","",1,0,10050,"n/a","n/a",113677,204327]
[537,9905,"GEF ","UNDP","Mitigation",{"$f":"IF(ISERROR(P538/(M538*S538)),\"\",IF((P538/(M538*S538))<=OUTLIERS!$C$3,\"\",IF((P538/(M538*S538))>=OUTLIERS!$C$4,\"\",P538/(M538*S538))))","v":1.4878820520726498E-2},{"$f":"IF(ISERROR(Q538/($M538*T538)),\"\",IF((Q538/($M538*T538))<=OUTLIERS!$D$3,\"\",IF((Q538/($M538*T538))>=OUTLIERS!$D$4,\"\",Q538/($M538*T538))))","v":""},{"$f":"IF(ISERROR((M538*S538)/P538),\"\",IF((M538*S538/P538)<=OUTLIERS!$E$3,\"\",IF((M538*S538/P538)>=OUTLIERS!$E$4,\"\",M538*S538/P538)))","v":67.209628519073803},{"$f":"IF(ISERROR(O538/N538),\"\",IF(O538/N538<=OUTLIERS!$F$3,\"\",IF(O538/N538>=OUTLIERS!$F$4,\"\",O538/N538)))","v":5.0000074357016286},{"$f":"IF(ISERROR(U538/X538),\"\",IF(U538/X538<=OUTLIERS!$G$3,\"\",IF(U538/X538>=OUTLIERS!$G$4,\"\",U538/X538)))","v":0.22937486966425513},{"$f":"IF(ISERROR(Q538/Y538),\"\",IF(Q538/Y538<=OUTLIERS!$H$3,\"\",IF(Q538/Y538>=OUTLIERS!$H$4,\"\",Q538/Y538)))","v":""},{"$f":"IF(ISERROR(W538),\"\",IF(W538<=OUTLIERS!$I$3,\"\",IF(W538>=OUTLIERS!$I$4,\"\",W538)))","v":""},32276752,5379452,26897300,480240,"","",1,0,14299,"n/a","n/a",62339,116398]
[538,9909,"GEF ","FAO","Mitigation",{"$f":"IF(ISERROR(P539/(M539*S539)),\"\",IF((P539/(M539*S539))<=OUTLIERS!$C$3,\"\",IF((P539/(M539*S539))>=OUTLIERS!$C$4,\"\",P539/(M539*S539))))","v":""},{"$f":"IF(ISERROR(Q539/($M539*T539)),\"\",IF((Q539/($M539*T539))<=OUTLIERS!$D$3,\"\",IF((Q539/($M539*T539))>=OUTLIERS!$D$4,\"\",Q539/($M539*T539))))","v":""},{"$f":"IF(ISERROR((M539*S539)/P539),\"\",IF((M539*S539/P539)<=OUTLIERS!$E$3,\"\",IF((M539*S539/P539)>=OUTLIERS!$E$4,\"\",M539*S539/P539)))","v":""},{"$f":"IF(ISERROR(O539/N539),\"\",IF(O539/N539<=OUTLIERS!$F$3,\"\",IF(O539/N539>=OUTLIERS!$F$4,\"\",O539/N539)))","v":11.565916435903269},{"$f":"IF(ISERROR(U539/X539),\"\",IF(U539/X539<=OUTLIERS!$G$3,\"\",IF(U539/X539>=OUTLIERS!$G$4,\"\",U539/X539)))","v":""},{"$f":"IF(ISERROR(Q539/Y539),\"\",IF(Q539/Y539<=OUTLIERS!$H$3,\"\",IF(Q539/Y539>=OUTLIERS!$H$4,\"\",Q539/Y539)))","v":""},{"$f":"IF(ISERROR(W539),\"\",IF(W539<=OUTLIERS!$I$3,\"\",IF(W539>=OUTLIERS!$I$4,\"\",W539)))","v":""},179266055,14266055,165000000,170000,"","",1,0,"n/a","n/a","n/a",422017153.375,242969246.625]
[539,9923,"GEF ","CI","Cross-cutting",{"$f":"IF(ISERROR(P540/(M540*S540)),\"\",IF((P540/(M540*S540))<=OUTLIERS!$C$3,\"\",IF((P540/(M540*S540))>=OUTLIERS!$C$4,\"\",P540/(M540*S540))))","v":""},{"$f":"IF(ISERROR(Q540/($M540*T540)),\"\",IF((Q540/($M540*T540))<=OUTLIERS!$D$3,\"\",IF((Q540/($M540*T540))>=OUTLIERS!$D$4,\"\",Q540/($M540*T540))))","v":""},{"$f":"IF(ISERROR((M540*S540)/P540),\"\",IF((M540*S540/P540)<=OUTLIERS!$E$3,\"\",IF((M540*S540/P540)>=OUTLIERS!$E$4,\"\",M540*S540/P540)))","v":""},{"$f":"IF(ISERROR(O540/N540),\"\",IF(O540/N540<=OUTLIERS!$F$3,\"\",IF(O540/N540>=OUTLIERS!$F$4,\"\",O540/N540)))","v":1.1156605268149007},{"$f":"IF(ISERROR(U540/X540),\"\",IF(U540/X540<=OUTLIERS!$G$3,\"\",IF(U540/X540>=OUTLIERS!$G$4,\"\",U540/X540)))","v":""},{"$f":"IF(ISERROR(Q540/Y540),\"\",IF(Q540/Y540<=OUTLIERS!$H$3,\"\",IF(Q540/Y540>=OUTLIERS!$H$4,\"\",Q540/Y540)))","v":""},{"$f":"IF(ISERROR(W540),\"\",IF(W540<=OUTLIERS!$I$3,\"\",IF(W540>=OUTLIERS!$I$4,\"\",W540)))","v":""},2844495,1344495,1500000,"n/a","","","n/a","n/a","n/a","n/a","n/a",935085,4731906]
[540,9925,"GEF ","UNDP","Cross-cutting",{"$f":"IF(ISERROR(P541/(M541*S541)),\"\",IF((P541/(M541*S541))<=OUTLIERS!$C$3,\"\",IF((P541/(M541*S541))>=OUTLIERS!$C$4,\"\",P541/(M541*S541))))","v":""},{"$f":"IF(ISERROR(Q541/($M541*T541)),\"\",IF((Q541/($M541*T541))<=OUTLIERS!$D$3,\"\",IF((Q541/($M541*T541))>=OUTLIERS!$D$4,\"\",Q541/($M541*T541))))","v":""},{"$f":"IF(ISERROR((M541*S541)/P541),\"\",IF((M541*S541/P541)<=OUTLIERS!$E$3,\"\",IF((M541*S541/P541)>=OUTLIERS!$E$4,\"\",M541*S541/P541)))","v":""},{"$f":"IF(ISERROR(O541/N541),\"\",IF(O541/N541<=OUTLIERS!$F$3,\"\",IF(O541/N541>=OUTLIERS!$F$4,\"\",O541/N541)))","v":0.63838383838383839},{"$f":"IF(ISERROR(U541/X541),\"\",IF(U541/X541<=OUTLIERS!$G$3,\"\",IF(U541/X541>=OUTLIERS!$G$4,\"\",U541/X541)))","v":""},{"$f":"IF(ISERROR(Q541/Y541),\"\",IF(Q541/Y541<=OUTLIERS!$H$3,\"\",IF(Q541/Y541>=OUTLIERS!$H$4,\"\",Q541/Y541)))","v":""},{"$f":"IF(ISERROR(W541),\"\",IF(W541<=OUTLIERS!$I$3,\"\",IF(W541>=OUTLIERS!$I$4,\"\",W541)))","v":""},1622000,990000,632000,"n/a","","","n/a","n/a","n/a","n/a","n/a",24070188,6082357]
[541,9928,"GEF ","FAO","n/a",{"$f":"IF(ISERROR(P542/(M542*S542)),\"\",IF((P542/(M542*S542))<=OUTLIERS!$C$3,\"\",IF((P542/(M542*S542))>=OUTLIERS!$C$4,\"\",P542/(M542*S542))))","v":""},{"$f":"IF(ISERROR(Q542/($M542*T542)),\"\",IF((Q542/($M542*T542))<=OUTLIERS!$D$3,\"\",IF((Q542/($M542*T542))>=OUTLIERS!$D$4,\"\",Q542/($M542*T542))))","v":""},{"$f":"IF(ISERROR((M542*S542)/P542),\"\",IF((M542*S542/P542)<=OUTLIERS!$E$3,\"\",IF((M542*S542/P542)>=OUTLIERS!$E$4,\"\",M542*S542/P542)))","v":""},{"$f":"IF(ISERROR(O542/N542),\"\",IF(O542/N542<=OUTLIERS!$F$3,\"\",IF(O542/N542>=OUTLIERS!$F$4,\"\",O542/N542)))","v":8.6051114361930985},{"$f":"IF(ISERROR(U542/X542),\"\",IF(U542/X542<=OUTLIERS!$G$3,\"\",IF(U542/X542>=OUTLIERS!$G$4,\"\",U542/X542)))","v":""},{"$f":"IF(ISERROR(Q542/Y542),\"\",IF(Q542/Y542<=OUTLIERS!$H$3,\"\",IF(Q542/Y542>=OUTLIERS!$H$4,\"\",Q542/Y542)))","v":""},{"$f":"IF(ISERROR(W542),\"\",IF(W542<=OUTLIERS!$I$3,\"\",IF(W542>=OUTLIERS!$I$4,\"\",W542)))","v":""},10045890,1045890,9000000,"n/a","","","n/a","n/a","n/a","n/a","n/a",201894019,97553151]
[542,9929,"GEF ","UNDP","Cross-cutting",{"$f":"IF(ISERROR(P543/(M543*S543)),\"\",IF((P543/(M543*S543))<=OUTLIERS!$C$3,\"\",IF((P543/(M543*S543))>=OUTLIERS!$C$4,\"\",P543/(M543*S543))))","v":""},{"$f":"IF(ISERROR(Q543/($M543*T543)),\"\",IF((Q543/($M543*T543))<=OUTLIERS!$D$3,\"\",IF((Q543/($M543*T543))>=OUTLIERS!$D$4,\"\",Q543/($M543*T543))))","v":""},{"$f":"IF(ISERROR((M543*S543)/P543),\"\",IF((M543*S543/P543)<=OUTLIERS!$E$3,\"\",IF((M543*S543/P543)>=OUTLIERS!$E$4,\"\",M543*S543/P543)))","v":""},{"$f":"IF(ISERROR(O543/N543),\"\",IF(O543/N543<=OUTLIERS!$F$3,\"\",IF(O543/N543>=OUTLIERS!$F$4,\"\",O543/N543)))","v":4.7024647887323946E-2},{"$f":"IF(ISERROR(U543/X543),\"\",IF(U543/X543<=OUTLIERS!$G$3,\"\",IF(U543/X543>=OUTLIERS!$G$4,\"\",U543/X543)))","v":""},{"$f":"IF(ISERROR(Q543/Y543),\"\",IF(Q543/Y543<=OUTLIERS!$H$3,\"\",IF(Q543/Y543>=OUTLIERS!$H$4,\"\",Q543/Y543)))","v":""},{"$f":"IF(ISERROR(W543),\"\",IF(W543<=OUTLIERS!$I$3,\"\",IF(W543>=OUTLIERS!$I$4,\"\",W543)))","v":""},892065,852000,40065,"n/a","","","n/a","n/a","n/a","n/a","n/a",63497772,9507875]
[543,9931,"GEF ","UNDP","Mitigation",{"$f":"IF(ISERROR(P544/(M544*S544)),\"\",IF((P544/(M544*S544))<=OUTLIERS!$C$3,\"\",IF((P544/(M544*S544))>=OUTLIERS!$C$4,\"\",P544/(M544*S544))))","v":""},{"$f":"IF(ISERROR(Q544/($M544*T544)),\"\",IF((Q544/($M544*T544))<=OUTLIERS!$D$3,\"\",IF((Q544/($M544*T544))>=OUTLIERS!$D$4,\"\",Q544/($M544*T544))))","v":""},{"$f":"IF(ISERROR((M544*S544)/P544),\"\",IF((M544*S544/P544)<=OUTLIERS!$E$3,\"\",IF((M544*S544/P544)>=OUTLIERS!$E$4,\"\",M544*S544/P544)))","v":""},{"$f":"IF(ISERROR(O544/N544),\"\",IF(O544/N544<=OUTLIERS!$F$3,\"\",IF(O544/N544>=OUTLIERS!$F$4,\"\",O544/N544)))","v":0.57894736842105265},{"$f":"IF(ISERROR(U544/X544),\"\",IF(U544/X544<=OUTLIERS!$G$3,\"\",IF(U544/X544>=OUTLIERS!$G$4,\"\",U544/X544)))","v":""},{"$f":"IF(ISERROR(Q544/Y544),\"\",IF(Q544/Y544<=OUTLIERS!$H$3,\"\",IF(Q544/Y544>=OUTLIERS!$H$4,\"\",Q544/Y544)))","v":""},{"$f":"IF(ISERROR(W544),\"\",IF(W544<=OUTLIERS!$I$3,\"\",IF(W544>=OUTLIERS!$I$4,\"\",W544)))","v":""},1500000,950000,550000,"n/a","","",1,0,"n/a","n/a","n/a","",""]
[544,9935,"GEF ","WorldBank","n/a",{"$f":"IF(ISERROR(P545/(M545*S545)),\"\",IF((P545/(M545*S545))<=OUTLIERS!$C$3,\"\",IF((P545/(M545*S545))>=OUTLIERS!$C$4,\"\",P545/(M545*S545))))","v":""},{"$f":"IF(ISERROR(Q545/($M545*T545)),\"\",IF((Q545/($M545*T545))<=OUTLIERS!$D$3,\"\",IF((Q545/($M545*T545))>=OUTLIERS!$D$4,\"\",Q545/($M545*T545))))","v":""},{"$f":"IF(ISERROR((M545*S545)/P545),\"\",IF((M545*S545/P545)<=OUTLIERS!$E$3,\"\",IF((M545*S545/P545)>=OUTLIERS!$E$4,\"\",M545*S545/P545)))","v":""},{"$f":"IF(ISERROR(O545/N545),\"\",IF(O545/N545<=OUTLIERS!$F$3,\"\",IF(O545/N545>=OUTLIERS!$F$4,\"\",O545/N545)))","v":1.2837837837837838},{"$f":"IF(ISERROR(U545/X545),\"\",IF(U545/X545<=OUTLIERS!$G$3,\"\",IF(U545/X545>=OUTLIERS!$G$4,\"\",U545/X545)))","v":""},{"$f":"IF(ISERROR(Q545/Y545),\"\",IF(Q545/Y545<=OUTLIERS!$H$3,\"\",IF(Q545/Y545>=OUTLIERS!$H$4,\"\",Q545/Y545)))","v":""},{"$f":"IF(ISERROR(W545),\"\",IF(W545<=OUTLIERS!$I$3,\"\",IF(W545>=OUTLIERS!$I$4,\"\",W545)))","v":""},3380000,1480000,1900000,"n/a","","","n/a","n/a","n/a","n/a","n/a","",""]
[545,9941,"GEF ","CI","Adaptation",{"$f":"IF(ISERROR(P546/(M546*S546)),\"\",IF((P546/(M546*S546))<=OUTLIERS!$C$3,\"\",IF((P546/(M546*S546))>=OUTLIERS!$C$4,\"\",P546/(M546*S546))))","v":""},{"$f":"IF(ISERROR(Q546/($M546*T546)),\"\",IF((Q546/($M546*T546))<=OUTLIERS!$D$3,\"\",IF((Q546/($M546*T546))>=OUTLIERS!$D$4,\"\",Q546/($M546*T546))))","v":""},{"$f":"IF(ISERROR((M546*S546)/P546),\"\",IF((M546*S546/P546)<=OUTLIERS!$E$3,\"\",IF((M546*S546/P546)>=OUTLIERS!$E$4,\"\",M546*S546/P546)))","v":""},{"$f":"IF(ISERROR(O546/N546),\"\",IF(O546/N546<=OUTLIERS!$F$3,\"\",IF(O546/N546>=OUTLIERS!$F$4,\"\",O546/N546)))","v":1.3569377990430622},{"$f":"IF(ISERROR(U546/X546),\"\",IF(U546/X546<=OUTLIERS!$G$3,\"\",IF(U546/X546>=OUTLIERS!$G$4,\"\",U546/X546)))","v":""},{"$f":"IF(ISERROR(Q546/Y546),\"\",IF(Q546/Y546<=OUTLIERS!$H$3,\"\",IF(Q546/Y546>=OUTLIERS!$H$4,\"\",Q546/Y546)))","v":""},{"$f":"IF(ISERROR(W546),\"\",IF(W546<=OUTLIERS!$I$3,\"\",IF(W546>=OUTLIERS!$I$4,\"\",W546)))","v":""},2463000,1045000,1418000,"n/a","","",0,1,"n/a","n/a","n/a","",""]
[546,9942,"GEF ","UNEP","Cross-cutting",{"$f":"IF(ISERROR(P547/(M547*S547)),\"\",IF((P547/(M547*S547))<=OUTLIERS!$C$3,\"\",IF((P547/(M547*S547))>=OUTLIERS!$C$4,\"\",P547/(M547*S547))))","v":""},{"$f":"IF(ISERROR(Q547/($M547*T547)),\"\",IF((Q547/($M547*T547))<=OUTLIERS!$D$3,\"\",IF((Q547/($M547*T547))>=OUTLIERS!$D$4,\"\",Q547/($M547*T547))))","v":""},{"$f":"IF(ISERROR((M547*S547)/P547),\"\",IF((M547*S547/P547)<=OUTLIERS!$E$3,\"\",IF((M547*S547/P547)>=OUTLIERS!$E$4,\"\",M547*S547/P547)))","v":""},{"$f":"IF(ISERROR(O547/N547),\"\",IF(O547/N547<=OUTLIERS!$F$3,\"\",IF(O547/N547>=OUTLIERS!$F$4,\"\",O547/N547)))","v":0.14285714285714285},{"$f":"IF(ISERROR(U547/X547),\"\",IF(U547/X547<=OUTLIERS!$G$3,\"\",IF(U547/X547>=OUTLIERS!$G$4,\"\",U547/X547)))","v":""},{"$f":"IF(ISERROR(Q547/Y547),\"\",IF(Q547/Y547<=OUTLIERS!$H$3,\"\",IF(Q547/Y547>=OUTLIERS!$H$4,\"\",Q547/Y547)))","v":""},{"$f":"IF(ISERROR(W547),\"\",IF(W547<=OUTLIERS!$I$3,\"\",IF(W547>=OUTLIERS!$I$4,\"\",W547)))","v":""},1200000,1050000,150000,"n/a","","","n/a","n/a","n/a","n/a","n/a",9471861,9265067]
[547,9945,"GEF ","UNDP","n/a",{"$f":"IF(ISERROR(P548/(M548*S548)),\"\",IF((P548/(M548*S548))<=OUTLIERS!$C$3,\"\",IF((P548/(M548*S548))>=OUTLIERS!$C$4,\"\",P548/(M548*S548))))","v":""},{"$f":"IF(ISERROR(Q548/($M548*T548)),\"\",IF((Q548/($M548*T548))<=OUTLIERS!$D$3,\"\",IF((Q548/($M548*T548))>=OUTLIERS!$D$4,\"\",Q548/($M548*T548))))","v":""},{"$f":"IF(ISERROR((M548*S548)/P548),\"\",IF((M548*S548/P548)<=OUTLIERS!$E$3,\"\",IF((M548*S548/P548)>=OUTLIERS!$E$4,\"\",M548*S548/P548)))","v":""},{"$f":"IF(ISERROR(O548/N548),\"\",IF(O548/N548<=OUTLIERS!$F$3,\"\",IF(O548/N548>=OUTLIERS!$F$4,\"\",O548/N548)))","v":5.8685446009389672E-2},{"$f":"IF(ISERROR(U548/X548),\"\",IF(U548/X548<=OUTLIERS!$G$3,\"\",IF(U548/X548>=OUTLIERS!$G$4,\"\",U548/X548)))","v":""},{"$f":"IF(ISERROR(Q548/Y548),\"\",IF(Q548/Y548<=OUTLIERS!$H$3,\"\",IF(Q548/Y548>=OUTLIERS!$H$4,\"\",Q548/Y548)))","v":""},{"$f":"IF(ISERROR(W548),\"\",IF(W548<=OUTLIERS!$I$3,\"\",IF(W548>=OUTLIERS!$I$4,\"\",W548)))","v":""},902000,852000,50000,"n/a","","","n/a","n/a","n/a","n/a","n/a",5716853,2873457]
[548,9947,"GEF ","UNEP","Mitigation",{"$f":"IF(ISERROR(P549/(M549*S549)),\"\",IF((P549/(M549*S549))<=OUTLIERS!$C$3,\"\",IF((P549/(M549*S549))>=OUTLIERS!$C$4,\"\",P549/(M549*S549))))","v":""},{"$f":"IF(ISERROR(Q549/($M549*T549)),\"\",IF((Q549/($M549*T549))<=OUTLIERS!$D$3,\"\",IF((Q549/($M549*T549))>=OUTLIERS!$D$4,\"\",Q549/($M549*T549))))","v":""},{"$f":"IF(ISERROR((M549*S549)/P549),\"\",IF((M549*S549/P549)<=OUTLIERS!$E$3,\"\",IF((M549*S549/P549)>=OUTLIERS!$E$4,\"\",M549*S549/P549)))","v":""},{"$f":"IF(ISERROR(O549/N549),\"\",IF(O549/N549<=OUTLIERS!$F$3,\"\",IF(O549/N549>=OUTLIERS!$F$4,\"\",O549/N549)))","v":3.0582984999999998},{"$f":"IF(ISERROR(U549/X549),\"\",IF(U549/X549<=OUTLIERS!$G$3,\"\",IF(U549/X549>=OUTLIERS!$G$4,\"\",U549/X549)))","v":""},{"$f":"IF(ISERROR(Q549/Y549),\"\",IF(Q549/Y549<=OUTLIERS!$H$3,\"\",IF(Q549/Y549>=OUTLIERS!$H$4,\"\",Q549/Y549)))","v":""},{"$f":"IF(ISERROR(W549),\"\",IF(W549<=OUTLIERS!$I$3,\"\",IF(W549>=OUTLIERS!$I$4,\"\",W549)))","v":""},8116597,2000000,6116597,"n/a","","",1,0,"n/a","n/a","n/a","",""]
[549,9948,"GEF ","CI","Cross-cutting",{"$f":"IF(ISERROR(P550/(M550*S550)),\"\",IF((P550/(M550*S550))<=OUTLIERS!$C$3,\"\",IF((P550/(M550*S550))>=OUTLIERS!$C$4,\"\",P550/(M550*S550))))","v":""},{"$f":"IF(ISERROR(Q550/($M550*T550)),\"\",IF((Q550/($M550*T550))<=OUTLIERS!$D$3,\"\",IF((Q550/($M550*T550))>=OUTLIERS!$D$4,\"\",Q550/($M550*T550))))","v":""},{"$f":"IF(ISERROR((M550*S550)/P550),\"\",IF((M550*S550/P550)<=OUTLIERS!$E$3,\"\",IF((M550*S550/P550)>=OUTLIERS!$E$4,\"\",M550*S550/P550)))","v":""},{"$f":"IF(ISERROR(O550/N550),\"\",IF(O550/N550<=OUTLIERS!$F$3,\"\",IF(O550/N550>=OUTLIERS!$F$4,\"\",O550/N550)))","v":0.46113968441682562},{"$f":"IF(ISERROR(U550/X550),\"\",IF(U550/X550<=OUTLIERS!$G$3,\"\",IF(U550/X550>=OUTLIERS!$G$4,\"\",U550/X550)))","v":""},{"$f":"IF(ISERROR(Q550/Y550),\"\",IF(Q550/Y550<=OUTLIERS!$H$3,\"\",IF(Q550/Y550>=OUTLIERS!$H$4,\"\",Q550/Y550)))","v":""},{"$f":"IF(ISERROR(W550),\"\",IF(W550<=OUTLIERS!$I$3,\"\",IF(W550>=OUTLIERS!$I$4,\"\",W550)))","v":""},1964495,1344495,620000,"n/a","","","n/a","n/a","n/a","n/a","n/a",3076613,25570895]
[550,9950,"GEF ","UNDP","Mitigation",{"$f":"IF(ISERROR(P551/(M551*S551)),\"\",IF((P551/(M551*S551))<=OUTLIERS!$C$3,\"\",IF((P551/(M551*S551))>=OUTLIERS!$C$4,\"\",P551/(M551*S551))))","v":""},{"$f":"IF(ISERROR(Q551/($M551*T551)),\"\",IF((Q551/($M551*T551))<=OUTLIERS!$D$3,\"\",IF((Q551/($M551*T551))>=OUTLIERS!$D$4,\"\",Q551/($M551*T551))))","v":""},{"$f":"IF(ISERROR((M551*S551)/P551),\"\",IF((M551*S551/P551)<=OUTLIERS!$E$3,\"\",IF((M551*S551/P551)>=OUTLIERS!$E$4,\"\",M551*S551/P551)))","v":""},{"$f":"IF(ISERROR(O551/N551),\"\",IF(O551/N551<=OUTLIERS!$F$3,\"\",IF(O551/N551>=OUTLIERS!$F$4,\"\",O551/N551)))","v":6.0172996928818563},{"$f":"IF(ISERROR(U551/X551),\"\",IF(U551/X551<=OUTLIERS!$G$3,\"\",IF(U551/X551>=OUTLIERS!$G$4,\"\",U551/X551)))","v":""},{"$f":"IF(ISERROR(Q551/Y551),\"\",IF(Q551/Y551<=OUTLIERS!$H$3,\"\",IF(Q551/Y551>=OUTLIERS!$H$4,\"\",Q551/Y551)))","v":""},{"$f":"IF(ISERROR(W551),\"\",IF(W551<=OUTLIERS!$I$3,\"\",IF(W551>=OUTLIERS!$I$4,\"\",W551)))","v":""},5415180,771690,4643490,"n/a","","",1,0,"n/a","n/a","n/a",2211201,622471]
[551,9952,"GEF ","UNDP","n/a",{"$f":"IF(ISERROR(P552/(M552*S552)),\"\",IF((P552/(M552*S552))<=OUTLIERS!$C$3,\"\",IF((P552/(M552*S552))>=OUTLIERS!$C$4,\"\",P552/(M552*S552))))","v":""},{"$f":"IF(ISERROR(Q552/($M552*T552)),\"\",IF((Q552/($M552*T552))<=OUTLIERS!$D$3,\"\",IF((Q552/($M552*T552))>=OUTLIERS!$D$4,\"\",Q552/($M552*T552))))","v":""},{"$f":"IF(ISERROR((M552*S552)/P552),\"\",IF((M552*S552/P552)<=OUTLIERS!$E$3,\"\",IF((M552*S552/P552)>=OUTLIERS!$E$4,\"\",M552*S552/P552)))","v":""},{"$f":"IF(ISERROR(O552/N552),\"\",IF(O552/N552<=OUTLIERS!$F$3,\"\",IF(O552/N552>=OUTLIERS!$F$4,\"\",O552/N552)))","v":0.18159659090909092},{"$f":"IF(ISERROR(U552/X552),\"\",IF(U552/X552<=OUTLIERS!$G$3,\"\",IF(U552/X552>=OUTLIERS!$G$4,\"\",U552/X552)))","v":""},{"$f":"IF(ISERROR(Q552/Y552),\"\",IF(Q552/Y552<=OUTLIERS!$H$3,\"\",IF(Q552/Y552>=OUTLIERS!$H$4,\"\",Q552/Y552)))","v":""},{"$f":"IF(ISERROR(W552),\"\",IF(W552<=OUTLIERS!$I$3,\"\",IF(W552>=OUTLIERS!$I$4,\"\",W552)))","v":""},415922,352000,63922,"n/a","","","n/a","n/a","n/a","n/a","n/a",204024546,44271041]
[552,9955,"GEF ","UNEP","Mitigation",{"$f":"IF(ISERROR(P553/(M553*S553)),\"\",IF((P553/(M553*S553))<=OUTLIERS!$C$3,\"\",IF((P553/(M553*S553))>=OUTLIERS!$C$4,\"\",P553/(M553*S553))))","v":""},{"$f":"IF(ISERROR(Q553/($M553*T553)),\"\",IF((Q553/($M553*T553))<=OUTLIERS!$D$3,\"\",IF((Q553/($M553*T553))>=OUTLIERS!$D$4,\"\",Q553/($M553*T553))))","v":""},{"$f":"IF(ISERROR((M553*S553)/P553),\"\",IF((M553*S553/P553)<=OUTLIERS!$E$3,\"\",IF((M553*S553/P553)>=OUTLIERS!$E$4,\"\",M553*S553/P553)))","v":""},{"$f":"IF(ISERROR(O553/N553),\"\",IF(O553/N553<=OUTLIERS!$F$3,\"\",IF(O553/N553>=OUTLIERS!$F$4,\"\",O553/N553)))","v":0.17501750175017503},{"$f":"IF(ISERROR(U553/X553),\"\",IF(U553/X553<=OUTLIERS!$G$3,\"\",IF(U553/X553>=OUTLIERS!$G$4,\"\",U553/X553)))","v":""},{"$f":"IF(ISERROR(Q553/Y553),\"\",IF(Q553/Y553<=OUTLIERS!$H$3,\"\",IF(Q553/Y553>=OUTLIERS!$H$4,\"\",Q553/Y553)))","v":""},{"$f":"IF(ISERROR(W553),\"\",IF(W553<=OUTLIERS!$I$3,\"\",IF(W553>=OUTLIERS!$I$4,\"\",W553)))","v":""},2349800,1999800,350000,"n/a","","",1,0,"n/a","n/a","n/a",204024546,44271041]
[553,9957,"GEF ","UNDP","n/a",{"$f":"IF(ISERROR(P554/(M554*S554)),\"\",IF((P554/(M554*S554))<=OUTLIERS!$C$3,\"\",IF((P554/(M554*S554))>=OUTLIERS!$C$4,\"\",P554/(M554*S554))))","v":""},{"$f":"IF(ISERROR(Q554/($M554*T554)),\"\",IF((Q554/($M554*T554))<=OUTLIERS!$D$3,\"\",IF((Q554/($M554*T554))>=OUTLIERS!$D$4,\"\",Q554/($M554*T554))))","v":""},{"$f":"IF(ISERROR((M554*S554)/P554),\"\",IF((M554*S554/P554)<=OUTLIERS!$E$3,\"\",IF((M554*S554/P554)>=OUTLIERS!$E$4,\"\",M554*S554/P554)))","v":""},{"$f":"IF(ISERROR(O554/N554),\"\",IF(O554/N554<=OUTLIERS!$F$3,\"\",IF(O554/N554>=OUTLIERS!$F$4,\"\",O554/N554)))","v":0.38920454545454547},{"$f":"IF(ISERROR(U554/X554),\"\",IF(U554/X554<=OUTLIERS!$G$3,\"\",IF(U554/X554>=OUTLIERS!$G$4,\"\",U554/X554)))","v":""},{"$f":"IF(ISERROR(Q554/Y554),\"\",IF(Q554/Y554<=OUTLIERS!$H$3,\"\",IF(Q554/Y554>=OUTLIERS!$H$4,\"\",Q554/Y554)))","v":""},{"$f":"IF(ISERROR(W554),\"\",IF(W554<=OUTLIERS!$I$3,\"\",IF(W554>=OUTLIERS!$I$4,\"\",W554)))","v":""},489000,352000,137000,"n/a","","","n/a","n/a","n/a","n/a","n/a",73189653,164669751]
[554,9966,"GEF ","UNDP","Cross-cutting",{"$f":"IF(ISERROR(P555/(M555*S555)),\"\",IF((P555/(M555*S555))<=OUTLIERS!$C$3,\"\",IF((P555/(M555*S555))>=OUTLIERS!$C$4,\"\",P555/(M555*S555))))","v":""},{"$f":"IF(ISERROR(Q555/($M555*T555)),\"\",IF((Q555/($M555*T555))<=OUTLIERS!$D$3,\"\",IF((Q555/($M555*T555))>=OUTLIERS!$D$4,\"\",Q555/($M555*T555))))","v":""},{"$f":"IF(ISERROR((M555*S555)/P555),\"\",IF((M555*S555/P555)<=OUTLIERS!$E$3,\"\",IF((M555*S555/P555)>=OUTLIERS!$E$4,\"\",M555*S555/P555)))","v":""},{"$f":"IF(ISERROR(O555/N555),\"\",IF(O555/N555<=OUTLIERS!$F$3,\"\",IF(O555/N555>=OUTLIERS!$F$4,\"\",O555/N555)))","v":0.125},{"$f":"IF(ISERROR(U555/X555),\"\",IF(U555/X555<=OUTLIERS!$G$3,\"\",IF(U555/X555>=OUTLIERS!$G$4,\"\",U555/X555)))","v":""},{"$f":"IF(ISERROR(Q555/Y555),\"\",IF(Q555/Y555<=OUTLIERS!$H$3,\"\",IF(Q555/Y555>=OUTLIERS!$H$4,\"\",Q555/Y555)))","v":""},{"$f":"IF(ISERROR(W555),\"\",IF(W555<=OUTLIERS!$I$3,\"\",IF(W555>=OUTLIERS!$I$4,\"\",W555)))","v":""},1350000,1200000,150000,"n/a","","","n/a","n/a","n/a","n/a","n/a",22233021,3507017]
[555,9967,"GEF ","UNDP","Cross-cutting",{"$f":"IF(ISERROR(P556/(M556*S556)),\"\",IF((P556/(M556*S556))<=OUTLIERS!$C$3,\"\",IF((P556/(M556*S556))>=OUTLIERS!$C$4,\"\",P556/(M556*S556))))","v":""},{"$f":"IF(ISERROR(Q556/($M556*T556)),\"\",IF((Q556/($M556*T556))<=OUTLIERS!$D$3,\"\",IF((Q556/($M556*T556))>=OUTLIERS!$D$4,\"\",Q556/($M556*T556))))","v":""},{"$f":"IF(ISERROR((M556*S556)/P556),\"\",IF((M556*S556/P556)<=OUTLIERS!$E$3,\"\",IF((M556*S556/P556)>=OUTLIERS!$E$4,\"\",M556*S556/P556)))","v":""},{"$f":"IF(ISERROR(O556/N556),\"\",IF(O556/N556<=OUTLIERS!$F$3,\"\",IF(O556/N556>=OUTLIERS!$F$4,\"\",O556/N556)))","v":0.16466552315608921},{"$f":"IF(ISERROR(U556/X556),\"\",IF(U556/X556<=OUTLIERS!$G$3,\"\",IF(U556/X556>=OUTLIERS!$G$4,\"\",U556/X556)))","v":""},{"$f":"IF(ISERROR(Q556/Y556),\"\",IF(Q556/Y556<=OUTLIERS!$H$3,\"\",IF(Q556/Y556>=OUTLIERS!$H$4,\"\",Q556/Y556)))","v":""},{"$f":"IF(ISERROR(W556),\"\",IF(W556<=OUTLIERS!$I$3,\"\",IF(W556>=OUTLIERS!$I$4,\"\",W556)))","v":""},1358000,1166000,192000,"n/a","","","n/a","n/a","n/a","n/a","n/a",11598721,104957438]
[556,9970,"GEF ","FAO","Cross-cutting",{"$f":"IF(ISERROR(P557/(M557*S557)),\"\",IF((P557/(M557*S557))<=OUTLIERS!$C$3,\"\",IF((P557/(M557*S557))>=OUTLIERS!$C$4,\"\",P557/(M557*S557))))","v":""},{"$f":"IF(ISERROR(Q557/($M557*T557)),\"\",IF((Q557/($M557*T557))<=OUTLIERS!$D$3,\"\",IF((Q557/($M557*T557))>=OUTLIERS!$D$4,\"\",Q557/($M557*T557))))","v":""},{"$f":"IF(ISERROR((M557*S557)/P557),\"\",IF((M557*S557/P557)<=OUTLIERS!$E$3,\"\",IF((M557*S557/P557)>=OUTLIERS!$E$4,\"\",M557*S557/P557)))","v":""},{"$f":"IF(ISERROR(O557/N557),\"\",IF(O557/N557<=OUTLIERS!$F$3,\"\",IF(O557/N557>=OUTLIERS!$F$4,\"\",O557/N557)))","v":0.63713304032936302},{"$f":"IF(ISERROR(U557/X557),\"\",IF(U557/X557<=OUTLIERS!$G$3,\"\",IF(U557/X557>=OUTLIERS!$G$4,\"\",U557/X557)))","v":""},{"$f":"IF(ISERROR(Q557/Y557),\"\",IF(Q557/Y557<=OUTLIERS!$H$3,\"\",IF(Q557/Y557>=OUTLIERS!$H$4,\"\",Q557/Y557)))","v":""},{"$f":"IF(ISERROR(W557),\"\",IF(W557<=OUTLIERS!$I$3,\"\",IF(W557>=OUTLIERS!$I$4,\"\",W557)))","v":""},1413242,863242,550000,"n/a","","","n/a","n/a","n/a","n/a","n/a",34836500,11484636]
[557,9974,"GEF ","UNDP","Mitigation",{"$f":"IF(ISERROR(P558/(M558*S558)),\"\",IF((P558/(M558*S558))<=OUTLIERS!$C$3,\"\",IF((P558/(M558*S558))>=OUTLIERS!$C$4,\"\",P558/(M558*S558))))","v":""},{"$f":"IF(ISERROR(Q558/($M558*T558)),\"\",IF((Q558/($M558*T558))<=OUTLIERS!$D$3,\"\",IF((Q558/($M558*T558))>=OUTLIERS!$D$4,\"\",Q558/($M558*T558))))","v":""},{"$f":"IF(ISERROR((M558*S558)/P558),\"\",IF((M558*S558/P558)<=OUTLIERS!$E$3,\"\",IF((M558*S558/P558)>=OUTLIERS!$E$4,\"\",M558*S558/P558)))","v":""},{"$f":"IF(ISERROR(O558/N558),\"\",IF(O558/N558<=OUTLIERS!$F$3,\"\",IF(O558/N558>=OUTLIERS!$F$4,\"\",O558/N558)))","v":4.0431514928391676},{"$f":"IF(ISERROR(U558/X558),\"\",IF(U558/X558<=OUTLIERS!$G$3,\"\",IF(U558/X558>=OUTLIERS!$G$4,\"\",U558/X558)))","v":""},{"$f":"IF(ISERROR(Q558/Y558),\"\",IF(Q558/Y558<=OUTLIERS!$H$3,\"\",IF(Q558/Y558>=OUTLIERS!$H$4,\"\",Q558/Y558)))","v":""},{"$f":"IF(ISERROR(W558),\"\",IF(W558<=OUTLIERS!$I$3,\"\",IF(W558>=OUTLIERS!$I$4,\"\",W558)))","v":""},16657368,3302968,13354400,"n/a","","",1,0,"n/a","n/a","n/a",47671,13649]
[558,9977,"GEF ","UNDP","n/a",{"$f":"IF(ISERROR(P559/(M559*S559)),\"\",IF((P559/(M559*S559))<=OUTLIERS!$C$3,\"\",IF((P559/(M559*S559))>=OUTLIERS!$C$4,\"\",P559/(M559*S559))))","v":""},{"$f":"IF(ISERROR(Q559/($M559*T559)),\"\",IF((Q559/($M559*T559))<=OUTLIERS!$D$3,\"\",IF((Q559/($M559*T559))>=OUTLIERS!$D$4,\"\",Q559/($M559*T559))))","v":""},{"$f":"IF(ISERROR((M559*S559)/P559),\"\",IF((M559*S559/P559)<=OUTLIERS!$E$3,\"\",IF((M559*S559/P559)>=OUTLIERS!$E$4,\"\",M559*S559/P559)))","v":""},{"$f":"IF(ISERROR(O559/N559),\"\",IF(O559/N559<=OUTLIERS!$F$3,\"\",IF(O559/N559>=OUTLIERS!$F$4,\"\",O559/N559)))","v":0.38732394366197181},{"$f":"IF(ISERROR(U559/X559),\"\",IF(U559/X559<=OUTLIERS!$G$3,\"\",IF(U559/X559>=OUTLIERS!$G$4,\"\",U559/X559)))","v":""},{"$f":"IF(ISERROR(Q559/Y559),\"\",IF(Q559/Y559<=OUTLIERS!$H$3,\"\",IF(Q559/Y559>=OUTLIERS!$H$4,\"\",Q559/Y559)))","v":""},{"$f":"IF(ISERROR(W559),\"\",IF(W559<=OUTLIERS!$I$3,\"\",IF(W559>=OUTLIERS!$I$4,\"\",W559)))","v":""},{"$f":"N559+O559","v":1182000},852000,330000,"n/a","","","n/a","n/a","n/a","n/a","n/a",2621905,7797694]
[559,9982,"GEF ","UNDP","n/a",{"$f":"IF(ISERROR(P560/(M560*S560)),\"\",IF((P560/(M560*S560))<=OUTLIERS!$C$3,\"\",IF((P560/(M560*S560))>=OUTLIERS!$C$4,\"\",P560/(M560*S560))))","v":""},{"$f":"IF(ISERROR(Q560/($M560*T560)),\"\",IF((Q560/($M560*T560))<=OUTLIERS!$D$3,\"\",IF((Q560/($M560*T560))>=OUTLIERS!$D$4,\"\",Q560/($M560*T560))))","v":""},{"$f":"IF(ISERROR((M560*S560)/P560),\"\",IF((M560*S560/P560)<=OUTLIERS!$E$3,\"\",IF((M560*S560/P560)>=OUTLIERS!$E$4,\"\",M560*S560/P560)))","v":""},{"$f":"IF(ISERROR(O560/N560),\"\",IF(O560/N560<=OUTLIERS!$F$3,\"\",IF(O560/N560>=OUTLIERS!$F$4,\"\",O560/N560)))","v":7.0422535211267609E-2},{"$f":"IF(ISERROR(U560/X560),\"\",IF(U560/X560<=OUTLIERS!$G$3,\"\",IF(U560/X560>=OUTLIERS!$G$4,\"\",U560/X560)))","v":""},{"$f":"IF(ISERROR(Q560/Y560),\"\",IF(Q560/Y560<=OUTLIERS!$H$3,\"\",IF(Q560/Y560>=OUTLIERS!$H$4,\"\",Q560/Y560)))","v":""},{"$f":"IF(ISERROR(W560),\"\",IF(W560<=OUTLIERS!$I$3,\"\",IF(W560>=OUTLIERS!$I$4,\"\",W560)))","v":""},912000,852000,60000,"n/a","","","n/a","n/a","n/a","n/a","n/a",24070188,6082357]
[560,9986,"GEF ","FAO","Cross-cutting",{"$f":"IF(ISERROR(P561/(M561*S561)),\"\",IF((P561/(M561*S561))<=OUTLIERS!$C$3,\"\",IF((P561/(M561*S561))>=OUTLIERS!$C$4,\"\",P561/(M561*S561))))","v":""},{"$f":"IF(ISERROR(Q561/($M561*T561)),\"\",IF((Q561/($M561*T561))<=OUTLIERS!$D$3,\"\",IF((Q561/($M561*T561))>=OUTLIERS!$D$4,\"\",Q561/($M561*T561))))","v":""},{"$f":"IF(ISERROR((M561*S561)/P561),\"\",IF((M561*S561/P561)<=OUTLIERS!$E$3,\"\",IF((M561*S561/P561)>=OUTLIERS!$E$4,\"\",M561*S561/P561)))","v":""},{"$f":"IF(ISERROR(O561/N561),\"\",IF(O561/N561<=OUTLIERS!$F$3,\"\",IF(O561/N561>=OUTLIERS!$F$4,\"\",O561/N561)))","v":1.1584237096897509},{"$f":"IF(ISERROR(U561/X561),\"\",IF(U561/X561<=OUTLIERS!$G$3,\"\",IF(U561/X561>=OUTLIERS!$G$4,\"\",U561/X561)))","v":""},{"$f":"IF(ISERROR(Q561/Y561),\"\",IF(Q561/Y561<=OUTLIERS!$H$3,\"\",IF(Q561/Y561>=OUTLIERS!$H$4,\"\",Q561/Y561)))","v":""},{"$f":"IF(ISERROR(W561),\"\",IF(W561<=OUTLIERS!$I$3,\"\",IF(W561>=OUTLIERS!$I$4,\"\",W561)))","v":""},1863242,863242,1000000,"n/a","","","n/a","n/a","n/a","n/a","n/a",73189653,164669751]
[561,9993,"GEF ","FAO","Mitigation",{"$f":"IF(ISERROR(P562/(M562*S562)),\"\",IF((P562/(M562*S562))<=OUTLIERS!$C$3,\"\",IF((P562/(M562*S562))>=OUTLIERS!$C$4,\"\",P562/(M562*S562))))","v":""},{"$f":"IF(ISERROR(Q562/($M562*T562)),\"\",IF((Q562/($M562*T562))<=OUTLIERS!$D$3,\"\",IF((Q562/($M562*T562))>=OUTLIERS!$D$4,\"\",Q562/($M562*T562))))","v":""},{"$f":"IF(ISERROR((M562*S562)/P562),\"\",IF((M562*S562/P562)<=OUTLIERS!$E$3,\"\",IF((M562*S562/P562)>=OUTLIERS!$E$4,\"\",M562*S562/P562)))","v":""},{"$f":"IF(ISERROR(O562/N562),\"\",IF(O562/N562<=OUTLIERS!$F$3,\"\",IF(O562/N562>=OUTLIERS!$F$4,\"\",O562/N562)))","v":5.3725874175068036},{"$f":"IF(ISERROR(U562/X562),\"\",IF(U562/X562<=OUTLIERS!$G$3,\"\",IF(U562/X562>=OUTLIERS!$G$4,\"\",U562/X562)))","v":""},{"$f":"IF(ISERROR(Q562/Y562),\"\",IF(Q562/Y562<=OUTLIERS!$H$3,\"\",IF(Q562/Y562>=OUTLIERS!$H$4,\"\",Q562/Y562)))","v":""},{"$f":"IF(ISERROR(W562),\"\",IF(W562<=OUTLIERS!$I$3,\"\",IF(W562>=OUTLIERS!$I$4,\"\",W562)))","v":""},7247002,1137215,6109787,"n/a","","",1,0,"n/a","n/a","n/a",477303530.14285713,254418075.42857143]
[562,9996,"GEF ","UNDP","n/a",{"$f":"IF(ISERROR(P563/(M563*S563)),\"\",IF((P563/(M563*S563))<=OUTLIERS!$C$3,\"\",IF((P563/(M563*S563))>=OUTLIERS!$C$4,\"\",P563/(M563*S563))))","v":""},{"$f":"IF(ISERROR(Q563/($M563*T563)),\"\",IF((Q563/($M563*T563))<=OUTLIERS!$D$3,\"\",IF((Q563/($M563*T563))>=OUTLIERS!$D$4,\"\",Q563/($M563*T563))))","v":""},{"$f":"IF(ISERROR((M563*S563)/P563),\"\",IF((M563*S563/P563)<=OUTLIERS!$E$3,\"\",IF((M563*S563/P563)>=OUTLIERS!$E$4,\"\",M563*S563/P563)))","v":""},{"$f":"IF(ISERROR(O563/N563),\"\",IF(O563/N563<=OUTLIERS!$F$3,\"\",IF(O563/N563>=OUTLIERS!$F$4,\"\",O563/N563)))","v":0.8},{"$f":"IF(ISERROR(U563/X563),\"\",IF(U563/X563<=OUTLIERS!$G$3,\"\",IF(U563/X563>=OUTLIERS!$G$4,\"\",U563/X563)))","v":""},{"$f":"IF(ISERROR(Q563/Y563),\"\",IF(Q563/Y563<=OUTLIERS!$H$3,\"\",IF(Q563/Y563>=OUTLIERS!$H$4,\"\",Q563/Y563)))","v":""},{"$f":"IF(ISERROR(W563),\"\",IF(W563<=OUTLIERS!$I$3,\"\",IF(W563>=OUTLIERS!$I$4,\"\",W563)))","v":""},900000,500000,400000,"n/a","","","n/a","n/a","n/a","n/a","n/a",2126860,21477348]
[563,9997,"GEF ","CI","Cross-cutting",{"$f":"IF(ISERROR(P564/(M564*S564)),\"\",IF((P564/(M564*S564))<=OUTLIERS!$C$3,\"\",IF((P564/(M564*S564))>=OUTLIERS!$C$4,\"\",P564/(M564*S564))))","v":""},{"$f":"IF(ISERROR(Q564/($M564*T564)),\"\",IF((Q564/($M564*T564))<=OUTLIERS!$D$3,\"\",IF((Q564/($M564*T564))>=OUTLIERS!$D$4,\"\",Q564/($M564*T564))))","v":""},{"$f":"IF(ISERROR((M564*S564)/P564),\"\",IF((M564*S564/P564)<=OUTLIERS!$E$3,\"\",IF((M564*S564/P564)>=OUTLIERS!$E$4,\"\",M564*S564/P564)))","v":""},{"$f":"IF(ISERROR(O564/N564),\"\",IF(O564/N564<=OUTLIERS!$F$3,\"\",IF(O564/N564>=OUTLIERS!$F$4,\"\",O564/N564)))","v":0.6},{"$f":"IF(ISERROR(U564/X564),\"\",IF(U564/X564<=OUTLIERS!$G$3,\"\",IF(U564/X564>=OUTLIERS!$G$4,\"\",U564/X564)))","v":""},{"$f":"IF(ISERROR(Q564/Y564),\"\",IF(Q564/Y564<=OUTLIERS!$H$3,\"\",IF(Q564/Y564>=OUTLIERS!$H$4,\"\",Q564/Y564)))","v":""},{"$f":"IF(ISERROR(W564),\"\",IF(W564<=OUTLIERS!$I$3,\"\",IF(W564>=OUTLIERS!$I$4,\"\",W564)))","v":""},1600000,1000000,600000,"n/a","","","n/a","n/a","n/a","n/a","n/a",839743,12208407]
[564,10002,"GEF ","UNEP","Cross-cutting",{"$f":"IF(ISERROR(P565/(M565*S565)),\"\",IF((P565/(M565*S565))<=OUTLIERS!$C$3,\"\",IF((P565/(M565*S565))>=OUTLIERS!$C$4,\"\",P565/(M565*S565))))","v":""},{"$f":"IF(ISERROR(Q565/($M565*T565)),\"\",IF((Q565/($M565*T565))<=OUTLIERS!$D$3,\"\",IF((Q565/($M565*T565))>=OUTLIERS!$D$4,\"\",Q565/($M565*T565))))","v":""},{"$f":"IF(ISERROR((M565*S565)/P565),\"\",IF((M565*S565/P565)<=OUTLIERS!$E$3,\"\",IF((M565*S565/P565)>=OUTLIERS!$E$4,\"\",M565*S565/P565)))","v":""},{"$f":"IF(ISERROR(O565/N565),\"\",IF(O565/N565<=OUTLIERS!$F$3,\"\",IF(O565/N565>=OUTLIERS!$F$4,\"\",O565/N565)))","v":0.27},{"$f":"IF(ISERROR(U565/X565),\"\",IF(U565/X565<=OUTLIERS!$G$3,\"\",IF(U565/X565>=OUTLIERS!$G$4,\"\",U565/X565)))","v":""},{"$f":"IF(ISERROR(Q565/Y565),\"\",IF(Q565/Y565<=OUTLIERS!$H$3,\"\",IF(Q565/Y565>=OUTLIERS!$H$4,\"\",Q565/Y565)))","v":""},{"$f":"IF(ISERROR(W565),\"\",IF(W565<=OUTLIERS!$I$3,\"\",IF(W565>=OUTLIERS!$I$4,\"\",W565)))","v":""},1270000,1000000,270000,"n/a","","","n/a","n/a","n/a","n/a","n/a",1202776,1367254]
[565,10004,"GEF ","UNDP","Cross-cutting",{"$f":"IF(ISERROR(P566/(M566*S566)),\"\",IF((P566/(M566*S566))<=OUTLIERS!$C$3,\"\",IF((P566/(M566*S566))>=OUTLIERS!$C$4,\"\",P566/(M566*S566))))","v":""},{"$f":"IF(ISERROR(Q566/($M566*T566)),\"\",IF((Q566/($M566*T566))<=OUTLIERS!$D$3,\"\",IF((Q566/($M566*T566))>=OUTLIERS!$D$4,\"\",Q566/($M566*T566))))","v":""},{"$f":"IF(ISERROR((M566*S566)/P566),\"\",IF((M566*S566/P566)<=OUTLIERS!$E$3,\"\",IF((M566*S566/P566)>=OUTLIERS!$E$4,\"\",M566*S566/P566)))","v":""},{"$f":"IF(ISERROR(O566/N566),\"\",IF(O566/N566<=OUTLIERS!$F$3,\"\",IF(O566/N566>=OUTLIERS!$F$4,\"\",O566/N566)))","v":0.2},{"$f":"IF(ISERROR(U566/X566),\"\",IF(U566/X566<=OUTLIERS!$G$3,\"\",IF(U566/X566>=OUTLIERS!$G$4,\"\",U566/X566)))","v":""},{"$f":"IF(ISERROR(Q566/Y566),\"\",IF(Q566/Y566<=OUTLIERS!$H$3,\"\",IF(Q566/Y566>=OUTLIERS!$H$4,\"\",Q566/Y566)))","v":""},{"$f":"IF(ISERROR(W566),\"\",IF(W566<=OUTLIERS!$I$3,\"\",IF(W566>=OUTLIERS!$I$4,\"\",W566)))","v":""},1800000,1500000,300000,"n/a","","","n/a","n/a","n/a","n/a","n/a",59863775,35739580]
[566,10010,"GEF ","UNDP","Cross-cutting",{"$f":"IF(ISERROR(P567/(M567*S567)),\"\",IF((P567/(M567*S567))<=OUTLIERS!$C$3,\"\",IF((P567/(M567*S567))>=OUTLIERS!$C$4,\"\",P567/(M567*S567))))","v":""},{"$f":"IF(ISERROR(Q567/($M567*T567)),\"\",IF((Q567/($M567*T567))<=OUTLIERS!$D$3,\"\",IF((Q567/($M567*T567))>=OUTLIERS!$D$4,\"\",Q567/($M567*T567))))","v":""},{"$f":"IF(ISERROR((M567*S567)/P567),\"\",IF((M567*S567/P567)<=OUTLIERS!$E$3,\"\",IF((M567*S567/P567)>=OUTLIERS!$E$4,\"\",M567*S567/P567)))","v":""},{"$f":"IF(ISERROR(O567/N567),\"\",IF(O567/N567<=OUTLIERS!$F$3,\"\",IF(O567/N567>=OUTLIERS!$F$4,\"\",O567/N567)))","v":0.16},{"$f":"IF(ISERROR(U567/X567),\"\",IF(U567/X567<=OUTLIERS!$G$3,\"\",IF(U567/X567>=OUTLIERS!$G$4,\"\",U567/X567)))","v":""},{"$f":"IF(ISERROR(Q567/Y567),\"\",IF(Q567/Y567<=OUTLIERS!$H$3,\"\",IF(Q567/Y567>=OUTLIERS!$H$4,\"\",Q567/Y567)))","v":""},{"$f":"IF(ISERROR(W567),\"\",IF(W567<=OUTLIERS!$I$3,\"\",IF(W567>=OUTLIERS!$I$4,\"\",W567)))","v":""},580000,500000,80000,"n/a","","","n/a","n/a","n/a","n/a","n/a",201894019,97553151]
[567,10014,"GEF ","IDB","Cross-cutting",{"$f":"IF(ISERROR(P568/(M568*S568)),\"\",IF((P568/(M568*S568))<=OUTLIERS!$C$3,\"\",IF((P568/(M568*S568))>=OUTLIERS!$C$4,\"\",P568/(M568*S568))))","v":""},{"$f":"IF(ISERROR(Q568/($M568*T568)),\"\",IF((Q568/($M568*T568))<=OUTLIERS!$D$3,\"\",IF((Q568/($M568*T568))>=OUTLIERS!$D$4,\"\",Q568/($M568*T568))))","v":""},{"$f":"IF(ISERROR((M568*S568)/P568),\"\",IF((M568*S568/P568)<=OUTLIERS!$E$3,\"\",IF((M568*S568/P568)>=OUTLIERS!$E$4,\"\",M568*S568/P568)))","v":""},{"$f":"IF(ISERROR(O568/N568),\"\",IF(O568/N568<=OUTLIERS!$F$3,\"\",IF(O568/N568>=OUTLIERS!$F$4,\"\",O568/N568)))","v":0.12230769230769231},{"$f":"IF(ISERROR(U568/X568),\"\",IF(U568/X568<=OUTLIERS!$G$3,\"\",IF(U568/X568>=OUTLIERS!$G$4,\"\",U568/X568)))","v":""},{"$f":"IF(ISERROR(Q568/Y568),\"\",IF(Q568/Y568<=OUTLIERS!$H$3,\"\",IF(Q568/Y568>=OUTLIERS!$H$4,\"\",Q568/Y568)))","v":""},{"$f":"IF(ISERROR(W568),\"\",IF(W568<=OUTLIERS!$I$3,\"\",IF(W568>=OUTLIERS!$I$4,\"\",W568)))","v":""},1459000,1300000,159000,"n/a","","","n/a","n/a","n/a","n/a","n/a",7422008,2890299]
[568,10019,"GEF ","UNEP","Cross-cutting",{"$f":"IF(ISERROR(P569/(M569*S569)),\"\",IF((P569/(M569*S569))<=OUTLIERS!$C$3,\"\",IF((P569/(M569*S569))>=OUTLIERS!$C$4,\"\",P569/(M569*S569))))","v":""},{"$f":"IF(ISERROR(Q569/($M569*T569)),\"\",IF((Q569/($M569*T569))<=OUTLIERS!$D$3,\"\",IF((Q569/($M569*T569))>=OUTLIERS!$D$4,\"\",Q569/($M569*T569))))","v":""},{"$f":"IF(ISERROR((M569*S569)/P569),\"\",IF((M569*S569/P569)<=OUTLIERS!$E$3,\"\",IF((M569*S569/P569)>=OUTLIERS!$E$4,\"\",M569*S569/P569)))","v":""},{"$f":"IF(ISERROR(O569/N569),\"\",IF(O569/N569<=OUTLIERS!$F$3,\"\",IF(O569/N569>=OUTLIERS!$F$4,\"\",O569/N569)))","v":0.10022971567267684},{"$f":"IF(ISERROR(U569/X569),\"\",IF(U569/X569<=OUTLIERS!$G$3,\"\",IF(U569/X569>=OUTLIERS!$G$4,\"\",U569/X569)))","v":""},{"$f":"IF(ISERROR(Q569/Y569),\"\",IF(Q569/Y569<=OUTLIERS!$H$3,\"\",IF(Q569/Y569>=OUTLIERS!$H$4,\"\",Q569/Y569)))","v":""},{"$f":"IF(ISERROR(W569),\"\",IF(W569<=OUTLIERS!$I$3,\"\",IF(W569>=OUTLIERS!$I$4,\"\",W569)))","v":""},8123040,7383040,740000,"n/a","","","n/a","n/a","n/a","n/a","n/a",73222044.833333328,30295255.666666664]
[569,10021,"GEF ","UNDP","Cross-cutting",{"$f":"IF(ISERROR(P570/(M570*S570)),\"\",IF((P570/(M570*S570))<=OUTLIERS!$C$3,\"\",IF((P570/(M570*S570))>=OUTLIERS!$C$4,\"\",P570/(M570*S570))))","v":""},{"$f":"IF(ISERROR(Q570/($M570*T570)),\"\",IF((Q570/($M570*T570))<=OUTLIERS!$D$3,\"\",IF((Q570/($M570*T570))>=OUTLIERS!$D$4,\"\",Q570/($M570*T570))))","v":""},{"$f":"IF(ISERROR((M570*S570)/P570),\"\",IF((M570*S570/P570)<=OUTLIERS!$E$3,\"\",IF((M570*S570/P570)>=OUTLIERS!$E$4,\"\",M570*S570/P570)))","v":""},{"$f":"IF(ISERROR(O570/N570),\"\",IF(O570/N570<=OUTLIERS!$F$3,\"\",IF(O570/N570>=OUTLIERS!$F$4,\"\",O570/N570)))","v":0.25},{"$f":"IF(ISERROR(U570/X570),\"\",IF(U570/X570<=OUTLIERS!$G$3,\"\",IF(U570/X570>=OUTLIERS!$G$4,\"\",U570/X570)))","v":""},{"$f":"IF(ISERROR(Q570/Y570),\"\",IF(Q570/Y570<=OUTLIERS!$H$3,\"\",IF(Q570/Y570>=OUTLIERS!$H$4,\"\",Q570/Y570)))","v":""},{"$f":"IF(ISERROR(W570),\"\",IF(W570<=OUTLIERS!$I$3,\"\",IF(W570>=OUTLIERS!$I$4,\"\",W570)))","v":""},1375000,1100000,275000,"n/a","","","n/a","n/a","n/a","n/a","n/a",2211201,622471]
[570,10023,"GEF ","UNEP","Cross-cutting",{"$f":"IF(ISERROR(P571/(M571*S571)),\"\",IF((P571/(M571*S571))<=OUTLIERS!$C$3,\"\",IF((P571/(M571*S571))>=OUTLIERS!$C$4,\"\",P571/(M571*S571))))","v":""},{"$f":"IF(ISERROR(Q571/($M571*T571)),\"\",IF((Q571/($M571*T571))<=OUTLIERS!$D$3,\"\",IF((Q571/($M571*T571))>=OUTLIERS!$D$4,\"\",Q571/($M571*T571))))","v":""},{"$f":"IF(ISERROR((M571*S571)/P571),\"\",IF((M571*S571/P571)<=OUTLIERS!$E$3,\"\",IF((M571*S571/P571)>=OUTLIERS!$E$4,\"\",M571*S571/P571)))","v":""},{"$f":"IF(ISERROR(O571/N571),\"\",IF(O571/N571<=OUTLIERS!$F$3,\"\",IF(O571/N571>=OUTLIERS!$F$4,\"\",O571/N571)))","v":0.17647058823529413},{"$f":"IF(ISERROR(U571/X571),\"\",IF(U571/X571<=OUTLIERS!$G$3,\"\",IF(U571/X571>=OUTLIERS!$G$4,\"\",U571/X571)))","v":""},{"$f":"IF(ISERROR(Q571/Y571),\"\",IF(Q571/Y571<=OUTLIERS!$H$3,\"\",IF(Q571/Y571>=OUTLIERS!$H$4,\"\",Q571/Y571)))","v":""},{"$f":"IF(ISERROR(W571),\"\",IF(W571<=OUTLIERS!$I$3,\"\",IF(W571>=OUTLIERS!$I$4,\"\",W571)))","v":""},1000000,850000,150000,"n/a","","","n/a","n/a","n/a","n/a","n/a",8800800,4098587]
[571,10024,"GEF ","UNDP","Cross-cutting",{"$f":"IF(ISERROR(P572/(M572*S572)),\"\",IF((P572/(M572*S572))<=OUTLIERS!$C$3,\"\",IF((P572/(M572*S572))>=OUTLIERS!$C$4,\"\",P572/(M572*S572))))","v":""},{"$f":"IF(ISERROR(Q572/($M572*T572)),\"\",IF((Q572/($M572*T572))<=OUTLIERS!$D$3,\"\",IF((Q572/($M572*T572))>=OUTLIERS!$D$4,\"\",Q572/($M572*T572))))","v":""},{"$f":"IF(ISERROR((M572*S572)/P572),\"\",IF((M572*S572/P572)<=OUTLIERS!$E$3,\"\",IF((M572*S572/P572)>=OUTLIERS!$E$4,\"\",M572*S572/P572)))","v":""},{"$f":"IF(ISERROR(O572/N572),\"\",IF(O572/N572<=OUTLIERS!$F$3,\"\",IF(O572/N572>=OUTLIERS!$F$4,\"\",O572/N572)))","v":0.41079812206572769},{"$f":"IF(ISERROR(U572/X572),\"\",IF(U572/X572<=OUTLIERS!$G$3,\"\",IF(U572/X572>=OUTLIERS!$G$4,\"\",U572/X572)))","v":""},{"$f":"IF(ISERROR(Q572/Y572),\"\",IF(Q572/Y572<=OUTLIERS!$H$3,\"\",IF(Q572/Y572>=OUTLIERS!$H$4,\"\",Q572/Y572)))","v":""},{"$f":"IF(ISERROR(W572),\"\",IF(W572<=OUTLIERS!$I$3,\"\",IF(W572>=OUTLIERS!$I$4,\"\",W572)))","v":""},1202000,852000,350000,"n/a","","","n/a","n/a","n/a","n/a","n/a",7510016,2083160]
[572,10025,"GEF ","UNEP","Cross-cutting",{"$f":"IF(ISERROR(P573/(M573*S573)),\"\",IF((P573/(M573*S573))<=OUTLIERS!$C$3,\"\",IF((P573/(M573*S573))>=OUTLIERS!$C$4,\"\",P573/(M573*S573))))","v":""},{"$f":"IF(ISERROR(Q573/($M573*T573)),\"\",IF((Q573/($M573*T573))<=OUTLIERS!$D$3,\"\",IF((Q573/($M573*T573))>=OUTLIERS!$D$4,\"\",Q573/($M573*T573))))","v":""},{"$f":"IF(ISERROR((M573*S573)/P573),\"\",IF((M573*S573/P573)<=OUTLIERS!$E$3,\"\",IF((M573*S573/P573)>=OUTLIERS!$E$4,\"\",M573*S573/P573)))","v":""},{"$f":"IF(ISERROR(O573/N573),\"\",IF(O573/N573<=OUTLIERS!$F$3,\"\",IF(O573/N573>=OUTLIERS!$F$4,\"\",O573/N573)))","v":0.1271186440677966},{"$f":"IF(ISERROR(U573/X573),\"\",IF(U573/X573<=OUTLIERS!$G$3,\"\",IF(U573/X573>=OUTLIERS!$G$4,\"\",U573/X573)))","v":""},{"$f":"IF(ISERROR(Q573/Y573),\"\",IF(Q573/Y573<=OUTLIERS!$H$3,\"\",IF(Q573/Y573>=OUTLIERS!$H$4,\"\",Q573/Y573)))","v":""},{"$f":"IF(ISERROR(W573),\"\",IF(W573<=OUTLIERS!$I$3,\"\",IF(W573>=OUTLIERS!$I$4,\"\",W573)))","v":""},1330000,1180000,150000,"n/a","","","n/a","n/a","n/a","n/a","n/a",2849259,19193382]
[573,10026,"GEF ","UNEP","Cross-cutting",{"$f":"IF(ISERROR(P574/(M574*S574)),\"\",IF((P574/(M574*S574))<=OUTLIERS!$C$3,\"\",IF((P574/(M574*S574))>=OUTLIERS!$C$4,\"\",P574/(M574*S574))))","v":""},{"$f":"IF(ISERROR(Q574/($M574*T574)),\"\",IF((Q574/($M574*T574))<=OUTLIERS!$D$3,\"\",IF((Q574/($M574*T574))>=OUTLIERS!$D$4,\"\",Q574/($M574*T574))))","v":""},{"$f":"IF(ISERROR((M574*S574)/P574),\"\",IF((M574*S574/P574)<=OUTLIERS!$E$3,\"\",IF((M574*S574/P574)>=OUTLIERS!$E$4,\"\",M574*S574/P574)))","v":""},{"$f":"IF(ISERROR(O574/N574),\"\",IF(O574/N574<=OUTLIERS!$F$3,\"\",IF(O574/N574>=OUTLIERS!$F$4,\"\",O574/N574)))","v":1.1551401758149082},{"$f":"IF(ISERROR(U574/X574),\"\",IF(U574/X574<=OUTLIERS!$G$3,\"\",IF(U574/X574>=OUTLIERS!$G$4,\"\",U574/X574)))","v":""},{"$f":"IF(ISERROR(Q574/Y574),\"\",IF(Q574/Y574<=OUTLIERS!$H$3,\"\",IF(Q574/Y574>=OUTLIERS!$H$4,\"\",Q574/Y574)))","v":""},{"$f":"IF(ISERROR(W574),\"\",IF(W574<=OUTLIERS!$I$3,\"\",IF(W574>=OUTLIERS!$I$4,\"\",W574)))","v":""},2177267,1010267,1167000,"n/a","","","n/a","n/a","n/a","n/a","n/a",2621905,7797694]
[574,10027,"GEF ","UNEP","Cross-cutting",{"$f":"IF(ISERROR(P575/(M575*S575)),\"\",IF((P575/(M575*S575))<=OUTLIERS!$C$3,\"\",IF((P575/(M575*S575))>=OUTLIERS!$C$4,\"\",P575/(M575*S575))))","v":""},{"$f":"IF(ISERROR(Q575/($M575*T575)),\"\",IF((Q575/($M575*T575))<=OUTLIERS!$D$3,\"\",IF((Q575/($M575*T575))>=OUTLIERS!$D$4,\"\",Q575/($M575*T575))))","v":""},{"$f":"IF(ISERROR((M575*S575)/P575),\"\",IF((M575*S575/P575)<=OUTLIERS!$E$3,\"\",IF((M575*S575/P575)>=OUTLIERS!$E$4,\"\",M575*S575/P575)))","v":""},{"$f":"IF(ISERROR(O575/N575),\"\",IF(O575/N575<=OUTLIERS!$F$3,\"\",IF(O575/N575>=OUTLIERS!$F$4,\"\",O575/N575)))","v":0.14875473690865343},{"$f":"IF(ISERROR(U575/X575),\"\",IF(U575/X575<=OUTLIERS!$G$3,\"\",IF(U575/X575>=OUTLIERS!$G$4,\"\",U575/X575)))","v":""},{"$f":"IF(ISERROR(Q575/Y575),\"\",IF(Q575/Y575<=OUTLIERS!$H$3,\"\",IF(Q575/Y575>=OUTLIERS!$H$4,\"\",Q575/Y575)))","v":""},{"$f":"IF(ISERROR(W575),\"\",IF(W575<=OUTLIERS!$I$3,\"\",IF(W575>=OUTLIERS!$I$4,\"\",W575)))","v":""},1544495,1344495,200000,"n/a","","","n/a","n/a","n/a","n/a","n/a",1309119,7557212]
[575,10028,"GEF ","UNEP","Cross-cutting",{"$f":"IF(ISERROR(P576/(M576*S576)),\"\",IF((P576/(M576*S576))<=OUTLIERS!$C$3,\"\",IF((P576/(M576*S576))>=OUTLIERS!$C$4,\"\",P576/(M576*S576))))","v":""},{"$f":"IF(ISERROR(Q576/($M576*T576)),\"\",IF((Q576/($M576*T576))<=OUTLIERS!$D$3,\"\",IF((Q576/($M576*T576))>=OUTLIERS!$D$4,\"\",Q576/($M576*T576))))","v":""},{"$f":"IF(ISERROR((M576*S576)/P576),\"\",IF((M576*S576/P576)<=OUTLIERS!$E$3,\"\",IF((M576*S576/P576)>=OUTLIERS!$E$4,\"\",M576*S576/P576)))","v":""},{"$f":"IF(ISERROR(O576/N576),\"\",IF(O576/N576<=OUTLIERS!$F$3,\"\",IF(O576/N576>=OUTLIERS!$F$4,\"\",O576/N576)))","v":0.13733999999999999},{"$f":"IF(ISERROR(U576/X576),\"\",IF(U576/X576<=OUTLIERS!$G$3,\"\",IF(U576/X576>=OUTLIERS!$G$4,\"\",U576/X576)))","v":""},{"$f":"IF(ISERROR(Q576/Y576),\"\",IF(Q576/Y576<=OUTLIERS!$H$3,\"\",IF(Q576/Y576>=OUTLIERS!$H$4,\"\",Q576/Y576)))","v":""},{"$f":"IF(ISERROR(W576),\"\",IF(W576<=OUTLIERS!$I$3,\"\",IF(W576>=OUTLIERS!$I$4,\"\",W576)))","v":""},1137340,1000000,137340,"n/a","","","n/a","n/a","n/a","n/a","n/a",8987817,3717100]
[576,10029,"GEF ","UNDP","Cross-cutting",{"$f":"IF(ISERROR(P577/(M577*S577)),\"\",IF((P577/(M577*S577))<=OUTLIERS!$C$3,\"\",IF((P577/(M577*S577))>=OUTLIERS!$C$4,\"\",P577/(M577*S577))))","v":""},{"$f":"IF(ISERROR(Q577/($M577*T577)),\"\",IF((Q577/($M577*T577))<=OUTLIERS!$D$3,\"\",IF((Q577/($M577*T577))>=OUTLIERS!$D$4,\"\",Q577/($M577*T577))))","v":""},{"$f":"IF(ISERROR((M577*S577)/P577),\"\",IF((M577*S577/P577)<=OUTLIERS!$E$3,\"\",IF((M577*S577/P577)>=OUTLIERS!$E$4,\"\",M577*S577/P577)))","v":""},{"$f":"IF(ISERROR(O577/N577),\"\",IF(O577/N577<=OUTLIERS!$F$3,\"\",IF(O577/N577>=OUTLIERS!$F$4,\"\",O577/N577)))","v":9.0909090909090912E-2},{"$f":"IF(ISERROR(U577/X577),\"\",IF(U577/X577<=OUTLIERS!$G$3,\"\",IF(U577/X577>=OUTLIERS!$G$4,\"\",U577/X577)))","v":""},{"$f":"IF(ISERROR(Q577/Y577),\"\",IF(Q577/Y577<=OUTLIERS!$H$3,\"\",IF(Q577/Y577>=OUTLIERS!$H$4,\"\",Q577/Y577)))","v":""},{"$f":"IF(ISERROR(W577),\"\",IF(W577<=OUTLIERS!$I$3,\"\",IF(W577>=OUTLIERS!$I$4,\"\",W577)))","v":""},1200000,1100000,100000,"n/a","","","n/a","n/a","n/a","n/a","n/a",37667424,7022268]
[577,10031,"GEF ","IDB","Cross-cutting",{"$f":"IF(ISERROR(P578/(M578*S578)),\"\",IF((P578/(M578*S578))<=OUTLIERS!$C$3,\"\",IF((P578/(M578*S578))>=OUTLIERS!$C$4,\"\",P578/(M578*S578))))","v":""},{"$f":"IF(ISERROR(Q578/($M578*T578)),\"\",IF((Q578/($M578*T578))<=OUTLIERS!$D$3,\"\",IF((Q578/($M578*T578))>=OUTLIERS!$D$4,\"\",Q578/($M578*T578))))","v":""},{"$f":"IF(ISERROR((M578*S578)/P578),\"\",IF((M578*S578/P578)<=OUTLIERS!$E$3,\"\",IF((M578*S578/P578)>=OUTLIERS!$E$4,\"\",M578*S578/P578)))","v":""},{"$f":"IF(ISERROR(O578/N578),\"\",IF(O578/N578<=OUTLIERS!$F$3,\"\",IF(O578/N578>=OUTLIERS!$F$4,\"\",O578/N578)))","v":0.82124955857836224},{"$f":"IF(ISERROR(U578/X578),\"\",IF(U578/X578<=OUTLIERS!$G$3,\"\",IF(U578/X578>=OUTLIERS!$G$4,\"\",U578/X578)))","v":""},{"$f":"IF(ISERROR(Q578/Y578),\"\",IF(Q578/Y578<=OUTLIERS!$H$3,\"\",IF(Q578/Y578>=OUTLIERS!$H$4,\"\",Q578/Y578)))","v":""},{"$f":"IF(ISERROR(W578),\"\",IF(W578<=OUTLIERS!$I$3,\"\",IF(W578>=OUTLIERS!$I$4,\"\",W578)))","v":""},3326485,1826485,1500000,"n/a","",{"$f":"IF(V578=\"n/a\",\"\",V578)","v":""},"n/a","n/a","n/a","n/a","n/a",480270657,129163276]
[578,10034,"GEF ","FAO","Mitigation",{"$f":"IF(ISERROR(P579/(M579*S579)),\"\",IF((P579/(M579*S579))<=OUTLIERS!$C$3,\"\",IF((P579/(M579*S579))>=OUTLIERS!$C$4,\"\",P579/(M579*S579))))","v":0.21262521764848841},{"$f":"IF(ISERROR(Q579/($M579*T579)),\"\",IF((Q579/($M579*T579))<=OUTLIERS!$D$3,\"\",IF((Q579/($M579*T579))>=OUTLIERS!$D$4,\"\",Q579/($M579*T579))))","v":""},{"$f":"IF(ISERROR((M579*S579)/P579),\"\",IF((M579*S579/P579)<=OUTLIERS!$E$3,\"\",IF((M579*S579/P579)>=OUTLIERS!$E$4,\"\",M579*S579/P579)))","v":4.7031109999999998},{"$f":"IF(ISERROR(O579/N579),\"\",IF(O579/N579<=OUTLIERS!$F$3,\"\",IF(O579/N579>=OUTLIERS!$F$4,\"\",O579/N579)))","v":3.4123751865809919},{"$f":"IF(ISERROR(U579/X579),\"\",IF(U579/X579<=OUTLIERS!$G$3,\"\",IF(U579/X579>=OUTLIERS!$G$4,\"\",U579/X579)))","v":4.6759684772390689E-2},{"$f":"IF(ISERROR(Q579/Y579),\"\",IF(Q579/Y579<=OUTLIERS!$H$3,\"\",IF(Q579/Y579>=OUTLIERS!$H$4,\"\",Q579/Y579)))","v":""},{"$f":"IF(ISERROR(W579),\"\",IF(W579<=OUTLIERS!$I$3,\"\",IF(W579>=OUTLIERS!$I$4,\"\",W579)))","v":""},23515555,5329455,18186100,5000000,{"$f":"IF(E579=\"adaptation\",R579,\"\")","v":""},"",1,0,250000,"n/a","n/a",5346486,1267689]
[579,10039,"GEF ","UNEP","n/a",{"$f":"IF(ISERROR(P580/(M580*S580)),\"\",IF((P580/(M580*S580))<=OUTLIERS!$C$3,\"\",IF((P580/(M580*S580))>=OUTLIERS!$C$4,\"\",P580/(M580*S580))))","v":""},{"$f":"IF(ISERROR(Q580/($M580*T580)),\"\",IF((Q580/($M580*T580))<=OUTLIERS!$D$3,\"\",IF((Q580/($M580*T580))>=OUTLIERS!$D$4,\"\",Q580/($M580*T580))))","v":""},{"$f":"IF(ISERROR((M580*S580)/P580),\"\",IF((M580*S580/P580)<=OUTLIERS!$E$3,\"\",IF((M580*S580/P580)>=OUTLIERS!$E$4,\"\",M580*S580/P580)))","v":""},{"$f":"IF(ISERROR(O580/N580),\"\",IF(O580/N580<=OUTLIERS!$F$3,\"\",IF(O580/N580>=OUTLIERS!$F$4,\"\",O580/N580)))","v":0.12396694214876033},{"$f":"IF(ISERROR(U580/X580),\"\",IF(U580/X580<=OUTLIERS!$G$3,\"\",IF(U580/X580>=OUTLIERS!$G$4,\"\",U580/X580)))","v":""},{"$f":"IF(ISERROR(Q580/Y580),\"\",IF(Q580/Y580<=OUTLIERS!$H$3,\"\",IF(Q580/Y580>=OUTLIERS!$H$4,\"\",Q580/Y580)))","v":""},{"$f":"IF(ISERROR(W580),\"\",IF(W580<=OUTLIERS!$I$3,\"\",IF(W580>=OUTLIERS!$I$4,\"\",W580)))","v":""},1360000,1210000,150000,"n/a","","","n/a","n/a","n/a","n/a","n/a",1954511,6858160]
[580,10040,"GEF ","FAO","Cross-cutting",{"$f":"IF(ISERROR(P581/(M581*S581)),\"\",IF((P581/(M581*S581))<=OUTLIERS!$C$3,\"\",IF((P581/(M581*S581))>=OUTLIERS!$C$4,\"\",P581/(M581*S581))))","v":""},{"$f":"IF(ISERROR(Q581/($M581*T581)),\"\",IF((Q581/($M581*T581))<=OUTLIERS!$D$3,\"\",IF((Q581/($M581*T581))>=OUTLIERS!$D$4,\"\",Q581/($M581*T581))))","v":""},{"$f":"IF(ISERROR((M581*S581)/P581),\"\",IF((M581*S581/P581)<=OUTLIERS!$E$3,\"\",IF((M581*S581/P581)>=OUTLIERS!$E$4,\"\",M581*S581/P581)))","v":""},{"$f":"IF(ISERROR(O581/N581),\"\",IF(O581/N581<=OUTLIERS!$F$3,\"\",IF(O581/N581>=OUTLIERS!$F$4,\"\",O581/N581)))","v":2.0805289826027926},{"$f":"IF(ISERROR(U581/X581),\"\",IF(U581/X581<=OUTLIERS!$G$3,\"\",IF(U581/X581>=OUTLIERS!$G$4,\"\",U581/X581)))","v":""},{"$f":"IF(ISERROR(Q581/Y581),\"\",IF(Q581/Y581<=OUTLIERS!$H$3,\"\",IF(Q581/Y581>=OUTLIERS!$H$4,\"\",Q581/Y581)))","v":""},{"$f":"IF(ISERROR(W581),\"\",IF(W581<=OUTLIERS!$I$3,\"\",IF(W581>=OUTLIERS!$I$4,\"\",W581)))","v":""},2659242,863242,1796000,"n/a","","","n/a","n/a","n/a","n/a","n/a",18393672,21444000]
[581,10042,"GEF ","UNDP","Cross-cutting",{"$f":"IF(ISERROR(P582/(M582*S582)),\"\",IF((P582/(M582*S582))<=OUTLIERS!$C$3,\"\",IF((P582/(M582*S582))>=OUTLIERS!$C$4,\"\",P582/(M582*S582))))","v":""},{"$f":"IF(ISERROR(Q582/($M582*T582)),\"\",IF((Q582/($M582*T582))<=OUTLIERS!$D$3,\"\",IF((Q582/($M582*T582))>=OUTLIERS!$D$4,\"\",Q582/($M582*T582))))","v":""},{"$f":"IF(ISERROR((M582*S582)/P582),\"\",IF((M582*S582/P582)<=OUTLIERS!$E$3,\"\",IF((M582*S582/P582)>=OUTLIERS!$E$4,\"\",M582*S582/P582)))","v":""},{"$f":"IF(ISERROR(O582/N582),\"\",IF(O582/N582<=OUTLIERS!$F$3,\"\",IF(O582/N582>=OUTLIERS!$F$4,\"\",O582/N582)))","v":1.0681818181818181},{"$f":"IF(ISERROR(U582/X582),\"\",IF(U582/X582<=OUTLIERS!$G$3,\"\",IF(U582/X582>=OUTLIERS!$G$4,\"\",U582/X582)))","v":""},{"$f":"IF(ISERROR(Q582/Y582),\"\",IF(Q582/Y582<=OUTLIERS!$H$3,\"\",IF(Q582/Y582>=OUTLIERS!$H$4,\"\",Q582/Y582)))","v":""},{"$f":"IF(ISERROR(W582),\"\",IF(W582<=OUTLIERS!$I$3,\"\",IF(W582>=OUTLIERS!$I$4,\"\",W582)))","v":""},2730000,1320000,1410000,"n/a","","","n/a","n/a","n/a","n/a","n/a",7510016,2083160]
[582,10043,"GEF ","UNEP","Cross-cutting",{"$f":"IF(ISERROR(P583/(M583*S583)),\"\",IF((P583/(M583*S583))<=OUTLIERS!$C$3,\"\",IF((P583/(M583*S583))>=OUTLIERS!$C$4,\"\",P583/(M583*S583))))","v":""},{"$f":"IF(ISERROR(Q583/($M583*T583)),\"\",IF((Q583/($M583*T583))<=OUTLIERS!$D$3,\"\",IF((Q583/($M583*T583))>=OUTLIERS!$D$4,\"\",Q583/($M583*T583))))","v":""},{"$f":"IF(ISERROR((M583*S583)/P583),\"\",IF((M583*S583/P583)<=OUTLIERS!$E$3,\"\",IF((M583*S583/P583)>=OUTLIERS!$E$4,\"\",M583*S583/P583)))","v":""},{"$f":"IF(ISERROR(O583/N583),\"\",IF(O583/N583<=OUTLIERS!$F$3,\"\",IF(O583/N583>=OUTLIERS!$F$4,\"\",O583/N583)))","v":0.26964560862865949},{"$f":"IF(ISERROR(U583/X583),\"\",IF(U583/X583<=OUTLIERS!$G$3,\"\",IF(U583/X583>=OUTLIERS!$G$4,\"\",U583/X583)))","v":""},{"$f":"IF(ISERROR(Q583/Y583),\"\",IF(Q583/Y583<=OUTLIERS!$H$3,\"\",IF(Q583/Y583>=OUTLIERS!$H$4,\"\",Q583/Y583)))","v":""},{"$f":"IF(ISERROR(W583),\"\",IF(W583<=OUTLIERS!$I$3,\"\",IF(W583>=OUTLIERS!$I$4,\"\",W583)))","v":""},1648000,1298000,350000,"n/a","","","n/a","n/a","n/a","n/a","n/a",37487741,9862429]
[583,10045,"GEF ","UNDP","n/a",{"$f":"IF(ISERROR(P584/(M584*S584)),\"\",IF((P584/(M584*S584))<=OUTLIERS!$C$3,\"\",IF((P584/(M584*S584))>=OUTLIERS!$C$4,\"\",P584/(M584*S584))))","v":""},{"$f":"IF(ISERROR(Q584/($M584*T584)),\"\",IF((Q584/($M584*T584))<=OUTLIERS!$D$3,\"\",IF((Q584/($M584*T584))>=OUTLIERS!$D$4,\"\",Q584/($M584*T584))))","v":""},{"$f":"IF(ISERROR((M584*S584)/P584),\"\",IF((M584*S584/P584)<=OUTLIERS!$E$3,\"\",IF((M584*S584/P584)>=OUTLIERS!$E$4,\"\",M584*S584/P584)))","v":""},{"$f":"IF(ISERROR(O584/N584),\"\",IF(O584/N584<=OUTLIERS!$F$3,\"\",IF(O584/N584>=OUTLIERS!$F$4,\"\",O584/N584)))","v":2.816901408450704},{"$f":"IF(ISERROR(U584/X584),\"\",IF(U584/X584<=OUTLIERS!$G$3,\"\",IF(U584/X584>=OUTLIERS!$G$4,\"\",U584/X584)))","v":""},{"$f":"IF(ISERROR(Q584/Y584),\"\",IF(Q584/Y584<=OUTLIERS!$H$3,\"\",IF(Q584/Y584>=OUTLIERS!$H$4,\"\",Q584/Y584)))","v":""},{"$f":"IF(ISERROR(W584),\"\",IF(W584<=OUTLIERS!$I$3,\"\",IF(W584>=OUTLIERS!$I$4,\"\",W584)))","v":""},3252000,852000,2400000,"n/a","","","n/a","n/a","n/a","n/a","n/a",145400217,41318142]
[584,10051,"GEF ","UNDP","Mitigation",{"$f":"IF(ISERROR(P585/(M585*S585)),\"\",IF((P585/(M585*S585))<=OUTLIERS!$C$3,\"\",IF((P585/(M585*S585))>=OUTLIERS!$C$4,\"\",P585/(M585*S585))))","v":""},{"$f":"IF(ISERROR(Q585/($M585*T585)),\"\",IF((Q585/($M585*T585))<=OUTLIERS!$D$3,\"\",IF((Q585/($M585*T585))>=OUTLIERS!$D$4,\"\",Q585/($M585*T585))))","v":""},{"$f":"IF(ISERROR((M585*S585)/P585),\"\",IF((M585*S585/P585)<=OUTLIERS!$E$3,\"\",IF((M585*S585/P585)>=OUTLIERS!$E$4,\"\",M585*S585/P585)))","v":""},{"$f":"IF(ISERROR(O585/N585),\"\",IF(O585/N585<=OUTLIERS!$F$3,\"\",IF(O585/N585>=OUTLIERS!$F$4,\"\",O585/N585)))","v":4.6336948387590038},{"$f":"IF(ISERROR(U585/X585),\"\",IF(U585/X585<=OUTLIERS!$G$3,\"\",IF(U585/X585>=OUTLIERS!$G$4,\"\",U585/X585)))","v":""},{"$f":"IF(ISERROR(Q585/Y585),\"\",IF(Q585/Y585<=OUTLIERS!$H$3,\"\",IF(Q585/Y585>=OUTLIERS!$H$4,\"\",Q585/Y585)))","v":""},{"$f":"IF(ISERROR(W585),\"\",IF(W585<=OUTLIERS!$I$3,\"\",IF(W585>=OUTLIERS!$I$4,\"\",W585)))","v":""},4863242,863242,4000000,"n/a","","",1,0,"n/a","n/a","n/a",722399,956985]
[585,10054,"GEF ","FAO","Mitigation",{"$f":"IF(ISERROR(P586/(M586*S586)),\"\",IF((P586/(M586*S586))<=OUTLIERS!$C$3,\"\",IF((P586/(M586*S586))>=OUTLIERS!$C$4,\"\",P586/(M586*S586))))","v":""},{"$f":"IF(ISERROR(Q586/($M586*T586)),\"\",IF((Q586/($M586*T586))<=OUTLIERS!$D$3,\"\",IF((Q586/($M586*T586))>=OUTLIERS!$D$4,\"\",Q586/($M586*T586))))","v":""},{"$f":"IF(ISERROR((M586*S586)/P586),\"\",IF((M586*S586/P586)<=OUTLIERS!$E$3,\"\",IF((M586*S586/P586)>=OUTLIERS!$E$4,\"\",M586*S586/P586)))","v":""},{"$f":"IF(ISERROR(O586/N586),\"\",IF(O586/N586<=OUTLIERS!$F$3,\"\",IF(O586/N586>=OUTLIERS!$F$4,\"\",O586/N586)))","v":5.284621101724345},{"$f":"IF(ISERROR(U586/X586),\"\",IF(U586/X586<=OUTLIERS!$G$3,\"\",IF(U586/X586>=OUTLIERS!$G$4,\"\",U586/X586)))","v":""},{"$f":"IF(ISERROR(Q586/Y586),\"\",IF(Q586/Y586<=OUTLIERS!$H$3,\"\",IF(Q586/Y586>=OUTLIERS!$H$4,\"\",Q586/Y586)))","v":""},{"$f":"IF(ISERROR(W586),\"\",IF(W586<=OUTLIERS!$I$3,\"\",IF(W586>=OUTLIERS!$I$4,\"\",W586)))","v":""},9681993,1540585,8141408,"n/a","","",1,0,"n/a","n/a","n/a",21539958,10766998]
[586,"PPCRB0601A","PPCR","IDB","Adaptation",{"$f":"IF(ISERROR(P587/(M587*S587)),\"\",IF((P587/(M587*S587))<=OUTLIERS!$C$3,\"\",IF((P587/(M587*S587))>=OUTLIERS!$C$4,\"\",P587/(M587*S587))))","v":""},{"$f":"IF(ISERROR(Q587/($M587*T587)),\"\",IF((Q587/($M587*T587))<=OUTLIERS!$D$3,\"\",IF((Q587/($M587*T587))>=OUTLIERS!$D$4,\"\",Q587/($M587*T587))))","v":4.5938333333333331E-2},{"$f":"IF(ISERROR((M587*S587)/P587),\"\",IF((M587*S587/P587)<=OUTLIERS!$E$3,\"\",IF((M587*S587/P587)>=OUTLIERS!$E$4,\"\",M587*S587/P587)))","v":""},{"$f":"IF(ISERROR(O587/N587),\"\",IF(O587/N587<=OUTLIERS!$F$3,\"\",IF(O587/N587>=OUTLIERS!$F$4,\"\",O587/N587)))","v":0},{"$f":"IF(ISERROR(U587/X587),\"\",IF(U587/X587<=OUTLIERS!$G$3,\"\",IF(U587/X587>=OUTLIERS!$G$4,\"\",U587/X587)))","v":""},{"$f":"IF(ISERROR(Q587/Y587),\"\",IF(Q587/Y587<=OUTLIERS!$H$3,\"\",IF(Q587/Y587>=OUTLIERS!$H$4,\"\",Q587/Y587)))","v":4.3645490245756272E-2},{"$f":"IF(ISERROR(W587),\"\",IF(W587<=OUTLIERS!$I$3,\"\",IF(W587>=OUTLIERS!$I$4,\"\",W587)))","v":""},{"$f":"N587+O587","v":10500000},10500000,0,"n/a",482352.5,482352.5,0,1,"n/a",482352.5,"n/a",20410522,11051600]
[587,"PPCRBD001B","PPCR","IFC","Adaptation",{"$f":"IF(ISERROR(P588/(M588*S588)),\"\",IF((P588/(M588*S588))<=OUTLIERS!$C$3,\"\",IF((P588/(M588*S588))>=OUTLIERS!$C$4,\"\",P588/(M588*S588))))","v":""},{"$f":"IF(ISERROR(Q588/($M588*T588)),\"\",IF((Q588/($M588*T588))<=OUTLIERS!$D$3,\"\",IF((Q588/($M588*T588))>=OUTLIERS!$D$4,\"\",Q588/($M588*T588))))","v":""},{"$f":"IF(ISERROR((M588*S588)/P588),\"\",IF((M588*S588/P588)<=OUTLIERS!$E$3,\"\",IF((M588*S588/P588)>=OUTLIERS!$E$4,\"\",M588*S588/P588)))","v":""},{"$f":"IF(ISERROR(O588/N588),\"\",IF(O588/N588<=OUTLIERS!$F$3,\"\",IF(O588/N588>=OUTLIERS!$F$4,\"\",O588/N588)))","v":1.1494252873563218},{"$f":"IF(ISERROR(U588/X588),\"\",IF(U588/X588<=OUTLIERS!$G$3,\"\",IF(U588/X588>=OUTLIERS!$G$4,\"\",U588/X588)))","v":""},{"$f":"IF(ISERROR(Q588/Y588),\"\",IF(Q588/Y588<=OUTLIERS!$H$3,\"\",IF(Q588/Y588>=OUTLIERS!$H$4,\"\",Q588/Y588)))","v":""},{"$f":"IF(ISERROR(W588),\"\",IF(W588<=OUTLIERS!$I$3,\"\",IF(W588>=OUTLIERS!$I$4,\"\",W588)))","v":""},22440000,10440000,12000000,"n/a","(535) not vulnerable beneficiaries","(535) not vulnerable beneficiaries",0,1,"n/a","(535) not vulnerable beneficiaries","n/a",73189653,164669751]
[588,"PPCRBO602A","PPCR","IDB","Adaptation",{"$f":"IF(ISERROR(P589/(M589*S589)),\"\",IF((P589/(M589*S589))<=OUTLIERS!$C$3,\"\",IF((P589/(M589*S589))>=OUTLIERS!$C$4,\"\",P589/(M589*S589))))","v":""},{"$f":"IF(ISERROR(Q589/($M589*T589)),\"\",IF((Q589/($M589*T589))<=OUTLIERS!$D$3,\"\",IF((Q589/($M589*T589))>=OUTLIERS!$D$4,\"\",Q589/($M589*T589))))","v":""},{"$f":"IF(ISERROR((M589*S589)/P589),\"\",IF((M589*S589/P589)<=OUTLIERS!$E$3,\"\",IF((M589*S589/P589)>=OUTLIERS!$E$4,\"\",M589*S589/P589)))","v":""},{"$f":"IF(ISERROR(O589/N589),\"\",IF(O589/N589<=OUTLIERS!$F$3,\"\",IF(O589/N589>=OUTLIERS!$F$4,\"\",O589/N589)))","v":0.68181818181818177},{"$f":"IF(ISERROR(U589/X589),\"\",IF(U589/X589<=OUTLIERS!$G$3,\"\",IF(U589/X589>=OUTLIERS!$G$4,\"\",U589/X589)))","v":""},{"$f":"IF(ISERROR(Q589/Y589),\"\",IF(Q589/Y589<=OUTLIERS!$H$3,\"\",IF(Q589/Y589>=OUTLIERS!$H$4,\"\",Q589/Y589)))","v":""},{"$f":"IF(ISERROR(W589),\"\",IF(W589<=OUTLIERS!$I$3,\"\",IF(W589>=OUTLIERS!$I$4,\"\",W589)))","v":""},7400000,4400000,3000000,"n/a","","",0,1,"n/a","n/a","n/a",20410522,11051600]
[589,"PPCRJM505A","PPCR","IDB","Adaptation",{"$f":"IF(ISERROR(P590/(M590*S590)),\"\",IF((P590/(M590*S590))<=OUTLIERS!$C$3,\"\",IF((P590/(M590*S590))>=OUTLIERS!$C$4,\"\",P590/(M590*S590))))","v":""},{"$f":"IF(ISERROR(Q590/($M590*T590)),\"\",IF((Q590/($M590*T590))<=OUTLIERS!$D$3,\"\",IF((Q590/($M590*T590))>=OUTLIERS!$D$4,\"\",Q590/($M590*T590))))","v":1.6188419618528612E-3},{"$f":"IF(ISERROR((M590*S590)/P590),\"\",IF((M590*S590/P590)<=OUTLIERS!$E$3,\"\",IF((M590*S590/P590)>=OUTLIERS!$E$4,\"\",M590*S590/P590)))","v":""},{"$f":"IF(ISERROR(O590/N590),\"\",IF(O590/N590<=OUTLIERS!$F$3,\"\",IF(O590/N590>=OUTLIERS!$F$4,\"\",O590/N590)))","v":0.19349593495934958},{"$f":"IF(ISERROR(U590/X590),\"\",IF(U590/X590<=OUTLIERS!$G$3,\"\",IF(U590/X590>=OUTLIERS!$G$4,\"\",U590/X590)))","v":""},{"$f":"IF(ISERROR(Q590/Y590),\"\",IF(Q590/Y590<=OUTLIERS!$H$3,\"\",IF(Q590/Y590>=OUTLIERS!$H$4,\"\",Q590/Y590)))","v":4.1110971563841671E-3},{"$f":"IF(ISERROR(W590),\"\",IF(W590<=OUTLIERS!$I$3,\"\",IF(W590>=OUTLIERS!$I$4,\"\",W590)))","v":""},7340000,6150000,1190000,"n/a",11882.300000000001,11882.300000000001,0,1,"n/a",11882.300000000001,"n/a",7422008,2890299]
[590,"PPCRLC506A","PPCR","IDB","Adaptation",{"$f":"IF(ISERROR(P591/(M591*S591)),\"\",IF((P591/(M591*S591))<=OUTLIERS!$C$3,\"\",IF((P591/(M591*S591))>=OUTLIERS!$C$4,\"\",P591/(M591*S591))))","v":""},{"$f":"IF(ISERROR(Q591/($M591*T591)),\"\",IF((Q591/($M591*T591))<=OUTLIERS!$D$3,\"\",IF((Q591/($M591*T591))>=OUTLIERS!$D$4,\"\",Q591/($M591*T591))))","v":""},{"$f":"IF(ISERROR((M591*S591)/P591),\"\",IF((M591*S591/P591)<=OUTLIERS!$E$3,\"\",IF((M591*S591/P591)>=OUTLIERS!$E$4,\"\",M591*S591/P591)))","v":""},{"$f":"IF(ISERROR(O591/N591),\"\",IF(O591/N591<=OUTLIERS!$F$3,\"\",IF(O591/N591>=OUTLIERS!$F$4,\"\",O591/N591)))","v":0},{"$f":"IF(ISERROR(U591/X591),\"\",IF(U591/X591<=OUTLIERS!$G$3,\"\",IF(U591/X591>=OUTLIERS!$G$4,\"\",U591/X591)))","v":""},{"$f":"IF(ISERROR(Q591/Y591),\"\",IF(Q591/Y591<=OUTLIERS!$H$3,\"\",IF(Q591/Y591>=OUTLIERS!$H$4,\"\",Q591/Y591)))","v":""},{"$f":"IF(ISERROR(W591),\"\",IF(W591<=OUTLIERS!$I$3,\"\",IF(W591>=OUTLIERS!$I$4,\"\",W591)))","v":""},1200000,1200000,0,"n/a","","",0,1,"n/a","n/a","n/a",407037,178844]
[591,"PPCRMZ023A","PPCR","IFC","Adaptation",{"$f":"IF(ISERROR(P592/(M592*S592)),\"\",IF((P592/(M592*S592))<=OUTLIERS!$C$3,\"\",IF((P592/(M592*S592))>=OUTLIERS!$C$4,\"\",P592/(M592*S592))))","v":""},{"$f":"IF(ISERROR(Q592/($M592*T592)),\"\",IF((Q592/($M592*T592))<=OUTLIERS!$D$3,\"\",IF((Q592/($M592*T592))>=OUTLIERS!$D$4,\"\",Q592/($M592*T592))))","v":""},{"$f":"IF(ISERROR((M592*S592)/P592),\"\",IF((M592*S592/P592)<=OUTLIERS!$E$3,\"\",IF((M592*S592/P592)>=OUTLIERS!$E$4,\"\",M592*S592/P592)))","v":""},{"$f":"IF(ISERROR(O592/N592),\"\",IF(O592/N592<=OUTLIERS!$F$3,\"\",IF(O592/N592>=OUTLIERS!$F$4,\"\",O592/N592)))","v":1.9870129870129871},{"$f":"IF(ISERROR(U592/X592),\"\",IF(U592/X592<=OUTLIERS!$G$3,\"\",IF(U592/X592>=OUTLIERS!$G$4,\"\",U592/X592)))","v":""},{"$f":"IF(ISERROR(Q592/Y592),\"\",IF(Q592/Y592<=OUTLIERS!$H$3,\"\",IF(Q592/Y592>=OUTLIERS!$H$4,\"\",Q592/Y592)))","v":""},{"$f":"IF(ISERROR(W592),\"\",IF(W592<=OUTLIERS!$I$3,\"\",IF(W592>=OUTLIERS!$I$4,\"\",W592)))","v":""},2300000,770000,1530000,"n/a","","",0,1,"n/a","n/a","n/a",8426766,29668834]
[592,"PPCRMZ073A","PPCR","IFC","Adaptation",{"$f":"IF(ISERROR(P593/(M593*S593)),\"\",IF((P593/(M593*S593))<=OUTLIERS!$C$3,\"\",IF((P593/(M593*S593))>=OUTLIERS!$C$4,\"\",P593/(M593*S593))))","v":""},{"$f":"IF(ISERROR(Q593/($M593*T593)),\"\",IF((Q593/($M593*T593))<=OUTLIERS!$D$3,\"\",IF((Q593/($M593*T593))>=OUTLIERS!$D$4,\"\",Q593/($M593*T593))))","v":2.0451590022461286E-3},{"$f":"IF(ISERROR((M593*S593)/P593),\"\",IF((M593*S593/P593)<=OUTLIERS!$E$3,\"\",IF((M593*S593/P593)>=OUTLIERS!$E$4,\"\",M593*S593/P593)))","v":""},{"$f":"IF(ISERROR(O593/N593),\"\",IF(O593/N593<=OUTLIERS!$F$3,\"\",IF(O593/N593>=OUTLIERS!$F$4,\"\",O593/N593)))","v":6.9877242681775256},{"$f":"IF(ISERROR(U593/X593),\"\",IF(U593/X593<=OUTLIERS!$G$3,\"\",IF(U593/X593>=OUTLIERS!$G$4,\"\",U593/X593)))","v":""},{"$f":"IF(ISERROR(Q593/Y593),\"\",IF(Q593/Y593<=OUTLIERS!$H$3,\"\",IF(Q593/Y593>=OUTLIERS!$H$4,\"\",Q593/Y593)))","v":5.8310346810393696E-3},{"$f":"IF(ISERROR(W593),\"\",IF(W593<=OUTLIERS!$I$3,\"\",IF(W593>=OUTLIERS!$I$4,\"\",W593)))","v":""},84590000,10590000,74000000,"n/a",173000,173000,0,1,"n/a",173000,"n/a",8426766,29668834]
[593,"PPCRNE033B","PPCR","IFC","Adaptation",{"$f":"IF(ISERROR(P594/(M594*S594)),\"\",IF((P594/(M594*S594))<=OUTLIERS!$C$3,\"\",IF((P594/(M594*S594))>=OUTLIERS!$C$4,\"\",P594/(M594*S594))))","v":""},{"$f":"IF(ISERROR(Q594/($M594*T594)),\"\",IF((Q594/($M594*T594))<=OUTLIERS!$D$3,\"\",IF((Q594/($M594*T594))>=OUTLIERS!$D$4,\"\",Q594/($M594*T594))))","v":""},{"$f":"IF(ISERROR((M594*S594)/P594),\"\",IF((M594*S594/P594)<=OUTLIERS!$E$3,\"\",IF((M594*S594/P594)>=OUTLIERS!$E$4,\"\",M594*S594/P594)))","v":""},{"$f":"IF(ISERROR(O594/N594),\"\",IF(O594/N594<=OUTLIERS!$F$3,\"\",IF(O594/N594>=OUTLIERS!$F$4,\"\",O594/N594)))","v":1.0460526315789473},{"$f":"IF(ISERROR(U594/X594),\"\",IF(U594/X594<=OUTLIERS!$G$3,\"\",IF(U594/X594>=OUTLIERS!$G$4,\"\",U594/X594)))","v":""},{"$f":"IF(ISERROR(Q594/Y594),\"\",IF(Q594/Y594<=OUTLIERS!$H$3,\"\",IF(Q594/Y594>=OUTLIERS!$H$4,\"\",Q594/Y594)))","v":""},{"$f":"IF(ISERROR(W594),\"\",IF(W594<=OUTLIERS!$I$3,\"\",IF(W594>=OUTLIERS!$I$4,\"\",W594)))","v":""},3110000,1520000,1590000,"n/a","","",0,1,"n/a","n/a","n/a",2126860,21477348]
[594,"PPCRNP027B","PPCR","IFC","Adaptation",{"$f":"IF(ISERROR(P595/(M595*S595)),\"\",IF((P595/(M595*S595))<=OUTLIERS!$C$3,\"\",IF((P595/(M595*S595))>=OUTLIERS!$C$4,\"\",P595/(M595*S595))))","v":""},{"$f":"IF(ISERROR(Q595/($M595*T595)),\"\",IF((Q595/($M595*T595))<=OUTLIERS!$D$3,\"\",IF((Q595/($M595*T595))>=OUTLIERS!$D$4,\"\",Q595/($M595*T595))))","v":""},{"$f":"IF(ISERROR((M595*S595)/P595),\"\",IF((M595*S595/P595)<=OUTLIERS!$E$3,\"\",IF((M595*S595/P595)>=OUTLIERS!$E$4,\"\",M595*S595/P595)))","v":""},{"$f":"IF(ISERROR(O595/N595),\"\",IF(O595/N595<=OUTLIERS!$F$3,\"\",IF(O595/N595>=OUTLIERS!$F$4,\"\",O595/N595)))","v":0},{"$f":"IF(ISERROR(U595/X595),\"\",IF(U595/X595<=OUTLIERS!$G$3,\"\",IF(U595/X595>=OUTLIERS!$G$4,\"\",U595/X595)))","v":""},{"$f":"IF(ISERROR(Q595/Y595),\"\",IF(Q595/Y595<=OUTLIERS!$H$3,\"\",IF(Q595/Y595>=OUTLIERS!$H$4,\"\",Q595/Y595)))","v":""},{"$f":"IF(ISERROR(W595),\"\",IF(W595<=OUTLIERS!$I$3,\"\",IF(W595>=OUTLIERS!$I$4,\"\",W595)))","v":""},14880000,14880000,0,"n/a","","",0,1,"n/a","n/a","n/a",8030730,29304998]
[595,"PPCRTJ502A","PPCR","EBRD","Adaptation",{"$f":"IF(ISERROR(P596/(M596*S596)),\"\",IF((P596/(M596*S596))<=OUTLIERS!$C$3,\"\",IF((P596/(M596*S596))>=OUTLIERS!$C$4,\"\",P596/(M596*S596))))","v":""},{"$f":"IF(ISERROR(Q596/($M596*T596)),\"\",IF((Q596/($M596*T596))<=OUTLIERS!$D$3,\"\",IF((Q596/($M596*T596))>=OUTLIERS!$D$4,\"\",Q596/($M596*T596))))","v":""},{"$f":"IF(ISERROR((M596*S596)/P596),\"\",IF((M596*S596/P596)<=OUTLIERS!$E$3,\"\",IF((M596*S596/P596)>=OUTLIERS!$E$4,\"\",M596*S596/P596)))","v":""},{"$f":"IF(ISERROR(O596/N596),\"\",IF(O596/N596<=OUTLIERS!$F$3,\"\",IF(O596/N596>=OUTLIERS!$F$4,\"\",O596/N596)))","v":0},{"$f":"IF(ISERROR(U596/X596),\"\",IF(U596/X596<=OUTLIERS!$G$3,\"\",IF(U596/X596>=OUTLIERS!$G$4,\"\",U596/X596)))","v":""},{"$f":"IF(ISERROR(Q596/Y596),\"\",IF(Q596/Y596<=OUTLIERS!$H$3,\"\",IF(Q596/Y596>=OUTLIERS!$H$4,\"\",Q596/Y596)))","v":""},{"$f":"IF(ISERROR(W596),\"\",IF(W596<=OUTLIERS!$I$3,\"\",IF(W596>=OUTLIERS!$I$4,\"\",W596)))","v":""},10000000,10000000,0,"n/a","","",0,1,"n/a","n/a","n/a",5188805,8921343]
[596,"PPCRTJ503A","PPCR","EBRD","Adaptation",{"$f":"IF(ISERROR(P597/(M597*S597)),\"\",IF((P597/(M597*S597))<=OUTLIERS!$C$3,\"\",IF((P597/(M597*S597))>=OUTLIERS!$C$4,\"\",P597/(M597*S597))))","v":""},{"$f":"IF(ISERROR(Q597/($M597*T597)),\"\",IF((Q597/($M597*T597))<=OUTLIERS!$D$3,\"\",IF((Q597/($M597*T597))>=OUTLIERS!$D$4,\"\",Q597/($M597*T597))))","v":9.5162569389373511E-4},{"$f":"IF(ISERROR((M597*S597)/P597),\"\",IF((M597*S597/P597)<=OUTLIERS!$E$3,\"\",IF((M597*S597/P597)>=OUTLIERS!$E$4,\"\",M597*S597/P597)))","v":""},{"$f":"IF(ISERROR(O597/N597),\"\",IF(O597/N597<=OUTLIERS!$F$3,\"\",IF(O597/N597>=OUTLIERS!$F$4,\"\",O597/N597)))","v":1.522},{"$f":"IF(ISERROR(U597/X597),\"\",IF(U597/X597<=OUTLIERS!$G$3,\"\",IF(U597/X597>=OUTLIERS!$G$4,\"\",U597/X597)))","v":""},{"$f":"IF(ISERROR(Q597/Y597),\"\",IF(Q597/Y597<=OUTLIERS!$H$3,\"\",IF(Q597/Y597>=OUTLIERS!$H$4,\"\",Q597/Y597)))","v":1.3450889625026188E-3},{"$f":"IF(ISERROR(W597),\"\",IF(W597<=OUTLIERS!$I$3,\"\",IF(W597>=OUTLIERS!$I$4,\"\",W597)))","v":""},12610000,5000000,7610000,"n/a",12000,12000,0,1,"n/a",12000,"n/a",5188805,8921343]
[597,"XPCRBO007A","PPCR","IDB","Adaptation",{"$f":"IF(ISERROR(P598/(M598*S598)),\"\",IF((P598/(M598*S598))<=OUTLIERS!$C$3,\"\",IF((P598/(M598*S598))>=OUTLIERS!$C$4,\"\",P598/(M598*S598))))","v":""},{"$f":"IF(ISERROR(Q598/($M598*T598)),\"\",IF((Q598/($M598*T598))<=OUTLIERS!$D$3,\"\",IF((Q598/($M598*T598))>=OUTLIERS!$D$4,\"\",Q598/($M598*T598))))","v":9.7370351239669424E-3},{"$f":"IF(ISERROR((M598*S598)/P598),\"\",IF((M598*S598/P598)<=OUTLIERS!$E$3,\"\",IF((M598*S598/P598)>=OUTLIERS!$E$4,\"\",M598*S598/P598)))","v":""},{"$f":"IF(ISERROR(O598/N598),\"\",IF(O598/N598<=OUTLIERS!$F$3,\"\",IF(O598/N598>=OUTLIERS!$F$4,\"\",O598/N598)))","v":2.0115555555555558},{"$f":"IF(ISERROR(U598/X598),\"\",IF(U598/X598<=OUTLIERS!$G$3,\"\",IF(U598/X598>=OUTLIERS!$G$4,\"\",U598/X598)))","v":""},{"$f":"IF(ISERROR(Q598/Y598),\"\",IF(Q598/Y598<=OUTLIERS!$H$3,\"\",IF(Q598/Y598>=OUTLIERS!$H$4,\"\",Q598/Y598)))","v":0.11940017734988599},{"$f":"IF(ISERROR(W598),\"\",IF(W598<=OUTLIERS!$I$3,\"\",IF(W598>=OUTLIERS!$I$4,\"\",W598)))","v":""},135520000,45000000,90520000,"n/a",1319563,1319563,0,1,"n/a",1319563,"n/a",20410522,11051600]
[598,"XPCRCB062A","PPCR","IDB","Adaptation",{"$f":"IF(ISERROR(P599/(M599*S599)),\"\",IF((P599/(M599*S599))<=OUTLIERS!$C$3,\"\",IF((P599/(M599*S599))>=OUTLIERS!$C$4,\"\",P599/(M599*S599))))","v":""},{"$f":"IF(ISERROR(Q599/($M599*T599)),\"\",IF((Q599/($M599*T599))<=OUTLIERS!$D$3,\"\",IF((Q599/($M599*T599))>=OUTLIERS!$D$4,\"\",Q599/($M599*T599))))","v":""},{"$f":"IF(ISERROR((M599*S599)/P599),\"\",IF((M599*S599/P599)<=OUTLIERS!$E$3,\"\",IF((M599*S599/P599)>=OUTLIERS!$E$4,\"\",M599*S599/P599)))","v":""},{"$f":"IF(ISERROR(O599/N599),\"\",IF(O599/N599<=OUTLIERS!$F$3,\"\",IF(O599/N599>=OUTLIERS!$F$4,\"\",O599/N599)))","v":0},{"$f":"IF(ISERROR(U599/X599),\"\",IF(U599/X599<=OUTLIERS!$G$3,\"\",IF(U599/X599>=OUTLIERS!$G$4,\"\",U599/X599)))","v":""},{"$f":"IF(ISERROR(Q599/Y599),\"\",IF(Q599/Y599<=OUTLIERS!$H$3,\"\",IF(Q599/Y599>=OUTLIERS!$H$4,\"\",Q599/Y599)))","v":""},{"$f":"IF(ISERROR(W599),\"\",IF(W599<=OUTLIERS!$I$3,\"\",IF(W599>=OUTLIERS!$I$4,\"\",W599)))","v":""},11000000,11000000,0,"n/a","","",0,1,"n/a","n/a","n/a",1879337.5,2390336.5]
[599,"XPCRDM056A","PPCR","WorldBank","Adaptation",{"$f":"IF(ISERROR(P600/(M600*S600)),\"\",IF((P600/(M600*S600))<=OUTLIERS!$C$3,\"\",IF((P600/(M600*S600))>=OUTLIERS!$C$4,\"\",P600/(M600*S600))))","v":""},{"$f":"IF(ISERROR(Q600/($M600*T600)),\"\",IF((Q600/($M600*T600))<=OUTLIERS!$D$3,\"\",IF((Q600/($M600*T600))>=OUTLIERS!$D$4,\"\",Q600/($M600*T600))))","v":1.792E-3},{"$f":"IF(ISERROR((M600*S600)/P600),\"\",IF((M600*S600/P600)<=OUTLIERS!$E$3,\"\",IF((M600*S600/P600)>=OUTLIERS!$E$4,\"\",M600*S600/P600)))","v":""},{"$f":"IF(ISERROR(O600/N600),\"\",IF(O600/N600<=OUTLIERS!$F$3,\"\",IF(O600/N600>=OUTLIERS!$F$4,\"\",O600/N600)))","v":0.86046511627906974},{"$f":"IF(ISERROR(U600/X600),\"\",IF(U600/X600<=OUTLIERS!$G$3,\"\",IF(U600/X600>=OUTLIERS!$G$4,\"\",U600/X600)))","v":0},{"$f":"IF(ISERROR(Q600/Y600),\"\",IF(Q600/Y600<=OUTLIERS!$H$3,\"\",IF(Q600/Y600>=OUTLIERS!$H$4,\"\",Q600/Y600)))","v":0.96963138315860664},{"$f":"IF(ISERROR(W600),\"\",IF(W600<=OUTLIERS!$I$3,\"\",IF(W600>=OUTLIERS!$I$4,\"\",W600)))","v":""},40000000,21500000,18500000,"n/a",71680,71680,0,1,0,71680,"n/a",135679,73925]
[600,"XPCRGD045B","PPCR","WorldBank","Adaptation",{"$f":"IF(ISERROR(P601/(M601*S601)),\"\",IF((P601/(M601*S601))<=OUTLIERS!$C$3,\"\",IF((P601/(M601*S601))>=OUTLIERS!$C$4,\"\",P601/(M601*S601))))","v":""},{"$f":"IF(ISERROR(Q601/($M601*T601)),\"\",IF((Q601/($M601*T601))<=OUTLIERS!$D$3,\"\",IF((Q601/($M601*T601))>=OUTLIERS!$D$4,\"\",Q601/($M601*T601))))","v":""},{"$f":"IF(ISERROR((M601*S601)/P601),\"\",IF((M601*S601/P601)<=OUTLIERS!$E$3,\"\",IF((M601*S601/P601)>=OUTLIERS!$E$4,\"\",M601*S601/P601)))","v":""},{"$f":"IF(ISERROR(O601/N601),\"\",IF(O601/N601<=OUTLIERS!$F$3,\"\",IF(O601/N601>=OUTLIERS!$F$4,\"\",O601/N601)))","v":0},{"$f":"IF(ISERROR(U601/X601),\"\",IF(U601/X601<=OUTLIERS!$G$3,\"\",IF(U601/X601>=OUTLIERS!$G$4,\"\",U601/X601)))","v":0},{"$f":"IF(ISERROR(Q601/Y601),\"\",IF(Q601/Y601<=OUTLIERS!$H$3,\"\",IF(Q601/Y601>=OUTLIERS!$H$4,\"\",Q601/Y601)))","v":1.0201715743102248E-2},{"$f":"IF(ISERROR(W601),\"\",IF(W601<=OUTLIERS!$I$3,\"\",IF(W601>=OUTLIERS!$I$4,\"\",W601)))","v":""},8800000,8800000,0,"n/a",1100,1100,0,1,0,1100,"n/a",242022,107825]
[601,"XPCRHT068A","PPCR","WorldBank","Adaptation",{"$f":"IF(ISERROR(P602/(M602*S602)),\"\",IF((P602/(M602*S602))<=OUTLIERS!$C$3,\"\",IF((P602/(M602*S602))>=OUTLIERS!$C$4,\"\",P602/(M602*S602))))","v":""},{"$f":"IF(ISERROR(Q602/($M602*T602)),\"\",IF((Q602/($M602*T602))<=OUTLIERS!$D$3,\"\",IF((Q602/($M602*T602))>=OUTLIERS!$D$4,\"\",Q602/($M602*T602))))","v":3.2489740082079343E-3},{"$f":"IF(ISERROR((M602*S602)/P602),\"\",IF((M602*S602/P602)<=OUTLIERS!$E$3,\"\",IF((M602*S602/P602)>=OUTLIERS!$E$4,\"\",M602*S602/P602)))","v":""},{"$f":"IF(ISERROR(O602/N602),\"\",IF(O602/N602<=OUTLIERS!$F$3,\"\",IF(O602/N602>=OUTLIERS!$F$4,\"\",O602/N602)))","v":5.8962264150943398},{"$f":"IF(ISERROR(U602/X602),\"\",IF(U602/X602<=OUTLIERS!$G$3,\"\",IF(U602/X602>=OUTLIERS!$G$4,\"\",U602/X602)))","v":""},{"$f":"IF(ISERROR(Q602/Y602),\"\",IF(Q602/Y602<=OUTLIERS!$H$3,\"\",IF(Q602/Y602>=OUTLIERS!$H$4,\"\",Q602/Y602)))","v":1.7302252780631383E-2},{"$f":"IF(ISERROR(W602),\"\",IF(W602<=OUTLIERS!$I$3,\"\",IF(W602>=OUTLIERS!$I$4,\"\",W602)))","v":0.3},58480000,8480000,50000000,"n/a",190000,190000,0,1,"n/a",190000,0.3,2860260,10981229]
[602,"XPCRHT069A","PPCR","IDB","Adaptation",{"$f":"IF(ISERROR(P603/(M603*S603)),\"\",IF((P603/(M603*S603))<=OUTLIERS!$C$3,\"\",IF((P603/(M603*S603))>=OUTLIERS!$C$4,\"\",P603/(M603*S603))))","v":""},{"$f":"IF(ISERROR(Q603/($M603*T603)),\"\",IF((Q603/($M603*T603))<=OUTLIERS!$D$3,\"\",IF((Q603/($M603*T603))>=OUTLIERS!$D$4,\"\",Q603/($M603*T603))))","v":""},{"$f":"IF(ISERROR((M603*S603)/P603),\"\",IF((M603*S603/P603)<=OUTLIERS!$E$3,\"\",IF((M603*S603/P603)>=OUTLIERS!$E$4,\"\",M603*S603/P603)))","v":""},{"$f":"IF(ISERROR(O603/N603),\"\",IF(O603/N603<=OUTLIERS!$F$3,\"\",IF(O603/N603>=OUTLIERS!$F$4,\"\",O603/N603)))","v":8.6},{"$f":"IF(ISERROR(U603/X603),\"\",IF(U603/X603<=OUTLIERS!$G$3,\"\",IF(U603/X603>=OUTLIERS!$G$4,\"\",U603/X603)))","v":""},{"$f":"IF(ISERROR(Q603/Y603),\"\",IF(Q603/Y603<=OUTLIERS!$H$3,\"\",IF(Q603/Y603>=OUTLIERS!$H$4,\"\",Q603/Y603)))","v":""},{"$f":"IF(ISERROR(W603),\"\",IF(W603<=OUTLIERS!$I$3,\"\",IF(W603>=OUTLIERS!$I$4,\"\",W603)))","v":0.25},48000000,5000000,43000000,"n/a",910,910,0,1,"n/a",910,0.25,2860260,10981229]
[603,"XPCRHT070A","PPCR","WorldBank","Adaptation",{"$f":"IF(ISERROR(P604/(M604*S604)),\"\",IF((P604/(M604*S604))<=OUTLIERS!$C$3,\"\",IF((P604/(M604*S604))>=OUTLIERS!$C$4,\"\",P604/(M604*S604))))","v":""},{"$f":"IF(ISERROR(Q604/($M604*T604)),\"\",IF((Q604/($M604*T604))<=OUTLIERS!$D$3,\"\",IF((Q604/($M604*T604))>=OUTLIERS!$D$4,\"\",Q604/($M604*T604))))","v":5.8502576538344954E-3},{"$f":"IF(ISERROR((M604*S604)/P604),\"\",IF((M604*S604/P604)<=OUTLIERS!$E$3,\"\",IF((M604*S604/P604)>=OUTLIERS!$E$4,\"\",M604*S604/P604)))","v":""},{"$f":"IF(ISERROR(O604/N604),\"\",IF(O604/N604<=OUTLIERS!$F$3,\"\",IF(O604/N604>=OUTLIERS!$F$4,\"\",O604/N604)))","v":7.7973333333333334},{"$f":"IF(ISERROR(U604/X604),\"\",IF(U604/X604<=OUTLIERS!$G$3,\"\",IF(U604/X604>=OUTLIERS!$G$4,\"\",U604/X604)))","v":""},{"$f":"IF(ISERROR(Q604/Y604),\"\",IF(Q604/Y604<=OUTLIERS!$H$3,\"\",IF(Q604/Y604>=OUTLIERS!$H$4,\"\",Q604/Y604)))","v":3.5150892491177442E-2},{"$f":"IF(ISERROR(W604),\"\",IF(W604<=OUTLIERS!$I$3,\"\",IF(W604>=OUTLIERS!$I$4,\"\",W604)))","v":0.51},65980000,7500000,58480000,"n/a",386000,386000,0,1,"n/a",386000,0.51,2860260,10981229]
[604,"XPCRHT071A","PPCR","WorldBank","Adaptation",{"$f":"IF(ISERROR(P605/(M605*S605)),\"\",IF((P605/(M605*S605))<=OUTLIERS!$C$3,\"\",IF((P605/(M605*S605))>=OUTLIERS!$C$4,\"\",P605/(M605*S605))))","v":""},{"$f":"IF(ISERROR(Q605/($M605*T605)),\"\",IF((Q605/($M605*T605))<=OUTLIERS!$D$3,\"\",IF((Q605/($M605*T605))>=OUTLIERS!$D$4,\"\",Q605/($M605*T605))))","v":0.16835016835016836},{"$f":"IF(ISERROR((M605*S605)/P605),\"\",IF((M605*S605/P605)<=OUTLIERS!$E$3,\"\",IF((M605*S605/P605)>=OUTLIERS!$E$4,\"\",M605*S605/P605)))","v":""},{"$f":"IF(ISERROR(O605/N605),\"\",IF(O605/N605<=OUTLIERS!$F$3,\"\",IF(O605/N605>=OUTLIERS!$F$4,\"\",O605/N605)))","v":0},{"$f":"IF(ISERROR(U605/X605),\"\",IF(U605/X605<=OUTLIERS!$G$3,\"\",IF(U605/X605>=OUTLIERS!$G$4,\"\",U605/X605)))","v":0},{"$f":"IF(ISERROR(Q605/Y605),\"\",IF(Q605/Y605<=OUTLIERS!$H$3,\"\",IF(Q605/Y605>=OUTLIERS!$H$4,\"\",Q605/Y605)))","v":9.1064488319112555E-2},{"$f":"IF(ISERROR(W605),\"\",IF(W605<=OUTLIERS!$I$3,\"\",IF(W605>=OUTLIERS!$I$4,\"\",W605)))","v":""},5940000,5940000,0,"n/a",1000000,1000000,0,1,0,1000000,"n/a",2860260,10981229]
[605,"XPCRJM048A","PPCR","WorldBank","Adaptation",{"$f":"IF(ISERROR(P606/(M606*S606)),\"\",IF((P606/(M606*S606))<=OUTLIERS!$C$3,\"\",IF((P606/(M606*S606))>=OUTLIERS!$C$4,\"\",P606/(M606*S606))))","v":""},{"$f":"IF(ISERROR(Q606/($M606*T606)),\"\",IF((Q606/($M606*T606))<=OUTLIERS!$D$3,\"\",IF((Q606/($M606*T606))>=OUTLIERS!$D$4,\"\",Q606/($M606*T606))))","v":""},{"$f":"IF(ISERROR((M606*S606)/P606),\"\",IF((M606*S606/P606)<=OUTLIERS!$E$3,\"\",IF((M606*S606/P606)>=OUTLIERS!$E$4,\"\",M606*S606/P606)))","v":""},{"$f":"IF(ISERROR(O606/N606),\"\",IF(O606/N606<=OUTLIERS!$F$3,\"\",IF(O606/N606>=OUTLIERS!$F$4,\"\",O606/N606)))","v":8.8383838383838384E-2},{"$f":"IF(ISERROR(U606/X606),\"\",IF(U606/X606<=OUTLIERS!$G$3,\"\",IF(U606/X606>=OUTLIERS!$G$4,\"\",U606/X606)))","v":""},{"$f":"IF(ISERROR(Q606/Y606),\"\",IF(Q606/Y606<=OUTLIERS!$H$3,\"\",IF(Q606/Y606>=OUTLIERS!$H$4,\"\",Q606/Y606)))","v":""},{"$f":"IF(ISERROR(W606),\"\",IF(W606<=OUTLIERS!$I$3,\"\",IF(W606>=OUTLIERS!$I$4,\"\",W606)))","v":""},8620000,7920000,700000,"n/a","","",0,1,"n/a","n/a","n/a",7422008,2890299]
[606,"XPCRJM049A","PPCR","IDB","Adaptation",{"$f":"IF(ISERROR(P607/(M607*S607)),\"\",IF((P607/(M607*S607))<=OUTLIERS!$C$3,\"\",IF((P607/(M607*S607))>=OUTLIERS!$C$4,\"\",P607/(M607*S607))))","v":""},{"$f":"IF(ISERROR(Q607/($M607*T607)),\"\",IF((Q607/($M607*T607))<=OUTLIERS!$D$3,\"\",IF((Q607/($M607*T607))>=OUTLIERS!$D$4,\"\",Q607/($M607*T607))))","v":""},{"$f":"IF(ISERROR((M607*S607)/P607),\"\",IF((M607*S607/P607)<=OUTLIERS!$E$3,\"\",IF((M607*S607/P607)>=OUTLIERS!$E$4,\"\",M607*S607/P607)))","v":""},{"$f":"IF(ISERROR(O607/N607),\"\",IF(O607/N607<=OUTLIERS!$F$3,\"\",IF(O607/N607>=OUTLIERS!$F$4,\"\",O607/N607)))","v":0.1053475935828877},{"$f":"IF(ISERROR(U607/X607),\"\",IF(U607/X607<=OUTLIERS!$G$3,\"\",IF(U607/X607>=OUTLIERS!$G$4,\"\",U607/X607)))","v":""},{"$f":"IF(ISERROR(Q607/Y607),\"\",IF(Q607/Y607<=OUTLIERS!$H$3,\"\",IF(Q607/Y607>=OUTLIERS!$H$4,\"\",Q607/Y607)))","v":""},{"$f":"IF(ISERROR(W607),\"\",IF(W607<=OUTLIERS!$I$3,\"\",IF(W607>=OUTLIERS!$I$4,\"\",W607)))","v":""},20670000,18700000,1970000,"n/a","","",0,1,"n/a","n/a","n/a",7422008,2890299]
[607,"XPCRJM072A","PPCR","WorldBank","Adaptation",{"$f":"IF(ISERROR(P608/(M608*S608)),\"\",IF((P608/(M608*S608))<=OUTLIERS!$C$3,\"\",IF((P608/(M608*S608))>=OUTLIERS!$C$4,\"\",P608/(M608*S608))))","v":""},{"$f":"IF(ISERROR(Q608/($M608*T608)),\"\",IF((Q608/($M608*T608))<=OUTLIERS!$D$3,\"\",IF((Q608/($M608*T608))>=OUTLIERS!$D$4,\"\",Q608/($M608*T608))))","v":""},{"$f":"IF(ISERROR((M608*S608)/P608),\"\",IF((M608*S608/P608)<=OUTLIERS!$E$3,\"\",IF((M608*S608/P608)>=OUTLIERS!$E$4,\"\",M608*S608/P608)))","v":""},{"$f":"IF(ISERROR(O608/N608),\"\",IF(O608/N608<=OUTLIERS!$F$3,\"\",IF(O608/N608>=OUTLIERS!$F$4,\"\",O608/N608)))","v":9.0909090909090912E-2},{"$f":"IF(ISERROR(U608/X608),\"\",IF(U608/X608<=OUTLIERS!$G$3,\"\",IF(U608/X608>=OUTLIERS!$G$4,\"\",U608/X608)))","v":""},{"$f":"IF(ISERROR(Q608/Y608),\"\",IF(Q608/Y608<=OUTLIERS!$H$3,\"\",IF(Q608/Y608>=OUTLIERS!$H$4,\"\",Q608/Y608)))","v":""},{"$f":"IF(ISERROR(W608),\"\",IF(W608<=OUTLIERS!$I$3,\"\",IF(W608>=OUTLIERS!$I$4,\"\",W608)))","v":""},6000000,5500000,500000,"n/a","","",0,1,"n/a","n/a","n/a",7422008,2890299]
[608,"XPCRKH009A","PPCR","ADB","Adaptation",{"$f":"IF(ISERROR(P609/(M609*S609)),\"\",IF((P609/(M609*S609))<=OUTLIERS!$C$3,\"\",IF((P609/(M609*S609))>=OUTLIERS!$C$4,\"\",P609/(M609*S609))))","v":""},{"$f":"IF(ISERROR(Q609/($M609*T609)),\"\",IF((Q609/($M609*T609))<=OUTLIERS!$D$3,\"\",IF((Q609/($M609*T609))>=OUTLIERS!$D$4,\"\",Q609/($M609*T609))))","v":1.3356484573260317E-3},{"$f":"IF(ISERROR((M609*S609)/P609),\"\",IF((M609*S609/P609)<=OUTLIERS!$E$3,\"\",IF((M609*S609/P609)>=OUTLIERS!$E$4,\"\",M609*S609/P609)))","v":""},{"$f":"IF(ISERROR(O609/N609),\"\",IF(O609/N609<=OUTLIERS!$F$3,\"\",IF(O609/N609>=OUTLIERS!$F$4,\"\",O609/N609)))","v":3.5680292861500917},{"$f":"IF(ISERROR(U609/X609),\"\",IF(U609/X609<=OUTLIERS!$G$3,\"\",IF(U609/X609>=OUTLIERS!$G$4,\"\",U609/X609)))","v":""},{"$f":"IF(ISERROR(Q609/Y609),\"\",IF(Q609/Y609<=OUTLIERS!$H$3,\"\",IF(Q609/Y609>=OUTLIERS!$H$4,\"\",Q609/Y609)))","v":6.2479018764511141E-3},{"$f":"IF(ISERROR(W609),\"\",IF(W609<=OUTLIERS!$I$3,\"\",IF(W609>=OUTLIERS!$I$4,\"\",W609)))","v":""},74870000,16390000,58480000,"n/a",100000,100000,0,1,"n/a",100000,"n/a",6684941,16005373]
[609,"XPCRKH011A","PPCR","ADB","Adaptation",{"$f":"IF(ISERROR(P610/(M610*S610)),\"\",IF((P610/(M610*S610))<=OUTLIERS!$C$3,\"\",IF((P610/(M610*S610))>=OUTLIERS!$C$4,\"\",P610/(M610*S610))))","v":""},{"$f":"IF(ISERROR(Q610/($M610*T610)),\"\",IF((Q610/($M610*T610))<=OUTLIERS!$D$3,\"\",IF((Q610/($M610*T610))>=OUTLIERS!$D$4,\"\",Q610/($M610*T610))))","v":6.6644204851752024E-4},{"$f":"IF(ISERROR((M610*S610)/P610),\"\",IF((M610*S610/P610)<=OUTLIERS!$E$3,\"\",IF((M610*S610/P610)>=OUTLIERS!$E$4,\"\",M610*S610/P610)))","v":""},{"$f":"IF(ISERROR(O610/N610),\"\",IF(O610/N610<=OUTLIERS!$F$3,\"\",IF(O610/N610>=OUTLIERS!$F$4,\"\",O610/N610)))","v":2.3804100227790435},{"$f":"IF(ISERROR(U610/X610),\"\",IF(U610/X610<=OUTLIERS!$G$3,\"\",IF(U610/X610>=OUTLIERS!$G$4,\"\",U610/X610)))","v":0},{"$f":"IF(ISERROR(Q610/Y610),\"\",IF(Q610/Y610<=OUTLIERS!$H$3,\"\",IF(Q610/Y610>=OUTLIERS!$H$4,\"\",Q610/Y610)))","v":1.2358349911620304E-3},{"$f":"IF(ISERROR(W610),\"\",IF(W610<=OUTLIERS!$I$3,\"\",IF(W610>=OUTLIERS!$I$4,\"\",W610)))","v":""},29680000,8780000,20900000,"n/a",19780,19780,0,1,0,19780,"n/a",6684941,16005373]
[610,"XPCRKH015A","PPCR","ADB","Adaptation",{"$f":"IF(ISERROR(P611/(M611*S611)),\"\",IF((P611/(M611*S611))<=OUTLIERS!$C$3,\"\",IF((P611/(M611*S611))>=OUTLIERS!$C$4,\"\",P611/(M611*S611))))","v":""},{"$f":"IF(ISERROR(Q611/($M611*T611)),\"\",IF((Q611/($M611*T611))<=OUTLIERS!$D$3,\"\",IF((Q611/($M611*T611))>=OUTLIERS!$D$4,\"\",Q611/($M611*T611))))","v":1.6987542468856172E-3},{"$f":"IF(ISERROR((M611*S611)/P611),\"\",IF((M611*S611/P611)<=OUTLIERS!$E$3,\"\",IF((M611*S611/P611)>=OUTLIERS!$E$4,\"\",M611*S611/P611)))","v":""},{"$f":"IF(ISERROR(O611/N611),\"\",IF(O611/N611<=OUTLIERS!$F$3,\"\",IF(O611/N611>=OUTLIERS!$F$4,\"\",O611/N611)))","v":4.1040462427745661},{"$f":"IF(ISERROR(U611/X611),\"\",IF(U611/X611<=OUTLIERS!$G$3,\"\",IF(U611/X611>=OUTLIERS!$G$4,\"\",U611/X611)))","v":""},{"$f":"IF(ISERROR(Q611/Y611),\"\",IF(Q611/Y611<=OUTLIERS!$H$3,\"\",IF(Q611/Y611>=OUTLIERS!$H$4,\"\",Q611/Y611)))","v":5.6231116888060028E-3},{"$f":"IF(ISERROR(W611),\"\",IF(W611<=OUTLIERS!$I$3,\"\",IF(W611>=OUTLIERS!$I$4,\"\",W611)))","v":""},52980000,10380000,42600000,"n/a",90000,90000,0,1,"n/a",90000,"n/a",6684941,16005373]
[611,"XPCRLC044A","PPCR","WorldBank","Adaptation",{"$f":"IF(ISERROR(P612/(M612*S612)),\"\",IF((P612/(M612*S612))<=OUTLIERS!$C$3,\"\",IF((P612/(M612*S612))>=OUTLIERS!$C$4,\"\",P612/(M612*S612))))","v":""},{"$f":"IF(ISERROR(Q612/($M612*T612)),\"\",IF((Q612/($M612*T612))<=OUTLIERS!$D$3,\"\",IF((Q612/($M612*T612))>=OUTLIERS!$D$4,\"\",Q612/($M612*T612))))","v":2.467873831775701E-3},{"$f":"IF(ISERROR((M612*S612)/P612),\"\",IF((M612*S612/P612)<=OUTLIERS!$E$3,\"\",IF((M612*S612/P612)>=OUTLIERS!$E$4,\"\",M612*S612/P612)))","v":""},{"$f":"IF(ISERROR(O612/N612),\"\",IF(O612/N612<=OUTLIERS!$F$3,\"\",IF(O612/N612>=OUTLIERS!$F$4,\"\",O612/N612)))","v":1.4919941775836973},{"$f":"IF(ISERROR(U612/X612),\"\",IF(U612/X612<=OUTLIERS!$G$3,\"\",IF(U612/X612>=OUTLIERS!$G$4,\"\",U612/X612)))","v":""},{"$f":"IF(ISERROR(Q612/Y612),\"\",IF(Q612/Y612<=OUTLIERS!$H$3,\"\",IF(Q612/Y612>=OUTLIERS!$H$4,\"\",Q612/Y612)))","v":0.94495761669387845},{"$f":"IF(ISERROR(W612),\"\",IF(W612<=OUTLIERS!$I$3,\"\",IF(W612>=OUTLIERS!$I$4,\"\",W612)))","v":""},68480000,27480000,41000000,"n/a",169000,169000,0,1,"n/a",169000,"n/a",407037,178844]
[612,"XPCRNE075A","PPCR","WorldBank","Adaptation",{"$f":"IF(ISERROR(P613/(M613*S613)),\"\",IF((P613/(M613*S613))<=OUTLIERS!$C$3,\"\",IF((P613/(M613*S613))>=OUTLIERS!$C$4,\"\",P613/(M613*S613))))","v":""},{"$f":"IF(ISERROR(Q613/($M613*T613)),\"\",IF((Q613/($M613*T613))<=OUTLIERS!$D$3,\"\",IF((Q613/($M613*T613))>=OUTLIERS!$D$4,\"\",Q613/($M613*T613))))","v":2.8776978417266189E-2},{"$f":"IF(ISERROR((M613*S613)/P613),\"\",IF((M613*S613/P613)<=OUTLIERS!$E$3,\"\",IF((M613*S613/P613)>=OUTLIERS!$E$4,\"\",M613*S613/P613)))","v":""},{"$f":"IF(ISERROR(O613/N613),\"\",IF(O613/N613<=OUTLIERS!$F$3,\"\",IF(O613/N613>=OUTLIERS!$F$4,\"\",O613/N613)))","v":0},{"$f":"IF(ISERROR(U613/X613),\"\",IF(U613/X613<=OUTLIERS!$G$3,\"\",IF(U613/X613>=OUTLIERS!$G$4,\"\",U613/X613)))","v":""},{"$f":"IF(ISERROR(Q613/Y613),\"\",IF(Q613/Y613<=OUTLIERS!$H$3,\"\",IF(Q613/Y613>=OUTLIERS!$H$4,\"\",Q613/Y613)))","v":1.3036991345486417E-2},{"$f":"IF(ISERROR(W613),\"\",IF(W613<=OUTLIERS!$I$3,\"\",IF(W613>=OUTLIERS!$I$4,\"\",W613)))","v":0.52},9730000,9730000,0,"n/a",280000,280000,0,1,"n/a",280000,0.52,2126860,21477348]
[613,"XPCRPC064A","PPCR","WorldBank","Adaptation",{"$f":"IF(ISERROR(P614/(M614*S614)),\"\",IF((P614/(M614*S614))<=OUTLIERS!$C$3,\"\",IF((P614/(M614*S614))>=OUTLIERS!$C$4,\"\",P614/(M614*S614))))","v":""},{"$f":"IF(ISERROR(Q614/($M614*T614)),\"\",IF((Q614/($M614*T614))<=OUTLIERS!$D$3,\"\",IF((Q614/($M614*T614))>=OUTLIERS!$D$4,\"\",Q614/($M614*T614))))","v":1.4946962391513982E-2},{"$f":"IF(ISERROR((M614*S614)/P614),\"\",IF((M614*S614/P614)<=OUTLIERS!$E$3,\"\",IF((M614*S614/P614)>=OUTLIERS!$E$4,\"\",M614*S614/P614)))","v":""},{"$f":"IF(ISERROR(O614/N614),\"\",IF(O614/N614<=OUTLIERS!$F$3,\"\",IF(O614/N614>=OUTLIERS!$F$4,\"\",O614/N614)))","v":0.55007473841554555},{"$f":"IF(ISERROR(U614/X614),\"\",IF(U614/X614<=OUTLIERS!$G$3,\"\",IF(U614/X614>=OUTLIERS!$G$4,\"\",U614/X614)))","v":0},{"$f":"IF(ISERROR(Q614/Y614),\"\",IF(Q614/Y614<=OUTLIERS!$H$3,\"\",IF(Q614/Y614>=OUTLIERS!$H$4,\"\",Q614/Y614)))","v":0.97817872587487831},{"$f":"IF(ISERROR(W614),\"\",IF(W614<=OUTLIERS!$I$3,\"\",IF(W614>=OUTLIERS!$I$4,\"\",W614)))","v":0.4},10370000,6690000,3680000,"n/a",155000,155000,0,1,0,155000,0.4,143929.75,158457.75]
[614,"XPCRPG067A","PPCR","ADB","Adaptation",{"$f":"IF(ISERROR(P615/(M615*S615)),\"\",IF((P615/(M615*S615))<=OUTLIERS!$C$3,\"\",IF((P615/(M615*S615))>=OUTLIERS!$C$4,\"\",P615/(M615*S615))))","v":""},{"$f":"IF(ISERROR(Q615/($M615*T615)),\"\",IF((Q615/($M615*T615))<=OUTLIERS!$D$3,\"\",IF((Q615/($M615*T615))>=OUTLIERS!$D$4,\"\",Q615/($M615*T615))))","v":1.3124339556181755E-3},{"$f":"IF(ISERROR((M615*S615)/P615),\"\",IF((M615*S615/P615)<=OUTLIERS!$E$3,\"\",IF((M615*S615/P615)>=OUTLIERS!$E$4,\"\",M615*S615/P615)))","v":""},{"$f":"IF(ISERROR(O615/N615),\"\",IF(O615/N615<=OUTLIERS!$F$3,\"\",IF(O615/N615>=OUTLIERS!$F$4,\"\",O615/N615)))","v":0.11992110453648915},{"$f":"IF(ISERROR(U615/X615),\"\",IF(U615/X615<=OUTLIERS!$G$3,\"\",IF(U615/X615>=OUTLIERS!$G$4,\"\",U615/X615)))","v":0},{"$f":"IF(ISERROR(Q615/Y615),\"\",IF(Q615/Y615<=OUTLIERS!$H$3,\"\",IF(Q615/Y615>=OUTLIERS!$H$4,\"\",Q615/Y615)))","v":4.5157276029727696E-3},{"$f":"IF(ISERROR(W615),\"\",IF(W615<=OUTLIERS!$I$3,\"\",IF(W615>=OUTLIERS!$I$4,\"\",W615)))","v":0.5},28390000,25350000,3040000,"n/a",37260,37260,0,1,0,37260,0.5,6318241,8251162]
[615,"XPCRPG067B","PPCR","ADB","Adaptation",{"$f":"IF(ISERROR(P616/(M616*S616)),\"\",IF((P616/(M616*S616))<=OUTLIERS!$C$3,\"\",IF((P616/(M616*S616))>=OUTLIERS!$C$4,\"\",P616/(M616*S616))))","v":""},{"$f":"IF(ISERROR(Q616/($M616*T616)),\"\",IF((Q616/($M616*T616))<=OUTLIERS!$D$3,\"\",IF((Q616/($M616*T616))>=OUTLIERS!$D$4,\"\",Q616/($M616*T616))))","v":3.2294343065693433E-2},{"$f":"IF(ISERROR((M616*S616)/P616),\"\",IF((M616*S616/P616)<=OUTLIERS!$E$3,\"\",IF((M616*S616/P616)>=OUTLIERS!$E$4,\"\",M616*S616/P616)))","v":""},{"$f":"IF(ISERROR(O616/N616),\"\",IF(O616/N616<=OUTLIERS!$F$3,\"\",IF(O616/N616>=OUTLIERS!$F$4,\"\",O616/N616)))","v":0.14166666666666666},{"$f":"IF(ISERROR(U616/X616),\"\",IF(U616/X616<=OUTLIERS!$G$3,\"\",IF(U616/X616>=OUTLIERS!$G$4,\"\",U616/X616)))","v":""},{"$f":"IF(ISERROR(Q616/Y616),\"\",IF(Q616/Y616<=OUTLIERS!$H$3,\"\",IF(Q616/Y616>=OUTLIERS!$H$4,\"\",Q616/Y616)))","v":2.144825177350778E-2},{"$f":"IF(ISERROR(W616),\"\",IF(W616<=OUTLIERS!$I$3,\"\",IF(W616>=OUTLIERS!$I$4,\"\",W616)))","v":0.48},5480000,4800000,680000,"n/a",176973,176973,0,1,"n/a",176973,0.48,6318241,8251162]
[616,"XPCRTJ039B","PPCR","WorldBank","Adaptation",{"$f":"IF(ISERROR(P617/(M617*S617)),\"\",IF((P617/(M617*S617))<=OUTLIERS!$C$3,\"\",IF((P617/(M617*S617))>=OUTLIERS!$C$4,\"\",P617/(M617*S617))))","v":""},{"$f":"IF(ISERROR(Q617/($M617*T617)),\"\",IF((Q617/($M617*T617))<=OUTLIERS!$D$3,\"\",IF((Q617/($M617*T617))>=OUTLIERS!$D$4,\"\",Q617/($M617*T617))))","v":3.4751773049645392E-2},{"$f":"IF(ISERROR((M617*S617)/P617),\"\",IF((M617*S617/P617)<=OUTLIERS!$E$3,\"\",IF((M617*S617/P617)>=OUTLIERS!$E$4,\"\",M617*S617/P617)))","v":""},{"$f":"IF(ISERROR(O617/N617),\"\",IF(O617/N617<=OUTLIERS!$F$3,\"\",IF(O617/N617>=OUTLIERS!$F$4,\"\",O617/N617)))","v":1.115},{"$f":"IF(ISERROR(U617/X617),\"\",IF(U617/X617<=OUTLIERS!$G$3,\"\",IF(U617/X617>=OUTLIERS!$G$4,\"\",U617/X617)))","v":0},{"$f":"IF(ISERROR(Q617/Y617),\"\",IF(Q617/Y617<=OUTLIERS!$H$3,\"\",IF(Q617/Y617>=OUTLIERS!$H$4,\"\",Q617/Y617)))","v":1.6477339790657079E-2},{"$f":"IF(ISERROR(W617),\"\",IF(W617<=OUTLIERS!$I$3,\"\",IF(W617>=OUTLIERS!$I$4,\"\",W617)))","v":0.4},4230000,2000000,2230000,"n/a",147000,147000,0,1,0,147000,0.4,5188805,8921343]
[617,"XPCRVC047B","PPCR","WorldBank","Adaptation",{"$f":"IF(ISERROR(P618/(M618*S618)),\"\",IF((P618/(M618*S618))<=OUTLIERS!$C$3,\"\",IF((P618/(M618*S618))>=OUTLIERS!$C$4,\"\",P618/(M618*S618))))","v":""},{"$f":"IF(ISERROR(Q618/($M618*T618)),\"\",IF((Q618/($M618*T618))<=OUTLIERS!$D$3,\"\",IF((Q618/($M618*T618))>=OUTLIERS!$D$4,\"\",Q618/($M618*T618))))","v":1E-3},{"$f":"IF(ISERROR((M618*S618)/P618),\"\",IF((M618*S618/P618)<=OUTLIERS!$E$3,\"\",IF((M618*S618/P618)>=OUTLIERS!$E$4,\"\",M618*S618/P618)))","v":""},{"$f":"IF(ISERROR(O618/N618),\"\",IF(O618/N618<=OUTLIERS!$F$3,\"\",IF(O618/N618>=OUTLIERS!$F$4,\"\",O618/N618)))","v":5.44},{"$f":"IF(ISERROR(U618/X618),\"\",IF(U618/X618<=OUTLIERS!$G$3,\"\",IF(U618/X618>=OUTLIERS!$G$4,\"\",U618/X618)))","v":""},{"$f":"IF(ISERROR(Q618/Y618),\"\",IF(Q618/Y618<=OUTLIERS!$H$3,\"\",IF(Q618/Y618>=OUTLIERS!$H$4,\"\",Q618/Y618)))","v":0.29300162879787439},{"$f":"IF(ISERROR(W618),\"\",IF(W618<=OUTLIERS!$I$3,\"\",IF(W618>=OUTLIERS!$I$4,\"\",W618)))","v":""},32200000,5000000,27200000,"n/a",32200,32200,0,1,"n/a",32200,"n/a",209019,109897]
[618,"XPCRZM074A","PPCR","WorldBank","Adaptation",{"$f":"IF(ISERROR(P619/(M619*S619)),\"\",IF((P619/(M619*S619))<=OUTLIERS!$C$3,\"\",IF((P619/(M619*S619))>=OUTLIERS!$C$4,\"\",P619/(M619*S619))))","v":""},{"$f":"IF(ISERROR(Q619/($M619*T619)),\"\",IF((Q619/($M619*T619))<=OUTLIERS!$D$3,\"\",IF((Q619/($M619*T619))>=OUTLIERS!$D$4,\"\",Q619/($M619*T619))))","v":1.1255411255411255E-3},{"$f":"IF(ISERROR((M619*S619)/P619),\"\",IF((M619*S619/P619)<=OUTLIERS!$E$3,\"\",IF((M619*S619/P619)>=OUTLIERS!$E$4,\"\",M619*S619/P619)))","v":""},{"$f":"IF(ISERROR(O619/N619),\"\",IF(O619/N619<=OUTLIERS!$F$3,\"\",IF(O619/N619>=OUTLIERS!$F$4,\"\",O619/N619)))","v":6.7},{"$f":"IF(ISERROR(U619/X619),\"\",IF(U619/X619<=OUTLIERS!$G$3,\"\",IF(U619/X619>=OUTLIERS!$G$4,\"\",U619/X619)))","v":""},{"$f":"IF(ISERROR(Q619/Y619),\"\",IF(Q619/Y619<=OUTLIERS!$H$3,\"\",IF(Q619/Y619>=OUTLIERS!$H$4,\"\",Q619/Y619)))","v":7.6049497693067734E-3},{"$f":"IF(ISERROR(W619),\"\",IF(W619<=OUTLIERS!$I$3,\"\",IF(W619>=OUTLIERS!$I$4,\"\",W619)))","v":""},115500000,15000000,100500000,"n/a",130000,130000,0,1,"n/a",130000,"n/a",4503076,17094130]
[619,"PSREAM039A","SREP","EBRD","Mitigation",{"$f":"IF(ISERROR(P620/(M620*S620)),\"\",IF((P620/(M620*S620))<=OUTLIERS!$C$3,\"\",IF((P620/(M620*S620))>=OUTLIERS!$C$4,\"\",P620/(M620*S620))))","v":8.3965014577259481E-3},{"$f":"IF(ISERROR(Q620/($M620*T620)),\"\",IF((Q620/($M620*T620))<=OUTLIERS!$D$3,\"\",IF((Q620/($M620*T620))>=OUTLIERS!$D$4,\"\",Q620/($M620*T620))))","v":""},{"$f":"IF(ISERROR((M620*S620)/P620),\"\",IF((M620*S620/P620)<=OUTLIERS!$E$3,\"\",IF((M620*S620/P620)>=OUTLIERS!$E$4,\"\",M620*S620/P620)))","v":119.09722222222223},{"$f":"IF(ISERROR(O620/N620),\"\",IF(O620/N620<=OUTLIERS!$F$3,\"\",IF(O620/N620>=OUTLIERS!$F$4,\"\",O620/N620)))","v":4.4444444444444446},{"$f":"IF(ISERROR(U620/X620),\"\",IF(U620/X620<=OUTLIERS!$G$3,\"\",IF(U620/X620>=OUTLIERS!$G$4,\"\",U620/X620)))","v":1.3020277635720119E-3},{"$f":"IF(ISERROR(Q620/Y620),\"\",IF(Q620/Y620<=OUTLIERS!$H$3,\"\",IF(Q620/Y620>=OUTLIERS!$H$4,\"\",Q620/Y620)))","v":""},{"$f":"IF(ISERROR(W620),\"\",IF(W620<=OUTLIERS!$I$3,\"\",IF(W620>=OUTLIERS!$I$4,\"\",W620)))","v":0.55555555555555558},17150000,3150000,14000000,144000,"",9000,1,0,7200,9000,0.55555555555555558,5529836,2930450]
[620,"PSREET003A","SREP","IFC","Mitigation",{"$f":"IF(ISERROR(P621/(M621*S621)),\"\",IF((P621/(M621*S621))<=OUTLIERS!$C$3,\"\",IF((P621/(M621*S621))>=OUTLIERS!$C$4,\"\",P621/(M621*S621))))","v":""},{"$f":"IF(ISERROR(Q621/($M621*T621)),\"\",IF((Q621/($M621*T621))<=OUTLIERS!$D$3,\"\",IF((Q621/($M621*T621))>=OUTLIERS!$D$4,\"\",Q621/($M621*T621))))","v":""},{"$f":"IF(ISERROR((M621*S621)/P621),\"\",IF((M621*S621/P621)<=OUTLIERS!$E$3,\"\",IF((M621*S621/P621)>=OUTLIERS!$E$4,\"\",M621*S621/P621)))","v":""},{"$f":"IF(ISERROR(O621/N621),\"\",IF(O621/N621<=OUTLIERS!$F$3,\"\",IF(O621/N621>=OUTLIERS!$F$4,\"\",O621/N621)))","v":0.33333333333333331},{"$f":"IF(ISERROR(U621/X621),\"\",IF(U621/X621<=OUTLIERS!$G$3,\"\",IF(U621/X621>=OUTLIERS!$G$4,\"\",U621/X621)))","v":""},{"$f":"IF(ISERROR(Q621/Y621),\"\",IF(Q621/Y621<=OUTLIERS!$H$3,\"\",IF(Q621/Y621>=OUTLIERS!$H$4,\"\",Q621/Y621)))","v":""},{"$f":"IF(ISERROR(W621),\"\",IF(W621<=OUTLIERS!$I$3,\"\",IF(W621>=OUTLIERS!$I$4,\"\",W621)))","v":""},2000000,1500000,500000,"n/a","","",1,0,"n/a","n/a","n/a",11598721,104957438]
[621,"PSREET005A","SREP","IFC","Mitigation",{"$f":"IF(ISERROR(P622/(M622*S622)),\"\",IF((P622/(M622*S622))<=OUTLIERS!$C$3,\"\",IF((P622/(M622*S622))>=OUTLIERS!$C$4,\"\",P622/(M622*S622))))","v":""},{"$f":"IF(ISERROR(Q622/($M622*T622)),\"\",IF((Q622/($M622*T622))<=OUTLIERS!$D$3,\"\",IF((Q622/($M622*T622))>=OUTLIERS!$D$4,\"\",Q622/($M622*T622))))","v":""},{"$f":"IF(ISERROR((M622*S622)/P622),\"\",IF((M622*S622/P622)<=OUTLIERS!$E$3,\"\",IF((M622*S622/P622)>=OUTLIERS!$E$4,\"\",M622*S622/P622)))","v":""},{"$f":"IF(ISERROR(O622/N622),\"\",IF(O622/N622<=OUTLIERS!$F$3,\"\",IF(O622/N622>=OUTLIERS!$F$4,\"\",O622/N622)))","v":0.32500000000000001},{"$f":"IF(ISERROR(U622/X622),\"\",IF(U622/X622<=OUTLIERS!$G$3,\"\",IF(U622/X622>=OUTLIERS!$G$4,\"\",U622/X622)))","v":3.4486561061344611E-3},{"$f":"IF(ISERROR(Q622/Y622),\"\",IF(Q622/Y622<=OUTLIERS!$H$3,\"\",IF(Q622/Y622>=OUTLIERS!$H$4,\"\",Q622/Y622)))","v":""},{"$f":"IF(ISERROR(W622),\"\",IF(W622<=OUTLIERS!$I$3,\"\",IF(W622>=OUTLIERS!$I$4,\"\",W622)))","v":0.4},2650000,2000000,650000,"n/a","",2000000,1,0,40000,2000000,0.4,11598721,104957438]
[622,"PSREHN008A","SREP","ADB","Mitigation",{"$f":"IF(ISERROR(P623/(M623*S623)),\"\",IF((P623/(M623*S623))<=OUTLIERS!$C$3,\"\",IF((P623/(M623*S623))>=OUTLIERS!$C$4,\"\",P623/(M623*S623))))","v":""},{"$f":"IF(ISERROR(Q623/($M623*T623)),\"\",IF((Q623/($M623*T623))<=OUTLIERS!$D$3,\"\",IF((Q623/($M623*T623))>=OUTLIERS!$D$4,\"\",Q623/($M623*T623))))","v":""},{"$f":"IF(ISERROR((M623*S623)/P623),\"\",IF((M623*S623/P623)<=OUTLIERS!$E$3,\"\",IF((M623*S623/P623)>=OUTLIERS!$E$4,\"\",M623*S623/P623)))","v":""},{"$f":"IF(ISERROR(O623/N623),\"\",IF(O623/N623<=OUTLIERS!$F$3,\"\",IF(O623/N623>=OUTLIERS!$F$4,\"\",O623/N623)))","v":3.6474164133738602},{"$f":"IF(ISERROR(U623/X623),\"\",IF(U623/X623<=OUTLIERS!$G$3,\"\",IF(U623/X623>=OUTLIERS!$G$4,\"\",U623/X623)))","v":""},{"$f":"IF(ISERROR(Q623/Y623),\"\",IF(Q623/Y623<=OUTLIERS!$H$3,\"\",IF(Q623/Y623>=OUTLIERS!$H$4,\"\",Q623/Y623)))","v":""},{"$f":"IF(ISERROR(W623),\"\",IF(W623<=OUTLIERS!$I$3,\"\",IF(W623>=OUTLIERS!$I$4,\"\",W623)))","v":""},30580000,6580000,24000000,"n/a","","",1,0,"n/a","n/a","n/a",9471861,9265067]
[623,"PSREHN501A","SREP","IDB","Mitigation",{"$f":"IF(ISERROR(P624/(M624*S624)),\"\",IF((P624/(M624*S624))<=OUTLIERS!$C$3,\"\",IF((P624/(M624*S624))>=OUTLIERS!$C$4,\"\",P624/(M624*S624))))","v":""},{"$f":"IF(ISERROR(Q624/($M624*T624)),\"\",IF((Q624/($M624*T624))<=OUTLIERS!$D$3,\"\",IF((Q624/($M624*T624))>=OUTLIERS!$D$4,\"\",Q624/($M624*T624))))","v":""},{"$f":"IF(ISERROR((M624*S624)/P624),\"\",IF((M624*S624/P624)<=OUTLIERS!$E$3,\"\",IF((M624*S624/P624)>=OUTLIERS!$E$4,\"\",M624*S624/P624)))","v":""},{"$f":"IF(ISERROR(O624/N624),\"\",IF(O624/N624<=OUTLIERS!$F$3,\"\",IF(O624/N624>=OUTLIERS!$F$4,\"\",O624/N624)))","v":1.5345268542199488},{"$f":"IF(ISERROR(U624/X624),\"\",IF(U624/X624<=OUTLIERS!$G$3,\"\",IF(U624/X624>=OUTLIERS!$G$4,\"\",U624/X624)))","v":""},{"$f":"IF(ISERROR(Q624/Y624),\"\",IF(Q624/Y624<=OUTLIERS!$H$3,\"\",IF(Q624/Y624>=OUTLIERS!$H$4,\"\",Q624/Y624)))","v":""},{"$f":"IF(ISERROR(W624),\"\",IF(W624<=OUTLIERS!$I$3,\"\",IF(W624>=OUTLIERS!$I$4,\"\",W624)))","v":""},39640000,15640000,24000000,"n/a","","",1,0,"n/a","n/a","n/a",9471861,9265067]
[624,"PSREHN603A","SREP","IDB","Mitigation",{"$f":"IF(ISERROR(P625/(M625*S625)),\"\",IF((P625/(M625*S625))<=OUTLIERS!$C$3,\"\",IF((P625/(M625*S625))>=OUTLIERS!$C$4,\"\",P625/(M625*S625))))","v":1.7417809710428913E-2},{"$f":"IF(ISERROR(Q625/($M625*T625)),\"\",IF((Q625/($M625*T625))<=OUTLIERS!$D$3,\"\",IF((Q625/($M625*T625))>=OUTLIERS!$D$4,\"\",Q625/($M625*T625))))","v":""},{"$f":"IF(ISERROR((M625*S625)/P625),\"\",IF((M625*S625/P625)<=OUTLIERS!$E$3,\"\",IF((M625*S625/P625)>=OUTLIERS!$E$4,\"\",M625*S625/P625)))","v":57.412500000000001},{"$f":"IF(ISERROR(O625/N625),\"\",IF(O625/N625<=OUTLIERS!$F$3,\"\",IF(O625/N625>=OUTLIERS!$F$4,\"\",O625/N625)))","v":6.7453625632377738},{"$f":"IF(ISERROR(U625/X625),\"\",IF(U625/X625<=OUTLIERS!$G$3,\"\",IF(U625/X625>=OUTLIERS!$G$4,\"\",U625/X625)))","v":4.223034945297445E-3},{"$f":"IF(ISERROR(Q625/Y625),\"\",IF(Q625/Y625<=OUTLIERS!$H$3,\"\",IF(Q625/Y625>=OUTLIERS!$H$4,\"\",Q625/Y625)))","v":""},{"$f":"IF(ISERROR(W625),\"\",IF(W625<=OUTLIERS!$I$3,\"\",IF(W625>=OUTLIERS!$I$4,\"\",W625)))","v":""},45930000,5930000,40000000,800000,"","",1,0,40000,"n/a","n/a",9471861,9265067]
[625,"PSREML502A","SREP","AfDB","Mitigation",{"$f":"IF(ISERROR(P626/(M626*S626)),\"\",IF((P626/(M626*S626))<=OUTLIERS!$C$3,\"\",IF((P626/(M626*S626))>=OUTLIERS!$C$4,\"\",P626/(M626*S626))))","v":5.0970152707080054E-3},{"$f":"IF(ISERROR(Q626/($M626*T626)),\"\",IF((Q626/($M626*T626))<=OUTLIERS!$D$3,\"\",IF((Q626/($M626*T626))>=OUTLIERS!$D$4,\"\",Q626/($M626*T626))))","v":""},{"$f":"IF(ISERROR((M626*S626)/P626),\"\",IF((M626*S626/P626)<=OUTLIERS!$E$3,\"\",IF((M626*S626/P626)>=OUTLIERS!$E$4,\"\",M626*S626/P626)))","v":196.19325171476171},{"$f":"IF(ISERROR(O626/N626),\"\",IF(O626/N626<=OUTLIERS!$F$3,\"\",IF(O626/N626>=OUTLIERS!$F$4,\"\",O626/N626)))","v":0.7042586750788643},{"$f":"IF(ISERROR(U626/X626),\"\",IF(U626/X626<=OUTLIERS!$G$3,\"\",IF(U626/X626>=OUTLIERS!$G$4,\"\",U626/X626)))","v":6.2409910787331021E-3},{"$f":"IF(ISERROR(Q626/Y626),\"\",IF(Q626/Y626<=OUTLIERS!$H$3,\"\",IF(Q626/Y626>=OUTLIERS!$H$4,\"\",Q626/Y626)))","v":""},{"$f":"IF(ISERROR(W626),\"\",IF(W626<=OUTLIERS!$I$3,\"\",IF(W626>=OUTLIERS!$I$4,\"\",W626)))","v":0.51607963246554367},43220000,25360000,17860000,220293,"",326500,1,0,8811,326500,0.51607963246554367,1411795,18541980]
[626,"PSRETZ029A","SREP","IFC","Mitigation",{"$f":"IF(ISERROR(P627/(M627*S627)),\"\",IF((P627/(M627*S627))<=OUTLIERS!$C$3,\"\",IF((P627/(M627*S627))>=OUTLIERS!$C$4,\"\",P627/(M627*S627))))","v":2.9702970297029702E-2},{"$f":"IF(ISERROR(Q627/($M627*T627)),\"\",IF((Q627/($M627*T627))<=OUTLIERS!$D$3,\"\",IF((Q627/($M627*T627))>=OUTLIERS!$D$4,\"\",Q627/($M627*T627))))","v":""},{"$f":"IF(ISERROR((M627*S627)/P627),\"\",IF((M627*S627/P627)<=OUTLIERS!$E$3,\"\",IF((M627*S627/P627)>=OUTLIERS!$E$4,\"\",M627*S627/P627)))","v":33.666666666666664},{"$f":"IF(ISERROR(O627/N627),\"\",IF(O627/N627<=OUTLIERS!$F$3,\"\",IF(O627/N627>=OUTLIERS!$F$4,\"\",O627/N627)))","v":2.0202020202020204E-2},{"$f":"IF(ISERROR(U627/X627),\"\",IF(U627/X627<=OUTLIERS!$G$3,\"\",IF(U627/X627>=OUTLIERS!$G$4,\"\",U627/X627)))","v":2.5946953529265701E-3},{"$f":"IF(ISERROR(Q627/Y627),\"\",IF(Q627/Y627<=OUTLIERS!$H$3,\"\",IF(Q627/Y627>=OUTLIERS!$H$4,\"\",Q627/Y627)))","v":""},{"$f":"IF(ISERROR(W627),\"\",IF(W627<=OUTLIERS!$I$3,\"\",IF(W627>=OUTLIERS!$I$4,\"\",W627)))","v":""},5050000,4950000,100000,150000,"",67375,1,0,30000,67375,"n/a",11562051,57310019]
[627,"XSERMN056A","SREP","WorldBank","Mitigation",{"$f":"IF(ISERROR(P628/(M628*S628)),\"\",IF((P628/(M628*S628))<=OUTLIERS!$C$3,\"\",IF((P628/(M628*S628))>=OUTLIERS!$C$4,\"\",P628/(M628*S628))))","v":""},{"$f":"IF(ISERROR(Q628/($M628*T628)),\"\",IF((Q628/($M628*T628))<=OUTLIERS!$D$3,\"\",IF((Q628/($M628*T628))>=OUTLIERS!$D$4,\"\",Q628/($M628*T628))))","v":""},{"$f":"IF(ISERROR((M628*S628)/P628),\"\",IF((M628*S628/P628)<=OUTLIERS!$E$3,\"\",IF((M628*S628/P628)>=OUTLIERS!$E$4,\"\",M628*S628/P628)))","v":""},{"$f":"IF(ISERROR(O628/N628),\"\",IF(O628/N628<=OUTLIERS!$F$3,\"\",IF(O628/N628>=OUTLIERS!$F$4,\"\",O628/N628)))","v":0.97352024922118385},{"$f":"IF(ISERROR(U628/X628),\"\",IF(U628/X628<=OUTLIERS!$G$3,\"\",IF(U628/X628>=OUTLIERS!$G$4,\"\",U628/X628)))","v":""},{"$f":"IF(ISERROR(Q628/Y628),\"\",IF(Q628/Y628<=OUTLIERS!$H$3,\"\",IF(Q628/Y628>=OUTLIERS!$H$4,\"\",Q628/Y628)))","v":""},{"$f":"IF(ISERROR(W628),\"\",IF(W628<=OUTLIERS!$I$3,\"\",IF(W628>=OUTLIERS!$I$4,\"\",W628)))","v":""},25340000,12840000,12500000,"n/a","","",1,0,"n/a","n/a","n/a",20839561,3075647]
[628,"XSREAM034A","SREP","WorldBank","Mitigation",{"$f":"IF(ISERROR(P629/(M629*S629)),\"\",IF((P629/(M629*S629))<=OUTLIERS!$C$3,\"\",IF((P629/(M629*S629))>=OUTLIERS!$C$4,\"\",P629/(M629*S629))))","v":4.4655904842820733E-2},{"$f":"IF(ISERROR(Q629/($M629*T629)),\"\",IF((Q629/($M629*T629))<=OUTLIERS!$D$3,\"\",IF((Q629/($M629*T629))>=OUTLIERS!$D$4,\"\",Q629/($M629*T629))))","v":""},{"$f":"IF(ISERROR((M629*S629)/P629),\"\",IF((M629*S629/P629)<=OUTLIERS!$E$3,\"\",IF((M629*S629/P629)>=OUTLIERS!$E$4,\"\",M629*S629/P629)))","v":22.393455098934552},{"$f":"IF(ISERROR(O629/N629),\"\",IF(O629/N629<=OUTLIERS!$F$3,\"\",IF(O629/N629>=OUTLIERS!$F$4,\"\",O629/N629)))","v":11.934065934065934},{"$f":"IF(ISERROR(U629/X629),\"\",IF(U629/X629<=OUTLIERS!$G$3,\"\",IF(U629/X629>=OUTLIERS!$G$4,\"\",U629/X629)))","v":3.0018973437910275E-2},{"$f":"IF(ISERROR(Q629/Y629),\"\",IF(Q629/Y629<=OUTLIERS!$H$3,\"\",IF(Q629/Y629>=OUTLIERS!$H$4,\"\",Q629/Y629)))","v":""},{"$f":"IF(ISERROR(W629),\"\",IF(W629<=OUTLIERS!$I$3,\"\",IF(W629>=OUTLIERS!$I$4,\"\",W629)))","v":""},{"$f":"N629+O629","v":117700000},9100000,108600000,5256000,"","",1,0,166000,"n/a","n/a",5529836,2930450]
[629,"XSREAM035A","SREP","WorldBank","Mitigation",{"$f":"IF(ISERROR(P630/(M630*S630)),\"\",IF((P630/(M630*S630))<=OUTLIERS!$C$3,\"\",IF((P630/(M630*S630))>=OUTLIERS!$C$4,\"\",P630/(M630*S630))))","v":1.1481432882823776E-2},{"$f":"IF(ISERROR(Q630/($M630*T630)),\"\",IF((Q630/($M630*T630))<=OUTLIERS!$D$3,\"\",IF((Q630/($M630*T630))>=OUTLIERS!$D$4,\"\",Q630/($M630*T630))))","v":""},{"$f":"IF(ISERROR((M630*S630)/P630),\"\",IF((M630*S630/P630)<=OUTLIERS!$E$3,\"\",IF((M630*S630/P630)>=OUTLIERS!$E$4,\"\",M630*S630/P630)))","v":87.097142857142856},{"$f":"IF(ISERROR(O630/N630),\"\",IF(O630/N630<=OUTLIERS!$F$3,\"\",IF(O630/N630>=OUTLIERS!$F$4,\"\",O630/N630)))","v":4.3631245601688953},{"$f":"IF(ISERROR(U630/X630),\"\",IF(U630/X630<=OUTLIERS!$G$3,\"\",IF(U630/X630>=OUTLIERS!$G$4,\"\",U630/X630)))","v":1.5823254071187644E-2},{"$f":"IF(ISERROR(Q630/Y630),\"\",IF(Q630/Y630<=OUTLIERS!$H$3,\"\",IF(Q630/Y630>=OUTLIERS!$H$4,\"\",Q630/Y630)))","v":""},{"$f":"IF(ISERROR(W630),\"\",IF(W630<=OUTLIERS!$I$3,\"\",IF(W630>=OUTLIERS!$I$4,\"\",W630)))","v":0.54},152420000,28420000,124000000,1750000,"",3000000,1,0,87500,3000000,0.54,5529836,2930450]
[630,"XSREBD076A","SREP","WorldBank","Mitigation",{"$f":"IF(ISERROR(P631/(M631*S631)),\"\",IF((P631/(M631*S631))<=OUTLIERS!$C$3,\"\",IF((P631/(M631*S631))>=OUTLIERS!$C$4,\"\",P631/(M631*S631))))","v":1.3234579331095939E-2},{"$f":"IF(ISERROR(Q631/($M631*T631)),\"\",IF((Q631/($M631*T631))<=OUTLIERS!$D$3,\"\",IF((Q631/($M631*T631))>=OUTLIERS!$D$4,\"\",Q631/($M631*T631))))","v":""},{"$f":"IF(ISERROR((M631*S631)/P631),\"\",IF((M631*S631/P631)<=OUTLIERS!$E$3,\"\",IF((M631*S631/P631)>=OUTLIERS!$E$4,\"\",M631*S631/P631)))","v":75.559636236446309},{"$f":"IF(ISERROR(O631/N631),\"\",IF(O631/N631<=OUTLIERS!$F$3,\"\",IF(O631/N631>=OUTLIERS!$F$4,\"\",O631/N631)))","v":13.620981387478849},{"$f":"IF(ISERROR(U631/X631),\"\",IF(U631/X631<=OUTLIERS!$G$3,\"\",IF(U631/X631>=OUTLIERS!$G$4,\"\",U631/X631)))","v":""},{"$f":"IF(ISERROR(Q631/Y631),\"\",IF(Q631/Y631<=OUTLIERS!$H$3,\"\",IF(Q631/Y631>=OUTLIERS!$H$4,\"\",Q631/Y631)))","v":""},{"$f":"IF(ISERROR(W631),\"\",IF(W631<=OUTLIERS!$I$3,\"\",IF(W631>=OUTLIERS!$I$4,\"\",W631)))","v":""},432050000,29550000,402500000,5718000,"","",1,0,"n/a","n/a","n/a",73189653,164669751]
[631,"XSREET001A","SREP","WorldBank","Mitigation",{"$f":"IF(ISERROR(P632/(M632*S632)),\"\",IF((P632/(M632*S632))<=OUTLIERS!$C$3,\"\",IF((P632/(M632*S632))>=OUTLIERS!$C$4,\"\",P632/(M632*S632))))","v":4.0014795871769114E-2},{"$f":"IF(ISERROR(Q632/($M632*T632)),\"\",IF((Q632/($M632*T632))<=OUTLIERS!$D$3,\"\",IF((Q632/($M632*T632))>=OUTLIERS!$D$4,\"\",Q632/($M632*T632))))","v":""},{"$f":"IF(ISERROR((M632*S632)/P632),\"\",IF((M632*S632/P632)<=OUTLIERS!$E$3,\"\",IF((M632*S632/P632)>=OUTLIERS!$E$4,\"\",M632*S632/P632)))","v":24.990755999470466},{"$f":"IF(ISERROR(O632/N632),\"\",IF(O632/N632<=OUTLIERS!$F$3,\"\",IF(O632/N632>=OUTLIERS!$F$4,\"\",O632/N632)))","v":7.7662129703763014},{"$f":"IF(ISERROR(U632/X632),\"\",IF(U632/X632<=OUTLIERS!$G$3,\"\",IF(U632/X632>=OUTLIERS!$G$4,\"\",U632/X632)))","v":3.777330276329606E-2},{"$f":"IF(ISERROR(Q632/Y632),\"\",IF(Q632/Y632<=OUTLIERS!$H$3,\"\",IF(Q632/Y632>=OUTLIERS!$H$4,\"\",Q632/Y632)))","v":""},{"$f":"IF(ISERROR(W632),\"\",IF(W632<=OUTLIERS!$I$3,\"\",IF(W632>=OUTLIERS!$I$4,\"\",W632)))","v":""},218980000,24980000,194000000,8762440,"",1100000,1,0,438122,1100000,"n/a",11598721,104957438]
[632,"XSREHN007A","SREP","IDB","Mitigation",{"$f":"IF(ISERROR(P633/(M633*S633)),\"\",IF((P633/(M633*S633))<=OUTLIERS!$C$3,\"\",IF((P633/(M633*S633))>=OUTLIERS!$C$4,\"\",P633/(M633*S633))))","v":0.13890675241157557},{"$f":"IF(ISERROR(Q633/($M633*T633)),\"\",IF((Q633/($M633*T633))<=OUTLIERS!$D$3,\"\",IF((Q633/($M633*T633))>=OUTLIERS!$D$4,\"\",Q633/($M633*T633))))","v":""},{"$f":"IF(ISERROR((M633*S633)/P633),\"\",IF((M633*S633/P633)<=OUTLIERS!$E$3,\"\",IF((M633*S633/P633)>=OUTLIERS!$E$4,\"\",M633*S633/P633)))","v":7.1990740740740744},{"$f":"IF(ISERROR(O633/N633),\"\",IF(O633/N633<=OUTLIERS!$F$3,\"\",IF(O633/N633>=OUTLIERS!$F$4,\"\",O633/N633)))","v":9.0322580645161299},{"$f":"IF(ISERROR(U633/X633),\"\",IF(U633/X633<=OUTLIERS!$G$3,\"\",IF(U633/X633>=OUTLIERS!$G$4,\"\",U633/X633)))","v":5.7010971761515504E-2},{"$f":"IF(ISERROR(Q633/Y633),\"\",IF(Q633/Y633<=OUTLIERS!$H$3,\"\",IF(Q633/Y633>=OUTLIERS!$H$4,\"\",Q633/Y633)))","v":""},{"$f":"IF(ISERROR(W633),\"\",IF(W633<=OUTLIERS!$I$3,\"\",IF(W633>=OUTLIERS!$I$4,\"\",W633)))","v":""},77750000,7750000,70000000,10800000,"","",1,0,540000,"n/a","n/a",9471861,9265067]
[633,"XSREHN010A","SREP","IDB","Mitigation",{"$f":"IF(ISERROR(P634/(M634*S634)),\"\",IF((P634/(M634*S634))<=OUTLIERS!$C$3,\"\",IF((P634/(M634*S634))>=OUTLIERS!$C$4,\"\",P634/(M634*S634))))","v":6.3205417607223478E-3},{"$f":"IF(ISERROR(Q634/($M634*T634)),\"\",IF((Q634/($M634*T634))<=OUTLIERS!$D$3,\"\",IF((Q634/($M634*T634))>=OUTLIERS!$D$4,\"\",Q634/($M634*T634))))","v":""},{"$f":"IF(ISERROR((M634*S634)/P634),\"\",IF((M634*S634/P634)<=OUTLIERS!$E$3,\"\",IF((M634*S634/P634)>=OUTLIERS!$E$4,\"\",M634*S634/P634)))","v":158.21428571428572},{"$f":"IF(ISERROR(O634/N634),\"\",IF(O634/N634<=OUTLIERS!$F$3,\"\",IF(O634/N634>=OUTLIERS!$F$4,\"\",O634/N634)))","v":0.22038567493112948},{"$f":"IF(ISERROR(U634/X634),\"\",IF(U634/X634<=OUTLIERS!$G$3,\"\",IF(U634/X634>=OUTLIERS!$G$4,\"\",U634/X634)))","v":2.9561244617082116E-4},{"$f":"IF(ISERROR(Q634/Y634),\"\",IF(Q634/Y634<=OUTLIERS!$H$3,\"\",IF(Q634/Y634>=OUTLIERS!$H$4,\"\",Q634/Y634)))","v":""},{"$f":"IF(ISERROR(W634),\"\",IF(W634<=OUTLIERS!$I$3,\"\",IF(W634>=OUTLIERS!$I$4,\"\",W634)))","v":0.5},8860000,7260000,1600000,56000,"",20300,1,0,2800,20300,0.5,9471861,9265067]
[634,"XSREHN079A","SREP","IDB","Mitigation",{"$f":"IF(ISERROR(P635/(M635*S635)),\"\",IF((P635/(M635*S635))<=OUTLIERS!$C$3,\"\",IF((P635/(M635*S635))>=OUTLIERS!$C$4,\"\",P635/(M635*S635))))","v":6.0645161290322578E-3},{"$f":"IF(ISERROR(Q635/($M635*T635)),\"\",IF((Q635/($M635*T635))<=OUTLIERS!$D$3,\"\",IF((Q635/($M635*T635))>=OUTLIERS!$D$4,\"\",Q635/($M635*T635))))","v":""},{"$f":"IF(ISERROR((M635*S635)/P635),\"\",IF((M635*S635/P635)<=OUTLIERS!$E$3,\"\",IF((M635*S635/P635)>=OUTLIERS!$E$4,\"\",M635*S635/P635)))","v":164.89361702127658},{"$f":"IF(ISERROR(O635/N635),\"\",IF(O635/N635<=OUTLIERS!$F$3,\"\",IF(O635/N635>=OUTLIERS!$F$4,\"\",O635/N635)))","v":30},{"$f":"IF(ISERROR(U635/X635),\"\",IF(U635/X635<=OUTLIERS!$G$3,\"\",IF(U635/X635>=OUTLIERS!$G$4,\"\",U635/X635)))","v":4.9620660607244977E-3},{"$f":"IF(ISERROR(Q635/Y635),\"\",IF(Q635/Y635<=OUTLIERS!$H$3,\"\",IF(Q635/Y635>=OUTLIERS!$H$4,\"\",Q635/Y635)))","v":""},{"$f":"IF(ISERROR(W635),\"\",IF(W635<=OUTLIERS!$I$3,\"\",IF(W635>=OUTLIERS!$I$4,\"\",W635)))","v":""},155000000,5000000,150000000,940000,"","",1,0,47000,"n/a","n/a",9471861,9265067]
[635,"XSREHT047A","SREP","WorldBank","Mitigation",{"$f":"IF(ISERROR(P636/(M636*S636)),\"\",IF((P636/(M636*S636))<=OUTLIERS!$C$3,\"\",IF((P636/(M636*S636))>=OUTLIERS!$C$4,\"\",P636/(M636*S636))))","v":""},{"$f":"IF(ISERROR(Q636/($M636*T636)),\"\",IF((Q636/($M636*T636))<=OUTLIERS!$D$3,\"\",IF((Q636/($M636*T636))>=OUTLIERS!$D$4,\"\",Q636/($M636*T636))))","v":""},{"$f":"IF(ISERROR((M636*S636)/P636),\"\",IF((M636*S636/P636)<=OUTLIERS!$E$3,\"\",IF((M636*S636/P636)>=OUTLIERS!$E$4,\"\",M636*S636/P636)))","v":""},{"$f":"IF(ISERROR(O636/N636),\"\",IF(O636/N636<=OUTLIERS!$F$3,\"\",IF(O636/N636>=OUTLIERS!$F$4,\"\",O636/N636)))","v":6.6850828729281764},{"$f":"IF(ISERROR(U636/X636),\"\",IF(U636/X636<=OUTLIERS!$G$3,\"\",IF(U636/X636>=OUTLIERS!$G$4,\"\",U636/X636)))","v":""},{"$f":"IF(ISERROR(Q636/Y636),\"\",IF(Q636/Y636<=OUTLIERS!$H$3,\"\",IF(Q636/Y636>=OUTLIERS!$H$4,\"\",Q636/Y636)))","v":""},{"$f":"IF(ISERROR(W636),\"\",IF(W636<=OUTLIERS!$I$3,\"\",IF(W636>=OUTLIERS!$I$4,\"\",W636)))","v":""},69550000,9050000,60500000,"n/a","",344000,1,0,"n/a",344000,"n/a",2860260,10981229]
[636,"XSREHT050A","SREP","WorldBank","Mitigation",{"$f":"IF(ISERROR(P637/(M637*S637)),\"\",IF((P637/(M637*S637))<=OUTLIERS!$C$3,\"\",IF((P637/(M637*S637))>=OUTLIERS!$C$4,\"\",P637/(M637*S637))))","v":""},{"$f":"IF(ISERROR(Q637/($M637*T637)),\"\",IF((Q637/($M637*T637))<=OUTLIERS!$D$3,\"\",IF((Q637/($M637*T637))>=OUTLIERS!$D$4,\"\",Q637/($M637*T637))))","v":""},{"$f":"IF(ISERROR((M637*S637)/P637),\"\",IF((M637*S637/P637)<=OUTLIERS!$E$3,\"\",IF((M637*S637/P637)>=OUTLIERS!$E$4,\"\",M637*S637/P637)))","v":""},{"$f":"IF(ISERROR(O637/N637),\"\",IF(O637/N637<=OUTLIERS!$F$3,\"\",IF(O637/N637>=OUTLIERS!$F$4,\"\",O637/N637)))","v":0.39370078740157483},{"$f":"IF(ISERROR(U637/X637),\"\",IF(U637/X637<=OUTLIERS!$G$3,\"\",IF(U637/X637>=OUTLIERS!$G$4,\"\",U637/X637)))","v":""},{"$f":"IF(ISERROR(Q637/Y637),\"\",IF(Q637/Y637<=OUTLIERS!$H$3,\"\",IF(Q637/Y637>=OUTLIERS!$H$4,\"\",Q637/Y637)))","v":""},{"$f":"IF(ISERROR(W637),\"\",IF(W637<=OUTLIERS!$I$3,\"\",IF(W637>=OUTLIERS!$I$4,\"\",W637)))","v":""},15930000,11430000,4500000,"n/a","",100000,1,0,"n/a",100000,"n/a",2860260,10981229]
[637,"XSREKE014A","SREP","WorldBank","Mitigation",{"$f":"IF(ISERROR(P638/(M638*S638)),\"\",IF((P638/(M638*S638))<=OUTLIERS!$C$3,\"\",IF((P638/(M638*S638))>=OUTLIERS!$C$4,\"\",P638/(M638*S638))))","v":""},{"$f":"IF(ISERROR(Q638/($M638*T638)),\"\",IF((Q638/($M638*T638))<=OUTLIERS!$D$3,\"\",IF((Q638/($M638*T638))>=OUTLIERS!$D$4,\"\",Q638/($M638*T638))))","v":""},{"$f":"IF(ISERROR((M638*S638)/P638),\"\",IF((M638*S638/P638)<=OUTLIERS!$E$3,\"\",IF((M638*S638/P638)>=OUTLIERS!$E$4,\"\",M638*S638/P638)))","v":""},{"$f":"IF(ISERROR(O638/N638),\"\",IF(O638/N638<=OUTLIERS!$F$3,\"\",IF(O638/N638>=OUTLIERS!$F$4,\"\",O638/N638)))","v":1.6645649432534679},{"$f":"IF(ISERROR(U638/X638),\"\",IF(U638/X638<=OUTLIERS!$G$3,\"\",IF(U638/X638>=OUTLIERS!$G$4,\"\",U638/X638)))","v":5.7487307015397324E-5},{"$f":"IF(ISERROR(Q638/Y638),\"\",IF(Q638/Y638<=OUTLIERS!$H$3,\"\",IF(Q638/Y638>=OUTLIERS!$H$4,\"\",Q638/Y638)))","v":""},{"$f":"IF(ISERROR(W638),\"\",IF(W638<=OUTLIERS!$I$3,\"\",IF(W638>=OUTLIERS!$I$4,\"\",W638)))","v":0.5},21130000,7930000,13200000,16426,"",13500,1,0,821.3,13500,0.5,14286632,49699862]
[638,"XSREKH077A","SREP","ADB","Mitigation",{"$f":"IF(ISERROR(P639/(M639*S639)),\"\",IF((P639/(M639*S639))<=OUTLIERS!$C$3,\"\",IF((P639/(M639*S639))>=OUTLIERS!$C$4,\"\",P639/(M639*S639))))","v":0.10985352862849534},{"$f":"IF(ISERROR(Q639/($M639*T639)),\"\",IF((Q639/($M639*T639))<=OUTLIERS!$D$3,\"\",IF((Q639/($M639*T639))>=OUTLIERS!$D$4,\"\",Q639/($M639*T639))))","v":""},{"$f":"IF(ISERROR((M639*S639)/P639),\"\",IF((M639*S639/P639)<=OUTLIERS!$E$3,\"\",IF((M639*S639/P639)>=OUTLIERS!$E$4,\"\",M639*S639/P639)))","v":9.1030303030303035},{"$f":"IF(ISERROR(O639/N639),\"\",IF(O639/N639<=OUTLIERS!$F$3,\"\",IF(O639/N639>=OUTLIERS!$F$4,\"\",O639/N639)))","v":1.4950166112956811},{"$f":"IF(ISERROR(U639/X639),\"\",IF(U639/X639<=OUTLIERS!$G$3,\"\",IF(U639/X639>=OUTLIERS!$G$4,\"\",U639/X639)))","v":2.4682341998231546E-2},{"$f":"IF(ISERROR(Q639/Y639),\"\",IF(Q639/Y639<=OUTLIERS!$H$3,\"\",IF(Q639/Y639>=OUTLIERS!$H$4,\"\",Q639/Y639)))","v":""},{"$f":"IF(ISERROR(W639),\"\",IF(W639<=OUTLIERS!$I$3,\"\",IF(W639>=OUTLIERS!$I$4,\"\",W639)))","v":0.51500000000000001},37550000,15050000,22500000,4125000,"",500000,1,0,165000,500000,0.51500000000000001,6684941,16005373]
[639,"XSRELR031A","SREP","WorldBank","Mitigation",{"$f":"IF(ISERROR(P640/(M640*S640)),\"\",IF((P640/(M640*S640))<=OUTLIERS!$C$3,\"\",IF((P640/(M640*S640))>=OUTLIERS!$C$4,\"\",P640/(M640*S640))))","v":""},{"$f":"IF(ISERROR(Q640/($M640*T640)),\"\",IF((Q640/($M640*T640))<=OUTLIERS!$D$3,\"\",IF((Q640/($M640*T640))>=OUTLIERS!$D$4,\"\",Q640/($M640*T640))))","v":""},{"$f":"IF(ISERROR((M640*S640)/P640),\"\",IF((M640*S640/P640)<=OUTLIERS!$E$3,\"\",IF((M640*S640/P640)>=OUTLIERS!$E$4,\"\",M640*S640/P640)))","v":""},{"$f":"IF(ISERROR(O640/N640),\"\",IF(O640/N640<=OUTLIERS!$F$3,\"\",IF(O640/N640>=OUTLIERS!$F$4,\"\",O640/N640)))","v":7.8926598263614839E-2},{"$f":"IF(ISERROR(U640/X640),\"\",IF(U640/X640<=OUTLIERS!$G$3,\"\",IF(U640/X640>=OUTLIERS!$G$4,\"\",U640/X640)))","v":""},{"$f":"IF(ISERROR(Q640/Y640),\"\",IF(Q640/Y640<=OUTLIERS!$H$3,\"\",IF(Q640/Y640>=OUTLIERS!$H$4,\"\",Q640/Y640)))","v":""},{"$f":"IF(ISERROR(W640),\"\",IF(W640<=OUTLIERS!$I$3,\"\",IF(W640>=OUTLIERS!$I$4,\"\",W640)))","v":""},27340000,25340000,2000000,"n/a","","",1,0,"n/a","n/a","n/a",935085,4731906]
[640,"XSRELR032A","SREP","AfDB","Mitigation",{"$f":"IF(ISERROR(P641/(M641*S641)),\"\",IF((P641/(M641*S641))<=OUTLIERS!$C$3,\"\",IF((P641/(M641*S641))>=OUTLIERS!$C$4,\"\",P641/(M641*S641))))","v":4.2751908396946564E-2},{"$f":"IF(ISERROR(Q641/($M641*T641)),\"\",IF((Q641/($M641*T641))<=OUTLIERS!$D$3,\"\",IF((Q641/($M641*T641))>=OUTLIERS!$D$4,\"\",Q641/($M641*T641))))","v":""},{"$f":"IF(ISERROR((M641*S641)/P641),\"\",IF((M641*S641/P641)<=OUTLIERS!$E$3,\"\",IF((M641*S641/P641)>=OUTLIERS!$E$4,\"\",M641*S641/P641)))","v":23.390768681367735},{"$f":"IF(ISERROR(O641/N641),\"\",IF(O641/N641<=OUTLIERS!$F$3,\"\",IF(O641/N641>=OUTLIERS!$F$4,\"\",O641/N641)))","v":0.23487824037706206},{"$f":"IF(ISERROR(U641/X641),\"\",IF(U641/X641<=OUTLIERS!$G$3,\"\",IF(U641/X641>=OUTLIERS!$G$4,\"\",U641/X641)))","v":4.7914360726564964E-2},{"$f":"IF(ISERROR(Q641/Y641),\"\",IF(Q641/Y641<=OUTLIERS!$H$3,\"\",IF(Q641/Y641>=OUTLIERS!$H$4,\"\",Q641/Y641)))","v":""},{"$f":"IF(ISERROR(W641),\"\",IF(W641<=OUTLIERS!$I$3,\"\",IF(W641>=OUTLIERS!$I$4,\"\",W641)))","v":0.5},31440000,25460000,5980000,1344120,"",565000,1,0,44804,565000,0.5,935085,4731906]
[641,"XSREML017A","SREP","AfDB","Mitigation",{"$f":"IF(ISERROR(P642/(M642*S642)),\"\",IF((P642/(M642*S642))<=OUTLIERS!$C$3,\"\",IF((P642/(M642*S642))>=OUTLIERS!$C$4,\"\",P642/(M642*S642))))","v":6.6353099277675119E-3},{"$f":"IF(ISERROR(Q642/($M642*T642)),\"\",IF((Q642/($M642*T642))<=OUTLIERS!$D$3,\"\",IF((Q642/($M642*T642))>=OUTLIERS!$D$4,\"\",Q642/($M642*T642))))","v":""},{"$f":"IF(ISERROR((M642*S642)/P642),\"\",IF((M642*S642/P642)<=OUTLIERS!$E$3,\"\",IF((M642*S642/P642)>=OUTLIERS!$E$4,\"\",M642*S642/P642)))","v":150.70886075949366},{"$f":"IF(ISERROR(O642/N642),\"\",IF(O642/N642<=OUTLIERS!$F$3,\"\",IF(O642/N642>=OUTLIERS!$F$4,\"\",O642/N642)))","v":4.1765217391304343},{"$f":"IF(ISERROR(U642/X642),\"\",IF(U642/X642<=OUTLIERS!$G$3,\"\",IF(U642/X642>=OUTLIERS!$G$4,\"\",U642/X642)))","v":1.1191426517305984E-2},{"$f":"IF(ISERROR(Q642/Y642),\"\",IF(Q642/Y642<=OUTLIERS!$H$3,\"\",IF(Q642/Y642>=OUTLIERS!$H$4,\"\",Q642/Y642)))","v":""},{"$f":"IF(ISERROR(W642),\"\",IF(W642<=OUTLIERS!$I$3,\"\",IF(W642>=OUTLIERS!$I$4,\"\",W642)))","v":""},59530000,11500000,48030000,395000,"",{"$f":"IF(V642=\"n/a\",\"\",V642)","v":""},1,0,15800,"n/a","n/a",1411795,18541980]
[642,"XSREML033A","SREP","AfDB","Mitigation",{"$f":"IF(ISERROR(P643/(M643*S643)),\"\",IF((P643/(M643*S643))<=OUTLIERS!$C$3,\"\",IF((P643/(M643*S643))>=OUTLIERS!$C$4,\"\",P643/(M643*S643))))","v":1.3144418604651162},{"$f":"IF(ISERROR(Q643/($M643*T643)),\"\",IF((Q643/($M643*T643))<=OUTLIERS!$D$3,\"\",IF((Q643/($M643*T643))>=OUTLIERS!$D$4,\"\",Q643/($M643*T643))))","v":""},{"$f":"IF(ISERROR((M643*S643)/P643),\"\",IF((M643*S643/P643)<=OUTLIERS!$E$3,\"\",IF((M643*S643/P643)>=OUTLIERS!$E$4,\"\",M643*S643/P643)))","v":0.76077917942003859},{"$f":"IF(ISERROR(O643/N643),\"\",IF(O643/N643<=OUTLIERS!$F$3,\"\",IF(O643/N643>=OUTLIERS!$F$4,\"\",O643/N643)))","v":0.72},{"$f":"IF(ISERROR(U643/X643),\"\",IF(U643/X643<=OUTLIERS!$G$3,\"\",IF(U643/X643>=OUTLIERS!$G$4,\"\",U643/X643)))","v":0.12010454775657939},{"$f":"IF(ISERROR(Q643/Y643),\"\",IF(Q643/Y643<=OUTLIERS!$H$3,\"\",IF(Q643/Y643>=OUTLIERS!$H$4,\"\",Q643/Y643)))","v":""},{"$f":"IF(ISERROR(W643),\"\",IF(W643<=OUTLIERS!$I$3,\"\",IF(W643>=OUTLIERS!$I$4,\"\",W643)))","v":""},2580000,1500000,1080000,3391260,{"$f":"IF(E643=\"adaptation\",R643,\"\")","v":""},"",1,0,169563,"n/a","n/a",1411795,18541980]
[643,"XSREMN055A","SREP","ADB","Mitigation",{"$f":"IF(ISERROR(P644/(M644*S644)),\"\",IF((P644/(M644*S644))<=OUTLIERS!$C$3,\"\",IF((P644/(M644*S644))>=OUTLIERS!$C$4,\"\",P644/(M644*S644))))","v":3.233867411436131E-2},{"$f":"IF(ISERROR(Q644/($M644*T644)),\"\",IF((Q644/($M644*T644))<=OUTLIERS!$D$3,\"\",IF((Q644/($M644*T644))>=OUTLIERS!$D$4,\"\",Q644/($M644*T644))))","v":""},{"$f":"IF(ISERROR((M644*S644)/P644),\"\",IF((M644*S644/P644)<=OUTLIERS!$E$3,\"\",IF((M644*S644/P644)>=OUTLIERS!$E$4,\"\",M644*S644/P644)))","v":30.922727272727272},{"$f":"IF(ISERROR(O644/N644),\"\",IF(O644/N644<=OUTLIERS!$F$3,\"\",IF(O644/N644>=OUTLIERS!$F$4,\"\",O644/N644)))","v":3.115547489413188},{"$f":"IF(ISERROR(U644/X644),\"\",IF(U644/X644<=OUTLIERS!$G$3,\"\",IF(U644/X644>=OUTLIERS!$G$4,\"\",U644/X644)))","v":4.2212501501351207E-3},{"$f":"IF(ISERROR(Q644/Y644),\"\",IF(Q644/Y644<=OUTLIERS!$H$3,\"\",IF(Q644/Y644>=OUTLIERS!$H$4,\"\",Q644/Y644)))","v":""},{"$f":"IF(ISERROR(W644),\"\",IF(W644<=OUTLIERS!$I$3,\"\",IF(W644>=OUTLIERS!$I$4,\"\",W644)))","v":0.45999829664671676},68030000,16530000,51500000,2200000,"",258314,1,0,87969,258314,0.45999829664671676,20839561,3075647]
[644,"XSREMN057A","SREP","WorldBank","Mitigation",{"$f":"IF(ISERROR(P645/(M645*S645)),\"\",IF((P645/(M645*S645))<=OUTLIERS!$C$3,\"\",IF((P645/(M645*S645))>=OUTLIERS!$C$4,\"\",P645/(M645*S645))))","v":""},{"$f":"IF(ISERROR(Q645/($M645*T645)),\"\",IF((Q645/($M645*T645))<=OUTLIERS!$D$3,\"\",IF((Q645/($M645*T645))>=OUTLIERS!$D$4,\"\",Q645/($M645*T645))))","v":""},{"$f":"IF(ISERROR((M645*S645)/P645),\"\",IF((M645*S645/P645)<=OUTLIERS!$E$3,\"\",IF((M645*S645/P645)>=OUTLIERS!$E$4,\"\",M645*S645/P645)))","v":""},{"$f":"IF(ISERROR(O645/N645),\"\",IF(O645/N645<=OUTLIERS!$F$3,\"\",IF(O645/N645>=OUTLIERS!$F$4,\"\",O645/N645)))","v":0.89552238805970152},{"$f":"IF(ISERROR(U645/X645),\"\",IF(U645/X645<=OUTLIERS!$G$3,\"\",IF(U645/X645>=OUTLIERS!$G$4,\"\",U645/X645)))","v":""},{"$f":"IF(ISERROR(Q645/Y645),\"\",IF(Q645/Y645<=OUTLIERS!$H$3,\"\",IF(Q645/Y645>=OUTLIERS!$H$4,\"\",Q645/Y645)))","v":""},{"$f":"IF(ISERROR(W645),\"\",IF(W645<=OUTLIERS!$I$3,\"\",IF(W645>=OUTLIERS!$I$4,\"\",W645)))","v":""},2540000,1340000,1200000,"n/a","","",1,0,"n/a","n/a","n/a",20839561,3075647]
[645,"XSREMV024A","SREP","WorldBank","Mitigation",{"$f":"IF(ISERROR(P646/(M646*S646)),\"\",IF((P646/(M646*S646))<=OUTLIERS!$C$3,\"\",IF((P646/(M646*S646))>=OUTLIERS!$C$4,\"\",P646/(M646*S646))))","v":7.2890312588003376E-3},{"$f":"IF(ISERROR(Q646/($M646*T646)),\"\",IF((Q646/($M646*T646))<=OUTLIERS!$D$3,\"\",IF((Q646/($M646*T646))>=OUTLIERS!$D$4,\"\",Q646/($M646*T646))))","v":""},{"$f":"IF(ISERROR((M646*S646)/P646),\"\",IF((M646*S646/P646)<=OUTLIERS!$E$3,\"\",IF((M646*S646/P646)>=OUTLIERS!$E$4,\"\",M646*S646/P646)))","v":137.19244224569076},{"$f":"IF(ISERROR(O646/N646),\"\",IF(O646/N646<=OUTLIERS!$F$3,\"\",IF(O646/N646>=OUTLIERS!$F$4,\"\",O646/N646)))","v":4.4546850998463903},{"$f":"IF(ISERROR(U646/X646),\"\",IF(U646/X646<=OUTLIERS!$G$3,\"\",IF(U646/X646>=OUTLIERS!$G$4,\"\",U646/X646)))","v":1.9391356530025741E-2},{"$f":"IF(ISERROR(Q646/Y646),\"\",IF(Q646/Y646<=OUTLIERS!$H$3,\"\",IF(Q646/Y646>=OUTLIERS!$H$4,\"\",Q646/Y646)))","v":""},{"$f":"IF(ISERROR(W646),\"\",IF(W646<=OUTLIERS!$I$3,\"\",IF(W646>=OUTLIERS!$I$4,\"\",W646)))","v":""},71020000,13020000,58000000,517667,"","",1,0,25883.35,"n/a","n/a",1334788,436330]
[646,"XSREMV025A","SREP","ADB","Mitigation",{"$f":"IF(ISERROR(P647/(M647*S647)),\"\",IF((P647/(M647*S647))<=OUTLIERS!$C$3,\"\",IF((P647/(M647*S647))>=OUTLIERS!$C$4,\"\",P647/(M647*S647))))","v":7.9923273657289007E-3},{"$f":"IF(ISERROR(Q647/($M647*T647)),\"\",IF((Q647/($M647*T647))<=OUTLIERS!$D$3,\"\",IF((Q647/($M647*T647))>=OUTLIERS!$D$4,\"\",Q647/($M647*T647))))","v":""},{"$f":"IF(ISERROR((M647*S647)/P647),\"\",IF((M647*S647/P647)<=OUTLIERS!$E$3,\"\",IF((M647*S647/P647)>=OUTLIERS!$E$4,\"\",M647*S647/P647)))","v":125.12},{"$f":"IF(ISERROR(O647/N647),\"\",IF(O647/N647<=OUTLIERS!$F$3,\"\",IF(O647/N647>=OUTLIERS!$F$4,\"\",O647/N647)))","v":8.536585365853659},{"$f":"IF(ISERROR(U647/X647),\"\",IF(U647/X647<=OUTLIERS!$G$3,\"\",IF(U647/X647>=OUTLIERS!$G$4,\"\",U647/X647)))","v":2.9967305669514558E-2},{"$f":"IF(ISERROR(Q647/Y647),\"\",IF(Q647/Y647<=OUTLIERS!$H$3,\"\",IF(Q647/Y647>=OUTLIERS!$H$4,\"\",Q647/Y647)))","v":""},{"$f":"IF(ISERROR(W647),\"\",IF(W647<=OUTLIERS!$I$3,\"\",IF(W647>=OUTLIERS!$I$4,\"\",W647)))","v":""},125120000,13120000,112000000,1000000,"",4600,1,0,40000,4600,"n/a",1334788,436330]
[647,"XSREMV025B","SREP","ADB","Mitigation",{"$f":"IF(ISERROR(P648/(M648*S648)),\"\",IF((P648/(M648*S648))<=OUTLIERS!$C$3,\"\",IF((P648/(M648*S648))>=OUTLIERS!$C$4,\"\",P648/(M648*S648))))","v":""},{"$f":"IF(ISERROR(Q648/($M648*T648)),\"\",IF((Q648/($M648*T648))<=OUTLIERS!$D$3,\"\",IF((Q648/($M648*T648))>=OUTLIERS!$D$4,\"\",Q648/($M648*T648))))","v":""},{"$f":"IF(ISERROR((M648*S648)/P648),\"\",IF((M648*S648/P648)<=OUTLIERS!$E$3,\"\",IF((M648*S648/P648)>=OUTLIERS!$E$4,\"\",M648*S648/P648)))","v":""},{"$f":"IF(ISERROR(O648/N648),\"\",IF(O648/N648<=OUTLIERS!$F$3,\"\",IF(O648/N648>=OUTLIERS!$F$4,\"\",O648/N648)))","v":1.1000000000000001},{"$f":"IF(ISERROR(U648/X648),\"\",IF(U648/X648<=OUTLIERS!$G$3,\"\",IF(U648/X648>=OUTLIERS!$G$4,\"\",U648/X648)))","v":""},{"$f":"IF(ISERROR(Q648/Y648),\"\",IF(Q648/Y648<=OUTLIERS!$H$3,\"\",IF(Q648/Y648>=OUTLIERS!$H$4,\"\",Q648/Y648)))","v":""},{"$f":"IF(ISERROR(W648),\"\",IF(W648<=OUTLIERS!$I$3,\"\",IF(W648>=OUTLIERS!$I$4,\"\",W648)))","v":""},840000,400000,440000,"n/a","","",1,0,"n/a","n/a","n/a",1334788,436330]
[648,"XSRENI054A","SREP","IDB","Mitigation",{"$f":"IF(ISERROR(P649/(M649*S649)),\"\",IF((P649/(M649*S649))<=OUTLIERS!$C$3,\"\",IF((P649/(M649*S649))>=OUTLIERS!$C$4,\"\",P649/(M649*S649))))","v":2.523330115830116E-2},{"$f":"IF(ISERROR(Q649/($M649*T649)),\"\",IF((Q649/($M649*T649))<=OUTLIERS!$D$3,\"\",IF((Q649/($M649*T649))>=OUTLIERS!$D$4,\"\",Q649/($M649*T649))))","v":""},{"$f":"IF(ISERROR((M649*S649)/P649),\"\",IF((M649*S649/P649)<=OUTLIERS!$E$3,\"\",IF((M649*S649/P649)>=OUTLIERS!$E$4,\"\",M649*S649/P649)))","v":39.63016942279959},{"$f":"IF(ISERROR(O649/N649),\"\",IF(O649/N649<=OUTLIERS!$F$3,\"\",IF(O649/N649>=OUTLIERS!$F$4,\"\",O649/N649)))","v":12.437094682230869},{"$f":"IF(ISERROR(U649/X649),\"\",IF(U649/X649<=OUTLIERS!$G$3,\"\",IF(U649/X649>=OUTLIERS!$G$4,\"\",U649/X649)))","v":1.7920830726618434E-2},{"$f":"IF(ISERROR(Q649/Y649),\"\",IF(Q649/Y649<=OUTLIERS!$H$3,\"\",IF(Q649/Y649>=OUTLIERS!$H$4,\"\",Q649/Y649)))","v":""},{"$f":"IF(ISERROR(W649),\"\",IF(W649<=OUTLIERS!$I$3,\"\",IF(W649>=OUTLIERS!$I$4,\"\",W649)))","v":""},103600000,7710000,95890000,2614170,"",120,1,0,87139,120,"n/a",4862442,6217581]
[649,"XSRENP022A","SREP","ADB","Mitigation",{"$f":"IF(ISERROR(P650/(M650*S650)),\"\",IF((P650/(M650*S650))<=OUTLIERS!$C$3,\"\",IF((P650/(M650*S650))>=OUTLIERS!$C$4,\"\",P650/(M650*S650))))","v":5.4303556882975834E-3},{"$f":"IF(ISERROR(Q650/($M650*T650)),\"\",IF((Q650/($M650*T650))<=OUTLIERS!$D$3,\"\",IF((Q650/($M650*T650))>=OUTLIERS!$D$4,\"\",Q650/($M650*T650))))","v":""},{"$f":"IF(ISERROR((M650*S650)/P650),\"\",IF((M650*S650/P650)<=OUTLIERS!$E$3,\"\",IF((M650*S650/P650)>=OUTLIERS!$E$4,\"\",M650*S650/P650)))","v":184.15},{"$f":"IF(ISERROR(O650/N650),\"\",IF(O650/N650<=OUTLIERS!$F$3,\"\",IF(O650/N650>=OUTLIERS!$F$4,\"\",O650/N650)))","v":1.2706535141800246},{"$f":"IF(ISERROR(U650/X650),\"\",IF(U650/X650<=OUTLIERS!$G$3,\"\",IF(U650/X650>=OUTLIERS!$G$4,\"\",U650/X650)))","v":2.4904336218500686E-3},{"$f":"IF(ISERROR(Q650/Y650),\"\",IF(Q650/Y650<=OUTLIERS!$H$3,\"\",IF(Q650/Y650>=OUTLIERS!$H$4,\"\",Q650/Y650)))","v":""},{"$f":"IF(ISERROR(W650),\"\",IF(W650<=OUTLIERS!$I$3,\"\",IF(W650>=OUTLIERS!$I$4,\"\",W650)))","v":""},73660000,32440000,41220000,400000,"",30500,1,0,20000,30500,"n/a",8030730,29304998]
[650,"XSRENP023A","SREP","WorldBank","Mitigation",{"$f":"IF(ISERROR(P651/(M651*S651)),\"\",IF((P651/(M651*S651))<=OUTLIERS!$C$3,\"\",IF((P651/(M651*S651))>=OUTLIERS!$C$4,\"\",P651/(M651*S651))))","v":9.3861725663716821E-3},{"$f":"IF(ISERROR(Q651/($M651*T651)),\"\",IF((Q651/($M651*T651))<=OUTLIERS!$D$3,\"\",IF((Q651/($M651*T651))>=OUTLIERS!$D$4,\"\",Q651/($M651*T651))))","v":""},{"$f":"IF(ISERROR((M651*S651)/P651),\"\",IF((M651*S651/P651)<=OUTLIERS!$E$3,\"\",IF((M651*S651/P651)>=OUTLIERS!$E$4,\"\",M651*S651/P651)))","v":106.5396990017796},{"$f":"IF(ISERROR(O651/N651),\"\",IF(O651/N651<=OUTLIERS!$F$3,\"\",IF(O651/N651>=OUTLIERS!$F$4,\"\",O651/N651)))","v":3.2242990654205608},{"$f":"IF(ISERROR(U651/X651),\"\",IF(U651/X651<=OUTLIERS!$G$3,\"\",IF(U651/X651>=OUTLIERS!$G$4,\"\",U651/X651)))","v":2.1131578324760018E-3},{"$f":"IF(ISERROR(Q651/Y651),\"\",IF(Q651/Y651<=OUTLIERS!$H$3,\"\",IF(Q651/Y651>=OUTLIERS!$H$4,\"\",Q651/Y651)))","v":""},{"$f":"IF(ISERROR(W651),\"\",IF(W651<=OUTLIERS!$I$3,\"\",IF(W651>=OUTLIERS!$I$4,\"\",W651)))","v":""},36160000,8560000,27600000,339404,"",400,1,0,16970.2,400,"n/a",8030730,29304998]
[651,"XSREPC042A","SREP","WorldBank","Mitigation",{"$f":"IF(ISERROR(P652/(M652*S652)),\"\",IF((P652/(M652*S652))<=OUTLIERS!$C$3,\"\",IF((P652/(M652*S652))>=OUTLIERS!$C$4,\"\",P652/(M652*S652))))","v":""},{"$f":"IF(ISERROR(Q652/($M652*T652)),\"\",IF((Q652/($M652*T652))<=OUTLIERS!$D$3,\"\",IF((Q652/($M652*T652))>=OUTLIERS!$D$4,\"\",Q652/($M652*T652))))","v":""},{"$f":"IF(ISERROR((M652*S652)/P652),\"\",IF((M652*S652/P652)<=OUTLIERS!$E$3,\"\",IF((M652*S652/P652)>=OUTLIERS!$E$4,\"\",M652*S652/P652)))","v":""},{"$f":"IF(ISERROR(O652/N652),\"\",IF(O652/N652<=OUTLIERS!$F$3,\"\",IF(O652/N652>=OUTLIERS!$F$4,\"\",O652/N652)))","v":1.5780590717299579},{"$f":"IF(ISERROR(U652/X652),\"\",IF(U652/X652<=OUTLIERS!$G$3,\"\",IF(U652/X652>=OUTLIERS!$G$4,\"\",U652/X652)))","v":""},{"$f":"IF(ISERROR(Q652/Y652),\"\",IF(Q652/Y652<=OUTLIERS!$H$3,\"\",IF(Q652/Y652>=OUTLIERS!$H$4,\"\",Q652/Y652)))","v":""},{"$f":"IF(ISERROR(W652),\"\",IF(W652<=OUTLIERS!$I$3,\"\",IF(W652>=OUTLIERS!$I$4,\"\",W652)))","v":""},6110000,2370000,3740000,"n/a","","",1,0,"n/a","n/a","n/a","",""]
[652,"XSRERW058A","SREP","WorldBank","Mitigation",{"$f":"IF(ISERROR(P653/(M653*S653)),\"\",IF((P653/(M653*S653))<=OUTLIERS!$C$3,\"\",IF((P653/(M653*S653))>=OUTLIERS!$C$4,\"\",P653/(M653*S653))))","v":""},{"$f":"IF(ISERROR(Q653/($M653*T653)),\"\",IF((Q653/($M653*T653))<=OUTLIERS!$D$3,\"\",IF((Q653/($M653*T653))>=OUTLIERS!$D$4,\"\",Q653/($M653*T653))))","v":""},{"$f":"IF(ISERROR((M653*S653)/P653),\"\",IF((M653*S653/P653)<=OUTLIERS!$E$3,\"\",IF((M653*S653/P653)>=OUTLIERS!$E$4,\"\",M653*S653/P653)))","v":""},{"$f":"IF(ISERROR(O653/N653),\"\",IF(O653/N653<=OUTLIERS!$F$3,\"\",IF(O653/N653>=OUTLIERS!$F$4,\"\",O653/N653)))","v":1.0165437512457645},{"$f":"IF(ISERROR(U653/X653),\"\",IF(U653/X653<=OUTLIERS!$G$3,\"\",IF(U653/X653>=OUTLIERS!$G$4,\"\",U653/X653)))","v":""},{"$f":"IF(ISERROR(Q653/Y653),\"\",IF(Q653/Y653<=OUTLIERS!$H$3,\"\",IF(Q653/Y653>=OUTLIERS!$H$4,\"\",Q653/Y653)))","v":""},{"$f":"IF(ISERROR(W653),\"\",IF(W653<=OUTLIERS!$I$3,\"\",IF(W653>=OUTLIERS!$I$4,\"\",W653)))","v":0.52},101170000,50170000,51000000,"n/a","",1320000,1,0,"n/a",1320000,0.52,839743,12208407]
[653,"XSRESBO38A","SREP","ADB","Mitigation",{"$f":"IF(ISERROR(P654/(M654*S654)),\"\",IF((P654/(M654*S654))<=OUTLIERS!$C$3,\"\",IF((P654/(M654*S654))>=OUTLIERS!$C$4,\"\",P654/(M654*S654))))","v":1.04542626011201E-3},{"$f":"IF(ISERROR(Q654/($M654*T654)),\"\",IF((Q654/($M654*T654))<=OUTLIERS!$D$3,\"\",IF((Q654/($M654*T654))>=OUTLIERS!$D$4,\"\",Q654/($M654*T654))))","v":""},{"$f":"IF(ISERROR((M654*S654)/P654),\"\",IF((M654*S654/P654)<=OUTLIERS!$E$3,\"\",IF((M654*S654/P654)>=OUTLIERS!$E$4,\"\",M654*S654/P654)))","v":956.54761904761904},{"$f":"IF(ISERROR(O654/N654),\"\",IF(O654/N654<=OUTLIERS!$F$3,\"\",IF(O654/N654>=OUTLIERS!$F$4,\"\",O654/N654)))","v":1.272984441301273},{"$f":"IF(ISERROR(U654/X654),\"\",IF(U654/X654<=OUTLIERS!$G$3,\"\",IF(U654/X654>=OUTLIERS!$G$4,\"\",U654/X654)))","v":4.1649106279594414E-3},{"$f":"IF(ISERROR(Q654/Y654),\"\",IF(Q654/Y654<=OUTLIERS!$H$3,\"\",IF(Q654/Y654>=OUTLIERS!$H$4,\"\",Q654/Y654)))","v":""},{"$f":"IF(ISERROR(W654),\"\",IF(W654<=OUTLIERS!$I$3,\"\",IF(W654>=OUTLIERS!$I$4,\"\",W654)))","v":0.48699999999999999},16070000,7070000,9000000,16800,"",6000,1,0,840,6000,0.48699999999999999,201685,611343]
[654,"XSRETZ027A","SREP","AfDB","Mitigation",{"$f":"IF(ISERROR(P655/(M655*S655)),\"\",IF((P655/(M655*S655))<=OUTLIERS!$C$3,\"\",IF((P655/(M655*S655))>=OUTLIERS!$C$4,\"\",P655/(M655*S655))))","v":0.18286012068019747},{"$f":"IF(ISERROR(Q655/($M655*T655)),\"\",IF((Q655/($M655*T655))<=OUTLIERS!$D$3,\"\",IF((Q655/($M655*T655))>=OUTLIERS!$D$4,\"\",Q655/($M655*T655))))","v":""},{"$f":"IF(ISERROR((M655*S655)/P655),\"\",IF((M655*S655/P655)<=OUTLIERS!$E$3,\"\",IF((M655*S655/P655)>=OUTLIERS!$E$4,\"\",M655*S655/P655)))","v":5.4686609430215327},{"$f":"IF(ISERROR(O655/N655),\"\",IF(O655/N655<=OUTLIERS!$F$3,\"\",IF(O655/N655>=OUTLIERS!$F$4,\"\",O655/N655)))","v":2.9838286713286712},{"$f":"IF(ISERROR(U655/X655),\"\",IF(U655/X655<=OUTLIERS!$G$3,\"\",IF(U655/X655>=OUTLIERS!$G$4,\"\",U655/X655)))","v":4.8051163240847149E-2},{"$f":"IF(ISERROR(Q655/Y655),\"\",IF(Q655/Y655<=OUTLIERS!$H$3,\"\",IF(Q655/Y655>=OUTLIERS!$H$4,\"\",Q655/Y655)))","v":""},{"$f":"IF(ISERROR(W655),\"\",IF(W655<=OUTLIERS!$I$3,\"\",IF(W655>=OUTLIERS!$I$4,\"\",W655)))","v":0.52},91150000,22880000,68270000,16667700,"",1145600,1,0,555570,1145600,0.52,11562051,57310019]
[655,"XSRETZ028A","SREP","WorldBank","Mitigation",{"$f":"IF(ISERROR(P656/(M656*S656)),\"\",IF((P656/(M656*S656))<=OUTLIERS!$C$3,\"\",IF((P656/(M656*S656))>=OUTLIERS!$C$4,\"\",P656/(M656*S656))))","v":1.3855948071401822E-2},{"$f":"IF(ISERROR(Q656/($M656*T656)),\"\",IF((Q656/($M656*T656))<=OUTLIERS!$D$3,\"\",IF((Q656/($M656*T656))>=OUTLIERS!$D$4,\"\",Q656/($M656*T656))))","v":""},{"$f":"IF(ISERROR((M656*S656)/P656),\"\",IF((M656*S656/P656)<=OUTLIERS!$E$3,\"\",IF((M656*S656/P656)>=OUTLIERS!$E$4,\"\",M656*S656/P656)))","v":72.171171171171167},{"$f":"IF(ISERROR(O656/N656),\"\",IF(O656/N656<=OUTLIERS!$F$3,\"\",IF(O656/N656>=OUTLIERS!$F$4,\"\",O656/N656)))","v":14.677103718199609},{"$f":"IF(ISERROR(U656/X656),\"\",IF(U656/X656<=OUTLIERS!$G$3,\"\",IF(U656/X656>=OUTLIERS!$G$4,\"\",U656/X656)))","v":2.0662945551883801E-4},{"$f":"IF(ISERROR(Q656/Y656),\"\",IF(Q656/Y656<=OUTLIERS!$H$3,\"\",IF(Q656/Y656>=OUTLIERS!$H$4,\"\",Q656/Y656)))","v":""},{"$f":"IF(ISERROR(W656),\"\",IF(W656<=OUTLIERS!$I$3,\"\",IF(W656>=OUTLIERS!$I$4,\"\",W656)))","v":0.5},160220000,10220000,150000000,2220000,"",310000,1,0,111000,310000,0.5,537193498,36708083]
[656,"XSREVU040A","SREP","WorldBank","Mitigation",{"$f":"IF(ISERROR(P657/(M657*S657)),\"\",IF((P657/(M657*S657))<=OUTLIERS!$C$3,\"\",IF((P657/(M657*S657))>=OUTLIERS!$C$4,\"\",P657/(M657*S657))))","v":""},{"$f":"IF(ISERROR(Q657/($M657*T657)),\"\",IF((Q657/($M657*T657))<=OUTLIERS!$D$3,\"\",IF((Q657/($M657*T657))>=OUTLIERS!$D$4,\"\",Q657/($M657*T657))))","v":""},{"$f":"IF(ISERROR((M657*S657)/P657),\"\",IF((M657*S657/P657)<=OUTLIERS!$E$3,\"\",IF((M657*S657/P657)>=OUTLIERS!$E$4,\"\",M657*S657/P657)))","v":""},{"$f":"IF(ISERROR(O657/N657),\"\",IF(O657/N657<=OUTLIERS!$F$3,\"\",IF(O657/N657>=OUTLIERS!$F$4,\"\",O657/N657)))","v":3.8376891334250343},{"$f":"IF(ISERROR(U657/X657),\"\",IF(U657/X657<=OUTLIERS!$G$3,\"\",IF(U657/X657>=OUTLIERS!$G$4,\"\",U657/X657)))","v":""},{"$f":"IF(ISERROR(Q657/Y657),\"\",IF(Q657/Y657<=OUTLIERS!$H$3,\"\",IF(Q657/Y657>=OUTLIERS!$H$4,\"\",Q657/Y657)))","v":""},{"$f":"IF(ISERROR(W657),\"\",IF(W657<=OUTLIERS!$I$3,\"\",IF(W657>=OUTLIERS!$I$4,\"\",W657)))","v":0.48998109640831761},35170000,7270000,27900000,"n/a","",132250,1,0,"n/a",132250,0.48998109640831761,154014,276244]
[657,"XSREVU041A","SREP","ADB","Mitigation",{"$f":"IF(ISERROR(P658/(M658*S658)),\"\",IF((P658/(M658*S658))<=OUTLIERS!$C$3,\"\",IF((P658/(M658*S658))>=OUTLIERS!$C$4,\"\",P658/(M658*S658))))","v":4.7323759791122718E-3},{"$f":"IF(ISERROR(Q658/($M658*T658)),\"\",IF((Q658/($M658*T658))<=OUTLIERS!$D$3,\"\",IF((Q658/($M658*T658))>=OUTLIERS!$D$4,\"\",Q658/($M658*T658))))","v":""},{"$f":"IF(ISERROR((M658*S658)/P658),\"\",IF((M658*S658/P658)<=OUTLIERS!$E$3,\"\",IF((M658*S658/P658)>=OUTLIERS!$E$4,\"\",M658*S658/P658)))","v":211.31034482758622},{"$f":"IF(ISERROR(O658/N658),\"\",IF(O658/N658<=OUTLIERS!$F$3,\"\",IF(O658/N658>=OUTLIERS!$F$4,\"\",O658/N658)))","v":1.1218836565096952},{"$f":"IF(ISERROR(U658/X658),\"\",IF(U658/X658<=OUTLIERS!$G$3,\"\",IF(U658/X658>=OUTLIERS!$G$4,\"\",U658/X658)))","v":1.8829457062344981E-2},{"$f":"IF(ISERROR(Q658/Y658),\"\",IF(Q658/Y658<=OUTLIERS!$H$3,\"\",IF(Q658/Y658>=OUTLIERS!$H$4,\"\",Q658/Y658)))","v":""},{"$f":"IF(ISERROR(W658),\"\",IF(W658<=OUTLIERS!$I$3,\"\",IF(W658>=OUTLIERS!$I$4,\"\",W658)))","v":0.4},15320000,7220000,8100000,72500,"",1050,1,0,2900,1050,0.4,154014,276244]

{"sheet":"COUNTRY BENCHMARK","index":7,"n_rows":149,"n_cols":6,"rows_kept":149,"cut":false,"hidden":true,"merged":[]}
["GCF Country","Annual tCO2e emitted by country","Country's total population","National IHDI","National HDI","ND-GAIN"]
["Afghanistan",9809225,35530081,"n/a",0.49595952280148353,31.4326749273432]
["Albania",5716853,2873457,0.70480376009231371,0.79140587617953684,50.621273068873201]
["Algeria",145400217,41318142,0.60435391896507762,0.75897769670623416,45.2300023773671]
["Angola",34763160,29784193,0.39202234578413947,0.57448775765695104,35.419042119860798]
["Antigua and Barbuda",531715,102012,"n/a",0.77616315121347779,47.409221474736199]
["Argentina",204024546,44271041,0.71373791906670503,0.83009581211793226,51.9440459571845]
["Armenia",5529836,2930450,0.68484210386242073,0.7600108864738313,53.753035550568399]
["Azerbaijan",37487741,9862429,0.68292708629786414,0.75386866073574965,50.970309579733701]
["Bahamas",2416553,395361,"n/a",0.80548327356623295,52.735636867900297]
["Bahrain",31338182,1492584,"n/a",0.83777019022958399,48.685865129623899]
["Bangladesh",73189653,164669751,0.46471934873428133,0.61367933740460889,35.516076159251703]
["Barbados",1272449,285719,0.67541911944122279,0.81331048926499383,54.605792689258998]
["Belize",495045,374681,0.5576755547911274,0.72016978703635171,42.333898867896103]
["Benin",6318241,11175692,0.32719154800614281,0.51983416500122548,35.656325886515098]
["Bhutan",1001091,807610,0.44972086219702495,0.61729875228171927,46.527801889228797]
["Bolivia (Plurinational State of)",20410522,11051600,0.53282962141700907,0.7028423532223933,40.341860296849703]
["Bosnia and Herzegovina",22233021,3507017,0.65837254188683347,0.76918727531669429,49.300878775326801]
["Botswana",7033306,2291661,"n/a",0.72778711364447302,47.819775117836301]
["Brazil",529808160.00000006,209288278,0.57435118484959768,0.76115282282460939,50.352161081278403]
["Burkina Faso",2849259,19193382,0.30322665721967068,0.43354704878472961,35.158837786074599]
["Burundi",440040,10864245,0.29575988859349739,0.42288159819476784,32.3433339297722]
["Cabo Verde",491378,546388,"n/a",0.65069293750023283,"n/a"]
["Cambodia",6684941,16005373,0.46457667893775367,0.58148498025068462,39.281390654005698]
["Cameroon",7003970,24053727,0.37072173316464541,0.56272531405438808,39.145473334774202]
["Central African Republic",300694,4659080,0.22230847244113014,0.38066211113133042,27.506851351748601]
["Chad",729733,14899994,0.24979670556909553,0.40117596828543989,25.6988780011269]
["Chile",82562505,18054726,0.69611100169302531,0.84694798169419816,61.2865307966714]
["China",10291926878,1386395000,0.63562720205201151,0.75758742874882323,53.952354175658598]
["Colombia",84091644,49065615,0.58478184194283456,0.76089493092664839,50.661376889514301]
["Comoros",154014,813912,0.2942900706312494,0.53782565616494327,39.2314184242626]
["Congo",3094948,5260750,0.45612497158286358,0.60849959993428904,34.684396419347102]
["Cook Islands",110000,17459,"n/a","n/a","n/a"]
["Costa Rica",7759372,4905769,0.64498902173987016,0.79351994637866763,53.522323459479701]
["Cote d'ivoire",11045004,24294750,0.33134706398872688,0.51574712840389214,37.853045145639001]
["Cuba",34836500,11484636,"n/a",0.77771450857750557,45.465542538877898]
["Democratic Republic of the Congo",4671758,81339988,0.31630266258007711,0.45873007073552818,29.6097353772034]
["Djibouti",722399,956985,"n/a",0.49543325954795231,38.9246715107206]
["Dominica",135679,73925,"n/a",0.72378802875589432,56.687902580220602]
["Dominican Republic",21539958,10766998,0.58428969938529163,0.74464074230808364,47.414716786771798]
["Ecuador",43919659,16624858,0.60695101895513814,0.75791635087287801,44.665003938371797]
["Egypt",201894019,97553151,0.49180538737473672,0.69972679792056303,46.140309470829798]
["El Salvador",6285238,6377853,0.52060081374451572,0.66668101830167026,44.965281866048699]
["Equatorial Guinea",5346486,1267689,"n/a",0.58842164468676861,36.258191256016701]
["Eritrea",696730,4474690,"n/a",0.43357962042319481,26.269203821213601]
["Eswatini",1202776,1367254,0.42975528999670581,0.60808178366263488,40.234759417743703]
["Ethiopia",11598721,104957438,0.33658462221652224,0.46984962534056107,35.038952741631398]
["Fiji",1169773,905502,"n/a",0.72369886942002271,48.774047008091003]
["Gabon",5192472,2025137,0.54373338129048499,0.70162526614775333,42.352982211585498]
["Gambia",513380,2100568,0.2926870546819656,0.46572490135278738,38.330103933866098]
["Georgia",8987817,3717100,0.69180070042316599,0.78635909189772291,57.378854478448901]
["Ghana",14466315,28833629,0.42701751478319233,0.59566971647515654,45.095714898158697]
["Grenada",242022,107825,"n/a",0.76338338091716296,56.471440267832001]
["Guatemala",18327666,16913503,0.47233194022247105,0.65103533718396245,43.279778883708303]
["Guinea",2449556,12717176,0.30981868597464246,0.46551500062169854,36.8369604331236]
["Guinea-Bissau",271358,1861283,0.28841005915771412,0.46140600072244514,32.145024184678498]
["Guyana",2009516,777859,0.54643559951195608,0.67029609645313881,42.402338508501899]
["Haiti",2860260,10981229,0.29908717958796055,0.5027313745517944,31.395669394505401]
["Honduras",9471861,9265067,0.46424573732998525,0.62298147106096469,41.263492076978899]
["India",2238377137,1339180127,0.47661810716146907,0.64690109992265643,42.204313194963802]
["Indonesia",464176194,263991379,0.58357947286190726,0.70685794970820803,45.850417401366698]
["Iran (Islamic Republic of)",649480705,81162788,0.70560436718341757,0.79748333577382435,50.813007678663297]
["Iraq",168443645,38274618,0.55243173092813691,0.68878407366280514,39.833321393794101]
["Jamaica",7422008,2890299,0.60448028994451819,0.72567936398471122,48.688796880124002]
["Jordan",26450071,9702353,0.61706378838776677,0.72344512039101516,49.640352818297401]
["Kazakhstan",248314572,18037646,0.75909066878401998,0.81724384884044854,57.630161434819698]
["Kenya",14286632,49699862,0.42622445312370066,0.5785877280147006,36.902064769972803]
["Kiribati",62339,116398,"n/a",0.62324375858491676,"n/a"]
["Korea, Dem. People’s Rep.",40527684,25490965,"n/a","n/a","n/a"]
["Kuwait",95408006,4136528,"n/a",0.80835243451008576,50.322269325781299]
["Kyrgyzstan",9607540,6201500,0.60988181211886339,0.67420282975007029,50.087762480234304]
["Lao People's Democratic Republic",1954511,6858160,0.45365037910777872,0.60406932185904783,39.401679689777403]
["Lebanon",24070188,6082357,"n/a",0.73007789114178046,45.172254084089701]
["Lesotho",2467891,2233339,0.34967064601786224,0.51795487957486719,40.081043533900697]
["Liberia",935085,4731906,0.31449109356727983,0.46472031895440807,32.3756451552062]
["Libya",56996181,6374616,"n/a",0.70756797420612227,40.8032161439899]
["Madagascar",3076613,25570895,0.38617542203847288,0.52069735893059188,32.893431730720899]
["Malawi",1276116,18622104,0.34607056727759905,0.48540018634676652,35.687929846125897]
["Malaysia",242821406,31624264,"n/a",0.8041858477966396,57.290749386513703]
["Maldives",1334788,436330,0.56763980380095358,0.71870707811433809,40.462143175968201]
["Mali",1411795,18541980,0.29399512948371775,0.42720624372684268,33.581491510403197]
["Marshall Islands",102676,53127,"n/a",0.69758928395422426,"n/a"]
["Mauritania",2709913,4420184,0.35766000236031881,0.52705713963141887,36.034595008388202]
["Mauritius",4228051,1264613,0.68762563476473682,0.79640621244776233,55.612944699001297]
["Mexico",480270657,129163276,0.59452644528084109,0.76744724537914599,50.669420266341099]
["Micronesia",150347,105544,"n/a",0.61415780907152606,36.451968417718597]
["Mongolia",20839561,3075647,0.63485586658774962,0.73468399722987121,52.7272721591169]
["Montenegro",2211201,622471,0.74559831696005485,0.81593399964769842,53.842828539896303]
["Morocco",59863775,35739580,"n/a",0.67643933491417352,50.807991329410399]
["Mozambique",8426766,29668834,0.30907932700964358,0.44604468099221523,35.394323931731698]
["Myanmar",21631633,53370609,0.44841760624429672,0.58425219613504564,34.7605301809715]
["Namibia",3755008,2533794,0.4174827277194556,0.64503737402176076,45.897682722744001]
["Nauru",47671,13649,"n/a","n/a","n/a"]
["Nepal",8030730,29304998,0.42984940859470611,0.57948526977378356,39.893871334914401]
["Nicaragua",4862442,6217581,0.50146689070770256,0.6511042612635094,42.5506001814177]
["Niger",2126860,21477348,0.27169950954925459,0.37659108310314304,30.9523058282204]
["Nigeria",96280752,190886311,0.34933074253759105,0.53413628601971408,37.6357333397495]
["Niue","n/a",1624,"n/a","n/a","n/a"]
["Oman",61169227,4636262,0.72465474810040287,0.83378943305336872,54.725353081722702]
["Pakistan",166298450,197015955,0.38636841700140084,0.56044635942831189,38.964548424874899]
["Palau",260357.00000000003,21729,"n/a",0.81424585507880964,"n/a"]
["Panama",8800800,4098587,0.6263526246655664,0.79505469939687567,50.814177782993497]
["Papua New Guinea",6318241,8251162,"n/a",0.54307562286326538,35.170927719299797]
["Paraguay",5702185,6811297,0.54537651330630033,0.72434766179846222,47.5537496659392]
["Peru",61744946,32165485,0.61196278231279955,0.75910357399938877,50.803554253142103]
["Philippines",105653604,104918090,0.58237307016347972,0.71186020690244722,43.149130987211699]
["Republic of Korea",587156373,51466201,0.77670245086685963,0.90583188802742642,67.274504241608298]
["Republic of Moldova",4932115,3549750,0.63773904951332072,0.71145158621611526,50.462551575724298]
["Rwanda",839743,12208407,0.38209911428758619,0.53601472009744511,42.604332478439197]
["Saint Kitts and Nevis",231021,55345,"n/a",0.77681460499009869,53.632608148664502]
["Saint Lucia",407037,178844,0.6166978827581433,0.74493124350180795,53.129927997995303]
["Saint Vincent and the Grenadines",209019,109897,"n/a","n/a",55.807271758749998]
["Samoa",198018,196440,"n/a",0.70677076195627786,46.498805279355501]
["Sao Tome and Principe",113677,204327,0.50665859435923455,0.60855618941320344,42.367605456332598]
["Saudi Arabia",601046969,32938213,"n/a",0.85696281313450284,54.285993986432601]
["Senegal",8855805,15850567,0.34690415841326233,0.51376957266273571,39.857170267329501]
["Serbia",37667424,7022268,0.68455814136741078,0.79925978474895409,51.350890914974201]
["Seychelles",495045,95843,"n/a",0.80139451479704182,48.416744911120603]
["Sierra Leone",1309119,7557212,0.28209996375802993,0.43846528206823387,37.7821759399692]
["Singapore",56372791,5612253,0.81026103313715103,0.93481897424708216,69.304947458779395]
["Solomon Islands",201685,611343,"n/a",0.55734101604272246,38.099657376491898]
["Somalia",608722,14742523,"n/a","n/a",20.2673447904013]
["South Africa",489771854,56717156,0.46260739189945527,0.70493748274928547,50.252873315198997]
["South Sudan",1496136,12575714,0.26387907382819042,0.4127704717348894,"n/a"]
["Sri Lanka",18393672,21444000,0.68602485578246919,0.78011478203415774,46.280423276937597]
["State of Palestine",2438555,4684777,0.59673800846301484,0.69001703254372504,"n/a"]
["Sudan",15364730,40533330,0.33198623961742307,0.50749880927115976,30.421110255330099]
["Suriname",1991181,563402,0.55662202229730795,0.72025221739538325,45.039661004030499]
["Syrian Arab Republic",30703791,18269868,"n/a",0.54890322092862831,38.969689916429701]
["Tajikistan",5188805,8921343,0.57390365181086644,0.65603911020238426,42.674178126493203]
["Thailand",316212744,69037513,0.63506628710193191,0.76460493758490322,53.421651473744703]
["The former Yugoslav Republic of Macedonia",7510016,2083160,0.63506628710193191,0.76460493758490322,55.077033914823502]
["Timor-Leste",469376,1296311,0.45043111760169008,0.62588705743373807,41.136417864480897]
["Togo",2621905,7797694,0.35001955548866792,0.5127327360358469,37.930183195342103]
["Tonga",121011,108020,"n/a",0.71743036128923254,41.1663076376988]
["Trinidad and Tobago",46273873,1369125,"n/a",0.79902847862428528,48.565283530299901]
["Tunisia",28829954,11532127,0.58511098287410523,0.73920055857580746,49.666242968125303]
["Turkmenistan",68422553,5758075,0.57855675756532166,0.71013082893426349,40.298277729349898]
["Tuvalu",11001,11192,"n/a","n/a","n/a"]
["Uganda",5229142,42862958,0.38718604415167412,0.52819090345815289,35.781117174882702]
["United Republic of Tanzania",11562051,57310019,0.39670122414938835,0.52830262560968921,37.040614326598899]
["Uruguay",6747280,3456750,0.7031379413802834,0.80776381415357734,54.358773262839897]
["Uzbekistan",105213564,32387200,"n/a",0.71047761828358469,47.219777170837197]
["Vanuatu",154014,276244,"n/a",0.59684831196710031,39.319758579619801]
["Vietnam",166910839,95540800,0.58009054510061286,0.69266929654532661,46.576219689082201]
["Yemen",22698730,28250420,0.31555274053672144,0.46271714702881972,33.470765622241302]
["Zambia",4503076,17094130,0.39414024178461599,0.591462439752522,38.645653215512397]
["Zimbabwe",12020426,16529904,0.43475891614988638,0.56310016881711389,33.089855978923602]
["OTHER","n/a","n/a","n/a","n/a","n/a"]

{"sheet":"OUTLIERS","index":8,"n_rows":30,"n_cols":9,"rows_kept":30,"cut":false,"hidden":true,"merged":[]}
[]
[null,"DATA POINT","(tCO2 reduced) / (Mitigation share of project cost)","(Expected total number of beneficiaries - adaptation) / (Adaptation share of project cost)","(Mitigation share of project cost) / (tCO2 reduced)","(Direct co-financing in US$)/(Total GCF/other fund financing in US$)"," (annual tCO2 reduced)/(annual emissions in target countries)"," (beneficiaries)/(average population in target countries)","Female beneficiaries/Total beneficiaries"]
[null,"CRITERION FOR REMOVAL - LOWER BOUND (<=)",{"$f":"1/E4","v":1E-3},2.0000000000000001E-4,0.1,-9.9999999999999995E-8,-1.0000000000000001E-9,1E-4,0]
[null,"CRITERION FOR REMOVAL - UPPER BOUND (>=)",{"$f":"1/E3","v":10},9999999999,1000,1000,1,1,1]
[]
[null,"Number of data points (after removal of outliers)",{"$f":"COUNT('PROJECT BENCHMARKS'!F2:F658)","v":238},{"$f":"COUNT('PROJECT BENCHMARKS'!G2:G658)","v":79},{"$f":"COUNT('PROJECT BENCHMARKS'!H2:H658)","v":238},{"$f":"COUNT('PROJECT BENCHMARKS'!I2:I658)","v":653},{"$f":"COUNT('PROJECT BENCHMARKS'!J2:J658)","v":301},{"$f":"COUNT('PROJECT BENCHMARKS'!K2:K658)","v":78},{"$f":"COUNT('PROJECT BENCHMARKS'!L2:L658)","v":171}]
[]
[null,"Percentile chosen",0.2,0.2,0.2,0.2,0.2,0.2,0.2]
[null,"Percentile breakdown (in distribution",{"$f":"_xlfn.PERCENTILE.EXC('PROJECT BENCHMARKS'!$F$2:$F$658,C8)","v":7.7818711304681416E-3},{"$f":"_xlfn.PERCENTILE.EXC('PROJECT BENCHMARKS'!$G$2:$G$658,D8)","v":1.3356484573260317E-3},{"$f":"_xlfn.PERCENTILE.EXC('PROJECT BENCHMARKS'!$H$2:$H$658,E8)","v":9.0949165717934584},{"$f":"_xlfn.PERCENTILE.EXC('PROJECT BENCHMARKS'!$I$2:$I$658,F8)","v":0.31713954341042944},{"$f":"_xlfn.PERCENTILE.EXC('PROJECT BENCHMARKS'!$J$2:$J$658,G8)","v":1.3444653200670042E-4},{"$f":"_xlfn.PERCENTILE.EXC('PROJECT BENCHMARKS'!$K$2:$K$658,H8)","v":5.7894500825926964E-3},{"$f":"_xlfn.PERCENTILE.EXC('PROJECT BENCHMARKS'!$L$2:$L$658,I8)","v":0.4}]
[]
[]
[]
[]
[]
[]
[]
[]
[null,1,1.026017113997109E-2,1.7365712579968972E-3,8.213454545454546,0.32236762976871947,1.089160720542451E-3,3.1354026912325437E-3,0.4]
[null,2,1.9417828496673395E-2,4.1760000000000009E-3,23.976233360719384,1.545389689056401,4.2448887373130349E-3,1.2034193479775222E-2,0.5]
[null,3,4.1744855249525196E-2,1.7490829061505283E-2,51.4990955994652,3.933660723360584,1.8558631971509268E-2,6.273578158001257E-2,0.5]
[null,4,0.12175859312549962,9.6119386405316809E-2,97.464388992786922,6.8142156581619151,8.0768703814912454E-2,0.21366088711610942,0.51]
[null,5]
[null,"nr with outlier",240,92,240,653,293,117,102]
[]
[null,1,7.7818711304681416E-3,1.3356484573260317E-3,9.0949165717934584,0.32236762976871947,1.3971225433414408E-4,5.664696287252676E-3,0.4]
[null,2,1.6616750084612168E-2,2.9805175923233499E-3,27.166288757898357,1.545389689056401,1.3025202344712954E-3,1.21857346978542E-2,0.5]
[null,3,3.6810441567081055E-2,9.7889994368312375E-3,60.182935654054475,3.933660723360584,5.9806482749257548E-3,5.6998285766606024E-2,0.5]
[null,4,0.10995188181788743,5.2736905145990075E-2,128.63922124913833,6.8142156581619151,3.7484284299711325E-2,0.22234927612939634,0.51]
[null,5]
[null,"nr with outlier",238,79,238,653,300,80,162]

{"sheet":"LISTS","index":9,"n_rows":195,"n_cols":9,"rows_kept":195,"cut":false,"hidden":true,"merged":[]}
["Afghanistan",0.49769511404578859,"NO BARRIER/RISK IDENTIFIED","NO RISK/CHALLENGE IDENTIFIED","e.g. permitting delays, denial or repeal; Forced relocation)","High / No evidence",3,2,1]
["Albania",0.78491097340496918,"Administrative risks ","Administrative risks ","e.g. earthquakes, severe draught)","Moderate",4,3,2]
["Algeria",0.75376753474292468,"Catastrophe risks impacting the activity ","Catastrophe risks impacting the activity ","e.g. risk of increased project-related construction and operation costs).","Low",5,4,3]
["Andorra",0.85768359425589824,"Construction and operation costs increase ","Construction and operation costs increase ","e.g. uncertainty over the timing of construction and sub-standard construction)",null,"Low","Moderate","High / No evidence"]
["Angola",0.58117856546099289,"Construction delays and risks ","Construction delays and risks ","e.g. risk of depreciation and currency volatility)"]
["Antigua and Barbuda",0.77953591018673951,"Currency risk ","Currency risk ","e.g. leading to potential clean up liabilities)","YES (fully mitgates/manages)",2]
["Argentina",0.82484965000841348,"Environmental risks resulting from project activities ","Environmental risks resulting from project activities ","uncertainty in access capital and cost of capital for financing /re-financing)","YES (partially mitigates/manages)",1]
["Armenia",0.75511268317937885,"Financing barriers ","Financing barriers ","e.g. risks related to technical operations, faulty operations, reliability of activity output)","NO",0]
["Australia",0.9386312851065749,"Operation risks and other downstream output-related risks ","Operation risks and other downstream output-related risks ","e.g. change of support to tariffs or level of subsidization)","YES (identified and secured)",2]
["Austria",0.9077551793931995,"Policy / regulatory risks ","Policy / regulatory risks ","e.g. corruption and governance risks including repeal of contracts, legal and ownership rights infringements risk, risk of property expropriation; ownership claims);","YES (identified)",1]
["Azerbaijan",0.75696542740801309,"Political risks ","Political risks ","e.g. uncertainty on output price, low of demand, payment risk, counterparty credit risk, uncertainty of exit value of investment).","NO",0]
["Bahamas",0.80712629587972029,"Revenue risk ","Revenue risk ","e.g. social resistance, protests from local citizen, reputational risk)"]
["Bahrain",0.84610833886364012,"Social opposition and violence ","Social opposition and violence ","e.g. lack of capacity and knowledge, availability of material and workforce, risks related to delays and quality of supply, uncertainty over the effective availability of natural resource on the specific site)"]
["Bangladesh",0.60815583703192777,"Upstream resources-related risks ","Upstream resources-related risks "]
["Barbados",0.80026863095122702,"OTHER BARRIER","OTHER RISK/CHALLENGE"]
["Belarus",0.80752959552767289]
["Belgium",0.91606603684458232]
["Belize",0.70755315436627941]
["Benin",0.51461967272490616]
["Bhutan",0.61241760910528764]
["Bolivia (Plurinational State of)",0.69253697050931051]
["Bosnia and Herzegovina",0.76845083084919141]
["Botswana",0.71655212857754835]
["Brazil",0.75924536998366643]
["Brunei Darussalam",0.85326697177068311]
["Bulgaria",0.81300624867146398]
["Burkina Faso",0.4234231852553077]
["Burundi",0.41721617425553165]
["Cabo Verde",0.65403071842824345]
["Cambodia",0.58197504065757832]
["Cameroon",0.55593848219277997]
["Canada",0.92595239850071687]
["Central African Republic",0.36680934465729048]
["Chad",0.40397024739064608]
["Chile",0.84285878076783016]
["China",0.7517039468311737]
["Colombia",0.74704538259088049]
["Comoros",0.50325355492329682]
["Congo",0.6062825819536497]
["Congo (Democratic Republic of the)",0.4574692129260281]
["Costa Rica",0.79386463168332178]
["Côte d'Ivoire",0.49230450211835647]
["Croatia",0.83110227884211219]
["Cuba",0.77726760552715823]
["Cyprus",0.86878438539869729]
["Czechia",0.88756142888998346]
["Denmark",0.92947411111012224]
["Djibouti",0.47600573090124748]
["Dominica",0.71505659303342339]
["Dominican Republic",0.73579791942238093]
["Ecuador",0.75189975257563157]
["Egypt",0.69560755578806399]
["El Salvador",0.67415872684264022]
["Equatorial Guinea",0.59056103506419477]
["Eritrea",0.43997853797660647]
["Estonia",0.87104203894607279]
["Eswatini (Kingdom of)",0.5883163541434715]
["Ethiopia",0.46266409187558249]
["Fiji",0.74078795496955663]
["Finland",0.91965277545544544]
["France",0.90080243991875186]
["Gabon",0.70221642575382892]
["Gambia",0.46006723569790536]
["Georgia",0.77982232852556022]
["Germany",0.93604342015495512]
["Ghana",0.5917381944723934]
["Greece",0.86993406704056964]
["Grenada",0.77194849918157493]
["Guatemala",0.65031162252060382]
["Guinea",0.45911112163689399]
["Guinea-Bissau",0.45530355322898769]
["Guyana",0.65363724298193082]
["Haiti",0.49794511062750563]
["Honduras",0.61671674935789755]
["Hong Kong, China (SAR)",0.93258291443370078]
["Hungary",0.83784463394834396]
["Iceland",0.93487925176182485]
["India",0.63983291089580574]
["Indonesia",0.69397966394211896]
["Iran (Islamic Republic of)",0.79805734320084043]
["Iraq",0.68531707772009054]
["Ireland",0.93841005899505603]
["Israel",0.90324484142540495]
["Italy",0.87976944514192545]
["Jamaica",0.73224092347513436]
["Japan",0.90915295664779872]
["Jordan",0.73537313966980966]
["Kazakhstan",0.80043460415804601]
["Kenya",0.58992017706695854]
["Kiribati",0.61178402567714762]
["Korea (Democratic People's Rep. of)",".."]
["Korea (Republic of)",0.90256112640990338]
["Kuwait",0.8030660242495482]
["Kyrgyzstan",0.6721930332466709]
["Lao People's Democratic Republic",0.60127572532629825]
["Latvia",0.84714303913219624]
["Lebanon",0.75669598161760887]
["Lesotho",0.51972943005839323]
["Liberia",0.43509390801531622]
["Libya",0.7055994252402138]
["Liechtenstein",0.91608286799234029]
["Lithuania",0.85813514452445749]
["Luxembourg",0.90393886089011288]
["Madagascar",0.51916252686803011]
["Malawi",0.47655279534814654]
["Malaysia",0.8018076952157448]
["Maldives",0.71686435057213438]
["Mali",0.42686886087646869]
["Malta",0.87818679465801597]
["Marshall Islands",0.70794741557547936]
["Mauritania",0.51964372075859133]
["Mauritius",0.79012017483625518]
["Mexico",0.77403462077387097]
["Micronesia (Federated States of)",0.62725468777486237]
["Moldova (Republic of)",0.69975339905275424]
["Monaco",".."]
["Mongolia",0.74081631544727133]
["Montenegro",0.81369230188998121]
["Morocco",0.6665125699524036]
["Mozambique",0.43657991125082857]
["Myanmar",0.57826321273645698]
["Namibia",0.64652526982300351]
["Nauru",".."]
["Nepal",0.57403802503497448]
["Netherlands",0.93063859254564973]
["New Zealand",0.91668762945436066]
["Nicaragua",0.65773978911588127]
["Niger",0.35393119203339585]
["Nigeria",0.53180969920944143]
["Norway",0.95252201967581829]
["Oman",0.82098939527812864]
["Pakistan",0.56160258568140708]
["Palau",0.79847843752045478]
["Palestine, State of",0.68583551500678974]
["Panama",0.78932029989074803]
["Papua New Guinea",0.54430400197212958]
["Paraguay",0.70166243405093431]
["Peru",0.74977285457469078]
["Philippines",0.69893237253676199]
["Poland",0.8650750409424125]
["Portugal",0.84711334071287581]
["Qatar",0.85561644824412797]
["Romania",0.81119175021267953]
["Russian Federation",0.81627548670301231]
["Rwanda",0.52394671239350554]
["Saint Kitts and Nevis",0.77784458523597233]
["Saint Lucia",0.74704915211912148]
["Saint Vincent and the Grenadines",0.72270789923458134]
["Samoa",0.712812176548273]
["San Marino",".."]
["Sao Tome and Principe",0.58947628313965317]
["Saudi Arabia",0.85329863821228358]
["Senegal",0.5051337229118531]
["Serbia",0.78669303469972784]
["Seychelles",0.7965286581734321]
["Sierra Leone",0.41898706478985698]
["Singapore",0.93204160643220724]
["Slovakia",0.85520023672264023]
["Slovenia",0.89622382855890892]
["Solomon Islands",0.54596004143062493]
["Somalia",".."]
["South Africa",0.69903005468226886]
["South Sudan",0.38772518084873253]
["Spain",0.89102021644103457]
["Sri Lanka",0.7700102474771624]
["Sudan",0.5024656782427469]
["Suriname",0.71961242187116581]
["Sweden",0.9328045492693906]
["Switzerland",0.94399757027811748]
["Syrian Arab Republic",0.53570370082832008]
["Tajikistan",0.65001452968656281]
["Tanzania (United Republic of)",0.53771474059574553]
["Thailand",0.75468354591492348]
["The former Yugoslav Republic of Macedonia",0.75668718811133506]
["Timor-Leste",0.62494409767016457]
["Togo",0.50322000036836834]
["Tonga",0.72564470745744603]
["Trinidad and Tobago",0.78391525960107711]
["Tunisia",0.73472009733071209]
["Turkey",0.79063398071465241]
["Turkmenistan",0.70625710824131172]
["Tuvalu",".."]
["Uganda",0.51632081469924607]
["Ukraine",0.75070973757603288]
["United Arab Emirates",0.86275666039651411]
["United Kingdom",0.92154892233940866]
["United States",0.9239135887246156]
["Uruguay",0.80394843313691133]
["Uzbekistan",0.70984664669249209]
["Vanuatu",0.60257391539551985]
["Venezuela (Bolivarian Republic of)",0.76077299007881249]
["Viet Nam",0.69399806213388093]
["Yemen",0.45190042638439004]
["Zambia",0.58808347246845116]
["Zimbabwe",0.53455328575459604]