BEGIN:VCALENDAR
VERSION:2.0
PRODID:-//Date iCal//NONSGML kigkonsult.se iCalcreator 2.20.2//
METHOD:PUBLISH
BEGIN:VTIMEZONE
TZID:Asia/Seoul
BEGIN:STANDARD
DTSTART:19881009T030000
TZOFFSETFROM:+1000
TZOFFSETTO:+0900
TZNAME:KST
END:STANDARD
END:VTIMEZONE
BEGIN:VEVENT
UID:calendar.9868.field_date_content.0@www.greenclimate.fund
DTSTAMP:20260421T215036Z
CREATED:20200113T051244Z
DESCRIPTION:The 25th Conference of the Parties to the United Nations Framew
 ork Convention on Climate Change\, or COP25\, will be held from 2-13 Decem
 ber 2019 at Madrid\, Spain. The conference is designed to take the next cr
 ucial steps in the UN climate change process. Following agreement on the i
 mplementation guidelines of the Paris Agreement at COP24\, a key objective
  is to complete several matters with respect to the full operationalisatio
 n of the Paris Climate Change Agreement.
DTSTART;TZID=Asia/Seoul:20191201T000000
DTEND;TZID=Asia/Seoul:20191201T000000
LAST-MODIFIED:20231213T054626Z
LOCATION:Madrid\, Spain
SUMMARY:25th meeting of the Conference of the Parties (COP25)
URL;TYPE=URI:https://www.greenclimate.fund/event/25th-session-conference-pa
 rties-cop25
END:VEVENT
END:VCALENDAR
