BEGIN:VCALENDAR
VERSION:2.0
PRODID:-//Date iCal//NONSGML kigkonsult.se iCalcreator 2.20.2//
METHOD:PUBLISH
BEGIN:VTIMEZONE
TZID:Asia/Seoul
BEGIN:STANDARD
DTSTART:19881009T030000
TZOFFSETFROM:+1000
TZOFFSETTO:+0900
TZNAME:KST
END:STANDARD
END:VTIMEZONE
BEGIN:VEVENT
UID:calendar.8881.field_date_content.0@www.greenclimate.fund
DTSTAMP:20260419T123241Z
CREATED:20191015T061255Z
DESCRIPTION:The twenty-fourth meeting of the Board of the Green Climate Fun
 d will be held in Songdo\, Republic of Korea\, from 12-14 November 2019.
DTSTART;TZID=Asia/Seoul:20191112T000000
DTEND;TZID=Asia/Seoul:20191112T000000
LAST-MODIFIED:20200131T020333Z
LOCATION:Songdo\, Incheon\, Republic of Korea
SUMMARY:Twenty-fourth meeting of the GCF Board (B.24)
URL;TYPE=URI:https://www.greenclimate.fund/boardroom/meeting/b24
END:VEVENT
END:VCALENDAR
