BEGIN:VCALENDAR
VERSION:2.0
PRODID:-//Date iCal//NONSGML kigkonsult.se iCalcreator 2.20.2//
METHOD:PUBLISH
BEGIN:VTIMEZONE
TZID:Asia/Seoul
BEGIN:STANDARD
DTSTART:19881009T030000
TZOFFSETFROM:+1000
TZOFFSETTO:+0900
TZNAME:KST
END:STANDARD
END:VTIMEZONE
BEGIN:VEVENT
UID:calendar.8317.field_date_content.0@www.greenclimate.fund
DTSTAMP:20260423T215122Z
CREATED:20190830T015029Z
DESCRIPTION:On 15 July 2019\, the Green Climate Fund will be hosting an eve
 nt on the Fund’s role in supporting the implementation of the Paris Agreem
 ent and the operationalisation of developing countries’ Nationally Determi
 ned Contributions (NDCs). Taking place in New York\, the event is part of 
 the High-level Political Forum on Sustainable Development.
DTSTART;TZID=Asia/Seoul:20190715T000000
DTEND;TZID=Asia/Seoul:20190715T000000
LAST-MODIFIED:20190830T015137Z
LOCATION:UN Headquarters\, New York\, United States
SUMMARY:Strengthening synergies: the role of the Green Climate Fund in impl
 ementing the Paris Agreement and the 2030 agenda
URL;TYPE=URI:https://www.greenclimate.fund/event/strengthening-synergies-ro
 le-green-climate-fund-implementing-paris-agreement-and-2030-agenda
END:VEVENT
END:VCALENDAR
