BEGIN:VCALENDAR
VERSION:2.0
PRODID:-//Date iCal//NONSGML kigkonsult.se iCalcreator 2.20.2//
METHOD:PUBLISH
BEGIN:VTIMEZONE
TZID:Asia/Seoul
BEGIN:STANDARD
DTSTART:19881009T030000
TZOFFSETFROM:+1000
TZOFFSETTO:+0900
TZNAME:KST
END:STANDARD
END:VTIMEZONE
BEGIN:VEVENT
UID:calendar.8316.field_date_content.0@www.greenclimate.fund
DTSTAMP:20260423T103748Z
CREATED:20190829T081515Z
DESCRIPTION:The 24th Conference of the Parties to the United Nations Framew
 ork Convention on Climate Change\, or COP24\, will be held from 3-14 Decem
 ber 2018 at Katowice\, Poland. One of the most important tasks of this yea
 r's conference is to adopt a package of decisions ensuring the full implem
 entation of the Paris Agreement. The event will likewise include facilitat
 ive dialogues intended to support the implementation of national commitmen
 ts.
DTSTART;TZID=Asia/Seoul:20181203T000000
DTEND;TZID=Asia/Seoul:20181203T000000
LAST-MODIFIED:20231213T054613Z
LOCATION:Katowice\, Poland
SUMMARY:24th meeting of the Conference of the Parties (COP24)
URL;TYPE=URI:https://www.greenclimate.fund/event/24th-meeting-conference-pa
 rties-cop24
END:VEVENT
END:VCALENDAR
