BEGIN:VCALENDAR
VERSION:2.0
PRODID:-//Date iCal//NONSGML kigkonsult.se iCalcreator 2.20.2//
METHOD:PUBLISH
BEGIN:VTIMEZONE
TZID:Asia/Seoul
BEGIN:STANDARD
DTSTART:19881009T030000
TZOFFSETFROM:+1000
TZOFFSETTO:+0900
TZNAME:KST
END:STANDARD
END:VTIMEZONE
BEGIN:VEVENT
UID:calendar.8314.field_date_content.0@www.greenclimate.fund
DTSTAMP:20260423T133426Z
CREATED:20190828T064244Z
DESCRIPTION:The GCF International Technical Workshop: Adaptation Rationale 
 for Project Pipelines and other Climate Investment was held on 14-16 Novem
 ber 2018 in Cebu\, Philippines. This three-day workshop was co-hosted by t
 he Climate Change Commission of the Philippines to support GCF Direct Acce
 ss Entities (DAEs) and National Designated Authorities (NDAs) in preparing
  adaptation project pipelines that effective articulate key elements of cl
 imate rationale to further attract adaptation finance\, building from adap
 tation planning processes and other support.
DTSTART;TZID=Asia/Seoul:20181114T000000
DTEND;TZID=Asia/Seoul:20181114T000000
LAST-MODIFIED:20200121T060934Z
LOCATION:Cebu\, Philippines
SUMMARY:GCF Adaptation Rationale Workshop
URL;TYPE=URI:https://www.greenclimate.fund/event/gcf-adaptation-rationale-w
 orkshop
END:VEVENT
END:VCALENDAR
