BEGIN:VCALENDAR
VERSION:2.0
PRODID:-//Date iCal//NONSGML kigkonsult.se iCalcreator 2.20.2//
METHOD:PUBLISH
BEGIN:VTIMEZONE
TZID:Asia/Seoul
BEGIN:STANDARD
DTSTART:19881009T030000
TZOFFSETFROM:+1000
TZOFFSETTO:+0900
TZNAME:KST
END:STANDARD
END:VTIMEZONE
BEGIN:VEVENT
UID:calendar.8313.field_date_content.0@www.greenclimate.fund
DTSTAMP:20260423T183315Z
CREATED:20190828T062749Z
DESCRIPTION:The Green Climate Fund’s Structured Dialogue with the Caribbean
 \, organized in collaboration with the Government of Belize\, brought toge
 ther key stakeholders to increase the involvement of Caribbean countries w
 ith the GCF.
DTSTART;TZID=Asia/Seoul:20170619T000000
DTEND;TZID=Asia/Seoul:20170619T000000
LAST-MODIFIED:20200121T061207Z
LOCATION:Placencia\, Belize
SUMMARY:Structured Dialogue with the Caribbean 2017
URL;TYPE=URI:https://www.greenclimate.fund/event/structured-dialogue-caribb
 ean-2017
END:VEVENT
END:VCALENDAR
