BEGIN:VCALENDAR
VERSION:2.0
PRODID:-//Date iCal//NONSGML kigkonsult.se iCalcreator 2.20.2//
METHOD:PUBLISH
BEGIN:VTIMEZONE
TZID:Asia/Seoul
BEGIN:STANDARD
DTSTART:19881009T030000
TZOFFSETFROM:+1000
TZOFFSETTO:+0900
TZNAME:KST
END:STANDARD
END:VTIMEZONE
BEGIN:VEVENT
UID:calendar.8309.field_date_content.0@www.greenclimate.fund
DTSTAMP:20260422T054302Z
CREATED:20190828T032018Z
DESCRIPTION:The first GCF regional workshop for Eastern Europe and Central 
 Asia took place between 31 May and 2 June 2017 in Tbilisi\, Georgia. It ta
 rgeted 15 countries\, and was organized in collaboration with the Governme
 nt of Georgia. The event presented an opportunity for stronger engagement 
 between NDAs/FPs\, the Secretariat\, accredited entities and other develop
 ment partners\, as well as to educate participants about the GCF\, its ope
 rational modalities and investment framework.
DTSTART;TZID=Asia/Seoul:20170531T000000
DTEND;TZID=Asia/Seoul:20170531T000000
LAST-MODIFIED:20200121T061219Z
LOCATION:Tbilisi\, Georgia
SUMMARY:GCF Regional Workshop for Eastern Europe and Central Asia
URL;TYPE=URI:https://www.greenclimate.fund/event/gcf-regional-workshop-east
 ern-europe-and-central-asia
END:VEVENT
END:VCALENDAR
