BEGIN:VCALENDAR
VERSION:2.0
PRODID:-//Date iCal//NONSGML kigkonsult.se iCalcreator 2.20.2//
METHOD:PUBLISH
BEGIN:VTIMEZONE
TZID:Asia/Seoul
BEGIN:STANDARD
DTSTART:19881009T030000
TZOFFSETFROM:+1000
TZOFFSETTO:+0900
TZNAME:KST
END:STANDARD
END:VTIMEZONE
BEGIN:VEVENT
UID:calendar.8308.field_date_content.0@www.greenclimate.fund
DTSTAMP:20260423T095207Z
CREATED:20190828T030653Z
DESCRIPTION:GCF’s Empowering Direct Access workshop focused on supporting t
 he Fund’s direct access entities (DAEs) – national and regional entities n
 ominated for accreditation to the GCF by National Designated Authorities –
  to develop strong project proposals and strengthen their capacity across 
 several programmatic areas.
DTSTART;TZID=Asia/Seoul:20170523T000000
DTEND;TZID=Asia/Seoul:20170523T000000
LAST-MODIFIED:20200121T061229Z
LOCATION:Songdo\, Incheon\, Republic of Korea
SUMMARY:Empowering direct access workshop 2017
URL;TYPE=URI:https://www.greenclimate.fund/event/empowering-direct-access-w
 orkshop-2017
END:VEVENT
END:VCALENDAR
