BEGIN:VCALENDAR
VERSION:2.0
PRODID:-//Date iCal//NONSGML kigkonsult.se iCalcreator 2.20.2//
METHOD:PUBLISH
BEGIN:VTIMEZONE
TZID:Asia/Seoul
BEGIN:STANDARD
DTSTART:19881009T030000
TZOFFSETFROM:+1000
TZOFFSETTO:+0900
TZNAME:KST
END:STANDARD
END:VTIMEZONE
BEGIN:VEVENT
UID:calendar.8303.field_date_content.0@www.greenclimate.fund
DTSTAMP:20260419T115500Z
CREATED:20190827T074400Z
DESCRIPTION:The Green Climate Fund (GCF) Structured Dialogue with the Pacif
 ic\, hosted by the Government of the Federated States of Micronesia (FSM) 
 and supported by the Government of Australia\, brought together key stakeh
 olders to strengthen the engagement of Pacific island countries and their 
 partners with GCF and accelerate the implementation of GCF projects and pr
 ogrammes in the Region.
DTSTART;TZID=Asia/Seoul:20180730T000000
DTEND;TZID=Asia/Seoul:20180730T000000
LAST-MODIFIED:20200121T061038Z
LOCATION:Pohnpei\, Federated States of Micronesia
SUMMARY:Structured Dialogue with the Pacific 2018
URL;TYPE=URI:https://www.greenclimate.fund/event/structured-dialogue-pacifi
 c-2018
END:VEVENT
END:VCALENDAR
