BEGIN:VCALENDAR
VERSION:2.0
PRODID:-//Date iCal//NONSGML kigkonsult.se iCalcreator 2.20.2//
METHOD:PUBLISH
BEGIN:VTIMEZONE
TZID:Asia/Seoul
BEGIN:STANDARD
DTSTART:19881009T030000
TZOFFSETFROM:+1000
TZOFFSETTO:+0900
TZNAME:KST
END:STANDARD
END:VTIMEZONE
BEGIN:VEVENT
UID:calendar.8295.field_date_content.0@www.greenclimate.fund
DTSTAMP:20260423T165402Z
CREATED:20190807T064345Z
DESCRIPTION:The GCF Structured Dialogue with Eastern Europe and Central Asi
 a took place in Dushanbe\, Tajikistan on 11-14 September 2018.
DTSTART;TZID=Asia/Seoul:20180911T000000
DTEND;TZID=Asia/Seoul:20180911T000000
LAST-MODIFIED:20200121T061026Z
LOCATION:Dushanbe\, Tajikistan
SUMMARY:Structured Dialogue with Eastern Europe and Central Asia
URL;TYPE=URI:https://www.greenclimate.fund/event/structured-dialogue-easter
 n-europe-and-central-asia
END:VEVENT
END:VCALENDAR
