BEGIN:VCALENDAR
VERSION:2.0
PRODID:-//Date iCal//NONSGML kigkonsult.se iCalcreator 2.20.2//
METHOD:PUBLISH
BEGIN:VTIMEZONE
TZID:Asia/Seoul
BEGIN:STANDARD
DTSTART:19881009T030000
TZOFFSETFROM:+1000
TZOFFSETTO:+0900
TZNAME:KST
END:STANDARD
END:VTIMEZONE
BEGIN:VEVENT
UID:calendar.8294.field_date_content.0@www.greenclimate.fund
DTSTAMP:20260422T115456Z
CREATED:20190807T051459Z
DESCRIPTION:The second GCF Structured Dialogue with the Caribbean\, held on
  6-9 November\, brought together Ministers and senior government officials
 \, GCF representatives\, Accredited Entities\, National Designated Authori
 ties\, readiness delivery partners\, private sector representatives and ci
 vil society groups. The event provided an opportunity to reflect on progre
 ss and lessons learned\, to build partnerships\, further engagement with G
 CF\, and to explore new investment opportunities for both public and priva
 te sectors.
DTSTART;TZID=Asia/Seoul:20181106T000000
DTEND;TZID=Asia/Seoul:20181106T000000
LAST-MODIFIED:20200121T060949Z
LOCATION:St. George's\, Grenada
SUMMARY:Structured Dialogue with the Caribbean 2018
URL;TYPE=URI:https://www.greenclimate.fund/event/structured-dialogue-caribb
 ean-2018
END:VEVENT
END:VCALENDAR
