BEGIN:VCALENDAR
VERSION:2.0
PRODID:-//Date iCal//NONSGML kigkonsult.se iCalcreator 2.20.2//
METHOD:PUBLISH
BEGIN:VTIMEZONE
TZID:Asia/Seoul
BEGIN:STANDARD
DTSTART:19881009T030000
TZOFFSETFROM:+1000
TZOFFSETTO:+0900
TZNAME:KST
END:STANDARD
END:VTIMEZONE
BEGIN:VEVENT
UID:calendar.7659.field_date_content.0@www.greenclimate.fund
DTSTAMP:20260424T165956Z
CREATED:20190701T095413Z
DESCRIPTION:The eighth meeting of the Board of the Green Climate Fund will 
 be held from Tuesday\, 14 October to Friday\, 17 October\, in Bridgetown\,
  Barbados.
DTSTART;TZID=Asia/Seoul:20141014T000000
DTEND;TZID=Asia/Seoul:20141014T000000
LAST-MODIFIED:20191025T051519Z
LOCATION:Bridgetown\, Barbados
SUMMARY:Eighth meeting of the GCF Board (B.08)
URL;TYPE=URI:https://www.greenclimate.fund/boardroom/meeting/b08
END:VEVENT
END:VCALENDAR
