BEGIN:VCALENDAR
VERSION:2.0
PRODID:-//Date iCal//NONSGML kigkonsult.se iCalcreator 2.20.2//
METHOD:PUBLISH
BEGIN:VTIMEZONE
TZID:Asia/Seoul
BEGIN:STANDARD
DTSTART:19881009T030000
TZOFFSETFROM:+1000
TZOFFSETTO:+0900
TZNAME:KST
END:STANDARD
END:VTIMEZONE
BEGIN:VEVENT
UID:calendar.7657.field_date_content.0@www.greenclimate.fund
DTSTAMP:20260421T134349Z
CREATED:20190701T083110Z
DESCRIPTION:The tenth meeting of the Board of the Green Climate Fund will b
 e held from Monday\, 6 July to Thursday\, 6 July\, in Songdo\, Incheon\, R
 epublic of Korea.
DTSTART;TZID=Asia/Seoul:20150706T000000
DTEND;TZID=Asia/Seoul:20150706T000000
LAST-MODIFIED:20191025T051354Z
LOCATION:Songdo\, Incheon\, Republic of Korea
SUMMARY:Tenth meeting of the GCF Board (B.10)
URL;TYPE=URI:https://www.greenclimate.fund/boardroom/meeting/b10
END:VEVENT
END:VCALENDAR
