BEGIN:VCALENDAR
VERSION:2.0
PRODID:-//Date iCal//NONSGML kigkonsult.se iCalcreator 2.20.2//
METHOD:PUBLISH
BEGIN:VTIMEZONE
TZID:Asia/Seoul
BEGIN:STANDARD
DTSTART:19881009T030000
TZOFFSETFROM:+1000
TZOFFSETTO:+0900
TZNAME:KST
END:STANDARD
END:VTIMEZONE
BEGIN:VEVENT
UID:calendar.7648.field_date_content.0@www.greenclimate.fund
DTSTAMP:20260422T031452Z
CREATED:20190628T075242Z
DESCRIPTION:The eighteenth meeting of the Board of the Green Climate Fund w
 ill be held from Saturday\, 30 September to Monday\, 2 October\, in Cairo\
 , Egypt.
DTSTART;TZID=Asia/Seoul:20170930T000000
DTEND;TZID=Asia/Seoul:20170930T000000
LAST-MODIFIED:20191025T051232Z
LOCATION:Cairo\, Egypt
SUMMARY:Eighteenth meeting of the GCF Board (B.18)
URL;TYPE=URI:https://www.greenclimate.fund/boardroom/meeting/b18
END:VEVENT
END:VCALENDAR
