BEGIN:VCALENDAR
VERSION:2.0
PRODID:-//Date iCal//NONSGML kigkonsult.se iCalcreator 2.20.2//
METHOD:PUBLISH
BEGIN:VTIMEZONE
TZID:Asia/Seoul
BEGIN:STANDARD
DTSTART:19881009T030000
TZOFFSETFROM:+1000
TZOFFSETTO:+0900
TZNAME:KST
END:STANDARD
END:VTIMEZONE
BEGIN:VEVENT
UID:calendar.7538.field_date_content.0@www.greenclimate.fund
DTSTAMP:20260423T083215Z
CREATED:20190509T045006Z
DESCRIPTION:The twenty-second meeting of the Board of the Green Climate Fun
 d will be held from Tuesday\, 26 February to Thursday\, 28 February 2019\,
  in Songdo\, Incheon\, Republic of Korea.
DTSTART;TZID=Asia/Seoul:20190225T000000
DTEND;TZID=Asia/Seoul:20190225T000000
LAST-MODIFIED:20200131T020649Z
LOCATION:Songdo\, Incheon\, Republic of Korea
SUMMARY:Twenty-second meeting of the GCF Board (B.22)
URL;TYPE=URI:https://www.greenclimate.fund/boardroom/meeting/b22
END:VEVENT
END:VCALENDAR
