BEGIN:VCALENDAR
VERSION:2.0
PRODID:-//Date iCal//NONSGML kigkonsult.se iCalcreator 2.20.2//
METHOD:PUBLISH
BEGIN:VTIMEZONE
TZID:Asia/Seoul
BEGIN:STANDARD
DTSTART:19881009T030000
TZOFFSETFROM:+1000
TZOFFSETTO:+0900
TZNAME:KST
END:STANDARD
END:VTIMEZONE
BEGIN:VEVENT
UID:calendar.7537.field_date_content.0@www.greenclimate.fund
DTSTAMP:20260422T043328Z
CREATED:20190506T002647Z
DESCRIPTION:The Green Climate Fund (GCF) Global Programming Conference serv
 es as a platform for high level-dialogue on country and entity programming
  plans with GCF by bringing together all GCF National Designated Authoriti
 es or focal points\, Accredited Entities\, and other stakeholders.
DTSTART;TZID=Asia/Seoul:20190819T000000
DTEND;TZID=Asia/Seoul:20190819T000000
LAST-MODIFIED:20220725T104329Z
LOCATION:Songdo\, Incheon\, Republic of Korea
SUMMARY:GCF Global Programming Conference 2019
URL;TYPE=URI:https://www.greenclimate.fund/event/gcf-global-programming-con
 ference-2019
END:VEVENT
END:VCALENDAR
