BEGIN:VCALENDAR
VERSION:2.0
PRODID:-//Date iCal//NONSGML kigkonsult.se iCalcreator 2.20.2//
METHOD:PUBLISH
BEGIN:VTIMEZONE
TZID:Asia/Seoul
BEGIN:STANDARD
DTSTART:19881009T030000
TZOFFSETFROM:+1000
TZOFFSETTO:+0900
TZNAME:KST
END:STANDARD
END:VTIMEZONE
BEGIN:VEVENT
UID:calendar.7532.field_date_content.0@www.greenclimate.fund
DTSTAMP:20260423T145536Z
CREATED:20190425T011848Z
DESCRIPTION:The Green Climate Fund (GCF)\, in collaboration with the Govern
 ment of Ethiopia and the Least Developed Countries' constituency under the
  UNFCCC\, organised the GCF Structured Dialogue with Least Developed Count
 ries (LDCs) in Addis Ababa\, Ethiopia from 19 to 22 November 2018.\n\n\nTh
 e forty-seven countries on the list of LDCs are some of the most vulnerabl
 e to the adverse effects of climate change. They are the least able to rec
 over from climate stresses and their economic growth is highly dependent o
 n climate-sensitive sectors.
DTSTART;TZID=Asia/Seoul:20181119T000000
DTEND;TZID=Asia/Seoul:20181119T000000
LAST-MODIFIED:20200121T060833Z
LOCATION:Addis Ababa\, Ethiopia
SUMMARY:Structured Dialogue with Least Developed Countries
URL;TYPE=URI:https://www.greenclimate.fund/event/structured-dialogue-least-
 developed-countries
END:VEVENT
END:VCALENDAR
