BEGIN:VCALENDAR
VERSION:2.0
PRODID:-//Date iCal//NONSGML kigkonsult.se iCalcreator 2.20.2//
METHOD:PUBLISH
BEGIN:VTIMEZONE
TZID:Asia/Seoul
BEGIN:STANDARD
DTSTART:19881009T030000
TZOFFSETFROM:+1000
TZOFFSETTO:+0900
TZNAME:KST
END:STANDARD
END:VTIMEZONE
BEGIN:VEVENT
UID:calendar.22371.field_date_content.0@www.greenclimate.fund
DTSTAMP:20260423T103827Z
CREATED:20260326T011419Z
DESCRIPTION:AFOLU stands for Agriculture\, Forestry\, and Other Land Uses. 
 Globally\, the sector offers the second largest potential for climate chan
 ge mitigation\, after the energy sector\, and is included in over 80% of t
 he NDCs from developing countries. In addition\, activities in AFOLU can p
 rovide several co-benefits\, including food production\, biodiversity cons
 ervation\, and adaptation to climate change\, thus contributing to various
  SDGs. However\, persistent barriers hamper the implementation of AFOLU mi
 tigation projects in developing countries.
DTSTART;TZID=Asia/Seoul:20240716T000000
DTEND;TZID=Asia/Seoul:20240716T000000
LAST-MODIFIED:20260326T011439Z
SUMMARY:Meet the iTAP webinar: Mitigation impact potential in the AFOLU sec
 tor
URL;TYPE=URI:https://www.greenclimate.fund/event/meet-itap-webinar-mitigati
 on-impact-potential-afolu-sector
END:VEVENT
END:VCALENDAR
