BEGIN:VCALENDAR
VERSION:2.0
PRODID:-//Date iCal//NONSGML kigkonsult.se iCalcreator 2.20.2//
METHOD:PUBLISH
BEGIN:VTIMEZONE
TZID:Asia/Seoul
BEGIN:STANDARD
DTSTART:19881009T030000
TZOFFSETFROM:+1000
TZOFFSETTO:+0900
TZNAME:KST
END:STANDARD
END:VTIMEZONE
BEGIN:VEVENT
UID:calendar.21368.field_date_content.0@www.greenclimate.fund
DTSTAMP:20260423T103726Z
CREATED:20251113T055049Z
DESCRIPTION:The Green Climate Fund is hosting an interactive training sessi
 on titled “Strengthening DAEs’ Financial Reporting and Fiduciary Excellenc
 e for GCF-Funded Activities.” The session aims to help Direct Access Entit
 ies (DAEs) and National Designated Authorities (NDAs) improve the accuracy
 \, quality\, and timeliness of their financial reporting. Correct financia
 l reporting is essential\, as incomplete or inaccurate submissions can del
 ay future disbursements or even lead to repayment of previously released f
 unds.
DTSTART;TZID=Asia/Seoul:20251110T000000
DTEND;TZID=Asia/Seoul:20251110T000000
LAST-MODIFIED:20251118T012910Z
LOCATION:Virtual\, 6:00 PM – 7:30 PM Korea Standard Time (KST)
SUMMARY:Strengthening DAEs’ financial reporting and fiduciary excellence fo
 r GCF-funded activities
URL;TYPE=URI:https://www.greenclimate.fund/event/strengthening-daes-financi
 al-reporting-and-fiduciary-excellence-gcf-funded-activities
END:VEVENT
END:VCALENDAR
