BEGIN:VCALENDAR
VERSION:2.0
PRODID:-//Date iCal//NONSGML kigkonsult.se iCalcreator 2.20.2//
METHOD:PUBLISH
BEGIN:VTIMEZONE
TZID:Asia/Seoul
BEGIN:STANDARD
DTSTART:19881009T030000
TZOFFSETFROM:+1000
TZOFFSETTO:+0900
TZNAME:KST
END:STANDARD
END:VTIMEZONE
BEGIN:VEVENT
UID:calendar.21367.field_date_content.0@www.greenclimate.fund
DTSTAMP:20260420T062609Z
CREATED:20251113T054006Z
DESCRIPTION:The Green Climate Fund (GCF) Sub-Regional Dialogue with Fragile
  and Conflict Affected States (FCAS) in the Middle East will convene gover
 nment representatives\, National Designated Authorities (NDAs)\, Accredite
 d Entities\, Delivery Partners\, and regional stakeholders for an in-depth
  engagement on programming and readiness. This Dialogue aims to strengthen
  GCF–country collaboration and enhance access to climate finance in comple
 x and vulnerable contexts.
DTSTART;TZID=Asia/Seoul:20251214T000000
DTEND;TZID=Asia/Seoul:20251214T000000
LAST-MODIFIED:20260121T074702Z
LOCATION:Muscat\, Oman
SUMMARY:GCF Sub-Regional Dialogue with Fragile and Conflict Affected States
  in the Middle East
URL;TYPE=URI:https://www.greenclimate.fund/event/gcf-sub-regional-dialogue-
 fragile-and-conflict-affected-states-middle-east
END:VEVENT
END:VCALENDAR
