BEGIN:VCALENDAR
VERSION:2.0
PRODID:-//Date iCal//NONSGML kigkonsult.se iCalcreator 2.20.2//
METHOD:PUBLISH
BEGIN:VTIMEZONE
TZID:Asia/Seoul
BEGIN:STANDARD
DTSTART:19881009T030000
TZOFFSETFROM:+1000
TZOFFSETTO:+0900
TZNAME:KST
END:STANDARD
END:VTIMEZONE
BEGIN:VEVENT
UID:calendar.21356.field_date_content.0@www.greenclimate.fund
DTSTAMP:20260423T174227Z
CREATED:20251107T052854Z
DESCRIPTION:The Multilateral Climate Funds (MCFs) are essential in combatin
 g climate change and facilitating a transition to a resilient\, low-emissi
 on future. At this event they will launch an inaugural results report that
  shows how their finance delivers real outcomes for people\, economies\, a
 nd ecosystems.  
DTSTART;TZID=Asia/Seoul:20251118T000000
DTEND;TZID=Asia/Seoul:20251118T000000
LAST-MODIFIED:20251118T072305Z
LOCATION:13:00 – 14:00 GMT-3\, COP30\, Blue Zone\, The Climate Funds pavili
 on
SUMMARY:COP30 Multilateral Climate Funds Joint Results Report Launch
URL;TYPE=URI:https://www.greenclimate.fund/event/cop30-multilateral-climate
 -funds-joint-results-report-launch
END:VEVENT
END:VCALENDAR
