BEGIN:VCALENDAR
VERSION:2.0
PRODID:-//Date iCal//NONSGML kigkonsult.se iCalcreator 2.20.2//
METHOD:PUBLISH
BEGIN:VTIMEZONE
TZID:Asia/Seoul
BEGIN:STANDARD
DTSTART:19881009T030000
TZOFFSETFROM:+1000
TZOFFSETTO:+0900
TZNAME:KST
END:STANDARD
END:VTIMEZONE
BEGIN:VEVENT
UID:calendar.20905.field_date_content.0@www.greenclimate.fund
DTSTAMP:20260424T141524Z
CREATED:20250918T070119Z
DESCRIPTION:We are pleased to invite GCF’s Accredited Entities (AEs)\, Nati
 onal Designated Authorities (NDAs) and accreditation applicants to the web
 inars on the Revised Accreditation Framework (RAF) package\, including the
  updated Monitoring and Accountability Framework (MAF) and the revised app
 roach to legal arrangements.\n\n\n\nThe webinars aim to provide guidance o
 n the key changes and implementation steps. The sessions will also provide
  an opportunity for participants to ask questions and share feedback to en
 sure clarity on the revised frameworks.
DTSTART;TZID=Asia/Seoul:20250923T000000
DTEND;TZID=Asia/Seoul:20250923T000000
LAST-MODIFIED:20250929T064304Z
LOCATION:Virtual
SUMMARY:Virtual sessions on the GCF’s Revised Accreditation Framework (RAF)
  package
URL;TYPE=URI:https://www.greenclimate.fund/event/virtual-sessions-gcf-s-rev
 ised-accreditation-framework-raf-package
END:VEVENT
END:VCALENDAR
