BEGIN:VCALENDAR
VERSION:2.0
PRODID:-//Date iCal//NONSGML kigkonsult.se iCalcreator 2.20.2//
METHOD:PUBLISH
BEGIN:VTIMEZONE
TZID:Asia/Seoul
BEGIN:STANDARD
DTSTART:19881009T030000
TZOFFSETFROM:+1000
TZOFFSETTO:+0900
TZNAME:KST
END:STANDARD
END:VTIMEZONE
BEGIN:VEVENT
UID:calendar.20904.field_date_content.0@www.greenclimate.fund
DTSTAMP:20260423T135429Z
CREATED:20250918T064901Z
DESCRIPTION:We are pleased to invite GCF’s Accredited Entities (AEs) and Na
 tional Designated Authorities (NDAs) to the webinars on GCF’s review of th
 e Policy on Restructuring and Cancellation (PRC). \n\n\n\nThe webinars pro
 vide an opportunity for participants to ask questions and share any inputs
 \, to complement the written consultation which is the main channel for su
 bmitting feedback. The policy package for PRC will be presented at the for
 ty-third meeting of the GCF Board (B.43).
DTSTART;TZID=Asia/Seoul:20250916T000000
DTEND;TZID=Asia/Seoul:20250916T000000
LAST-MODIFIED:20250918T065645Z
LOCATION:Virtual
SUMMARY:Consultation for the GCF’s Policy on Restructuring and Cancellation
URL;TYPE=URI:https://www.greenclimate.fund/event/consultation-gcf-s-policy-
 restructuring-and-cancellation
END:VEVENT
END:VCALENDAR
