BEGIN:VCALENDAR
VERSION:2.0
PRODID:-//Date iCal//NONSGML kigkonsult.se iCalcreator 2.20.2//
METHOD:PUBLISH
BEGIN:VTIMEZONE
TZID:Asia/Seoul
BEGIN:STANDARD
DTSTART:19881009T030000
TZOFFSETFROM:+1000
TZOFFSETTO:+0900
TZNAME:KST
END:STANDARD
END:VTIMEZONE
BEGIN:VEVENT
UID:calendar.20894.field_date_content.0@www.greenclimate.fund
DTSTAMP:20260422T045356Z
CREATED:20250911T021620Z
DESCRIPTION:The Green Climate Fund (GCF) will convene a follow-up virtual c
 onsultation session with accredited observers on the draft Locally Led Cli
 mate Action (LLCA) Framework and Guidelines. Building on the initial consu
 ltation held earlier in September\, this session is part of a phased\, par
 ticipatory process aimed at enhancing the quality\, relevance\, and inclus
 ivity of the draft guidance.
DTSTART;TZID=Asia/Seoul:20250918T000000
DTEND;TZID=Asia/Seoul:20250918T000000
LAST-MODIFIED:20251107T101258Z
LOCATION:Virtual
SUMMARY:Virtual consultation sessions on the GCF’s Locally Led Climate Acti
 on framework and guidelines
URL;TYPE=URI:https://www.greenclimate.fund/event/virtual-consultation-sessi
 ons-gcf-s-locally-led-climate-action-framework-and-guidelines
END:VEVENT
END:VCALENDAR
