BEGIN:VCALENDAR
VERSION:2.0
PRODID:-//Date iCal//NONSGML kigkonsult.se iCalcreator 2.20.2//
METHOD:PUBLISH
BEGIN:VTIMEZONE
TZID:Asia/Seoul
BEGIN:STANDARD
DTSTART:19881009T030000
TZOFFSETFROM:+1000
TZOFFSETTO:+0900
TZNAME:KST
END:STANDARD
END:VTIMEZONE
BEGIN:VEVENT
UID:calendar.20823.field_date_content.0@www.greenclimate.fund
DTSTAMP:20260423T090953Z
CREATED:20250731T081149Z
DESCRIPTION:This webinar aims to share lessons learned from Accredited Enti
 ties (AEs) that have accessed GCF Project Preparation Facility (PPF) suppo
 rt and have successfully taken private sector projects to the GCF Board fo
 r approval.\n\n\n\nThere will be a panel session among AEs and representat
 ives from the GCF Private Sector Facility\, who will share their experienc
 es on how to best prepare and structure projects to articulate climate-ori
 entation\, bankability\, and impact\, in key dimensions:
DTSTART;TZID=Asia/Seoul:20250813T000000
DTEND;TZID=Asia/Seoul:20250813T000000
LAST-MODIFIED:20250818T073717Z
LOCATION:Virtual
SUMMARY:Preparing bankable mitigation and adaptation funding proposals for 
 the GCF: private sector experiences
URL;TYPE=URI:https://www.greenclimate.fund/event/preparing-bankable-mitigat
 ion-and-adaptation-funding-proposals-gcf-private-sector-experiences
END:VEVENT
END:VCALENDAR
