BEGIN:VCALENDAR
VERSION:2.0
PRODID:-//Date iCal//NONSGML kigkonsult.se iCalcreator 2.20.2//
METHOD:PUBLISH
BEGIN:VTIMEZONE
TZID:Asia/Seoul
BEGIN:STANDARD
DTSTART:19881009T030000
TZOFFSETFROM:+1000
TZOFFSETTO:+0900
TZNAME:KST
END:STANDARD
END:VTIMEZONE
BEGIN:VEVENT
UID:calendar.20435.field_date_content.0@www.greenclimate.fund
DTSTAMP:20260423T191046Z
CREATED:20250526T093419Z
DESCRIPTION:The GCF’s Board\, through decision B.40/15\, requested the Secr
 etariat to present the revised accreditation framework and its related com
 ponents for the Board’s consideration and approval at its forty-second mee
 ting.  
DTSTART;TZID=Asia/Seoul:20250521T000000
DTEND;TZID=Asia/Seoul:20250521T000000
LAST-MODIFIED:20250528T072157Z
LOCATION:Virtual
SUMMARY:Consultation on the GCF’s accreditation reforms
URL;TYPE=URI:https://www.greenclimate.fund/event/consultation-gcf-s-accredi
 tation-reforms
END:VEVENT
END:VCALENDAR
