BEGIN:VCALENDAR
VERSION:2.0
PRODID:-//Date iCal//NONSGML kigkonsult.se iCalcreator 2.20.2//
METHOD:PUBLISH
BEGIN:VTIMEZONE
TZID:Asia/Seoul
BEGIN:STANDARD
DTSTART:19881009T030000
TZOFFSETFROM:+1000
TZOFFSETTO:+0900
TZNAME:KST
END:STANDARD
END:VTIMEZONE
BEGIN:VEVENT
UID:calendar.20433.field_date_content.0@www.greenclimate.fund
DTSTAMP:20260422T013244Z
CREATED:20250526T012520Z
DESCRIPTION:The Green Climate Fund (GCF) hosted two virtual sessions on Loc
 ally Led Climate Action as part of its ongoing series of Readiness Informa
 tion Sessions. These sessions explored how locally led climate action (LLC
 A) is being championed through GCF programming—ensuring climate finance re
 aches those most vulnerable to climate impacts. The sessions focused on ho
 w the GCF Readiness Programme can be strategically leveraged to create an 
 enabling environment for LLCA.
DTSTART;TZID=Asia/Seoul:20250527T000000
DTEND;TZID=Asia/Seoul:20250527T000000
LAST-MODIFIED:20251107T101331Z
LOCATION:Virtual
SUMMARY:Information session 8 on Locally Led Climate Action
URL;TYPE=URI:https://www.greenclimate.fund/event/information-session-8-loca
 lly-led-climate-action
END:VEVENT
END:VCALENDAR
