BEGIN:VCALENDAR
VERSION:2.0
PRODID:-//Date iCal//NONSGML kigkonsult.se iCalcreator 2.20.2//
METHOD:PUBLISH
BEGIN:VTIMEZONE
TZID:Asia/Seoul
BEGIN:STANDARD
DTSTART:19881009T030000
TZOFFSETFROM:+1000
TZOFFSETTO:+0900
TZNAME:KST
END:STANDARD
END:VTIMEZONE
BEGIN:VEVENT
UID:calendar.20395.field_date_content.0@www.greenclimate.fund
DTSTAMP:20260423T152502Z
CREATED:20250501T070733Z
DESCRIPTION:This webinar will provide an overview of the GCF Project Prepar
 ation Facility (PPF) and offer insights\, lessons learned\, and experience
 s from Accredited Entities – including Direct Access Entities (DAEs) and P
 roject Specific Assessment Approach (PSAA) Applicants – that have successf
 ully accessed GCF PPF grants to develop Board-approved project and program
 me proposals.\n\n\n\nYou will also hear from the GCF regional teams and GC
 F PPF service consulting firms that have delivered technical support for p
 rojects/programmes that have received PPF grants.  
DTSTART;TZID=Asia/Seoul:20250513T000000
DTEND;TZID=Asia/Seoul:20250513T000000
LAST-MODIFIED:20250520T012020Z
LOCATION:Virtual
SUMMARY:Unlocking climate finance: An interactive session with AE focal poi
 nts and NDAs on the GCF Project Preparation Facility
URL;TYPE=URI:https://www.greenclimate.fund/event/unlocking-climate-finance-
 interactive-session-ae-focal-points-and-ndas-gcf-project-preparation
END:VEVENT
END:VCALENDAR
