BEGIN:VCALENDAR
VERSION:2.0
PRODID:-//Date iCal//NONSGML kigkonsult.se iCalcreator 2.20.2//
METHOD:PUBLISH
BEGIN:VTIMEZONE
TZID:Asia/Seoul
BEGIN:STANDARD
DTSTART:19881009T030000
TZOFFSETFROM:+1000
TZOFFSETTO:+0900
TZNAME:KST
END:STANDARD
END:VTIMEZONE
BEGIN:VEVENT
UID:calendar.20353.field_date_content.0@www.greenclimate.fund
DTSTAMP:20260422T011331Z
CREATED:20250415T054734Z
DESCRIPTION:This session aims to review the comments and concerns raised du
 ring the preparation of the templates for the Concept Note (CN) and Fundin
 g Proposal (FP) stages of the RBP submission process\, as well as the User
  Guide developed to accompany them. It will also explain how these comment
 s have been addressed\, in line with Board Decision B.40/16.
DTSTART;TZID=Asia/Seoul:20250414T000000
DTEND;TZID=Asia/Seoul:20250414T000000
LAST-MODIFIED:20250415T054754Z
LOCATION:Virtual
SUMMARY:Technical Session on GCF’s Templates for REDD+ Results-based Paymen
 ts (RBPs) Proposals
URL;TYPE=URI:https://www.greenclimate.fund/event/technical-session-gcf-s-te
 mplates-redd-results-based-payments-rbps-proposals
END:VEVENT
END:VCALENDAR
