BEGIN:VCALENDAR
VERSION:2.0
PRODID:-//Date iCal//NONSGML kigkonsult.se iCalcreator 2.20.2//
METHOD:PUBLISH
BEGIN:VTIMEZONE
TZID:Asia/Seoul
BEGIN:STANDARD
DTSTART:19881009T030000
TZOFFSETFROM:+1000
TZOFFSETTO:+0900
TZNAME:KST
END:STANDARD
END:VTIMEZONE
BEGIN:VEVENT
UID:calendar.19857.field_date_content.0@www.greenclimate.fund
DTSTAMP:20260423T103837Z
CREATED:20241127T072213Z
DESCRIPTION:The Project-Specific Assessment Approach (PSAA) to Green Climat
 e Fund (GCF) Accreditation was adopted as an update to the GCF Accreditati
 on Framework by decision B.31/06 in March 2022. This is one of two modalit
 ies for accreditation to the GCF.
DTSTART;TZID=Asia/Seoul:20241205T000000
DTEND;TZID=Asia/Seoul:20241205T000000
LAST-MODIFIED:20260304T075444Z
LOCATION:Virtual\, 9:30 AM – 10:30 AM (KST)
SUMMARY:GCF Accreditation: Insights from the Project-specific Assessment Ap
 proach (PSAA) Pilot Implementation
URL;TYPE=URI:https://www.greenclimate.fund/event/gcf-accreditation-insights
 -project-specific-assessment-approach-psaa-pilot-implementation
END:VEVENT
END:VCALENDAR
