BEGIN:VCALENDAR
VERSION:2.0
PRODID:-//Date iCal//NONSGML kigkonsult.se iCalcreator 2.20.2//
METHOD:PUBLISH
BEGIN:VTIMEZONE
TZID:Asia/Seoul
BEGIN:STANDARD
DTSTART:19881009T030000
TZOFFSETFROM:+1000
TZOFFSETTO:+0900
TZNAME:KST
END:STANDARD
END:VTIMEZONE
BEGIN:VEVENT
UID:calendar.18015.field_date_content.0@www.greenclimate.fund
DTSTAMP:20260423T215317Z
CREATED:20241004T021442Z
DESCRIPTION:Accelerating climate action through private sector investment\n
 \n\n\nIn collaboration with partners\, the Green Climate Fund (GCF) is hos
 ting a series of Investor Forums. 
DTSTART;TZID=Asia/Seoul:20240919T000000
DTEND;TZID=Asia/Seoul:20240919T000000
LAST-MODIFIED:20241004T021530Z
SUMMARY:GCF Investor Forum
URL;TYPE=URI:https://www.greenclimate.fund/event/gcf-investor-forum
END:VEVENT
END:VCALENDAR
