BEGIN:VCALENDAR
VERSION:2.0
PRODID:-//Date iCal//NONSGML kigkonsult.se iCalcreator 2.20.2//
METHOD:PUBLISH
BEGIN:VTIMEZONE
TZID:Asia/Seoul
BEGIN:STANDARD
DTSTART:19881009T030000
TZOFFSETFROM:+1000
TZOFFSETTO:+0900
TZNAME:KST
END:STANDARD
END:VTIMEZONE
BEGIN:VEVENT
UID:calendar.17896.field_date_content.0@www.greenclimate.fund
DTSTAMP:20260420T040136Z
CREATED:20240918T012155Z
DESCRIPTION:On 24 September 2024\, the GCF held an information session on t
 he new Readiness Operational Modalities\, as part of a series of regular i
 nformation sessions on the 2024-2027 strategy for the Readiness and Prepar
 atory Support Programme.
DTSTART;TZID=Asia/Seoul:20240924T000000
DTEND;TZID=Asia/Seoul:20240924T000000
LAST-MODIFIED:20250602T091435Z
LOCATION:Virtual
SUMMARY:Information session 4: Hard launch of the operational modalities (2
 024–2027 strategy)
URL;TYPE=URI:https://www.greenclimate.fund/event/information-session-4-hard
 -launch-2024-2027-readiness-strategy
END:VEVENT
END:VCALENDAR
