BEGIN:VCALENDAR
VERSION:2.0
PRODID:-//Date iCal//NONSGML kigkonsult.se iCalcreator 2.20.2//
METHOD:PUBLISH
BEGIN:VTIMEZONE
TZID:Asia/Seoul
BEGIN:STANDARD
DTSTART:19881009T030000
TZOFFSETFROM:+1000
TZOFFSETTO:+0900
TZNAME:KST
END:STANDARD
END:VTIMEZONE
BEGIN:VEVENT
UID:calendar.17895.field_date_content.0@www.greenclimate.fund
DTSTAMP:20260420T030830Z
CREATED:20240918T011456Z
DESCRIPTION:Under the evolving dynamics of expanding scale of the GCF’s par
 tner network and programming\, the Board\, through decision B.37/18\, deci
 ded to request the Secretariat\, in consultation with the Accreditation Co
 mmittee\, to present a revised accreditation framework at the fortieth Boa
 rd meeting (B.40)\, scheduled for 21-24 October 2024.
DTSTART;TZID=Asia/Seoul:20240912T000000
DTEND;TZID=Asia/Seoul:20240912T000000
LAST-MODIFIED:20240918T091203Z
LOCATION:Virtual
SUMMARY:Virtual Consultations on draft Revised Accreditation Framework
URL;TYPE=URI:https://www.greenclimate.fund/event/virtual-consultations-draf
 t-revised-accreditation-framework
END:VEVENT
END:VCALENDAR
