BEGIN:VCALENDAR
VERSION:2.0
PRODID:-//Date iCal//NONSGML kigkonsult.se iCalcreator 2.20.2//
METHOD:PUBLISH
BEGIN:VTIMEZONE
TZID:Asia/Seoul
BEGIN:STANDARD
DTSTART:19881009T030000
TZOFFSETFROM:+1000
TZOFFSETTO:+0900
TZNAME:KST
END:STANDARD
END:VTIMEZONE
BEGIN:VEVENT
UID:calendar.17446.field_date_content.0@www.greenclimate.fund
DTSTAMP:20260421T202344Z
CREATED:20240806T084545Z
DESCRIPTION:The GCF technical workshop on REDD+ Results-based Payments (RBP
 s) will take place at GCF Headquarters in Songdo\, Republic of Korea from 
 3 to 6 September 2024.   \n\n\n\nThrough decision B.39.17 in July 2024\, t
 he Green Climate Fund Board approved 13 principles on mainstreaming REDD+ 
 RBPs. The Board also requested the Secretariat to prepare a proposal consi
 stent with these principles for integrating a REDD+ RBPs funding modality 
 into the regular project and programme activity cycle of the Fund\, and to
  undertake open\, inclusive and transparent consultations in this regard.
DTSTART;TZID=Asia/Seoul:20240903T000000
DTEND;TZID=Asia/Seoul:20240903T000000
LAST-MODIFIED:20240806T084545Z
LOCATION:Songdo\, Incheon\, South Korea
SUMMARY:REDD+ Results-based Payments (RBPs) Workshop
URL;TYPE=URI:https://www.greenclimate.fund/event/redd-results-based-payment
 s-rbps-workshop
END:VEVENT
END:VCALENDAR
