BEGIN:VCALENDAR
VERSION:2.0
PRODID:-//Date iCal//NONSGML kigkonsult.se iCalcreator 2.20.2//
METHOD:PUBLISH
BEGIN:VTIMEZONE
TZID:Asia/Seoul
BEGIN:STANDARD
DTSTART:19881009T030000
TZOFFSETFROM:+1000
TZOFFSETTO:+0900
TZNAME:KST
END:STANDARD
END:VTIMEZONE
BEGIN:VEVENT
UID:calendar.16210.field_date_content.0@www.greenclimate.fund
DTSTAMP:20260423T103757Z
CREATED:20240130T034525Z
DESCRIPTION:With the recently approved Revised Readiness Strategy for the p
 eriod 2024-2027 and building on over 8 years of Readiness implementation e
 xperience\, the need for more focused learning and sharing amongst Readine
 ss Partners and the GCF Secretariat to catalyze transformational Climate A
 ction is even more relevant. It is in this context that the GCF DPM Readin
 ess Team jointly with GIZ shall co-convene a virtual learning meeting brin
 ging together Delivery Partners\, NDAs\, DAES\, experts and GCF staff to s
 hare lessons learned and good practices from readiness implementation and 
 monitoring.
DTSTART;TZID=Asia/Seoul:20240213T000000
DTEND;TZID=Asia/Seoul:20240213T000000
LAST-MODIFIED:20240220T023302Z
LOCATION:Virtual
SUMMARY:Readiness implementation: Putting learning at the center
URL;TYPE=URI:https://www.greenclimate.fund/event/readiness-implementation-p
 utting-learning-center
END:VEVENT
END:VCALENDAR
