BEGIN:VCALENDAR
VERSION:2.0
PRODID:-//Date iCal//NONSGML kigkonsult.se iCalcreator 2.20.2//
METHOD:PUBLISH
BEGIN:VTIMEZONE
TZID:Asia/Seoul
BEGIN:STANDARD
DTSTART:19881009T030000
TZOFFSETFROM:+1000
TZOFFSETTO:+0900
TZNAME:KST
END:STANDARD
END:VTIMEZONE
BEGIN:VEVENT
UID:calendar.16029.field_date_content.0@www.greenclimate.fund
DTSTAMP:20260420T041709Z
CREATED:20231206T022149Z
DESCRIPTION:The GCF Secretariat is inviting stakeholders for consultation o
 n operational modalities for the GCF Readiness and Preparatory Support Pro
 gramme: strategy 2024-2027. The purpose of this consultation is to share a
 nd receive feedback on the operationalization modalities of the strategy\,
  which was adopted by the GCF Board in its thirty-seventh meeting that too
 k place in Georgia from 23-26 October 2023. 
DTSTART;TZID=Asia/Seoul:20231205T000000
DTEND;TZID=Asia/Seoul:20231205T000000
LAST-MODIFIED:20241031T085612Z
LOCATION:COP28\, Dubai
SUMMARY:Consultations on Operational Modalities for the GCF Readiness and P
 reparatory Support Programme strategy 2024-2027
URL;TYPE=URI:https://www.greenclimate.fund/event/consultations-operational-
 modalities-gcf-readiness-and-preparatory-support-programme-strategy
END:VEVENT
END:VCALENDAR
