BEGIN:VCALENDAR
VERSION:2.0
PRODID:-//Date iCal//NONSGML kigkonsult.se iCalcreator 2.20.2//
METHOD:PUBLISH
BEGIN:VTIMEZONE
TZID:Asia/Seoul
BEGIN:STANDARD
DTSTART:19881009T030000
TZOFFSETFROM:+1000
TZOFFSETTO:+0900
TZNAME:KST
END:STANDARD
END:VTIMEZONE
BEGIN:VEVENT
UID:calendar.15983.field_date_content.0@www.greenclimate.fund
DTSTAMP:20260420T042031Z
CREATED:20231120T022940Z
DESCRIPTION:The GCF Board has recently commissioned a study on the feasibil
 ity of establishing a GCF regional presence. \n\n\n\nThe study explores th
 e needs and options for establishing a GCF regional presence\, was conduct
 ed by the consultancy firm Dalberg. \n\n\n\nThe study was presented to the
  GCF Board during its thirty-seventh session in October 2023\, and is avai
 lable here.\n\n\n\nThe summary presentation made by Dalberg is available h
 ere.
DTSTART;TZID=Asia/Seoul:20231122T000000
DTEND;TZID=Asia/Seoul:20231122T000000
LAST-MODIFIED:20250526T092758Z
LOCATION:Virtual
SUMMARY:Stakeholder consultation regarding feasibility study on GCF regiona
 l presence
URL;TYPE=URI:https://www.greenclimate.fund/event/stakeholder-consultation-r
 egarding-feasibility-study-gcf-regional-presence
END:VEVENT
END:VCALENDAR
