BEGIN:VCALENDAR
VERSION:2.0
PRODID:-//Date iCal//NONSGML kigkonsult.se iCalcreator 2.20.2//
METHOD:PUBLISH
BEGIN:VTIMEZONE
TZID:Asia/Seoul
BEGIN:STANDARD
DTSTART:19881009T030000
TZOFFSETFROM:+1000
TZOFFSETTO:+0900
TZNAME:KST
END:STANDARD
END:VTIMEZONE
BEGIN:VEVENT
UID:calendar.15971.field_date_content.0@www.greenclimate.fund
DTSTAMP:20260422T054216Z
CREATED:20231110T085210Z
DESCRIPTION:The Green Climate Fund (GCF) was established under the Cancun A
 greements in 2010 as a dedicated financing vehicle for developing countrie
 s serving the Financial Mechanism of the UNFCCC and the Paris Agreement. T
 hrough a competitive process\, the Republic of Korea was selected by the G
 CF Board as the host country in 2012. In December 2013\, GCF headquarters 
 were established in Song-do\, Incheon Metropolitan City.
DTSTART;TZID=Asia/Seoul:20231114T000000
DTEND;TZID=Asia/Seoul:20231114T000000
LAST-MODIFIED:20231204T021813Z
LOCATION:Incheon\, Songdo\, South Korea\, Convensia\, Premier Ball room (A\
 , B)
SUMMARY:10th anniversary of GCF in Korea
URL;TYPE=URI:https://www.greenclimate.fund/event/10th-anniversary-gcf-korea
END:VEVENT
END:VCALENDAR
