BEGIN:VCALENDAR
VERSION:2.0
PRODID:-//Date iCal//NONSGML kigkonsult.se iCalcreator 2.20.2//
METHOD:PUBLISH
BEGIN:VTIMEZONE
TZID:Asia/Seoul
BEGIN:STANDARD
DTSTART:19881009T030000
TZOFFSETFROM:+1000
TZOFFSETTO:+0900
TZNAME:KST
END:STANDARD
END:VTIMEZONE
BEGIN:VEVENT
UID:calendar.15769.field_date_content.0@www.greenclimate.fund
DTSTAMP:20260420T053044Z
CREATED:20231011T022421Z
DESCRIPTION:Since its inauguration in January 2021\, the GCF Secretariat ha
 s employed the Portfolio Performance Management System (PPMS) as an integr
 al hub. This platform facilitates seamless interactions between GCF Secret
 ariat and its partners such as Accredited Entities (AEs)\, Delivery Partne
 rs (DPs)\, and National Designated Authorities (NDAs)\, centralizing submi
 ssions of various reports and disbursement requests\, including the Annual
  Performance Reports (APRs)\, while enabling real-time tracking of GCF’s r
 eview status.
DTSTART;TZID=Asia/Seoul:20231107T000000
DTEND;TZID=Asia/Seoul:20231107T000000
LAST-MODIFIED:20231113T071306Z
LOCATION:Virtual
SUMMARY:Annual performance reporting on GCF funded activities through the u
 pdated PPMS
URL;TYPE=URI:https://www.greenclimate.fund/event/annual-performance-reporti
 ng-gcf-funded-activities-through-updated-ppms
END:VEVENT
END:VCALENDAR
