BEGIN:VCALENDAR
VERSION:2.0
PRODID:-//Date iCal//NONSGML kigkonsult.se iCalcreator 2.20.2//
METHOD:PUBLISH
BEGIN:VTIMEZONE
TZID:Asia/Seoul
BEGIN:STANDARD
DTSTART:19881009T030000
TZOFFSETFROM:+1000
TZOFFSETTO:+0900
TZNAME:KST
END:STANDARD
END:VTIMEZONE
BEGIN:VEVENT
UID:calendar.15768.field_date_content.0@www.greenclimate.fund
DTSTAMP:20260423T145611Z
CREATED:20231009T075845Z
DESCRIPTION:The GCF Regional Dialogue with Africa is scheduled to be held f
 rom 6 to 10 November 2023 in Windhoek\, Republic of Namibia.
DTSTART;TZID=Asia/Seoul:20231106T000000
DTEND;TZID=Asia/Seoul:20231106T000000
LAST-MODIFIED:20240219T075342Z
LOCATION:Windhoek\, Republic of Namibia
SUMMARY:GCF Regional Dialogue with Africa
URL;TYPE=URI:https://www.greenclimate.fund/event/gcf-regional-dialogue-afri
 ca
END:VEVENT
END:VCALENDAR
