BEGIN:VCALENDAR
VERSION:2.0
PRODID:-//Date iCal//NONSGML kigkonsult.se iCalcreator 2.20.2//
METHOD:PUBLISH
BEGIN:VTIMEZONE
TZID:Asia/Seoul
BEGIN:STANDARD
DTSTART:19881009T030000
TZOFFSETFROM:+1000
TZOFFSETTO:+0900
TZNAME:KST
END:STANDARD
END:VTIMEZONE
BEGIN:VEVENT
UID:calendar.15743.field_date_content.0@www.greenclimate.fund
DTSTAMP:20260423T185059Z
CREATED:20231004T051733Z
DESCRIPTION:To improve the Readiness Programme\, GCF is organizing a virtua
 l briefing on the revised Readiness Strategy for 2024-2027. This event is 
 scheduled for Tuesday\, 3 October\, and Wednesday\, 4 October 2023. The pu
 rpose of these consultations is to share an update on the revised Readines
 s Strategy with you\, following on our previous consultations\, and receiv
 e your feedback as the strategy is further developed.
DTSTART;TZID=Asia/Seoul:20231003T000000
DTEND;TZID=Asia/Seoul:20231003T000000
LAST-MODIFIED:20231016T030253Z
LOCATION:Virtual
SUMMARY:Update on consultations on the GCF's revised Readiness Strategy 202
 4-2027
URL;TYPE=URI:https://www.greenclimate.fund/event/update-consultations-gcfs-
 revised-readiness-strategy-2024-2027
END:VEVENT
END:VCALENDAR
