BEGIN:VCALENDAR
VERSION:2.0
PRODID:-//Date iCal//NONSGML kigkonsult.se iCalcreator 2.20.2//
METHOD:PUBLISH
BEGIN:VTIMEZONE
TZID:Asia/Seoul
BEGIN:STANDARD
DTSTART:19881009T030000
TZOFFSETFROM:+1000
TZOFFSETTO:+0900
TZNAME:KST
END:STANDARD
END:VTIMEZONE
BEGIN:VEVENT
UID:calendar.15526.field_date_content.0@www.greenclimate.fund
DTSTAMP:20260423T101755Z
CREATED:20230804T055520Z
DESCRIPTION:The sixth annual GCF Private Investment for Climate Conference 
 (GPIC) gathered global leaders from the private and public sectors to acce
 lerate private finance for climate action in developing countries.\n\n\nGP
 IC 2023 focused on showcasing the achievements of private sector Direct Ac
 cess Entities (DAEs) and the wider partner network of the Fund. The confer
 ence will facilitate meaningful engagement with a diverse range of stakeho
 lders\, including entrepreneurs\, developers\, financiers\, and investors\
 , fostering discussions on innovative climate investment models and strate
 gies. 
DTSTART;TZID=Asia/Seoul:20230904T000000
DTEND;TZID=Asia/Seoul:20230904T000000
LAST-MODIFIED:20250715T074611Z
LOCATION:Nairobi\, Kenya
SUMMARY:GCF Private Investment for Climate Conference 2023
URL;TYPE=URI:https://www.greenclimate.fund/event/gcf-private-investment-cli
 mate-conference-2023
END:VEVENT
END:VCALENDAR
