BEGIN:VCALENDAR
VERSION:2.0
PRODID:-//Date iCal//NONSGML kigkonsult.se iCalcreator 2.20.2//
METHOD:PUBLISH
BEGIN:VTIMEZONE
TZID:Asia/Seoul
BEGIN:STANDARD
DTSTART:19881009T030000
TZOFFSETFROM:+1000
TZOFFSETTO:+0900
TZNAME:KST
END:STANDARD
END:VTIMEZONE
BEGIN:VEVENT
UID:calendar.15378.field_date_content.0@www.greenclimate.fund
DTSTAMP:20260420T132642Z
CREATED:20230628T031211Z
DESCRIPTION:The High-Level Pledging Conference is a key opportunity to demo
 nstrate global commitment to achieve our collective climate ambitions. GCF
  is a critical element of the climate finance architecture\, as part of th
 e financial mechanism of the UNFCCC and in serving the Paris Agreement. GC
 F supports developing countries to respond to the climate crisis and trans
 ition to low-emission\, climate-resilient pathways. GCF is a climate finan
 ce catalyzer\, using its funds to accelerate green market creation and unl
 ock larger financial flows from the private sector.
DTSTART;TZID=Asia/Seoul:20231005T000000
DTEND;TZID=Asia/Seoul:20231005T000000
LAST-MODIFIED:20231020T021525Z
LOCATION:Bonn\, Germany
SUMMARY:High-level Pledging Conference for GCF's second replenishment (GCF-
 2)
URL;TYPE=URI:https://www.greenclimate.fund/event/high-level-pledging-confer
 ence-second-replenishment-gcf-gcf-2
END:VEVENT
END:VCALENDAR
