BEGIN:VCALENDAR
VERSION:2.0
PRODID:-//Date iCal//NONSGML kigkonsult.se iCalcreator 2.20.2//
METHOD:PUBLISH
BEGIN:VTIMEZONE
TZID:Asia/Seoul
BEGIN:STANDARD
DTSTART:19881009T030000
TZOFFSETFROM:+1000
TZOFFSETTO:+0900
TZNAME:KST
END:STANDARD
END:VTIMEZONE
BEGIN:VEVENT
UID:calendar.15365.field_date_content.0@www.greenclimate.fund
DTSTAMP:20260423T185202Z
CREATED:20230623T044435Z
DESCRIPTION:The Event will bring together National Designated Authorities\,
  Accredited Entities\, Delivery Partners and other GCF partners\, to provi
 de a platform for stakeholders to accelerate their engagement with GCF to 
 facilitate peer to peer learning on basis of experience and best practices
 \, and to identify and develop climate change mitigation and adaptation in
 itiatives\, thereby strengthening the impact of GCF in the region.  
DTSTART;TZID=Asia/Seoul:20230807T000000
DTEND;TZID=Asia/Seoul:20230807T000000
LAST-MODIFIED:20240621T013326Z
LOCATION:Songdo\, Republic of Korea
SUMMARY:GCF Regional Programming Dialogue with Asia and the Pacific
URL;TYPE=URI:https://www.greenclimate.fund/event/green-climate-fund-regiona
 l-programming-dialogue-asia-and-pacific
END:VEVENT
END:VCALENDAR
