BEGIN:VCALENDAR
VERSION:2.0
PRODID:-//Date iCal//NONSGML kigkonsult.se iCalcreator 2.20.2//
METHOD:PUBLISH
BEGIN:VTIMEZONE
TZID:Asia/Seoul
BEGIN:STANDARD
DTSTART:19881009T030000
TZOFFSETFROM:+1000
TZOFFSETTO:+0900
TZNAME:KST
END:STANDARD
END:VTIMEZONE
BEGIN:VEVENT
UID:calendar.15276.field_date_content.0@www.greenclimate.fund
DTSTAMP:20260423T115608Z
CREATED:20230615T111138Z
DESCRIPTION:The GCF Regional Dialogue with Latin America is scheduled to be
  held from 24-26 July. This will be followed by the GCF Workshop for Direc
 t Access Entities (DAEs) in Latin America and the Caribbean\, which is sch
 eduled for 27-28 July. Both events will be held in Montevideo\, Uruguay.
DTSTART;TZID=Asia/Seoul:20230724T000000
DTEND;TZID=Asia/Seoul:20230724T000000
LAST-MODIFIED:20231124T055041Z
LOCATION:Montevideo\, Uruguay
SUMMARY:GCF Regional Dialogue with Latin America and Workshop for Direct Ac
 cess Entities in Latin America and the Caribbean
URL;TYPE=URI:https://www.greenclimate.fund/event/gcf-regional-dialogue-and-
 workshop
END:VEVENT
END:VCALENDAR
