BEGIN:VCALENDAR
VERSION:2.0
PRODID:-//Date iCal//NONSGML kigkonsult.se iCalcreator 2.20.2//
METHOD:PUBLISH
BEGIN:VTIMEZONE
TZID:Asia/Seoul
BEGIN:STANDARD
DTSTART:19881009T030000
TZOFFSETFROM:+1000
TZOFFSETTO:+0900
TZNAME:KST
END:STANDARD
END:VTIMEZONE
BEGIN:VEVENT
UID:calendar.15175.field_date_content.0@www.greenclimate.fund
DTSTAMP:20260423T174659Z
CREATED:20230427T042505Z
DESCRIPTION:Following the launch of Green Climate Fund's (GCF) Portfolio Pe
 rformance Management System (PPMS) for the report submission and disbursem
 ent modules for the readiness grants in January 2023\, a training webinar 
 on the Readiness grant reporting in the PPMS will be held on 2 May 2023. T
 his event aims to equip the National Designated Authorities (NDAs) and Del
 ivery Partners (DPs) that have general readiness grant agreements with a b
 etter understanding of how to report the Readiness grant performance and r
 esults using the PPMS system.
DTSTART;TZID=Asia/Seoul:20230502T000000
DTEND;TZID=Asia/Seoul:20230502T000000
LAST-MODIFIED:20230511T042507Z
LOCATION:Virtual
SUMMARY:Training on GCF Readiness grant reporting in the Portfolio Performa
 nce Management System (PPMS)
URL;TYPE=URI:https://www.greenclimate.fund/event/training-gcf-readiness-gra
 nt-reporting-portfolio-performance-management-system-ppms
END:VEVENT
END:VCALENDAR
