BEGIN:VCALENDAR
VERSION:2.0
PRODID:-//Date iCal//NONSGML kigkonsult.se iCalcreator 2.20.2//
METHOD:PUBLISH
BEGIN:VTIMEZONE
TZID:Asia/Seoul
BEGIN:STANDARD
DTSTART:19881009T030000
TZOFFSETFROM:+1000
TZOFFSETTO:+0900
TZNAME:KST
END:STANDARD
END:VTIMEZONE
BEGIN:VEVENT
UID:calendar.15118.field_date_content.0@www.greenclimate.fund
DTSTAMP:20260423T114658Z
CREATED:20230406T044726Z
DESCRIPTION:The GCF is organizing a webinar on the recently published Revis
 ed Readiness Guidebook and Readiness Proposal Template. The webinar will b
 e divided into two sessions to be held on 20 and 25 April 2023. The purpos
 e of the first session is to provide a comprehensive overview of the signi
 ficant changes made to the Readiness Guidebook and the Proposal template.
DTSTART;TZID=Asia/Seoul:20230420T000000
DTEND;TZID=Asia/Seoul:20230420T000000
LAST-MODIFIED:20230504T022534Z
LOCATION:Virtual
SUMMARY:Revised Readiness Guidebook and Readiness Proposal Template Webinar
URL;TYPE=URI:https://www.greenclimate.fund/event/revised-readiness-guideboo
 k-and-readiness-proposal-template-webinar
END:VEVENT
END:VCALENDAR
