BEGIN:VCALENDAR
VERSION:2.0
PRODID:-//Date iCal//NONSGML kigkonsult.se iCalcreator 2.20.2//
METHOD:PUBLISH
BEGIN:VTIMEZONE
TZID:Asia/Seoul
BEGIN:STANDARD
DTSTART:19881009T030000
TZOFFSETFROM:+1000
TZOFFSETTO:+0900
TZNAME:KST
END:STANDARD
END:VTIMEZONE
BEGIN:VEVENT
UID:calendar.14718.field_date_content.0@www.greenclimate.fund
DTSTAMP:20260423T113538Z
CREATED:20230119T081455Z
DESCRIPTION:On 15 March 2022\, Caroline Petersen presented in “Meet iTAP” o
 n Ecosystem Based Adaptation or “EBA” (see EBA Presentation 1). EBA can be
  defined as “the use of biodiversity and ecosystem services as part of an 
 overall adaptation strategy to help people to adapt to the adverse effects
  of climate change” (CBD\, 2009).
DTSTART;TZID=Asia/Seoul:20220315T000000
DTEND;TZID=Asia/Seoul:20220315T000000
LAST-MODIFIED:20230119T083254Z
LOCATION:Virtual
SUMMARY:Meet iTAP webinar: Ecosystem Based Adaptation or “EBA”
URL;TYPE=URI:https://www.greenclimate.fund/event/meet-itap-webinar-ecosyste
 m-based-adaptation-or-eba
END:VEVENT
END:VCALENDAR
