BEGIN:VCALENDAR
VERSION:2.0
PRODID:-//Date iCal//NONSGML kigkonsult.se iCalcreator 2.20.2//
METHOD:PUBLISH
BEGIN:VTIMEZONE
TZID:Asia/Seoul
BEGIN:STANDARD
DTSTART:19881009T030000
TZOFFSETFROM:+1000
TZOFFSETTO:+0900
TZNAME:KST
END:STANDARD
END:VTIMEZONE
BEGIN:VEVENT
UID:calendar.14710.field_date_content.0@www.greenclimate.fund
DTSTAMP:20260421T053750Z
CREATED:20230117T065239Z
DESCRIPTION:The Project Preparation Facility (PPF) of the Green Climate Fun
 d (GCF) was established in 2015 with the objective to provide funding for 
 the preparation of GCF funding proposals\, especially those targeting smal
 l-scale activities and Direct Access Entities (DAEs). A support of a maxim
 um of USD 1.5 million for any single PPF request can be accessed by Accred
 ited Entities (AEs) provided that the underlying project has been reviewed
  and assessed against the investment criteria and relevant GCF policies an
 d demonstrates strong alignment with the strategies and priorities of coun
 tries.
DTSTART;TZID=Asia/Seoul:20230130T000000
DTEND;TZID=Asia/Seoul:20230130T000000
LAST-MODIFIED:20230203T015610Z
LOCATION:Virtual
SUMMARY:Consultation Sessions on the Green Climate Fund’s (GCF) Project Pre
 paration Facility (PPF)
URL;TYPE=URI:https://www.greenclimate.fund/event/consultation-sessions-gree
 n-climate-fund-s-gcf-project-preparation-facility-ppf
END:VEVENT
END:VCALENDAR
